{"text_format":"3","workbook":"xlsx","n_sheets":20,"sheets":["In-Put","설정_In-Put","관리자 Setting","계획서_1분기","1월","2월","3월","계획서_2분기","4월","5월","6월","계획서_3분기","7월","8월","9월","계획서_4분기","10월","11월","12월","연간 현황"],"not_rendered":{"macros":1},"read":"whole","date_system":"1900"}

{"sheet":"In-Put","index":0,"n_rows":28,"n_cols":9,"rows_kept":28}
["No","일자","요일","출근시각","퇴근시각","근태항목","근태구분","상태","신청내역"]
[1,"20180731","화","08:50","17:01","출퇴근","정상","승인"]
[2,"20180730","월","08:52","18:16","출퇴근","정상","승인"]
[3,"20180730","월","","","출장","관내출장","결재종결"]
[4,"20180728","토","14:22","19:00","출퇴근","휴일출근","승인"]
[5,"20180727","금","08:53","21:44","출퇴근","정상","승인"]
[6,"20180726","목","09:01","18:37","출퇴근","정상","승인"]
[7,"20180726","목","","","출장","관내출장","결재종결"]
[8,"20180725","수","08:50","18:49","출퇴근","정상","승인"]
[9,"20180724","화","08:53","18:12","출퇴근","정상","승인"]
[10,"20180723","월","08:50","20:20","출퇴근","정상","승인"]
[11,"20180720","금","08:53","14:00","출퇴근","정상","승인"]
[12,"20180720","금","","","법정휴가","반차휴가","결재종결"]
[13,"20180719","목","08:53","18:21","출퇴근","정상","승인"]
[14,"20180718","수","","","출장","관외출장","결재종결"]
[15,"20180717","화","08:53","18:04","출퇴근","정상","승인"]
[16,"20180716","월","08:53","18:41","출퇴근","정상","승인"]
[17,"20180714","토","13:16","18:17","출퇴근","휴일출근","승인"]
[18,"20180713","금","09:22","18:33","출퇴근","정상","승인"]
[19,"20180712","목","08:49","19:20","출퇴근","정상","승인"]
[20,"20180711","수","08:53","17:26","출퇴근","정상","승인",""]
[21,"20180710","화","08:52","21:24","출퇴근","정상","승인",""]
[22,"20180709","월","08:50","19:09","출퇴근","정상","승인",""]
[23,"20180706","금","08:51","23:00","출퇴근","정상","승인",""]
[24,"20180705","목","08:51","21:54","출퇴근","정상","승인",""]
[25,"20180704","수","08:50","17:10","출퇴근","정상","승인",""]
[26,"20180703","화","08:53","20:02","출퇴근","정상","승인",""]
[27,"20180702","월","08:55","18:13","출퇴근","정상","승인",""]

{"sheet":"설정_In-Put","index":1,"n_rows":401,"n_cols":12,"rows_kept":401,"hidden":true}
["P-KEY1","P-KEY2","날짜","KEY(중복)","KEY(상태값)","상태값","출근","퇴근",1,2,"근무시간","인정시간"]
[{"$f":"$C2&$D2","v":"433120"},{"$f":"$C2&$E2","v":"433120"},{"$f":"IFERROR(DATE(LEFT('In-Put'!$B2,4),MID('In-Put'!$B2,5,2),RIGHT('In-Put'!$B2,2)),\"\")","v":"2018-07-31"},{"$f":"IF($C2=\"\",\"\",COUNTIFS($C$2:$C$401,C2)-COUNTIFS($C$2:C2,C2))","v":0},{"$f":"IF($C2=\"\",\"\",COUNTIFS('관리자 Setting'!$P$18:$P$33,'설정_In-Put'!$F2))","v":0},{"$f":"'In-Put'!G2","v":"정상"},{"$f":"IFERROR(IF('In-Put'!D2*1=0,\"\",'In-Put'!D2*1),\"\")","v":"08:50:00"},{"$f":"IFERROR(IF('In-Put'!E2*1=0,\"\",IF('In-Put'!E2*1<G2,'In-Put'!E2*1+1,'In-Put'!E2*1)),\"\")","v":"17:01:00"},{"$f":"IF(OR($H2<'관리자 Setting'!$P$14,$G2>='관리자 Setting'!$Q$14),0,IF(AND($G2<'관리자 Setting'!$P$14,$H2<'관리자 Setting'!$Q$14),$H2-'관리자 Setting'!$P$14,IF(AND($G2<'관리자 Setting'!$P$14,$H2>='관리자 Setting'!$Q$14),'관리자 Setting'!$R$14,IF(AND($G2>='관리자 Setting'!$P$14,$H2>='관리자 Setting'!$Q$14),'관리자 Setting'!$Q$14-$G2,IF(AND($G2>='관리자 Setting'!$P$14,$H2<'관리자 Setting'!$Q$14),$H2-$G2,IF($G2>='관리자 Setting'!$Q$14,0,0))))))","v":"01:00:00"},{"$f":"IF(OR($H2<'관리자 Setting'!$P$15,$G2>='관리자 Setting'!$Q$15),0,IF(AND($G2<'관리자 Setting'!$P$15,$H2<'관리자 Setting'!$Q$15),$H2-'관리자 Setting'!$P$15,IF(AND($G2<'관리자 Setting'!$P$15,$H2>='관리자 Setting'!$Q$15),'관리자 Setting'!$R$15,IF(AND($G2>='관리자 Setting'!$P$15,$H2>='관리자 Setting'!$Q$15),'관리자 Setting'!$Q$15-$G2,IF(AND($G2>='관리자 Setting'!$P$15,$H2<'관리자 Setting'!$Q$15),$H2-$G2,IF($G2>='관리자 Setting'!$Q$15,0,0))))))","v":"00:00:00"},{"$f":"IF(OR(G2=\"\",H2=\"\"),\"\",H2-G2-SUM(I2:J2))","v":"07:11:00"},{"$f":"IFERROR(VLOOKUP($F2,'관리자 Setting'!$P$18:$Q$33,2,0)/24,\"\")","v":""}]
[{"$f":"$C3&$D3","v":"433111"},{"$f":"$C3&$E3","v":"433110"},{"$f":"IFERROR(DATE(LEFT('In-Put'!$B3,4),MID('In-Put'!$B3,5,2),RIGHT('In-Put'!$B3,2)),\"\")","v":"2018-07-30"},{"$f":"IF($C3=\"\",\"\",COUNTIFS($C$2:$C$401,C3)-COUNTIFS($C$2:C3,C3))","v":1},{"$f":"IF($C3=\"\",\"\",COUNTIFS('관리자 Setting'!$P$18:$P$33,'설정_In-Put'!$F3))","v":0},{"$f":"'In-Put'!G3","v":"정상"},{"$f":"IFERROR(IF('In-Put'!D3*1=0,\"\",'In-Put'!D3*1),\"\")","v":"08:52:00"},{"$f":"IFERROR(IF('In-Put'!E3*1=0,\"\",IF('In-Put'!E3*1<G3,'In-Put'!E3*1+1,'In-Put'!E3*1)),\"\")","v":"18:16:00"},{"$f":"IF(OR($H3<'관리자 Setting'!$P$14,$G3>='관리자 Setting'!$Q$14),0,IF(AND($G3<'관리자 Setting'!$P$14,$H3<'관리자 Setting'!$Q$14),$H3-'관리자 Setting'!$P$14,IF(AND($G3<'관리자 Setting'!$P$14,$H3>='관리자 Setting'!$Q$14),'관리자 Setting'!$R$14,IF(AND($G3>='관리자 Setting'!$P$14,$H3>='관리자 Setting'!$Q$14),'관리자 Setting'!$Q$14-$G3,IF(AND($G3>='관리자 Setting'!$P$14,$H3<'관리자 Setting'!$Q$14),$H3-$G3,IF($G3>='관리자 Setting'!$Q$14,0,0))))))","v":"01:00:00"},{"$f":"IF(OR($H3<'관리자 Setting'!$P$15,$G3>='관리자 Setting'!$Q$15),0,IF(AND($G3<'관리자 Setting'!$P$15,$H3<'관리자 Setting'!$Q$15),$H3-'관리자 Setting'!$P$15,IF(AND($G3<'관리자 Setting'!$P$15,$H3>='관리자 Setting'!$Q$15),'관리자 Setting'!$R$15,IF(AND($G3>='관리자 Setting'!$P$15,$H3>='관리자 Setting'!$Q$15),'관리자 Setting'!$Q$15-$G3,IF(AND($G3>='관리자 Setting'!$P$15,$H3<'관리자 Setting'!$Q$15),$H3-$G3,IF($G3>='관리자 Setting'!$Q$15,0,0))))))","v":"00:00:00"},"08:24:00",{"$f":"IFERROR(VLOOKUP($F3,'관리자 Setting'!$P$18:$Q$33,2,0)/24,\"\")","v":""}]
["433110","433110",{"$f":"IFERROR(DATE(LEFT('In-Put'!$B4,4),MID('In-Put'!$B4,5,2),RIGHT('In-Put'!$B4,2)),\"\")","v":"2018-07-30"},{"$f":"IF($C4=\"\",\"\",COUNTIFS($C$2:$C$401,C4)-COUNTIFS($C$2:C4,C4))","v":0},{"$f":"IF($C4=\"\",\"\",COUNTIFS('관리자 Setting'!$P$18:$P$33,'설정_In-Put'!$F4))","v":0},{"$f":"'In-Put'!G4","v":"관내출장"},{"$f":"IFERROR(IF('In-Put'!D4*1=0,\"\",'In-Put'!D4*1),\"\")","v":""},{"$f":"IFERROR(IF('In-Put'!E4*1=0,\"\",IF('In-Put'!E4*1<G4,'In-Put'!E4*1+1,'In-Put'!E4*1)),\"\")","v":""},{"$f":"IF(OR($H4<'관리자 Setting'!$P$14,$G4>='관리자 Setting'!$Q$14),0,IF(AND($G4<'관리자 Setting'!$P$14,$H4<'관리자 Setting'!$Q$14),$H4-'관리자 Setting'!$P$14,IF(AND($G4<'관리자 Setting'!$P$14,$H4>='관리자 Setting'!$Q$14),'관리자 Setting'!$R$14,IF(AND($G4>='관리자 Setting'!$P$14,$H4>='관리자 Setting'!$Q$14),'관리자 Setting'!$Q$14-$G4,IF(AND($G4>='관리자 Setting'!$P$14,$H4<'관리자 Setting'!$Q$14),$H4-$G4,IF($G4>='관리자 Setting'!$Q$14,0,0))))))","v":"00:00:00"},{"$f":"IF(OR($H4<'관리자 Setting'!$P$15,$G4>='관리자 Setting'!$Q$15),0,IF(AND($G4<'관리자 Setting'!$P$15,$H4<'관리자 Setting'!$Q$15),$H4-'관리자 Setting'!$P$15,IF(AND($G4<'관리자 Setting'!$P$15,$H4>='관리자 Setting'!$Q$15),'관리자 Setting'!$R$15,IF(AND($G4>='관리자 Setting'!$P$15,$H4>='관리자 Setting'!$Q$15),'관리자 Setting'!$Q$15-$G4,IF(AND($G4>='관리자 Setting'!$P$15,$H4<'관리자 Setting'!$Q$15),$H4-$G4,IF($G4>='관리자 Setting'!$Q$15,0,0))))))","v":"00:00:00"},"",{"$f":"IFERROR(VLOOKUP($F4,'관리자 Setting'!$P$18:$Q$33,2,0)/24,\"\")","v":""}]
["433090","433090",{"$f":"IFERROR(DATE(LEFT('In-Put'!$B5,4),MID('In-Put'!$B5,5,2),RIGHT('In-Put'!$B5,2)),\"\")","v":"2018-07-28"},{"$f":"IF($C5=\"\",\"\",COUNTIFS($C$2:$C$401,C5)-COUNTIFS($C$2:C5,C5))","v":0},{"$f":"IF($C5=\"\",\"\",COUNTIFS('관리자 Setting'!$P$18:$P$33,'설정_In-Put'!$F5))","v":0},{"$f":"'In-Put'!G5","v":"휴일출근"},{"$f":"IFERROR(IF('In-Put'!D5*1=0,\"\",'In-Put'!D5*1),\"\")","v":"14:22:00"},{"$f":"IFERROR(IF('In-Put'!E5*1=0,\"\",IF('In-Put'!E5*1<G5,'In-Put'!E5*1+1,'In-Put'!E5*1)),\"\")","v":"19:00:00"},{"$f":"IF(OR($H5<'관리자 Setting'!$P$14,$G5>='관리자 Setting'!$Q$14),0,IF(AND($G5<'관리자 Setting'!$P$14,$H5<'관리자 Setting'!$Q$14),$H5-'관리자 Setting'!$P$14,IF(AND($G5<'관리자 Setting'!$P$14,$H5>='관리자 Setting'!$Q$14),'관리자 Setting'!$R$14,IF(AND($G5>='관리자 Setting'!$P$14,$H5>='관리자 Setting'!$Q$14),'관리자 Setting'!$Q$14-$G5,IF(AND($G5>='관리자 Setting'!$P$14,$H5<'관리자 Setting'!$Q$14),$H5-$G5,IF($G5>='관리자 Setting'!$Q$14,0,0))))))","v":"00:00:00"},{"$f":"IF(OR($H5<'관리자 Setting'!$P$15,$G5>='관리자 Setting'!$Q$15),0,IF(AND($G5<'관리자 Setting'!$P$15,$H5<'관리자 Setting'!$Q$15),$H5-'관리자 Setting'!$P$15,IF(AND($G5<'관리자 Setting'!$P$15,$H5>='관리자 Setting'!$Q$15),'관리자 Setting'!$R$15,IF(AND($G5>='관리자 Setting'!$P$15,$H5>='관리자 Setting'!$Q$15),'관리자 Setting'!$Q$15-$G5,IF(AND($G5>='관리자 Setting'!$P$15,$H5<'관리자 Setting'!$Q$15),$H5-$G5,IF($G5>='관리자 Setting'!$Q$15,0,0))))))","v":"00:30:00"},"04:08:00",{"$f":"IFERROR(VLOOKUP($F5,'관리자 Setting'!$P$18:$Q$33,2,0)/24,\"\")","v":""}]
["433080","433080",{"$f":"IFERROR(DATE(LEFT('In-Put'!$B6,4),MID('In-Put'!$B6,5,2),RIGHT('In-Put'!$B6,2)),\"\")","v":"2018-07-27"},{"$f":"IF($C6=\"\",\"\",COUNTIFS($C$2:$C$401,C6)-COUNTIFS($C$2:C6,C6))","v":0},{"$f":"IF($C6=\"\",\"\",COUNTIFS('관리자 Setting'!$P$18:$P$33,'설정_In-Put'!$F6))","v":0},{"$f":"'In-Put'!G6","v":"정상"},{"$f":"IFERROR(IF('In-Put'!D6*1=0,\"\",'In-Put'!D6*1),\"\")","v":"08:53:00"},{"$f":"IFERROR(IF('In-Put'!E6*1=0,\"\",IF('In-Put'!E6*1<G6,'In-Put'!E6*1+1,'In-Put'!E6*1)),\"\")","v":"21:44:00"},{"$f":"IF(OR($H6<'관리자 Setting'!$P$14,$G6>='관리자 Setting'!$Q$14),0,IF(AND($G6<'관리자 Setting'!$P$14,$H6<'관리자 Setting'!$Q$14),$H6-'관리자 Setting'!$P$14,IF(AND($G6<'관리자 Setting'!$P$14,$H6>='관리자 Setting'!$Q$14),'관리자 Setting'!$R$14,IF(AND($G6>='관리자 Setting'!$P$14,$H6>='관리자 Setting'!$Q$14),'관리자 Setting'!$Q$14-$G6,IF(AND($G6>='관리자 Setting'!$P$14,$H6<'관리자 Setting'!$Q$14),$H6-$G6,IF($G6>='관리자 Setting'!$Q$14,0,0))))))","v":"01:00:00"},{"$f":"IF(OR($H6<'관리자 Setting'!$P$15,$G6>='관리자 Setting'!$Q$15),0,IF(AND($G6<'관리자 Setting'!$P$15,$H6<'관리자 Setting'!$Q$15),$H6-'관리자 Setting'!$P$15,IF(AND($G6<'관리자 Setting'!$P$15,$H6>='관리자 Setting'!$Q$15),'관리자 Setting'!$R$15,IF(AND($G6>='관리자 Setting'!$P$15,$H6>='관리자 Setting'!$Q$15),'관리자 Setting'!$Q$15-$G6,IF(AND($G6>='관리자 Setting'!$P$15,$H6<'관리자 Setting'!$Q$15),$H6-$G6,IF($G6>='관리자 Setting'!$Q$15,0,0))))))","v":"00:30:00"},"11:21:00",{"$f":"IFERROR(VLOOKUP($F6,'관리자 Setting'!$P$18:$Q$33,2,0)/24,\"\")","v":""}]
["433071","433070",{"$f":"IFERROR(DATE(LEFT('In-Put'!$B7,4),MID('In-Put'!$B7,5,2),RIGHT('In-Put'!$B7,2)),\"\")","v":"2018-07-26"},{"$f":"IF($C7=\"\",\"\",COUNTIFS($C$2:$C$401,C7)-COUNTIFS($C$2:C7,C7))","v":1},{"$f":"IF($C7=\"\",\"\",COUNTIFS('관리자 Setting'!$P$18:$P$33,'설정_In-Put'!$F7))","v":0},{"$f":"'In-Put'!G7","v":"정상"},{"$f":"IFERROR(IF('In-Put'!D7*1=0,\"\",'In-Put'!D7*1),\"\")","v":"09:01:00"},{"$f":"IFERROR(IF('In-Put'!E7*1=0,\"\",IF('In-Put'!E7*1<G7,'In-Put'!E7*1+1,'In-Put'!E7*1)),\"\")","v":"18:37:00"},{"$f":"IF(OR($H7<'관리자 Setting'!$P$14,$G7>='관리자 Setting'!$Q$14),0,IF(AND($G7<'관리자 Setting'!$P$14,$H7<'관리자 Setting'!$Q$14),$H7-'관리자 Setting'!$P$14,IF(AND($G7<'관리자 Setting'!$P$14,$H7>='관리자 Setting'!$Q$14),'관리자 Setting'!$R$14,IF(AND($G7>='관리자 Setting'!$P$14,$H7>='관리자 Setting'!$Q$14),'관리자 Setting'!$Q$14-$G7,IF(AND($G7>='관리자 Setting'!$P$14,$H7<'관리자 Setting'!$Q$14),$H7-$G7,IF($G7>='관리자 Setting'!$Q$14,0,0))))))","v":"01:00:00"},{"$f":"IF(OR($H7<'관리자 Setting'!$P$15,$G7>='관리자 Setting'!$Q$15),0,IF(AND($G7<'관리자 Setting'!$P$15,$H7<'관리자 Setting'!$Q$15),$H7-'관리자 Setting'!$P$15,IF(AND($G7<'관리자 Setting'!$P$15,$H7>='관리자 Setting'!$Q$15),'관리자 Setting'!$R$15,IF(AND($G7>='관리자 Setting'!$P$15,$H7>='관리자 Setting'!$Q$15),'관리자 Setting'!$Q$15-$G7,IF(AND($G7>='관리자 Setting'!$P$15,$H7<'관리자 Setting'!$Q$15),$H7-$G7,IF($G7>='관리자 Setting'!$Q$15,0,0))))))","v":"00:07:00"},"08:29:00",{"$f":"IFERROR(VLOOKUP($F7,'관리자 Setting'!$P$18:$Q$33,2,0)/24,\"\")","v":""}]
["433070","433070",{"$f":"IFERROR(DATE(LEFT('In-Put'!$B8,4),MID('In-Put'!$B8,5,2),RIGHT('In-Put'!$B8,2)),\"\")","v":"2018-07-26"},{"$f":"IF($C8=\"\",\"\",COUNTIFS($C$2:$C$401,C8)-COUNTIFS($C$2:C8,C8))","v":0},{"$f":"IF($C8=\"\",\"\",COUNTIFS('관리자 Setting'!$P$18:$P$33,'설정_In-Put'!$F8))","v":0},{"$f":"'In-Put'!G8","v":"관내출장"},{"$f":"IFERROR(IF('In-Put'!D8*1=0,\"\",'In-Put'!D8*1),\"\")","v":""},{"$f":"IFERROR(IF('In-Put'!E8*1=0,\"\",IF('In-Put'!E8*1<G8,'In-Put'!E8*1+1,'In-Put'!E8*1)),\"\")","v":""},{"$f":"IF(OR($H8<'관리자 Setting'!$P$14,$G8>='관리자 Setting'!$Q$14),0,IF(AND($G8<'관리자 Setting'!$P$14,$H8<'관리자 Setting'!$Q$14),$H8-'관리자 Setting'!$P$14,IF(AND($G8<'관리자 Setting'!$P$14,$H8>='관리자 Setting'!$Q$14),'관리자 Setting'!$R$14,IF(AND($G8>='관리자 Setting'!$P$14,$H8>='관리자 Setting'!$Q$14),'관리자 Setting'!$Q$14-$G8,IF(AND($G8>='관리자 Setting'!$P$14,$H8<'관리자 Setting'!$Q$14),$H8-$G8,IF($G8>='관리자 Setting'!$Q$14,0,0))))))","v":"00:00:00"},{"$f":"IF(OR($H8<'관리자 Setting'!$P$15,$G8>='관리자 Setting'!$Q$15),0,IF(AND($G8<'관리자 Setting'!$P$15,$H8<'관리자 Setting'!$Q$15),$H8-'관리자 Setting'!$P$15,IF(AND($G8<'관리자 Setting'!$P$15,$H8>='관리자 Setting'!$Q$15),'관리자 Setting'!$R$15,IF(AND($G8>='관리자 Setting'!$P$15,$H8>='관리자 Setting'!$Q$15),'관리자 Setting'!$Q$15-$G8,IF(AND($G8>='관리자 Setting'!$P$15,$H8<'관리자 Setting'!$Q$15),$H8-$G8,IF($G8>='관리자 Setting'!$Q$15,0,0))))))","v":"00:00:00"},"",{"$f":"IFERROR(VLOOKUP($F8,'관리자 Setting'!$P$18:$Q$33,2,0)/24,\"\")","v":""}]
["433060","433060",{"$f":"IFERROR(DATE(LEFT('In-Put'!$B9,4),MID('In-Put'!$B9,5,2),RIGHT('In-Put'!$B9,2)),\"\")","v":"2018-07-25"},{"$f":"IF($C9=\"\",\"\",COUNTIFS($C$2:$C$401,C9)-COUNTIFS($C$2:C9,C9))","v":0},{"$f":"IF($C9=\"\",\"\",COUNTIFS('관리자 Setting'!$P$18:$P$33,'설정_In-Put'!$F9))","v":0},{"$f":"'In-Put'!G9","v":"정상"},{"$f":"IFERROR(IF('In-Put'!D9*1=0,\"\",'In-Put'!D9*1),\"\")","v":"08:50:00"},{"$f":"IFERROR(IF('In-Put'!E9*1=0,\"\",IF('In-Put'!E9*1<G9,'In-Put'!E9*1+1,'In-Put'!E9*1)),\"\")","v":"18:49:00"},{"$f":"IF(OR($H9<'관리자 Setting'!$P$14,$G9>='관리자 Setting'!$Q$14),0,IF(AND($G9<'관리자 Setting'!$P$14,$H9<'관리자 Setting'!$Q$14),$H9-'관리자 Setting'!$P$14,IF(AND($G9<'관리자 Setting'!$P$14,$H9>='관리자 Setting'!$Q$14),'관리자 Setting'!$R$14,IF(AND($G9>='관리자 Setting'!$P$14,$H9>='관리자 Setting'!$Q$14),'관리자 Setting'!$Q$14-$G9,IF(AND($G9>='관리자 Setting'!$P$14,$H9<'관리자 Setting'!$Q$14),$H9-$G9,IF($G9>='관리자 Setting'!$Q$14,0,0))))))","v":"01:00:00"},{"$f":"IF(OR($H9<'관리자 Setting'!$P$15,$G9>='관리자 Setting'!$Q$15),0,IF(AND($G9<'관리자 Setting'!$P$15,$H9<'관리자 Setting'!$Q$15),$H9-'관리자 Setting'!$P$15,IF(AND($G9<'관리자 Setting'!$P$15,$H9>='관리자 Setting'!$Q$15),'관리자 Setting'!$R$15,IF(AND($G9>='관리자 Setting'!$P$15,$H9>='관리자 Setting'!$Q$15),'관리자 Setting'!$Q$15-$G9,IF(AND($G9>='관리자 Setting'!$P$15,$H9<'관리자 Setting'!$Q$15),$H9-$G9,IF($G9>='관리자 Setting'!$Q$15,0,0))))))","v":"00:19:00"},"08:40:00",{"$f":"IFERROR(VLOOKUP($F9,'관리자 Setting'!$P$18:$Q$33,2,0)/24,\"\")","v":""}]
["433050","433050",{"$f":"IFERROR(DATE(LEFT('In-Put'!$B10,4),MID('In-Put'!$B10,5,2),RIGHT('In-Put'!$B10,2)),\"\")","v":"2018-07-24"},{"$f":"IF($C10=\"\",\"\",COUNTIFS($C$2:$C$401,C10)-COUNTIFS($C$2:C10,C10))","v":0},{"$f":"IF($C10=\"\",\"\",COUNTIFS('관리자 Setting'!$P$18:$P$33,'설정_In-Put'!$F10))","v":0},{"$f":"'In-Put'!G10","v":"정상"},{"$f":"IFERROR(IF('In-Put'!D10*1=0,\"\",'In-Put'!D10*1),\"\")","v":"08:53:00"},{"$f":"IFERROR(IF('In-Put'!E10*1=0,\"\",IF('In-Put'!E10*1<G10,'In-Put'!E10*1+1,'In-Put'!E10*1)),\"\")","v":"18:12:00"},{"$f":"IF(OR($H10<'관리자 Setting'!$P$14,$G10>='관리자 Setting'!$Q$14),0,IF(AND($G10<'관리자 Setting'!$P$14,$H10<'관리자 Setting'!$Q$14),$H10-'관리자 Setting'!$P$14,IF(AND($G10<'관리자 Setting'!$P$14,$H10>='관리자 Setting'!$Q$14),'관리자 Setting'!$R$14,IF(AND($G10>='관리자 Setting'!$P$14,$H10>='관리자 Setting'!$Q$14),'관리자 Setting'!$Q$14-$G10,IF(AND($G10>='관리자 Setting'!$P$14,$H10<'관리자 Setting'!$Q$14),$H10-$G10,IF($G10>='관리자 Setting'!$Q$14,0,0))))))","v":"01:00:00"},{"$f":"IF(OR($H10<'관리자 Setting'!$P$15,$G10>='관리자 Setting'!$Q$15),0,IF(AND($G10<'관리자 Setting'!$P$15,$H10<'관리자 Setting'!$Q$15),$H10-'관리자 Setting'!$P$15,IF(AND($G10<'관리자 Setting'!$P$15,$H10>='관리자 Setting'!$Q$15),'관리자 Setting'!$R$15,IF(AND($G10>='관리자 Setting'!$P$15,$H10>='관리자 Setting'!$Q$15),'관리자 Setting'!$Q$15-$G10,IF(AND($G10>='관리자 Setting'!$P$15,$H10<'관리자 Setting'!$Q$15),$H10-$G10,IF($G10>='관리자 Setting'!$Q$15,0,0))))))","v":"00:00:00"},"08:19:00",{"$f":"IFERROR(VLOOKUP($F10,'관리자 Setting'!$P$18:$Q$33,2,0)/24,\"\")","v":""}]
["433040","433040",{"$f":"IFERROR(DATE(LEFT('In-Put'!$B11,4),MID('In-Put'!$B11,5,2),RIGHT('In-Put'!$B11,2)),\"\")","v":"2018-07-23"},{"$f":"IF($C11=\"\",\"\",COUNTIFS($C$2:$C$401,C11)-COUNTIFS($C$2:C11,C11))","v":0},{"$f":"IF($C11=\"\",\"\",COUNTIFS('관리자 Setting'!$P$18:$P$33,'설정_In-Put'!$F11))","v":0},{"$f":"'In-Put'!G11","v":"정상"},{"$f":"IFERROR(IF('In-Put'!D11*1=0,\"\",'In-Put'!D11*1),\"\")","v":"08:50:00"},{"$f":"IFERROR(IF('In-Put'!E11*1=0,\"\",IF('In-Put'!E11*1<G11,'In-Put'!E11*1+1,'In-Put'!E11*1)),\"\")","v":"20:20:00"},{"$f":"IF(OR($H11<'관리자 Setting'!$P$14,$G11>='관리자 Setting'!$Q$14),0,IF(AND($G11<'관리자 Setting'!$P$14,$H11<'관리자 Setting'!$Q$14),$H11-'관리자 Setting'!$P$14,IF(AND($G11<'관리자 Setting'!$P$14,$H11>='관리자 Setting'!$Q$14),'관리자 Setting'!$R$14,IF(AND($G11>='관리자 Setting'!$P$14,$H11>='관리자 Setting'!$Q$14),'관리자 Setting'!$Q$14-$G11,IF(AND($G11>='관리자 Setting'!$P$14,$H11<'관리자 Setting'!$Q$14),$H11-$G11,IF($G11>='관리자 Setting'!$Q$14,0,0))))))","v":"01:00:00"},{"$f":"IF(OR($H11<'관리자 Setting'!$P$15,$G11>='관리자 Setting'!$Q$15),0,IF(AND($G11<'관리자 Setting'!$P$15,$H11<'관리자 Setting'!$Q$15),$H11-'관리자 Setting'!$P$15,IF(AND($G11<'관리자 Setting'!$P$15,$H11>='관리자 Setting'!$Q$15),'관리자 Setting'!$R$15,IF(AND($G11>='관리자 Setting'!$P$15,$H11>='관리자 Setting'!$Q$15),'관리자 Setting'!$Q$15-$G11,IF(AND($G11>='관리자 Setting'!$P$15,$H11<'관리자 Setting'!$Q$15),$H11-$G11,IF($G11>='관리자 Setting'!$Q$15,0,0))))))","v":"00:30:00"},"10:00:00",{"$f":"IFERROR(VLOOKUP($F11,'관리자 Setting'!$P$18:$Q$33,2,0)/24,\"\")","v":""}]
["433011","433010",{"$f":"IFERROR(DATE(LEFT('In-Put'!$B12,4),MID('In-Put'!$B12,5,2),RIGHT('In-Put'!$B12,2)),\"\")","v":"2018-07-20"},{"$f":"IF($C12=\"\",\"\",COUNTIFS($C$2:$C$401,C12)-COUNTIFS($C$2:C12,C12))","v":1},{"$f":"IF($C12=\"\",\"\",COUNTIFS('관리자 Setting'!$P$18:$P$33,'설정_In-Put'!$F12))","v":0},{"$f":"'In-Put'!G12","v":"정상"},{"$f":"IFERROR(IF('In-Put'!D12*1=0,\"\",'In-Put'!D12*1),\"\")","v":"08:53:00"},{"$f":"IFERROR(IF('In-Put'!E12*1=0,\"\",IF('In-Put'!E12*1<G12,'In-Put'!E12*1+1,'In-Put'!E12*1)),\"\")","v":"14:00:00"},{"$f":"IF(OR($H12<'관리자 Setting'!$P$14,$G12>='관리자 Setting'!$Q$14),0,IF(AND($G12<'관리자 Setting'!$P$14,$H12<'관리자 Setting'!$Q$14),$H12-'관리자 Setting'!$P$14,IF(AND($G12<'관리자 Setting'!$P$14,$H12>='관리자 Setting'!$Q$14),'관리자 Setting'!$R$14,IF(AND($G12>='관리자 Setting'!$P$14,$H12>='관리자 Setting'!$Q$14),'관리자 Setting'!$Q$14-$G12,IF(AND($G12>='관리자 Setting'!$P$14,$H12<'관리자 Setting'!$Q$14),$H12-$G12,IF($G12>='관리자 Setting'!$Q$14,0,0))))))","v":"01:00:00"},{"$f":"IF(OR($H12<'관리자 Setting'!$P$15,$G12>='관리자 Setting'!$Q$15),0,IF(AND($G12<'관리자 Setting'!$P$15,$H12<'관리자 Setting'!$Q$15),$H12-'관리자 Setting'!$P$15,IF(AND($G12<'관리자 Setting'!$P$15,$H12>='관리자 Setting'!$Q$15),'관리자 Setting'!$R$15,IF(AND($G12>='관리자 Setting'!$P$15,$H12>='관리자 Setting'!$Q$15),'관리자 Setting'!$Q$15-$G12,IF(AND($G12>='관리자 Setting'!$P$15,$H12<'관리자 Setting'!$Q$15),$H12-$G12,IF($G12>='관리자 Setting'!$Q$15,0,0))))))","v":"00:00:00"},"04:07:00",{"$f":"IFERROR(VLOOKUP($F12,'관리자 Setting'!$P$18:$Q$33,2,0)/24,\"\")","v":""}]
["433010","433011",{"$f":"IFERROR(DATE(LEFT('In-Put'!$B13,4),MID('In-Put'!$B13,5,2),RIGHT('In-Put'!$B13,2)),\"\")","v":"2018-07-20"},{"$f":"IF($C13=\"\",\"\",COUNTIFS($C$2:$C$401,C13)-COUNTIFS($C$2:C13,C13))","v":0},{"$f":"IF($C13=\"\",\"\",COUNTIFS('관리자 Setting'!$P$18:$P$33,'설정_In-Put'!$F13))","v":1},{"$f":"'In-Put'!G13","v":"반차휴가"},{"$f":"IFERROR(IF('In-Put'!D13*1=0,\"\",'In-Put'!D13*1),\"\")","v":""},{"$f":"IFERROR(IF('In-Put'!E13*1=0,\"\",IF('In-Put'!E13*1<G13,'In-Put'!E13*1+1,'In-Put'!E13*1)),\"\")","v":""},{"$f":"IF(OR($H13<'관리자 Setting'!$P$14,$G13>='관리자 Setting'!$Q$14),0,IF(AND($G13<'관리자 Setting'!$P$14,$H13<'관리자 Setting'!$Q$14),$H13-'관리자 Setting'!$P$14,IF(AND($G13<'관리자 Setting'!$P$14,$H13>='관리자 Setting'!$Q$14),'관리자 Setting'!$R$14,IF(AND($G13>='관리자 Setting'!$P$14,$H13>='관리자 Setting'!$Q$14),'관리자 Setting'!$Q$14-$G13,IF(AND($G13>='관리자 Setting'!$P$14,$H13<'관리자 Setting'!$Q$14),$H13-$G13,IF($G13>='관리자 Setting'!$Q$14,0,0))))))","v":"00:00:00"},{"$f":"IF(OR($H13<'관리자 Setting'!$P$15,$G13>='관리자 Setting'!$Q$15),0,IF(AND($G13<'관리자 Setting'!$P$15,$H13<'관리자 Setting'!$Q$15),$H13-'관리자 Setting'!$P$15,IF(AND($G13<'관리자 Setting'!$P$15,$H13>='관리자 Setting'!$Q$15),'관리자 Setting'!$R$15,IF(AND($G13>='관리자 Setting'!$P$15,$H13>='관리자 Setting'!$Q$15),'관리자 Setting'!$Q$15-$G13,IF(AND($G13>='관리자 Setting'!$P$15,$H13<'관리자 Setting'!$Q$15),$H13-$G13,IF($G13>='관리자 Setting'!$Q$15,0,0))))))","v":"00:00:00"},"",{"$f":"IFERROR(VLOOKUP($F13,'관리자 Setting'!$P$18:$Q$33,2,0)/24,\"\")","v":"04:00:00"}]
["433000","433000",{"$f":"IFERROR(DATE(LEFT('In-Put'!$B14,4),MID('In-Put'!$B14,5,2),RIGHT('In-Put'!$B14,2)),\"\")","v":"2018-07-19"},{"$f":"IF($C14=\"\",\"\",COUNTIFS($C$2:$C$401,C14)-COUNTIFS($C$2:C14,C14))","v":0},{"$f":"IF($C14=\"\",\"\",COUNTIFS('관리자 Setting'!$P$18:$P$33,'설정_In-Put'!$F14))","v":0},{"$f":"'In-Put'!G14","v":"정상"},{"$f":"IFERROR(IF('In-Put'!D14*1=0,\"\",'In-Put'!D14*1),\"\")","v":"08:53:00"},{"$f":"IFERROR(IF('In-Put'!E14*1=0,\"\",IF('In-Put'!E14*1<G14,'In-Put'!E14*1+1,'In-Put'!E14*1)),\"\")","v":"18:21:00"},{"$f":"IF(OR($H14<'관리자 Setting'!$P$14,$G14>='관리자 Setting'!$Q$14),0,IF(AND($G14<'관리자 Setting'!$P$14,$H14<'관리자 Setting'!$Q$14),$H14-'관리자 Setting'!$P$14,IF(AND($G14<'관리자 Setting'!$P$14,$H14>='관리자 Setting'!$Q$14),'관리자 Setting'!$R$14,IF(AND($G14>='관리자 Setting'!$P$14,$H14>='관리자 Setting'!$Q$14),'관리자 Setting'!$Q$14-$G14,IF(AND($G14>='관리자 Setting'!$P$14,$H14<'관리자 Setting'!$Q$14),$H14-$G14,IF($G14>='관리자 Setting'!$Q$14,0,0))))))","v":"01:00:00"},{"$f":"IF(OR($H14<'관리자 Setting'!$P$15,$G14>='관리자 Setting'!$Q$15),0,IF(AND($G14<'관리자 Setting'!$P$15,$H14<'관리자 Setting'!$Q$15),$H14-'관리자 Setting'!$P$15,IF(AND($G14<'관리자 Setting'!$P$15,$H14>='관리자 Setting'!$Q$15),'관리자 Setting'!$R$15,IF(AND($G14>='관리자 Setting'!$P$15,$H14>='관리자 Setting'!$Q$15),'관리자 Setting'!$Q$15-$G14,IF(AND($G14>='관리자 Setting'!$P$15,$H14<'관리자 Setting'!$Q$15),$H14-$G14,IF($G14>='관리자 Setting'!$Q$15,0,0))))))","v":"00:00:00"},"08:28:00",{"$f":"IFERROR(VLOOKUP($F14,'관리자 Setting'!$P$18:$Q$33,2,0)/24,\"\")","v":""}]
["432990","432991",{"$f":"IFERROR(DATE(LEFT('In-Put'!$B15,4),MID('In-Put'!$B15,5,2),RIGHT('In-Put'!$B15,2)),\"\")","v":"2018-07-18"},{"$f":"IF($C15=\"\",\"\",COUNTIFS($C$2:$C$401,C15)-COUNTIFS($C$2:C15,C15))","v":0},{"$f":"IF($C15=\"\",\"\",COUNTIFS('관리자 Setting'!$P$18:$P$33,'설정_In-Put'!$F15))","v":1},{"$f":"'In-Put'!G15","v":"관외출장"},{"$f":"IFERROR(IF('In-Put'!D15*1=0,\"\",'In-Put'!D15*1),\"\")","v":""},{"$f":"IFERROR(IF('In-Put'!E15*1=0,\"\",IF('In-Put'!E15*1<G15,'In-Put'!E15*1+1,'In-Put'!E15*1)),\"\")","v":""},{"$f":"IF(OR($H15<'관리자 Setting'!$P$14,$G15>='관리자 Setting'!$Q$14),0,IF(AND($G15<'관리자 Setting'!$P$14,$H15<'관리자 Setting'!$Q$14),$H15-'관리자 Setting'!$P$14,IF(AND($G15<'관리자 Setting'!$P$14,$H15>='관리자 Setting'!$Q$14),'관리자 Setting'!$R$14,IF(AND($G15>='관리자 Setting'!$P$14,$H15>='관리자 Setting'!$Q$14),'관리자 Setting'!$Q$14-$G15,IF(AND($G15>='관리자 Setting'!$P$14,$H15<'관리자 Setting'!$Q$14),$H15-$G15,IF($G15>='관리자 Setting'!$Q$14,0,0))))))","v":"00:00:00"},{"$f":"IF(OR($H15<'관리자 Setting'!$P$15,$G15>='관리자 Setting'!$Q$15),0,IF(AND($G15<'관리자 Setting'!$P$15,$H15<'관리자 Setting'!$Q$15),$H15-'관리자 Setting'!$P$15,IF(AND($G15<'관리자 Setting'!$P$15,$H15>='관리자 Setting'!$Q$15),'관리자 Setting'!$R$15,IF(AND($G15>='관리자 Setting'!$P$15,$H15>='관리자 Setting'!$Q$15),'관리자 Setting'!$Q$15-$G15,IF(AND($G15>='관리자 Setting'!$P$15,$H15<'관리자 Setting'!$Q$15),$H15-$G15,IF($G15>='관리자 Setting'!$Q$15,0,0))))))","v":"00:00:00"},"",{"$f":"IFERROR(VLOOKUP($F15,'관리자 Setting'!$P$18:$Q$33,2,0)/24,\"\")","v":"08:00:00"}]
["432980","432980",{"$f":"IFERROR(DATE(LEFT('In-Put'!$B16,4),MID('In-Put'!$B16,5,2),RIGHT('In-Put'!$B16,2)),\"\")","v":"2018-07-17"},{"$f":"IF($C16=\"\",\"\",COUNTIFS($C$2:$C$401,C16)-COUNTIFS($C$2:C16,C16))","v":0},{"$f":"IF($C16=\"\",\"\",COUNTIFS('관리자 Setting'!$P$18:$P$33,'설정_In-Put'!$F16))","v":0},{"$f":"'In-Put'!G16","v":"정상"},{"$f":"IFERROR(IF('In-Put'!D16*1=0,\"\",'In-Put'!D16*1),\"\")","v":"08:53:00"},{"$f":"IFERROR(IF('In-Put'!E16*1=0,\"\",IF('In-Put'!E16*1<G16,'In-Put'!E16*1+1,'In-Put'!E16*1)),\"\")","v":"18:04:00"},{"$f":"IF(OR($H16<'관리자 Setting'!$P$14,$G16>='관리자 Setting'!$Q$14),0,IF(AND($G16<'관리자 Setting'!$P$14,$H16<'관리자 Setting'!$Q$14),$H16-'관리자 Setting'!$P$14,IF(AND($G16<'관리자 Setting'!$P$14,$H16>='관리자 Setting'!$Q$14),'관리자 Setting'!$R$14,IF(AND($G16>='관리자 Setting'!$P$14,$H16>='관리자 Setting'!$Q$14),'관리자 Setting'!$Q$14-$G16,IF(AND($G16>='관리자 Setting'!$P$14,$H16<'관리자 Setting'!$Q$14),$H16-$G16,IF($G16>='관리자 Setting'!$Q$14,0,0))))))","v":"01:00:00"},{"$f":"IF(OR($H16<'관리자 Setting'!$P$15,$G16>='관리자 Setting'!$Q$15),0,IF(AND($G16<'관리자 Setting'!$P$15,$H16<'관리자 Setting'!$Q$15),$H16-'관리자 Setting'!$P$15,IF(AND($G16<'관리자 Setting'!$P$15,$H16>='관리자 Setting'!$Q$15),'관리자 Setting'!$R$15,IF(AND($G16>='관리자 Setting'!$P$15,$H16>='관리자 Setting'!$Q$15),'관리자 Setting'!$Q$15-$G16,IF(AND($G16>='관리자 Setting'!$P$15,$H16<'관리자 Setting'!$Q$15),$H16-$G16,IF($G16>='관리자 Setting'!$Q$15,0,0))))))","v":"00:00:00"},"08:11:00",{"$f":"IFERROR(VLOOKUP($F16,'관리자 Setting'!$P$18:$Q$33,2,0)/24,\"\")","v":""}]
["432970","432970",{"$f":"IFERROR(DATE(LEFT('In-Put'!$B17,4),MID('In-Put'!$B17,5,2),RIGHT('In-Put'!$B17,2)),\"\")","v":"2018-07-16"},{"$f":"IF($C17=\"\",\"\",COUNTIFS($C$2:$C$401,C17)-COUNTIFS($C$2:C17,C17))","v":0},{"$f":"IF($C17=\"\",\"\",COUNTIFS('관리자 Setting'!$P$18:$P$33,'설정_In-Put'!$F17))","v":0},{"$f":"'In-Put'!G17","v":"정상"},{"$f":"IFERROR(IF('In-Put'!D17*1=0,\"\",'In-Put'!D17*1),\"\")","v":"08:53:00"},{"$f":"IFERROR(IF('In-Put'!E17*1=0,\"\",IF('In-Put'!E17*1<G17,'In-Put'!E17*1+1,'In-Put'!E17*1)),\"\")","v":"18:41:00"},{"$f":"IF(OR($H17<'관리자 Setting'!$P$14,$G17>='관리자 Setting'!$Q$14),0,IF(AND($G17<'관리자 Setting'!$P$14,$H17<'관리자 Setting'!$Q$14),$H17-'관리자 Setting'!$P$14,IF(AND($G17<'관리자 Setting'!$P$14,$H17>='관리자 Setting'!$Q$14),'관리자 Setting'!$R$14,IF(AND($G17>='관리자 Setting'!$P$14,$H17>='관리자 Setting'!$Q$14),'관리자 Setting'!$Q$14-$G17,IF(AND($G17>='관리자 Setting'!$P$14,$H17<'관리자 Setting'!$Q$14),$H17-$G17,IF($G17>='관리자 Setting'!$Q$14,0,0))))))","v":"01:00:00"},{"$f":"IF(OR($H17<'관리자 Setting'!$P$15,$G17>='관리자 Setting'!$Q$15),0,IF(AND($G17<'관리자 Setting'!$P$15,$H17<'관리자 Setting'!$Q$15),$H17-'관리자 Setting'!$P$15,IF(AND($G17<'관리자 Setting'!$P$15,$H17>='관리자 Setting'!$Q$15),'관리자 Setting'!$R$15,IF(AND($G17>='관리자 Setting'!$P$15,$H17>='관리자 Setting'!$Q$15),'관리자 Setting'!$Q$15-$G17,IF(AND($G17>='관리자 Setting'!$P$15,$H17<'관리자 Setting'!$Q$15),$H17-$G17,IF($G17>='관리자 Setting'!$Q$15,0,0))))))","v":"00:11:00"},"08:37:00",{"$f":"IFERROR(VLOOKUP($F17,'관리자 Setting'!$P$18:$Q$33,2,0)/24,\"\")","v":""}]
["432950","432950",{"$f":"IFERROR(DATE(LEFT('In-Put'!$B18,4),MID('In-Put'!$B18,5,2),RIGHT('In-Put'!$B18,2)),\"\")","v":"2018-07-14"},{"$f":"IF($C18=\"\",\"\",COUNTIFS($C$2:$C$401,C18)-COUNTIFS($C$2:C18,C18))","v":0},{"$f":"IF($C18=\"\",\"\",COUNTIFS('관리자 Setting'!$P$18:$P$33,'설정_In-Put'!$F18))","v":0},{"$f":"'In-Put'!G18","v":"휴일출근"},{"$f":"IFERROR(IF('In-Put'!D18*1=0,\"\",'In-Put'!D18*1),\"\")","v":"13:16:00"},{"$f":"IFERROR(IF('In-Put'!E18*1=0,\"\",IF('In-Put'!E18*1<G18,'In-Put'!E18*1+1,'In-Put'!E18*1)),\"\")","v":"18:17:00"},{"$f":"IF(OR($H18<'관리자 Setting'!$P$14,$G18>='관리자 Setting'!$Q$14),0,IF(AND($G18<'관리자 Setting'!$P$14,$H18<'관리자 Setting'!$Q$14),$H18-'관리자 Setting'!$P$14,IF(AND($G18<'관리자 Setting'!$P$14,$H18>='관리자 Setting'!$Q$14),'관리자 Setting'!$R$14,IF(AND($G18>='관리자 Setting'!$P$14,$H18>='관리자 Setting'!$Q$14),'관리자 Setting'!$Q$14-$G18,IF(AND($G18>='관리자 Setting'!$P$14,$H18<'관리자 Setting'!$Q$14),$H18-$G18,IF($G18>='관리자 Setting'!$Q$14,0,0))))))","v":"00:00:00"},{"$f":"IF(OR($H18<'관리자 Setting'!$P$15,$G18>='관리자 Setting'!$Q$15),0,IF(AND($G18<'관리자 Setting'!$P$15,$H18<'관리자 Setting'!$Q$15),$H18-'관리자 Setting'!$P$15,IF(AND($G18<'관리자 Setting'!$P$15,$H18>='관리자 Setting'!$Q$15),'관리자 Setting'!$R$15,IF(AND($G18>='관리자 Setting'!$P$15,$H18>='관리자 Setting'!$Q$15),'관리자 Setting'!$Q$15-$G18,IF(AND($G18>='관리자 Setting'!$P$15,$H18<'관리자 Setting'!$Q$15),$H18-$G18,IF($G18>='관리자 Setting'!$Q$15,0,0))))))","v":"00:00:00"},"05:01:00",{"$f":"IFERROR(VLOOKUP($F18,'관리자 Setting'!$P$18:$Q$33,2,0)/24,\"\")","v":""}]
["432940","432940",{"$f":"IFERROR(DATE(LEFT('In-Put'!$B19,4),MID('In-Put'!$B19,5,2),RIGHT('In-Put'!$B19,2)),\"\")","v":"2018-07-13"},{"$f":"IF($C19=\"\",\"\",COUNTIFS($C$2:$C$401,C19)-COUNTIFS($C$2:C19,C19))","v":0},{"$f":"IF($C19=\"\",\"\",COUNTIFS('관리자 Setting'!$P$18:$P$33,'설정_In-Put'!$F19))","v":0},{"$f":"'In-Put'!G19","v":"정상"},{"$f":"IFERROR(IF('In-Put'!D19*1=0,\"\",'In-Put'!D19*1),\"\")","v":"09:22:00"},{"$f":"IFERROR(IF('In-Put'!E19*1=0,\"\",IF('In-Put'!E19*1<G19,'In-Put'!E19*1+1,'In-Put'!E19*1)),\"\")","v":"18:33:00"},{"$f":"IF(OR($H19<'관리자 Setting'!$P$14,$G19>='관리자 Setting'!$Q$14),0,IF(AND($G19<'관리자 Setting'!$P$14,$H19<'관리자 Setting'!$Q$14),$H19-'관리자 Setting'!$P$14,IF(AND($G19<'관리자 Setting'!$P$14,$H19>='관리자 Setting'!$Q$14),'관리자 Setting'!$R$14,IF(AND($G19>='관리자 Setting'!$P$14,$H19>='관리자 Setting'!$Q$14),'관리자 Setting'!$Q$14-$G19,IF(AND($G19>='관리자 Setting'!$P$14,$H19<'관리자 Setting'!$Q$14),$H19-$G19,IF($G19>='관리자 Setting'!$Q$14,0,0))))))","v":"01:00:00"},{"$f":"IF(OR($H19<'관리자 Setting'!$P$15,$G19>='관리자 Setting'!$Q$15),0,IF(AND($G19<'관리자 Setting'!$P$15,$H19<'관리자 Setting'!$Q$15),$H19-'관리자 Setting'!$P$15,IF(AND($G19<'관리자 Setting'!$P$15,$H19>='관리자 Setting'!$Q$15),'관리자 Setting'!$R$15,IF(AND($G19>='관리자 Setting'!$P$15,$H19>='관리자 Setting'!$Q$15),'관리자 Setting'!$Q$15-$G19,IF(AND($G19>='관리자 Setting'!$P$15,$H19<'관리자 Setting'!$Q$15),$H19-$G19,IF($G19>='관리자 Setting'!$Q$15,0,0))))))","v":"00:03:00"},"08:08:00",{"$f":"IFERROR(VLOOKUP($F19,'관리자 Setting'!$P$18:$Q$33,2,0)/24,\"\")","v":""}]
["432930","432930",{"$f":"IFERROR(DATE(LEFT('In-Put'!$B20,4),MID('In-Put'!$B20,5,2),RIGHT('In-Put'!$B20,2)),\"\")","v":"2018-07-12"},{"$f":"IF($C20=\"\",\"\",COUNTIFS($C$2:$C$401,C20)-COUNTIFS($C$2:C20,C20))","v":0},{"$f":"IF($C20=\"\",\"\",COUNTIFS('관리자 Setting'!$P$18:$P$33,'설정_In-Put'!$F20))","v":0},{"$f":"'In-Put'!G20","v":"정상"},{"$f":"IFERROR(IF('In-Put'!D20*1=0,\"\",'In-Put'!D20*1),\"\")","v":"08:49:00"},{"$f":"IFERROR(IF('In-Put'!E20*1=0,\"\",IF('In-Put'!E20*1<G20,'In-Put'!E20*1+1,'In-Put'!E20*1)),\"\")","v":"19:20:00"},{"$f":"IF(OR($H20<'관리자 Setting'!$P$14,$G20>='관리자 Setting'!$Q$14),0,IF(AND($G20<'관리자 Setting'!$P$14,$H20<'관리자 Setting'!$Q$14),$H20-'관리자 Setting'!$P$14,IF(AND($G20<'관리자 Setting'!$P$14,$H20>='관리자 Setting'!$Q$14),'관리자 Setting'!$R$14,IF(AND($G20>='관리자 Setting'!$P$14,$H20>='관리자 Setting'!$Q$14),'관리자 Setting'!$Q$14-$G20,IF(AND($G20>='관리자 Setting'!$P$14,$H20<'관리자 Setting'!$Q$14),$H20-$G20,IF($G20>='관리자 Setting'!$Q$14,0,0))))))","v":"01:00:00"},{"$f":"IF(OR($H20<'관리자 Setting'!$P$15,$G20>='관리자 Setting'!$Q$15),0,IF(AND($G20<'관리자 Setting'!$P$15,$H20<'관리자 Setting'!$Q$15),$H20-'관리자 Setting'!$P$15,IF(AND($G20<'관리자 Setting'!$P$15,$H20>='관리자 Setting'!$Q$15),'관리자 Setting'!$R$15,IF(AND($G20>='관리자 Setting'!$P$15,$H20>='관리자 Setting'!$Q$15),'관리자 Setting'!$Q$15-$G20,IF(AND($G20>='관리자 Setting'!$P$15,$H20<'관리자 Setting'!$Q$15),$H20-$G20,IF($G20>='관리자 Setting'!$Q$15,0,0))))))","v":"00:30:00"},"09:01:00",{"$f":"IFERROR(VLOOKUP($F20,'관리자 Setting'!$P$18:$Q$33,2,0)/24,\"\")","v":""}]
["432920","432920",{"$f":"IFERROR(DATE(LEFT('In-Put'!$B21,4),MID('In-Put'!$B21,5,2),RIGHT('In-Put'!$B21,2)),\"\")","v":"2018-07-11"},{"$f":"IF($C21=\"\",\"\",COUNTIFS($C$2:$C$401,C21)-COUNTIFS($C$2:C21,C21))","v":0},{"$f":"IF($C21=\"\",\"\",COUNTIFS('관리자 Setting'!$P$18:$P$33,'설정_In-Put'!$F21))","v":0},{"$f":"'In-Put'!G21","v":"정상"},{"$f":"IFERROR(IF('In-Put'!D21*1=0,\"\",'In-Put'!D21*1),\"\")","v":"08:53:00"},{"$f":"IFERROR(IF('In-Put'!E21*1=0,\"\",IF('In-Put'!E21*1<G21,'In-Put'!E21*1+1,'In-Put'!E21*1)),\"\")","v":"17:26:00"},{"$f":"IF(OR($H21<'관리자 Setting'!$P$14,$G21>='관리자 Setting'!$Q$14),0,IF(AND($G21<'관리자 Setting'!$P$14,$H21<'관리자 Setting'!$Q$14),$H21-'관리자 Setting'!$P$14,IF(AND($G21<'관리자 Setting'!$P$14,$H21>='관리자 Setting'!$Q$14),'관리자 Setting'!$R$14,IF(AND($G21>='관리자 Setting'!$P$14,$H21>='관리자 Setting'!$Q$14),'관리자 Setting'!$Q$14-$G21,IF(AND($G21>='관리자 Setting'!$P$14,$H21<'관리자 Setting'!$Q$14),$H21-$G21,IF($G21>='관리자 Setting'!$Q$14,0,0))))))","v":"01:00:00"},{"$f":"IF(OR($H21<'관리자 Setting'!$P$15,$G21>='관리자 Setting'!$Q$15),0,IF(AND($G21<'관리자 Setting'!$P$15,$H21<'관리자 Setting'!$Q$15),$H21-'관리자 Setting'!$P$15,IF(AND($G21<'관리자 Setting'!$P$15,$H21>='관리자 Setting'!$Q$15),'관리자 Setting'!$R$15,IF(AND($G21>='관리자 Setting'!$P$15,$H21>='관리자 Setting'!$Q$15),'관리자 Setting'!$Q$15-$G21,IF(AND($G21>='관리자 Setting'!$P$15,$H21<'관리자 Setting'!$Q$15),$H21-$G21,IF($G21>='관리자 Setting'!$Q$15,0,0))))))","v":"00:00:00"},"07:33:00",{"$f":"IFERROR(VLOOKUP($F21,'관리자 Setting'!$P$18:$Q$33,2,0)/24,\"\")","v":""}]
["432910","432910",{"$f":"IFERROR(DATE(LEFT('In-Put'!$B22,4),MID('In-Put'!$B22,5,2),RIGHT('In-Put'!$B22,2)),\"\")","v":"2018-07-10"},{"$f":"IF($C22=\"\",\"\",COUNTIFS($C$2:$C$401,C22)-COUNTIFS($C$2:C22,C22))","v":0},{"$f":"IF($C22=\"\",\"\",COUNTIFS('관리자 Setting'!$P$18:$P$33,'설정_In-Put'!$F22))","v":0},{"$f":"'In-Put'!G22","v":"정상"},{"$f":"IFERROR(IF('In-Put'!D22*1=0,\"\",'In-Put'!D22*1),\"\")","v":"08:52:00"},{"$f":"IFERROR(IF('In-Put'!E22*1=0,\"\",IF('In-Put'!E22*1<G22,'In-Put'!E22*1+1,'In-Put'!E22*1)),\"\")","v":"21:24:00"},{"$f":"IF(OR($H22<'관리자 Setting'!$P$14,$G22>='관리자 Setting'!$Q$14),0,IF(AND($G22<'관리자 Setting'!$P$14,$H22<'관리자 Setting'!$Q$14),$H22-'관리자 Setting'!$P$14,IF(AND($G22<'관리자 Setting'!$P$14,$H22>='관리자 Setting'!$Q$14),'관리자 Setting'!$R$14,IF(AND($G22>='관리자 Setting'!$P$14,$H22>='관리자 Setting'!$Q$14),'관리자 Setting'!$Q$14-$G22,IF(AND($G22>='관리자 Setting'!$P$14,$H22<'관리자 Setting'!$Q$14),$H22-$G22,IF($G22>='관리자 Setting'!$Q$14,0,0))))))","v":"01:00:00"},{"$f":"IF(OR($H22<'관리자 Setting'!$P$15,$G22>='관리자 Setting'!$Q$15),0,IF(AND($G22<'관리자 Setting'!$P$15,$H22<'관리자 Setting'!$Q$15),$H22-'관리자 Setting'!$P$15,IF(AND($G22<'관리자 Setting'!$P$15,$H22>='관리자 Setting'!$Q$15),'관리자 Setting'!$R$15,IF(AND($G22>='관리자 Setting'!$P$15,$H22>='관리자 Setting'!$Q$15),'관리자 Setting'!$Q$15-$G22,IF(AND($G22>='관리자 Setting'!$P$15,$H22<'관리자 Setting'!$Q$15),$H22-$G22,IF($G22>='관리자 Setting'!$Q$15,0,0))))))","v":"00:30:00"},"11:02:00",{"$f":"IFERROR(VLOOKUP($F22,'관리자 Setting'!$P$18:$Q$33,2,0)/24,\"\")","v":""}]
["432900","432900",{"$f":"IFERROR(DATE(LEFT('In-Put'!$B23,4),MID('In-Put'!$B23,5,2),RIGHT('In-Put'!$B23,2)),\"\")","v":"2018-07-09"},{"$f":"IF($C23=\"\",\"\",COUNTIFS($C$2:$C$401,C23)-COUNTIFS($C$2:C23,C23))","v":0},{"$f":"IF($C23=\"\",\"\",COUNTIFS('관리자 Setting'!$P$18:$P$33,'설정_In-Put'!$F23))","v":0},{"$f":"'In-Put'!G23","v":"정상"},{"$f":"IFERROR(IF('In-Put'!D23*1=0,\"\",'In-Put'!D23*1),\"\")","v":"08:50:00"},{"$f":"IFERROR(IF('In-Put'!E23*1=0,\"\",IF('In-Put'!E23*1<G23,'In-Put'!E23*1+1,'In-Put'!E23*1)),\"\")","v":"19:09:00"},{"$f":"IF(OR($H23<'관리자 Setting'!$P$14,$G23>='관리자 Setting'!$Q$14),0,IF(AND($G23<'관리자 Setting'!$P$14,$H23<'관리자 Setting'!$Q$14),$H23-'관리자 Setting'!$P$14,IF(AND($G23<'관리자 Setting'!$P$14,$H23>='관리자 Setting'!$Q$14),'관리자 Setting'!$R$14,IF(AND($G23>='관리자 Setting'!$P$14,$H23>='관리자 Setting'!$Q$14),'관리자 Setting'!$Q$14-$G23,IF(AND($G23>='관리자 Setting'!$P$14,$H23<'관리자 Setting'!$Q$14),$H23-$G23,IF($G23>='관리자 Setting'!$Q$14,0,0))))))","v":"01:00:00"},{"$f":"IF(OR($H23<'관리자 Setting'!$P$15,$G23>='관리자 Setting'!$Q$15),0,IF(AND($G23<'관리자 Setting'!$P$15,$H23<'관리자 Setting'!$Q$15),$H23-'관리자 Setting'!$P$15,IF(AND($G23<'관리자 Setting'!$P$15,$H23>='관리자 Setting'!$Q$15),'관리자 Setting'!$R$15,IF(AND($G23>='관리자 Setting'!$P$15,$H23>='관리자 Setting'!$Q$15),'관리자 Setting'!$Q$15-$G23,IF(AND($G23>='관리자 Setting'!$P$15,$H23<'관리자 Setting'!$Q$15),$H23-$G23,IF($G23>='관리자 Setting'!$Q$15,0,0))))))","v":"00:30:00"},"08:49:00",{"$f":"IFERROR(VLOOKUP($F23,'관리자 Setting'!$P$18:$Q$33,2,0)/24,\"\")","v":""}]
["432870","432870",{"$f":"IFERROR(DATE(LEFT('In-Put'!$B24,4),MID('In-Put'!$B24,5,2),RIGHT('In-Put'!$B24,2)),\"\")","v":"2018-07-06"},{"$f":"IF($C24=\"\",\"\",COUNTIFS($C$2:$C$401,C24)-COUNTIFS($C$2:C24,C24))","v":0},{"$f":"IF($C24=\"\",\"\",COUNTIFS('관리자 Setting'!$P$18:$P$33,'설정_In-Put'!$F24))","v":0},{"$f":"'In-Put'!G24","v":"정상"},{"$f":"IFERROR(IF('In-Put'!D24*1=0,\"\",'In-Put'!D24*1),\"\")","v":"08:51:00"},{"$f":"IFERROR(IF('In-Put'!E24*1=0,\"\",IF('In-Put'!E24*1<G24,'In-Put'!E24*1+1,'In-Put'!E24*1)),\"\")","v":"23:00:00"},{"$f":"IF(OR($H24<'관리자 Setting'!$P$14,$G24>='관리자 Setting'!$Q$14),0,IF(AND($G24<'관리자 Setting'!$P$14,$H24<'관리자 Setting'!$Q$14),$H24-'관리자 Setting'!$P$14,IF(AND($G24<'관리자 Setting'!$P$14,$H24>='관리자 Setting'!$Q$14),'관리자 Setting'!$R$14,IF(AND($G24>='관리자 Setting'!$P$14,$H24>='관리자 Setting'!$Q$14),'관리자 Setting'!$Q$14-$G24,IF(AND($G24>='관리자 Setting'!$P$14,$H24<'관리자 Setting'!$Q$14),$H24-$G24,IF($G24>='관리자 Setting'!$Q$14,0,0))))))","v":"01:00:00"},{"$f":"IF(OR($H24<'관리자 Setting'!$P$15,$G24>='관리자 Setting'!$Q$15),0,IF(AND($G24<'관리자 Setting'!$P$15,$H24<'관리자 Setting'!$Q$15),$H24-'관리자 Setting'!$P$15,IF(AND($G24<'관리자 Setting'!$P$15,$H24>='관리자 Setting'!$Q$15),'관리자 Setting'!$R$15,IF(AND($G24>='관리자 Setting'!$P$15,$H24>='관리자 Setting'!$Q$15),'관리자 Setting'!$Q$15-$G24,IF(AND($G24>='관리자 Setting'!$P$15,$H24<'관리자 Setting'!$Q$15),$H24-$G24,IF($G24>='관리자 Setting'!$Q$15,0,0))))))","v":"00:30:00"},"12:39:00",{"$f":"IFERROR(VLOOKUP($F24,'관리자 Setting'!$P$18:$Q$33,2,0)/24,\"\")","v":""}]
["432860","432860",{"$f":"IFERROR(DATE(LEFT('In-Put'!$B25,4),MID('In-Put'!$B25,5,2),RIGHT('In-Put'!$B25,2)),\"\")","v":"2018-07-05"},{"$f":"IF($C25=\"\",\"\",COUNTIFS($C$2:$C$401,C25)-COUNTIFS($C$2:C25,C25))","v":0},{"$f":"IF($C25=\"\",\"\",COUNTIFS('관리자 Setting'!$P$18:$P$33,'설정_In-Put'!$F25))","v":0},{"$f":"'In-Put'!G25","v":"정상"},{"$f":"IFERROR(IF('In-Put'!D25*1=0,\"\",'In-Put'!D25*1),\"\")","v":"08:51:00"},{"$f":"IFERROR(IF('In-Put'!E25*1=0,\"\",IF('In-Put'!E25*1<G25,'In-Put'!E25*1+1,'In-Put'!E25*1)),\"\")","v":"21:54:00"},{"$f":"IF(OR($H25<'관리자 Setting'!$P$14,$G25>='관리자 Setting'!$Q$14),0,IF(AND($G25<'관리자 Setting'!$P$14,$H25<'관리자 Setting'!$Q$14),$H25-'관리자 Setting'!$P$14,IF(AND($G25<'관리자 Setting'!$P$14,$H25>='관리자 Setting'!$Q$14),'관리자 Setting'!$R$14,IF(AND($G25>='관리자 Setting'!$P$14,$H25>='관리자 Setting'!$Q$14),'관리자 Setting'!$Q$14-$G25,IF(AND($G25>='관리자 Setting'!$P$14,$H25<'관리자 Setting'!$Q$14),$H25-$G25,IF($G25>='관리자 Setting'!$Q$14,0,0))))))","v":"01:00:00"},{"$f":"IF(OR($H25<'관리자 Setting'!$P$15,$G25>='관리자 Setting'!$Q$15),0,IF(AND($G25<'관리자 Setting'!$P$15,$H25<'관리자 Setting'!$Q$15),$H25-'관리자 Setting'!$P$15,IF(AND($G25<'관리자 Setting'!$P$15,$H25>='관리자 Setting'!$Q$15),'관리자 Setting'!$R$15,IF(AND($G25>='관리자 Setting'!$P$15,$H25>='관리자 Setting'!$Q$15),'관리자 Setting'!$Q$15-$G25,IF(AND($G25>='관리자 Setting'!$P$15,$H25<'관리자 Setting'!$Q$15),$H25-$G25,IF($G25>='관리자 Setting'!$Q$15,0,0))))))","v":"00:30:00"},"11:33:00",{"$f":"IFERROR(VLOOKUP($F25,'관리자 Setting'!$P$18:$Q$33,2,0)/24,\"\")","v":""}]
["432850","432850",{"$f":"IFERROR(DATE(LEFT('In-Put'!$B26,4),MID('In-Put'!$B26,5,2),RIGHT('In-Put'!$B26,2)),\"\")","v":"2018-07-04"},{"$f":"IF($C26=\"\",\"\",COUNTIFS($C$2:$C$401,C26)-COUNTIFS($C$2:C26,C26))","v":0},{"$f":"IF($C26=\"\",\"\",COUNTIFS('관리자 Setting'!$P$18:$P$33,'설정_In-Put'!$F26))","v":0},{"$f":"'In-Put'!G26","v":"정상"},{"$f":"IFERROR(IF('In-Put'!D26*1=0,\"\",'In-Put'!D26*1),\"\")","v":"08:50:00"},{"$f":"IFERROR(IF('In-Put'!E26*1=0,\"\",IF('In-Put'!E26*1<G26,'In-Put'!E26*1+1,'In-Put'!E26*1)),\"\")","v":"17:10:00"},{"$f":"IF(OR($H26<'관리자 Setting'!$P$14,$G26>='관리자 Setting'!$Q$14),0,IF(AND($G26<'관리자 Setting'!$P$14,$H26<'관리자 Setting'!$Q$14),$H26-'관리자 Setting'!$P$14,IF(AND($G26<'관리자 Setting'!$P$14,$H26>='관리자 Setting'!$Q$14),'관리자 Setting'!$R$14,IF(AND($G26>='관리자 Setting'!$P$14,$H26>='관리자 Setting'!$Q$14),'관리자 Setting'!$Q$14-$G26,IF(AND($G26>='관리자 Setting'!$P$14,$H26<'관리자 Setting'!$Q$14),$H26-$G26,IF($G26>='관리자 Setting'!$Q$14,0,0))))))","v":"01:00:00"},{"$f":"IF(OR($H26<'관리자 Setting'!$P$15,$G26>='관리자 Setting'!$Q$15),0,IF(AND($G26<'관리자 Setting'!$P$15,$H26<'관리자 Setting'!$Q$15),$H26-'관리자 Setting'!$P$15,IF(AND($G26<'관리자 Setting'!$P$15,$H26>='관리자 Setting'!$Q$15),'관리자 Setting'!$R$15,IF(AND($G26>='관리자 Setting'!$P$15,$H26>='관리자 Setting'!$Q$15),'관리자 Setting'!$Q$15-$G26,IF(AND($G26>='관리자 Setting'!$P$15,$H26<'관리자 Setting'!$Q$15),$H26-$G26,IF($G26>='관리자 Setting'!$Q$15,0,0))))))","v":"00:00:00"},"07:20:00",{"$f":"IFERROR(VLOOKUP($F26,'관리자 Setting'!$P$18:$Q$33,2,0)/24,\"\")","v":""}]
["432840","432840",{"$f":"IFERROR(DATE(LEFT('In-Put'!$B27,4),MID('In-Put'!$B27,5,2),RIGHT('In-Put'!$B27,2)),\"\")","v":"2018-07-03"},{"$f":"IF($C27=\"\",\"\",COUNTIFS($C$2:$C$401,C27)-COUNTIFS($C$2:C27,C27))","v":0},{"$f":"IF($C27=\"\",\"\",COUNTIFS('관리자 Setting'!$P$18:$P$33,'설정_In-Put'!$F27))","v":0},{"$f":"'In-Put'!G27","v":"정상"},{"$f":"IFERROR(IF('In-Put'!D27*1=0,\"\",'In-Put'!D27*1),\"\")","v":"08:53:00"},{"$f":"IFERROR(IF('In-Put'!E27*1=0,\"\",IF('In-Put'!E27*1<G27,'In-Put'!E27*1+1,'In-Put'!E27*1)),\"\")","v":"20:02:00"},{"$f":"IF(OR($H27<'관리자 Setting'!$P$14,$G27>='관리자 Setting'!$Q$14),0,IF(AND($G27<'관리자 Setting'!$P$14,$H27<'관리자 Setting'!$Q$14),$H27-'관리자 Setting'!$P$14,IF(AND($G27<'관리자 Setting'!$P$14,$H27>='관리자 Setting'!$Q$14),'관리자 Setting'!$R$14,IF(AND($G27>='관리자 Setting'!$P$14,$H27>='관리자 Setting'!$Q$14),'관리자 Setting'!$Q$14-$G27,IF(AND($G27>='관리자 Setting'!$P$14,$H27<'관리자 Setting'!$Q$14),$H27-$G27,IF($G27>='관리자 Setting'!$Q$14,0,0))))))","v":"01:00:00"},{"$f":"IF(OR($H27<'관리자 Setting'!$P$15,$G27>='관리자 Setting'!$Q$15),0,IF(AND($G27<'관리자 Setting'!$P$15,$H27<'관리자 Setting'!$Q$15),$H27-'관리자 Setting'!$P$15,IF(AND($G27<'관리자 Setting'!$P$15,$H27>='관리자 Setting'!$Q$15),'관리자 Setting'!$R$15,IF(AND($G27>='관리자 Setting'!$P$15,$H27>='관리자 Setting'!$Q$15),'관리자 Setting'!$Q$15-$G27,IF(AND($G27>='관리자 Setting'!$P$15,$H27<'관리자 Setting'!$Q$15),$H27-$G27,IF($G27>='관리자 Setting'!$Q$15,0,0))))))","v":"00:30:00"},"09:39:00",{"$f":"IFERROR(VLOOKUP($F27,'관리자 Setting'!$P$18:$Q$33,2,0)/24,\"\")","v":""}]
["432830","432830",{"$f":"IFERROR(DATE(LEFT('In-Put'!$B28,4),MID('In-Put'!$B28,5,2),RIGHT('In-Put'!$B28,2)),\"\")","v":"2018-07-02"},{"$f":"IF($C28=\"\",\"\",COUNTIFS($C$2:$C$401,C28)-COUNTIFS($C$2:C28,C28))","v":0},{"$f":"IF($C28=\"\",\"\",COUNTIFS('관리자 Setting'!$P$18:$P$33,'설정_In-Put'!$F28))","v":0},{"$f":"'In-Put'!G28","v":"정상"},{"$f":"IFERROR(IF('In-Put'!D28*1=0,\"\",'In-Put'!D28*1),\"\")","v":"08:55:00"},{"$f":"IFERROR(IF('In-Put'!E28*1=0,\"\",IF('In-Put'!E28*1<G28,'In-Put'!E28*1+1,'In-Put'!E28*1)),\"\")","v":"18:13:00"},{"$f":"IF(OR($H28<'관리자 Setting'!$P$14,$G28>='관리자 Setting'!$Q$14),0,IF(AND($G28<'관리자 Setting'!$P$14,$H28<'관리자 Setting'!$Q$14),$H28-'관리자 Setting'!$P$14,IF(AND($G28<'관리자 Setting'!$P$14,$H28>='관리자 Setting'!$Q$14),'관리자 Setting'!$R$14,IF(AND($G28>='관리자 Setting'!$P$14,$H28>='관리자 Setting'!$Q$14),'관리자 Setting'!$Q$14-$G28,IF(AND($G28>='관리자 Setting'!$P$14,$H28<'관리자 Setting'!$Q$14),$H28-$G28,IF($G28>='관리자 Setting'!$Q$14,0,0))))))","v":"01:00:00"},{"$f":"IF(OR($H28<'관리자 Setting'!$P$15,$G28>='관리자 Setting'!$Q$15),0,IF(AND($G28<'관리자 Setting'!$P$15,$H28<'관리자 Setting'!$Q$15),$H28-'관리자 Setting'!$P$15,IF(AND($G28<'관리자 Setting'!$P$15,$H28>='관리자 Setting'!$Q$15),'관리자 Setting'!$R$15,IF(AND($G28>='관리자 Setting'!$P$15,$H28>='관리자 Setting'!$Q$15),'관리자 Setting'!$Q$15-$G28,IF(AND($G28>='관리자 Setting'!$P$15,$H28<'관리자 Setting'!$Q$15),$H28-$G28,IF($G28>='관리자 Setting'!$Q$15,0,0))))))","v":"00:00:00"},"08:18:00",{"$f":"IFERROR(VLOOKUP($F28,'관리자 Setting'!$P$18:$Q$33,2,0)/24,\"\")","v":""}]
["","",{"$f":"IFERROR(DATE(LEFT('In-Put'!$B29,4),MID('In-Put'!$B29,5,2),RIGHT('In-Put'!$B29,2)),\"\")","v":""},{"$f":"IF($C29=\"\",\"\",COUNTIFS($C$2:$C$401,C29)-COUNTIFS($C$2:C29,C29))","v":""},{"$f":"IF($C29=\"\",\"\",COUNTIFS('관리자 Setting'!$P$18:$P$33,'설정_In-Put'!$F29))","v":""},{"$f":"'In-Put'!G29","v":0},{"$f":"IFERROR(IF('In-Put'!D29*1=0,\"\",'In-Put'!D29*1),\"\")","v":""},{"$f":"IFERROR(IF('In-Put'!E29*1=0,\"\",IF('In-Put'!E29*1<G29,'In-Put'!E29*1+1,'In-Put'!E29*1)),\"\")","v":""},{"$f":"IF(OR($H29<'관리자 Setting'!$P$14,$G29>='관리자 Setting'!$Q$14),0,IF(AND($G29<'관리자 Setting'!$P$14,$H29<'관리자 Setting'!$Q$14),$H29-'관리자 Setting'!$P$14,IF(AND($G29<'관리자 Setting'!$P$14,$H29>='관리자 Setting'!$Q$14),'관리자 Setting'!$R$14,IF(AND($G29>='관리자 Setting'!$P$14,$H29>='관리자 Setting'!$Q$14),'관리자 Setting'!$Q$14-$G29,IF(AND($G29>='관리자 Setting'!$P$14,$H29<'관리자 Setting'!$Q$14),$H29-$G29,IF($G29>='관리자 Setting'!$Q$14,0,0))))))","v":"00:00:00"},{"$f":"IF(OR($H29<'관리자 Setting'!$P$15,$G29>='관리자 Setting'!$Q$15),0,IF(AND($G29<'관리자 Setting'!$P$15,$H29<'관리자 Setting'!$Q$15),$H29-'관리자 Setting'!$P$15,IF(AND($G29<'관리자 Setting'!$P$15,$H29>='관리자 Setting'!$Q$15),'관리자 Setting'!$R$15,IF(AND($G29>='관리자 Setting'!$P$15,$H29>='관리자 Setting'!$Q$15),'관리자 Setting'!$Q$15-$G29,IF(AND($G29>='관리자 Setting'!$P$15,$H29<'관리자 Setting'!$Q$15),$H29-$G29,IF($G29>='관리자 Setting'!$Q$15,0,0))))))","v":"00:00:00"},"",{"$f":"IFERROR(VLOOKUP($F29,'관리자 Setting'!$P$18:$Q$33,2,0)/24,\"\")","v":""}]
["","",{"$f":"IFERROR(DATE(LEFT('In-Put'!$B30,4),MID('In-Put'!$B30,5,2),RIGHT('In-Put'!$B30,2)),\"\")","v":""},{"$f":"IF($C30=\"\",\"\",COUNTIFS($C$2:$C$401,C30)-COUNTIFS($C$2:C30,C30))","v":""},{"$f":"IF($C30=\"\",\"\",COUNTIFS('관리자 Setting'!$P$18:$P$33,'설정_In-Put'!$F30))","v":""},{"$f":"'In-Put'!G30","v":0},{"$f":"IFERROR(IF('In-Put'!D30*1=0,\"\",'In-Put'!D30*1),\"\")","v":""},{"$f":"IFERROR(IF('In-Put'!E30*1=0,\"\",IF('In-Put'!E30*1<G30,'In-Put'!E30*1+1,'In-Put'!E30*1)),\"\")","v":""},{"$f":"IF(OR($H30<'관리자 Setting'!$P$14,$G30>='관리자 Setting'!$Q$14),0,IF(AND($G30<'관리자 Setting'!$P$14,$H30<'관리자 Setting'!$Q$14),$H30-'관리자 Setting'!$P$14,IF(AND($G30<'관리자 Setting'!$P$14,$H30>='관리자 Setting'!$Q$14),'관리자 Setting'!$R$14,IF(AND($G30>='관리자 Setting'!$P$14,$H30>='관리자 Setting'!$Q$14),'관리자 Setting'!$Q$14-$G30,IF(AND($G30>='관리자 Setting'!$P$14,$H30<'관리자 Setting'!$Q$14),$H30-$G30,IF($G30>='관리자 Setting'!$Q$14,0,0))))))","v":"00:00:00"},{"$f":"IF(OR($H30<'관리자 Setting'!$P$15,$G30>='관리자 Setting'!$Q$15),0,IF(AND($G30<'관리자 Setting'!$P$15,$H30<'관리자 Setting'!$Q$15),$H30-'관리자 Setting'!$P$15,IF(AND($G30<'관리자 Setting'!$P$15,$H30>='관리자 Setting'!$Q$15),'관리자 Setting'!$R$15,IF(AND($G30>='관리자 Setting'!$P$15,$H30>='관리자 Setting'!$Q$15),'관리자 Setting'!$Q$15-$G30,IF(AND($G30>='관리자 Setting'!$P$15,$H30<'관리자 Setting'!$Q$15),$H30-$G30,IF($G30>='관리자 Setting'!$Q$15,0,0))))))","v":"00:00:00"},"",{"$f":"IFERROR(VLOOKUP($F30,'관리자 Setting'!$P$18:$Q$33,2,0)/24,\"\")","v":""}]
["","",{"$f":"IFERROR(DATE(LEFT('In-Put'!$B31,4),MID('In-Put'!$B31,5,2),RIGHT('In-Put'!$B31,2)),\"\")","v":""},{"$f":"IF($C31=\"\",\"\",COUNTIFS($C$2:$C$401,C31)-COUNTIFS($C$2:C31,C31))","v":""},{"$f":"IF($C31=\"\",\"\",COUNTIFS('관리자 Setting'!$P$18:$P$33,'설정_In-Put'!$F31))","v":""},{"$f":"'In-Put'!G31","v":0},{"$f":"IFERROR(IF('In-Put'!D31*1=0,\"\",'In-Put'!D31*1),\"\")","v":""},{"$f":"IFERROR(IF('In-Put'!E31*1=0,\"\",IF('In-Put'!E31*1<G31,'In-Put'!E31*1+1,'In-Put'!E31*1)),\"\")","v":""},{"$f":"IF(OR($H31<'관리자 Setting'!$P$14,$G31>='관리자 Setting'!$Q$14),0,IF(AND($G31<'관리자 Setting'!$P$14,$H31<'관리자 Setting'!$Q$14),$H31-'관리자 Setting'!$P$14,IF(AND($G31<'관리자 Setting'!$P$14,$H31>='관리자 Setting'!$Q$14),'관리자 Setting'!$R$14,IF(AND($G31>='관리자 Setting'!$P$14,$H31>='관리자 Setting'!$Q$14),'관리자 Setting'!$Q$14-$G31,IF(AND($G31>='관리자 Setting'!$P$14,$H31<'관리자 Setting'!$Q$14),$H31-$G31,IF($G31>='관리자 Setting'!$Q$14,0,0))))))","v":"00:00:00"},{"$f":"IF(OR($H31<'관리자 Setting'!$P$15,$G31>='관리자 Setting'!$Q$15),0,IF(AND($G31<'관리자 Setting'!$P$15,$H31<'관리자 Setting'!$Q$15),$H31-'관리자 Setting'!$P$15,IF(AND($G31<'관리자 Setting'!$P$15,$H31>='관리자 Setting'!$Q$15),'관리자 Setting'!$R$15,IF(AND($G31>='관리자 Setting'!$P$15,$H31>='관리자 Setting'!$Q$15),'관리자 Setting'!$Q$15-$G31,IF(AND($G31>='관리자 Setting'!$P$15,$H31<'관리자 Setting'!$Q$15),$H31-$G31,IF($G31>='관리자 Setting'!$Q$15,0,0))))))","v":"00:00:00"},"",{"$f":"IFERROR(VLOOKUP($F31,'관리자 Setting'!$P$18:$Q$33,2,0)/24,\"\")","v":""}]
["","",{"$f":"IFERROR(DATE(LEFT('In-Put'!$B32,4),MID('In-Put'!$B32,5,2),RIGHT('In-Put'!$B32,2)),\"\")","v":""},{"$f":"IF($C32=\"\",\"\",COUNTIFS($C$2:$C$401,C32)-COUNTIFS($C$2:C32,C32))","v":""},{"$f":"IF($C32=\"\",\"\",COUNTIFS('관리자 Setting'!$P$18:$P$33,'설정_In-Put'!$F32))","v":""},{"$f":"'In-Put'!G32","v":0},{"$f":"IFERROR(IF('In-Put'!D32*1=0,\"\",'In-Put'!D32*1),\"\")","v":""},{"$f":"IFERROR(IF('In-Put'!E32*1=0,\"\",IF('In-Put'!E32*1<G32,'In-Put'!E32*1+1,'In-Put'!E32*1)),\"\")","v":""},{"$f":"IF(OR($H32<'관리자 Setting'!$P$14,$G32>='관리자 Setting'!$Q$14),0,IF(AND($G32<'관리자 Setting'!$P$14,$H32<'관리자 Setting'!$Q$14),$H32-'관리자 Setting'!$P$14,IF(AND($G32<'관리자 Setting'!$P$14,$H32>='관리자 Setting'!$Q$14),'관리자 Setting'!$R$14,IF(AND($G32>='관리자 Setting'!$P$14,$H32>='관리자 Setting'!$Q$14),'관리자 Setting'!$Q$14-$G32,IF(AND($G32>='관리자 Setting'!$P$14,$H32<'관리자 Setting'!$Q$14),$H32-$G32,IF($G32>='관리자 Setting'!$Q$14,0,0))))))","v":"00:00:00"},{"$f":"IF(OR($H32<'관리자 Setting'!$P$15,$G32>='관리자 Setting'!$Q$15),0,IF(AND($G32<'관리자 Setting'!$P$15,$H32<'관리자 Setting'!$Q$15),$H32-'관리자 Setting'!$P$15,IF(AND($G32<'관리자 Setting'!$P$15,$H32>='관리자 Setting'!$Q$15),'관리자 Setting'!$R$15,IF(AND($G32>='관리자 Setting'!$P$15,$H32>='관리자 Setting'!$Q$15),'관리자 Setting'!$Q$15-$G32,IF(AND($G32>='관리자 Setting'!$P$15,$H32<'관리자 Setting'!$Q$15),$H32-$G32,IF($G32>='관리자 Setting'!$Q$15,0,0))))))","v":"00:00:00"},"",{"$f":"IFERROR(VLOOKUP($F32,'관리자 Setting'!$P$18:$Q$33,2,0)/24,\"\")","v":""}]
["","",{"$f":"IFERROR(DATE(LEFT('In-Put'!$B33,4),MID('In-Put'!$B33,5,2),RIGHT('In-Put'!$B33,2)),\"\")","v":""},{"$f":"IF($C33=\"\",\"\",COUNTIFS($C$2:$C$401,C33)-COUNTIFS($C$2:C33,C33))","v":""},{"$f":"IF($C33=\"\",\"\",COUNTIFS('관리자 Setting'!$P$18:$P$33,'설정_In-Put'!$F33))","v":""},{"$f":"'In-Put'!G33","v":0},{"$f":"IFERROR(IF('In-Put'!D33*1=0,\"\",'In-Put'!D33*1),\"\")","v":""},{"$f":"IFERROR(IF('In-Put'!E33*1=0,\"\",IF('In-Put'!E33*1<G33,'In-Put'!E33*1+1,'In-Put'!E33*1)),\"\")","v":""},{"$f":"IF(OR($H33<'관리자 Setting'!$P$14,$G33>='관리자 Setting'!$Q$14),0,IF(AND($G33<'관리자 Setting'!$P$14,$H33<'관리자 Setting'!$Q$14),$H33-'관리자 Setting'!$P$14,IF(AND($G33<'관리자 Setting'!$P$14,$H33>='관리자 Setting'!$Q$14),'관리자 Setting'!$R$14,IF(AND($G33>='관리자 Setting'!$P$14,$H33>='관리자 Setting'!$Q$14),'관리자 Setting'!$Q$14-$G33,IF(AND($G33>='관리자 Setting'!$P$14,$H33<'관리자 Setting'!$Q$14),$H33-$G33,IF($G33>='관리자 Setting'!$Q$14,0,0))))))","v":"00:00:00"},{"$f":"IF(OR($H33<'관리자 Setting'!$P$15,$G33>='관리자 Setting'!$Q$15),0,IF(AND($G33<'관리자 Setting'!$P$15,$H33<'관리자 Setting'!$Q$15),$H33-'관리자 Setting'!$P$15,IF(AND($G33<'관리자 Setting'!$P$15,$H33>='관리자 Setting'!$Q$15),'관리자 Setting'!$R$15,IF(AND($G33>='관리자 Setting'!$P$15,$H33>='관리자 Setting'!$Q$15),'관리자 Setting'!$Q$15-$G33,IF(AND($G33>='관리자 Setting'!$P$15,$H33<'관리자 Setting'!$Q$15),$H33-$G33,IF($G33>='관리자 Setting'!$Q$15,0,0))))))","v":"00:00:00"},"",{"$f":"IFERROR(VLOOKUP($F33,'관리자 Setting'!$P$18:$Q$33,2,0)/24,\"\")","v":""}]
["","",{"$f":"IFERROR(DATE(LEFT('In-Put'!$B34,4),MID('In-Put'!$B34,5,2),RIGHT('In-Put'!$B34,2)),\"\")","v":""},{"$f":"IF($C34=\"\",\"\",COUNTIFS($C$2:$C$401,C34)-COUNTIFS($C$2:C34,C34))","v":""},{"$f":"IF($C34=\"\",\"\",COUNTIFS('관리자 Setting'!$P$18:$P$33,'설정_In-Put'!$F34))","v":""},{"$f":"'In-Put'!G34","v":0},{"$f":"IFERROR(IF('In-Put'!D34*1=0,\"\",'In-Put'!D34*1),\"\")","v":""},{"$f":"IFERROR(IF('In-Put'!E34*1=0,\"\",IF('In-Put'!E34*1<G34,'In-Put'!E34*1+1,'In-Put'!E34*1)),\"\")","v":""},{"$f":"IF(OR($H34<'관리자 Setting'!$P$14,$G34>='관리자 Setting'!$Q$14),0,IF(AND($G34<'관리자 Setting'!$P$14,$H34<'관리자 Setting'!$Q$14),$H34-'관리자 Setting'!$P$14,IF(AND($G34<'관리자 Setting'!$P$14,$H34>='관리자 Setting'!$Q$14),'관리자 Setting'!$R$14,IF(AND($G34>='관리자 Setting'!$P$14,$H34>='관리자 Setting'!$Q$14),'관리자 Setting'!$Q$14-$G34,IF(AND($G34>='관리자 Setting'!$P$14,$H34<'관리자 Setting'!$Q$14),$H34-$G34,IF($G34>='관리자 Setting'!$Q$14,0,0))))))","v":"00:00:00"},{"$f":"IF(OR($H34<'관리자 Setting'!$P$15,$G34>='관리자 Setting'!$Q$15),0,IF(AND($G34<'관리자 Setting'!$P$15,$H34<'관리자 Setting'!$Q$15),$H34-'관리자 Setting'!$P$15,IF(AND($G34<'관리자 Setting'!$P$15,$H34>='관리자 Setting'!$Q$15),'관리자 Setting'!$R$15,IF(AND($G34>='관리자 Setting'!$P$15,$H34>='관리자 Setting'!$Q$15),'관리자 Setting'!$Q$15-$G34,IF(AND($G34>='관리자 Setting'!$P$15,$H34<'관리자 Setting'!$Q$15),$H34-$G34,IF($G34>='관리자 Setting'!$Q$15,0,0))))))","v":"00:00:00"},"",{"$f":"IFERROR(VLOOKUP($F34,'관리자 Setting'!$P$18:$Q$33,2,0)/24,\"\")","v":""}]
["","",{"$f":"IFERROR(DATE(LEFT('In-Put'!$B35,4),MID('In-Put'!$B35,5,2),RIGHT('In-Put'!$B35,2)),\"\")","v":""},{"$f":"IF($C35=\"\",\"\",COUNTIFS($C$2:$C$401,C35)-COUNTIFS($C$2:C35,C35))","v":""},{"$f":"IF($C35=\"\",\"\",COUNTIFS('관리자 Setting'!$P$18:$P$33,'설정_In-Put'!$F35))","v":""},{"$f":"'In-Put'!G35","v":0},{"$f":"IFERROR(IF('In-Put'!D35*1=0,\"\",'In-Put'!D35*1),\"\")","v":""},{"$f":"IFERROR(IF('In-Put'!E35*1=0,\"\",IF('In-Put'!E35*1<G35,'In-Put'!E35*1+1,'In-Put'!E35*1)),\"\")","v":""},{"$f":"IF(OR($H35<'관리자 Setting'!$P$14,$G35>='관리자 Setting'!$Q$14),0,IF(AND($G35<'관리자 Setting'!$P$14,$H35<'관리자 Setting'!$Q$14),$H35-'관리자 Setting'!$P$14,IF(AND($G35<'관리자 Setting'!$P$14,$H35>='관리자 Setting'!$Q$14),'관리자 Setting'!$R$14,IF(AND($G35>='관리자 Setting'!$P$14,$H35>='관리자 Setting'!$Q$14),'관리자 Setting'!$Q$14-$G35,IF(AND($G35>='관리자 Setting'!$P$14,$H35<'관리자 Setting'!$Q$14),$H35-$G35,IF($G35>='관리자 Setting'!$Q$14,0,0))))))","v":"00:00:00"},{"$f":"IF(OR($H35<'관리자 Setting'!$P$15,$G35>='관리자 Setting'!$Q$15),0,IF(AND($G35<'관리자 Setting'!$P$15,$H35<'관리자 Setting'!$Q$15),$H35-'관리자 Setting'!$P$15,IF(AND($G35<'관리자 Setting'!$P$15,$H35>='관리자 Setting'!$Q$15),'관리자 Setting'!$R$15,IF(AND($G35>='관리자 Setting'!$P$15,$H35>='관리자 Setting'!$Q$15),'관리자 Setting'!$Q$15-$G35,IF(AND($G35>='관리자 Setting'!$P$15,$H35<'관리자 Setting'!$Q$15),$H35-$G35,IF($G35>='관리자 Setting'!$Q$15,0,0))))))","v":"00:00:00"},"",{"$f":"IFERROR(VLOOKUP($F35,'관리자 Setting'!$P$18:$Q$33,2,0)/24,\"\")","v":""}]
["","",{"$f":"IFERROR(DATE(LEFT('In-Put'!$B36,4),MID('In-Put'!$B36,5,2),RIGHT('In-Put'!$B36,2)),\"\")","v":""},{"$f":"IF($C36=\"\",\"\",COUNTIFS($C$2:$C$401,C36)-COUNTIFS($C$2:C36,C36))","v":""},{"$f":"IF($C36=\"\",\"\",COUNTIFS('관리자 Setting'!$P$18:$P$33,'설정_In-Put'!$F36))","v":""},{"$f":"'In-Put'!G36","v":0},{"$f":"IFERROR(IF('In-Put'!D36*1=0,\"\",'In-Put'!D36*1),\"\")","v":""},{"$f":"IFERROR(IF('In-Put'!E36*1=0,\"\",IF('In-Put'!E36*1<G36,'In-Put'!E36*1+1,'In-Put'!E36*1)),\"\")","v":""},{"$f":"IF(OR($H36<'관리자 Setting'!$P$14,$G36>='관리자 Setting'!$Q$14),0,IF(AND($G36<'관리자 Setting'!$P$14,$H36<'관리자 Setting'!$Q$14),$H36-'관리자 Setting'!$P$14,IF(AND($G36<'관리자 Setting'!$P$14,$H36>='관리자 Setting'!$Q$14),'관리자 Setting'!$R$14,IF(AND($G36>='관리자 Setting'!$P$14,$H36>='관리자 Setting'!$Q$14),'관리자 Setting'!$Q$14-$G36,IF(AND($G36>='관리자 Setting'!$P$14,$H36<'관리자 Setting'!$Q$14),$H36-$G36,IF($G36>='관리자 Setting'!$Q$14,0,0))))))","v":"00:00:00"},{"$f":"IF(OR($H36<'관리자 Setting'!$P$15,$G36>='관리자 Setting'!$Q$15),0,IF(AND($G36<'관리자 Setting'!$P$15,$H36<'관리자 Setting'!$Q$15),$H36-'관리자 Setting'!$P$15,IF(AND($G36<'관리자 Setting'!$P$15,$H36>='관리자 Setting'!$Q$15),'관리자 Setting'!$R$15,IF(AND($G36>='관리자 Setting'!$P$15,$H36>='관리자 Setting'!$Q$15),'관리자 Setting'!$Q$15-$G36,IF(AND($G36>='관리자 Setting'!$P$15,$H36<'관리자 Setting'!$Q$15),$H36-$G36,IF($G36>='관리자 Setting'!$Q$15,0,0))))))","v":"00:00:00"},"",{"$f":"IFERROR(VLOOKUP($F36,'관리자 Setting'!$P$18:$Q$33,2,0)/24,\"\")","v":""}]
["","",{"$f":"IFERROR(DATE(LEFT('In-Put'!$B37,4),MID('In-Put'!$B37,5,2),RIGHT('In-Put'!$B37,2)),\"\")","v":""},{"$f":"IF($C37=\"\",\"\",COUNTIFS($C$2:$C$401,C37)-COUNTIFS($C$2:C37,C37))","v":""},{"$f":"IF($C37=\"\",\"\",COUNTIFS('관리자 Setting'!$P$18:$P$33,'설정_In-Put'!$F37))","v":""},{"$f":"'In-Put'!G37","v":0},{"$f":"IFERROR(IF('In-Put'!D37*1=0,\"\",'In-Put'!D37*1),\"\")","v":""},{"$f":"IFERROR(IF('In-Put'!E37*1=0,\"\",IF('In-Put'!E37*1<G37,'In-Put'!E37*1+1,'In-Put'!E37*1)),\"\")","v":""},{"$f":"IF(OR($H37<'관리자 Setting'!$P$14,$G37>='관리자 Setting'!$Q$14),0,IF(AND($G37<'관리자 Setting'!$P$14,$H37<'관리자 Setting'!$Q$14),$H37-'관리자 Setting'!$P$14,IF(AND($G37<'관리자 Setting'!$P$14,$H37>='관리자 Setting'!$Q$14),'관리자 Setting'!$R$14,IF(AND($G37>='관리자 Setting'!$P$14,$H37>='관리자 Setting'!$Q$14),'관리자 Setting'!$Q$14-$G37,IF(AND($G37>='관리자 Setting'!$P$14,$H37<'관리자 Setting'!$Q$14),$H37-$G37,IF($G37>='관리자 Setting'!$Q$14,0,0))))))","v":"00:00:00"},{"$f":"IF(OR($H37<'관리자 Setting'!$P$15,$G37>='관리자 Setting'!$Q$15),0,IF(AND($G37<'관리자 Setting'!$P$15,$H37<'관리자 Setting'!$Q$15),$H37-'관리자 Setting'!$P$15,IF(AND($G37<'관리자 Setting'!$P$15,$H37>='관리자 Setting'!$Q$15),'관리자 Setting'!$R$15,IF(AND($G37>='관리자 Setting'!$P$15,$H37>='관리자 Setting'!$Q$15),'관리자 Setting'!$Q$15-$G37,IF(AND($G37>='관리자 Setting'!$P$15,$H37<'관리자 Setting'!$Q$15),$H37-$G37,IF($G37>='관리자 Setting'!$Q$15,0,0))))))","v":"00:00:00"},"",{"$f":"IFERROR(VLOOKUP($F37,'관리자 Setting'!$P$18:$Q$33,2,0)/24,\"\")","v":""}]
["","",{"$f":"IFERROR(DATE(LEFT('In-Put'!$B38,4),MID('In-Put'!$B38,5,2),RIGHT('In-Put'!$B38,2)),\"\")","v":""},{"$f":"IF($C38=\"\",\"\",COUNTIFS($C$2:$C$401,C38)-COUNTIFS($C$2:C38,C38))","v":""},{"$f":"IF($C38=\"\",\"\",COUNTIFS('관리자 Setting'!$P$18:$P$33,'설정_In-Put'!$F38))","v":""},{"$f":"'In-Put'!G38","v":0},{"$f":"IFERROR(IF('In-Put'!D38*1=0,\"\",'In-Put'!D38*1),\"\")","v":""},{"$f":"IFERROR(IF('In-Put'!E38*1=0,\"\",IF('In-Put'!E38*1<G38,'In-Put'!E38*1+1,'In-Put'!E38*1)),\"\")","v":""},{"$f":"IF(OR($H38<'관리자 Setting'!$P$14,$G38>='관리자 Setting'!$Q$14),0,IF(AND($G38<'관리자 Setting'!$P$14,$H38<'관리자 Setting'!$Q$14),$H38-'관리자 Setting'!$P$14,IF(AND($G38<'관리자 Setting'!$P$14,$H38>='관리자 Setting'!$Q$14),'관리자 Setting'!$R$14,IF(AND($G38>='관리자 Setting'!$P$14,$H38>='관리자 Setting'!$Q$14),'관리자 Setting'!$Q$14-$G38,IF(AND($G38>='관리자 Setting'!$P$14,$H38<'관리자 Setting'!$Q$14),$H38-$G38,IF($G38>='관리자 Setting'!$Q$14,0,0))))))","v":"00:00:00"},{"$f":"IF(OR($H38<'관리자 Setting'!$P$15,$G38>='관리자 Setting'!$Q$15),0,IF(AND($G38<'관리자 Setting'!$P$15,$H38<'관리자 Setting'!$Q$15),$H38-'관리자 Setting'!$P$15,IF(AND($G38<'관리자 Setting'!$P$15,$H38>='관리자 Setting'!$Q$15),'관리자 Setting'!$R$15,IF(AND($G38>='관리자 Setting'!$P$15,$H38>='관리자 Setting'!$Q$15),'관리자 Setting'!$Q$15-$G38,IF(AND($G38>='관리자 Setting'!$P$15,$H38<'관리자 Setting'!$Q$15),$H38-$G38,IF($G38>='관리자 Setting'!$Q$15,0,0))))))","v":"00:00:00"},"",{"$f":"IFERROR(VLOOKUP($F38,'관리자 Setting'!$P$18:$Q$33,2,0)/24,\"\")","v":""}]
["","",{"$f":"IFERROR(DATE(LEFT('In-Put'!$B39,4),MID('In-Put'!$B39,5,2),RIGHT('In-Put'!$B39,2)),\"\")","v":""},{"$f":"IF($C39=\"\",\"\",COUNTIFS($C$2:$C$401,C39)-COUNTIFS($C$2:C39,C39))","v":""},{"$f":"IF($C39=\"\",\"\",COUNTIFS('관리자 Setting'!$P$18:$P$33,'설정_In-Put'!$F39))","v":""},{"$f":"'In-Put'!G39","v":0},{"$f":"IFERROR(IF('In-Put'!D39*1=0,\"\",'In-Put'!D39*1),\"\")","v":""},{"$f":"IFERROR(IF('In-Put'!E39*1=0,\"\",IF('In-Put'!E39*1<G39,'In-Put'!E39*1+1,'In-Put'!E39*1)),\"\")","v":""},{"$f":"IF(OR($H39<'관리자 Setting'!$P$14,$G39>='관리자 Setting'!$Q$14),0,IF(AND($G39<'관리자 Setting'!$P$14,$H39<'관리자 Setting'!$Q$14),$H39-'관리자 Setting'!$P$14,IF(AND($G39<'관리자 Setting'!$P$14,$H39>='관리자 Setting'!$Q$14),'관리자 Setting'!$R$14,IF(AND($G39>='관리자 Setting'!$P$14,$H39>='관리자 Setting'!$Q$14),'관리자 Setting'!$Q$14-$G39,IF(AND($G39>='관리자 Setting'!$P$14,$H39<'관리자 Setting'!$Q$14),$H39-$G39,IF($G39>='관리자 Setting'!$Q$14,0,0))))))","v":"00:00:00"},{"$f":"IF(OR($H39<'관리자 Setting'!$P$15,$G39>='관리자 Setting'!$Q$15),0,IF(AND($G39<'관리자 Setting'!$P$15,$H39<'관리자 Setting'!$Q$15),$H39-'관리자 Setting'!$P$15,IF(AND($G39<'관리자 Setting'!$P$15,$H39>='관리자 Setting'!$Q$15),'관리자 Setting'!$R$15,IF(AND($G39>='관리자 Setting'!$P$15,$H39>='관리자 Setting'!$Q$15),'관리자 Setting'!$Q$15-$G39,IF(AND($G39>='관리자 Setting'!$P$15,$H39<'관리자 Setting'!$Q$15),$H39-$G39,IF($G39>='관리자 Setting'!$Q$15,0,0))))))","v":"00:00:00"},"",{"$f":"IFERROR(VLOOKUP($F39,'관리자 Setting'!$P$18:$Q$33,2,0)/24,\"\")","v":""}]
["","",{"$f":"IFERROR(DATE(LEFT('In-Put'!$B40,4),MID('In-Put'!$B40,5,2),RIGHT('In-Put'!$B40,2)),\"\")","v":""},{"$f":"IF($C40=\"\",\"\",COUNTIFS($C$2:$C$401,C40)-COUNTIFS($C$2:C40,C40))","v":""},{"$f":"IF($C40=\"\",\"\",COUNTIFS('관리자 Setting'!$P$18:$P$33,'설정_In-Put'!$F40))","v":""},{"$f":"'In-Put'!G40","v":0},{"$f":"IFERROR(IF('In-Put'!D40*1=0,\"\",'In-Put'!D40*1),\"\")","v":""},{"$f":"IFERROR(IF('In-Put'!E40*1=0,\"\",IF('In-Put'!E40*1<G40,'In-Put'!E40*1+1,'In-Put'!E40*1)),\"\")","v":""},{"$f":"IF(OR($H40<'관리자 Setting'!$P$14,$G40>='관리자 Setting'!$Q$14),0,IF(AND($G40<'관리자 Setting'!$P$14,$H40<'관리자 Setting'!$Q$14),$H40-'관리자 Setting'!$P$14,IF(AND($G40<'관리자 Setting'!$P$14,$H40>='관리자 Setting'!$Q$14),'관리자 Setting'!$R$14,IF(AND($G40>='관리자 Setting'!$P$14,$H40>='관리자 Setting'!$Q$14),'관리자 Setting'!$Q$14-$G40,IF(AND($G40>='관리자 Setting'!$P$14,$H40<'관리자 Setting'!$Q$14),$H40-$G40,IF($G40>='관리자 Setting'!$Q$14,0,0))))))","v":"00:00:00"},{"$f":"IF(OR($H40<'관리자 Setting'!$P$15,$G40>='관리자 Setting'!$Q$15),0,IF(AND($G40<'관리자 Setting'!$P$15,$H40<'관리자 Setting'!$Q$15),$H40-'관리자 Setting'!$P$15,IF(AND($G40<'관리자 Setting'!$P$15,$H40>='관리자 Setting'!$Q$15),'관리자 Setting'!$R$15,IF(AND($G40>='관리자 Setting'!$P$15,$H40>='관리자 Setting'!$Q$15),'관리자 Setting'!$Q$15-$G40,IF(AND($G40>='관리자 Setting'!$P$15,$H40<'관리자 Setting'!$Q$15),$H40-$G40,IF($G40>='관리자 Setting'!$Q$15,0,0))))))","v":"00:00:00"},"",{"$f":"IFERROR(VLOOKUP($F40,'관리자 Setting'!$P$18:$Q$33,2,0)/24,\"\")","v":""}]
["","",{"$f":"IFERROR(DATE(LEFT('In-Put'!$B41,4),MID('In-Put'!$B41,5,2),RIGHT('In-Put'!$B41,2)),\"\")","v":""},{"$f":"IF($C41=\"\",\"\",COUNTIFS($C$2:$C$401,C41)-COUNTIFS($C$2:C41,C41))","v":""},{"$f":"IF($C41=\"\",\"\",COUNTIFS('관리자 Setting'!$P$18:$P$33,'설정_In-Put'!$F41))","v":""},{"$f":"'In-Put'!G41","v":0},{"$f":"IFERROR(IF('In-Put'!D41*1=0,\"\",'In-Put'!D41*1),\"\")","v":""},{"$f":"IFERROR(IF('In-Put'!E41*1=0,\"\",IF('In-Put'!E41*1<G41,'In-Put'!E41*1+1,'In-Put'!E41*1)),\"\")","v":""},{"$f":"IF(OR($H41<'관리자 Setting'!$P$14,$G41>='관리자 Setting'!$Q$14),0,IF(AND($G41<'관리자 Setting'!$P$14,$H41<'관리자 Setting'!$Q$14),$H41-'관리자 Setting'!$P$14,IF(AND($G41<'관리자 Setting'!$P$14,$H41>='관리자 Setting'!$Q$14),'관리자 Setting'!$R$14,IF(AND($G41>='관리자 Setting'!$P$14,$H41>='관리자 Setting'!$Q$14),'관리자 Setting'!$Q$14-$G41,IF(AND($G41>='관리자 Setting'!$P$14,$H41<'관리자 Setting'!$Q$14),$H41-$G41,IF($G41>='관리자 Setting'!$Q$14,0,0))))))","v":"00:00:00"},{"$f":"IF(OR($H41<'관리자 Setting'!$P$15,$G41>='관리자 Setting'!$Q$15),0,IF(AND($G41<'관리자 Setting'!$P$15,$H41<'관리자 Setting'!$Q$15),$H41-'관리자 Setting'!$P$15,IF(AND($G41<'관리자 Setting'!$P$15,$H41>='관리자 Setting'!$Q$15),'관리자 Setting'!$R$15,IF(AND($G41>='관리자 Setting'!$P$15,$H41>='관리자 Setting'!$Q$15),'관리자 Setting'!$Q$15-$G41,IF(AND($G41>='관리자 Setting'!$P$15,$H41<'관리자 Setting'!$Q$15),$H41-$G41,IF($G41>='관리자 Setting'!$Q$15,0,0))))))","v":"00:00:00"},"",{"$f":"IFERROR(VLOOKUP($F41,'관리자 Setting'!$P$18:$Q$33,2,0)/24,\"\")","v":""}]
["","",{"$f":"IFERROR(DATE(LEFT('In-Put'!$B42,4),MID('In-Put'!$B42,5,2),RIGHT('In-Put'!$B42,2)),\"\")","v":""},{"$f":"IF($C42=\"\",\"\",COUNTIFS($C$2:$C$401,C42)-COUNTIFS($C$2:C42,C42))","v":""},{"$f":"IF($C42=\"\",\"\",COUNTIFS('관리자 Setting'!$P$18:$P$33,'설정_In-Put'!$F42))","v":""},{"$f":"'In-Put'!G42","v":0},{"$f":"IFERROR(IF('In-Put'!D42*1=0,\"\",'In-Put'!D42*1),\"\")","v":""},{"$f":"IFERROR(IF('In-Put'!E42*1=0,\"\",IF('In-Put'!E42*1<G42,'In-Put'!E42*1+1,'In-Put'!E42*1)),\"\")","v":""},{"$f":"IF(OR($H42<'관리자 Setting'!$P$14,$G42>='관리자 Setting'!$Q$14),0,IF(AND($G42<'관리자 Setting'!$P$14,$H42<'관리자 Setting'!$Q$14),$H42-'관리자 Setting'!$P$14,IF(AND($G42<'관리자 Setting'!$P$14,$H42>='관리자 Setting'!$Q$14),'관리자 Setting'!$R$14,IF(AND($G42>='관리자 Setting'!$P$14,$H42>='관리자 Setting'!$Q$14),'관리자 Setting'!$Q$14-$G42,IF(AND($G42>='관리자 Setting'!$P$14,$H42<'관리자 Setting'!$Q$14),$H42-$G42,IF($G42>='관리자 Setting'!$Q$14,0,0))))))","v":"00:00:00"},{"$f":"IF(OR($H42<'관리자 Setting'!$P$15,$G42>='관리자 Setting'!$Q$15),0,IF(AND($G42<'관리자 Setting'!$P$15,$H42<'관리자 Setting'!$Q$15),$H42-'관리자 Setting'!$P$15,IF(AND($G42<'관리자 Setting'!$P$15,$H42>='관리자 Setting'!$Q$15),'관리자 Setting'!$R$15,IF(AND($G42>='관리자 Setting'!$P$15,$H42>='관리자 Setting'!$Q$15),'관리자 Setting'!$Q$15-$G42,IF(AND($G42>='관리자 Setting'!$P$15,$H42<'관리자 Setting'!$Q$15),$H42-$G42,IF($G42>='관리자 Setting'!$Q$15,0,0))))))","v":"00:00:00"},"",{"$f":"IFERROR(VLOOKUP($F42,'관리자 Setting'!$P$18:$Q$33,2,0)/24,\"\")","v":""}]
["","",{"$f":"IFERROR(DATE(LEFT('In-Put'!$B43,4),MID('In-Put'!$B43,5,2),RIGHT('In-Put'!$B43,2)),\"\")","v":""},{"$f":"IF($C43=\"\",\"\",COUNTIFS($C$2:$C$401,C43)-COUNTIFS($C$2:C43,C43))","v":""},{"$f":"IF($C43=\"\",\"\",COUNTIFS('관리자 Setting'!$P$18:$P$33,'설정_In-Put'!$F43))","v":""},{"$f":"'In-Put'!G43","v":0},{"$f":"IFERROR(IF('In-Put'!D43*1=0,\"\",'In-Put'!D43*1),\"\")","v":""},{"$f":"IFERROR(IF('In-Put'!E43*1=0,\"\",IF('In-Put'!E43*1<G43,'In-Put'!E43*1+1,'In-Put'!E43*1)),\"\")","v":""},{"$f":"IF(OR($H43<'관리자 Setting'!$P$14,$G43>='관리자 Setting'!$Q$14),0,IF(AND($G43<'관리자 Setting'!$P$14,$H43<'관리자 Setting'!$Q$14),$H43-'관리자 Setting'!$P$14,IF(AND($G43<'관리자 Setting'!$P$14,$H43>='관리자 Setting'!$Q$14),'관리자 Setting'!$R$14,IF(AND($G43>='관리자 Setting'!$P$14,$H43>='관리자 Setting'!$Q$14),'관리자 Setting'!$Q$14-$G43,IF(AND($G43>='관리자 Setting'!$P$14,$H43<'관리자 Setting'!$Q$14),$H43-$G43,IF($G43>='관리자 Setting'!$Q$14,0,0))))))","v":"00:00:00"},{"$f":"IF(OR($H43<'관리자 Setting'!$P$15,$G43>='관리자 Setting'!$Q$15),0,IF(AND($G43<'관리자 Setting'!$P$15,$H43<'관리자 Setting'!$Q$15),$H43-'관리자 Setting'!$P$15,IF(AND($G43<'관리자 Setting'!$P$15,$H43>='관리자 Setting'!$Q$15),'관리자 Setting'!$R$15,IF(AND($G43>='관리자 Setting'!$P$15,$H43>='관리자 Setting'!$Q$15),'관리자 Setting'!$Q$15-$G43,IF(AND($G43>='관리자 Setting'!$P$15,$H43<'관리자 Setting'!$Q$15),$H43-$G43,IF($G43>='관리자 Setting'!$Q$15,0,0))))))","v":"00:00:00"},"",{"$f":"IFERROR(VLOOKUP($F43,'관리자 Setting'!$P$18:$Q$33,2,0)/24,\"\")","v":""}]
["","",{"$f":"IFERROR(DATE(LEFT('In-Put'!$B44,4),MID('In-Put'!$B44,5,2),RIGHT('In-Put'!$B44,2)),\"\")","v":""},{"$f":"IF($C44=\"\",\"\",COUNTIFS($C$2:$C$401,C44)-COUNTIFS($C$2:C44,C44))","v":""},{"$f":"IF($C44=\"\",\"\",COUNTIFS('관리자 Setting'!$P$18:$P$33,'설정_In-Put'!$F44))","v":""},{"$f":"'In-Put'!G44","v":0},{"$f":"IFERROR(IF('In-Put'!D44*1=0,\"\",'In-Put'!D44*1),\"\")","v":""},{"$f":"IFERROR(IF('In-Put'!E44*1=0,\"\",IF('In-Put'!E44*1<G44,'In-Put'!E44*1+1,'In-Put'!E44*1)),\"\")","v":""},{"$f":"IF(OR($H44<'관리자 Setting'!$P$14,$G44>='관리자 Setting'!$Q$14),0,IF(AND($G44<'관리자 Setting'!$P$14,$H44<'관리자 Setting'!$Q$14),$H44-'관리자 Setting'!$P$14,IF(AND($G44<'관리자 Setting'!$P$14,$H44>='관리자 Setting'!$Q$14),'관리자 Setting'!$R$14,IF(AND($G44>='관리자 Setting'!$P$14,$H44>='관리자 Setting'!$Q$14),'관리자 Setting'!$Q$14-$G44,IF(AND($G44>='관리자 Setting'!$P$14,$H44<'관리자 Setting'!$Q$14),$H44-$G44,IF($G44>='관리자 Setting'!$Q$14,0,0))))))","v":"00:00:00"},{"$f":"IF(OR($H44<'관리자 Setting'!$P$15,$G44>='관리자 Setting'!$Q$15),0,IF(AND($G44<'관리자 Setting'!$P$15,$H44<'관리자 Setting'!$Q$15),$H44-'관리자 Setting'!$P$15,IF(AND($G44<'관리자 Setting'!$P$15,$H44>='관리자 Setting'!$Q$15),'관리자 Setting'!$R$15,IF(AND($G44>='관리자 Setting'!$P$15,$H44>='관리자 Setting'!$Q$15),'관리자 Setting'!$Q$15-$G44,IF(AND($G44>='관리자 Setting'!$P$15,$H44<'관리자 Setting'!$Q$15),$H44-$G44,IF($G44>='관리자 Setting'!$Q$15,0,0))))))","v":"00:00:00"},"",{"$f":"IFERROR(VLOOKUP($F44,'관리자 Setting'!$P$18:$Q$33,2,0)/24,\"\")","v":""}]
["","",{"$f":"IFERROR(DATE(LEFT('In-Put'!$B45,4),MID('In-Put'!$B45,5,2),RIGHT('In-Put'!$B45,2)),\"\")","v":""},{"$f":"IF($C45=\"\",\"\",COUNTIFS($C$2:$C$401,C45)-COUNTIFS($C$2:C45,C45))","v":""},{"$f":"IF($C45=\"\",\"\",COUNTIFS('관리자 Setting'!$P$18:$P$33,'설정_In-Put'!$F45))","v":""},{"$f":"'In-Put'!G45","v":0},{"$f":"IFERROR(IF('In-Put'!D45*1=0,\"\",'In-Put'!D45*1),\"\")","v":""},{"$f":"IFERROR(IF('In-Put'!E45*1=0,\"\",IF('In-Put'!E45*1<G45,'In-Put'!E45*1+1,'In-Put'!E45*1)),\"\")","v":""},{"$f":"IF(OR($H45<'관리자 Setting'!$P$14,$G45>='관리자 Setting'!$Q$14),0,IF(AND($G45<'관리자 Setting'!$P$14,$H45<'관리자 Setting'!$Q$14),$H45-'관리자 Setting'!$P$14,IF(AND($G45<'관리자 Setting'!$P$14,$H45>='관리자 Setting'!$Q$14),'관리자 Setting'!$R$14,IF(AND($G45>='관리자 Setting'!$P$14,$H45>='관리자 Setting'!$Q$14),'관리자 Setting'!$Q$14-$G45,IF(AND($G45>='관리자 Setting'!$P$14,$H45<'관리자 Setting'!$Q$14),$H45-$G45,IF($G45>='관리자 Setting'!$Q$14,0,0))))))","v":"00:00:00"},{"$f":"IF(OR($H45<'관리자 Setting'!$P$15,$G45>='관리자 Setting'!$Q$15),0,IF(AND($G45<'관리자 Setting'!$P$15,$H45<'관리자 Setting'!$Q$15),$H45-'관리자 Setting'!$P$15,IF(AND($G45<'관리자 Setting'!$P$15,$H45>='관리자 Setting'!$Q$15),'관리자 Setting'!$R$15,IF(AND($G45>='관리자 Setting'!$P$15,$H45>='관리자 Setting'!$Q$15),'관리자 Setting'!$Q$15-$G45,IF(AND($G45>='관리자 Setting'!$P$15,$H45<'관리자 Setting'!$Q$15),$H45-$G45,IF($G45>='관리자 Setting'!$Q$15,0,0))))))","v":"00:00:00"},"",{"$f":"IFERROR(VLOOKUP($F45,'관리자 Setting'!$P$18:$Q$33,2,0)/24,\"\")","v":""}]
["","",{"$f":"IFERROR(DATE(LEFT('In-Put'!$B46,4),MID('In-Put'!$B46,5,2),RIGHT('In-Put'!$B46,2)),\"\")","v":""},{"$f":"IF($C46=\"\",\"\",COUNTIFS($C$2:$C$401,C46)-COUNTIFS($C$2:C46,C46))","v":""},{"$f":"IF($C46=\"\",\"\",COUNTIFS('관리자 Setting'!$P$18:$P$33,'설정_In-Put'!$F46))","v":""},{"$f":"'In-Put'!G46","v":0},{"$f":"IFERROR(IF('In-Put'!D46*1=0,\"\",'In-Put'!D46*1),\"\")","v":""},{"$f":"IFERROR(IF('In-Put'!E46*1=0,\"\",IF('In-Put'!E46*1<G46,'In-Put'!E46*1+1,'In-Put'!E46*1)),\"\")","v":""},{"$f":"IF(OR($H46<'관리자 Setting'!$P$14,$G46>='관리자 Setting'!$Q$14),0,IF(AND($G46<'관리자 Setting'!$P$14,$H46<'관리자 Setting'!$Q$14),$H46-'관리자 Setting'!$P$14,IF(AND($G46<'관리자 Setting'!$P$14,$H46>='관리자 Setting'!$Q$14),'관리자 Setting'!$R$14,IF(AND($G46>='관리자 Setting'!$P$14,$H46>='관리자 Setting'!$Q$14),'관리자 Setting'!$Q$14-$G46,IF(AND($G46>='관리자 Setting'!$P$14,$H46<'관리자 Setting'!$Q$14),$H46-$G46,IF($G46>='관리자 Setting'!$Q$14,0,0))))))","v":"00:00:00"},{"$f":"IF(OR($H46<'관리자 Setting'!$P$15,$G46>='관리자 Setting'!$Q$15),0,IF(AND($G46<'관리자 Setting'!$P$15,$H46<'관리자 Setting'!$Q$15),$H46-'관리자 Setting'!$P$15,IF(AND($G46<'관리자 Setting'!$P$15,$H46>='관리자 Setting'!$Q$15),'관리자 Setting'!$R$15,IF(AND($G46>='관리자 Setting'!$P$15,$H46>='관리자 Setting'!$Q$15),'관리자 Setting'!$Q$15-$G46,IF(AND($G46>='관리자 Setting'!$P$15,$H46<'관리자 Setting'!$Q$15),$H46-$G46,IF($G46>='관리자 Setting'!$Q$15,0,0))))))","v":"00:00:00"},"",{"$f":"IFERROR(VLOOKUP($F46,'관리자 Setting'!$P$18:$Q$33,2,0)/24,\"\")","v":""}]
["","",{"$f":"IFERROR(DATE(LEFT('In-Put'!$B47,4),MID('In-Put'!$B47,5,2),RIGHT('In-Put'!$B47,2)),\"\")","v":""},{"$f":"IF($C47=\"\",\"\",COUNTIFS($C$2:$C$401,C47)-COUNTIFS($C$2:C47,C47))","v":""},{"$f":"IF($C47=\"\",\"\",COUNTIFS('관리자 Setting'!$P$18:$P$33,'설정_In-Put'!$F47))","v":""},{"$f":"'In-Put'!G47","v":0},{"$f":"IFERROR(IF('In-Put'!D47*1=0,\"\",'In-Put'!D47*1),\"\")","v":""},{"$f":"IFERROR(IF('In-Put'!E47*1=0,\"\",IF('In-Put'!E47*1<G47,'In-Put'!E47*1+1,'In-Put'!E47*1)),\"\")","v":""},{"$f":"IF(OR($H47<'관리자 Setting'!$P$14,$G47>='관리자 Setting'!$Q$14),0,IF(AND($G47<'관리자 Setting'!$P$14,$H47<'관리자 Setting'!$Q$14),$H47-'관리자 Setting'!$P$14,IF(AND($G47<'관리자 Setting'!$P$14,$H47>='관리자 Setting'!$Q$14),'관리자 Setting'!$R$14,IF(AND($G47>='관리자 Setting'!$P$14,$H47>='관리자 Setting'!$Q$14),'관리자 Setting'!$Q$14-$G47,IF(AND($G47>='관리자 Setting'!$P$14,$H47<'관리자 Setting'!$Q$14),$H47-$G47,IF($G47>='관리자 Setting'!$Q$14,0,0))))))","v":"00:00:00"},{"$f":"IF(OR($H47<'관리자 Setting'!$P$15,$G47>='관리자 Setting'!$Q$15),0,IF(AND($G47<'관리자 Setting'!$P$15,$H47<'관리자 Setting'!$Q$15),$H47-'관리자 Setting'!$P$15,IF(AND($G47<'관리자 Setting'!$P$15,$H47>='관리자 Setting'!$Q$15),'관리자 Setting'!$R$15,IF(AND($G47>='관리자 Setting'!$P$15,$H47>='관리자 Setting'!$Q$15),'관리자 Setting'!$Q$15-$G47,IF(AND($G47>='관리자 Setting'!$P$15,$H47<'관리자 Setting'!$Q$15),$H47-$G47,IF($G47>='관리자 Setting'!$Q$15,0,0))))))","v":"00:00:00"},"",{"$f":"IFERROR(VLOOKUP($F47,'관리자 Setting'!$P$18:$Q$33,2,0)/24,\"\")","v":""}]
["","",{"$f":"IFERROR(DATE(LEFT('In-Put'!$B48,4),MID('In-Put'!$B48,5,2),RIGHT('In-Put'!$B48,2)),\"\")","v":""},{"$f":"IF($C48=\"\",\"\",COUNTIFS($C$2:$C$401,C48)-COUNTIFS($C$2:C48,C48))","v":""},{"$f":"IF($C48=\"\",\"\",COUNTIFS('관리자 Setting'!$P$18:$P$33,'설정_In-Put'!$F48))","v":""},{"$f":"'In-Put'!G48","v":0},{"$f":"IFERROR(IF('In-Put'!D48*1=0,\"\",'In-Put'!D48*1),\"\")","v":""},{"$f":"IFERROR(IF('In-Put'!E48*1=0,\"\",IF('In-Put'!E48*1<G48,'In-Put'!E48*1+1,'In-Put'!E48*1)),\"\")","v":""},{"$f":"IF(OR($H48<'관리자 Setting'!$P$14,$G48>='관리자 Setting'!$Q$14),0,IF(AND($G48<'관리자 Setting'!$P$14,$H48<'관리자 Setting'!$Q$14),$H48-'관리자 Setting'!$P$14,IF(AND($G48<'관리자 Setting'!$P$14,$H48>='관리자 Setting'!$Q$14),'관리자 Setting'!$R$14,IF(AND($G48>='관리자 Setting'!$P$14,$H48>='관리자 Setting'!$Q$14),'관리자 Setting'!$Q$14-$G48,IF(AND($G48>='관리자 Setting'!$P$14,$H48<'관리자 Setting'!$Q$14),$H48-$G48,IF($G48>='관리자 Setting'!$Q$14,0,0))))))","v":"00:00:00"},{"$f":"IF(OR($H48<'관리자 Setting'!$P$15,$G48>='관리자 Setting'!$Q$15),0,IF(AND($G48<'관리자 Setting'!$P$15,$H48<'관리자 Setting'!$Q$15),$H48-'관리자 Setting'!$P$15,IF(AND($G48<'관리자 Setting'!$P$15,$H48>='관리자 Setting'!$Q$15),'관리자 Setting'!$R$15,IF(AND($G48>='관리자 Setting'!$P$15,$H48>='관리자 Setting'!$Q$15),'관리자 Setting'!$Q$15-$G48,IF(AND($G48>='관리자 Setting'!$P$15,$H48<'관리자 Setting'!$Q$15),$H48-$G48,IF($G48>='관리자 Setting'!$Q$15,0,0))))))","v":"00:00:00"},"",{"$f":"IFERROR(VLOOKUP($F48,'관리자 Setting'!$P$18:$Q$33,2,0)/24,\"\")","v":""}]
["","",{"$f":"IFERROR(DATE(LEFT('In-Put'!$B49,4),MID('In-Put'!$B49,5,2),RIGHT('In-Put'!$B49,2)),\"\")","v":""},{"$f":"IF($C49=\"\",\"\",COUNTIFS($C$2:$C$401,C49)-COUNTIFS($C$2:C49,C49))","v":""},{"$f":"IF($C49=\"\",\"\",COUNTIFS('관리자 Setting'!$P$18:$P$33,'설정_In-Put'!$F49))","v":""},{"$f":"'In-Put'!G49","v":0},{"$f":"IFERROR(IF('In-Put'!D49*1=0,\"\",'In-Put'!D49*1),\"\")","v":""},{"$f":"IFERROR(IF('In-Put'!E49*1=0,\"\",IF('In-Put'!E49*1<G49,'In-Put'!E49*1+1,'In-Put'!E49*1)),\"\")","v":""},{"$f":"IF(OR($H49<'관리자 Setting'!$P$14,$G49>='관리자 Setting'!$Q$14),0,IF(AND($G49<'관리자 Setting'!$P$14,$H49<'관리자 Setting'!$Q$14),$H49-'관리자 Setting'!$P$14,IF(AND($G49<'관리자 Setting'!$P$14,$H49>='관리자 Setting'!$Q$14),'관리자 Setting'!$R$14,IF(AND($G49>='관리자 Setting'!$P$14,$H49>='관리자 Setting'!$Q$14),'관리자 Setting'!$Q$14-$G49,IF(AND($G49>='관리자 Setting'!$P$14,$H49<'관리자 Setting'!$Q$14),$H49-$G49,IF($G49>='관리자 Setting'!$Q$14,0,0))))))","v":"00:00:00"},{"$f":"IF(OR($H49<'관리자 Setting'!$P$15,$G49>='관리자 Setting'!$Q$15),0,IF(AND($G49<'관리자 Setting'!$P$15,$H49<'관리자 Setting'!$Q$15),$H49-'관리자 Setting'!$P$15,IF(AND($G49<'관리자 Setting'!$P$15,$H49>='관리자 Setting'!$Q$15),'관리자 Setting'!$R$15,IF(AND($G49>='관리자 Setting'!$P$15,$H49>='관리자 Setting'!$Q$15),'관리자 Setting'!$Q$15-$G49,IF(AND($G49>='관리자 Setting'!$P$15,$H49<'관리자 Setting'!$Q$15),$H49-$G49,IF($G49>='관리자 Setting'!$Q$15,0,0))))))","v":"00:00:00"},"",{"$f":"IFERROR(VLOOKUP($F49,'관리자 Setting'!$P$18:$Q$33,2,0)/24,\"\")","v":""}]
["","",{"$f":"IFERROR(DATE(LEFT('In-Put'!$B50,4),MID('In-Put'!$B50,5,2),RIGHT('In-Put'!$B50,2)),\"\")","v":""},{"$f":"IF($C50=\"\",\"\",COUNTIFS($C$2:$C$401,C50)-COUNTIFS($C$2:C50,C50))","v":""},{"$f":"IF($C50=\"\",\"\",COUNTIFS('관리자 Setting'!$P$18:$P$33,'설정_In-Put'!$F50))","v":""},{"$f":"'In-Put'!G50","v":0},{"$f":"IFERROR(IF('In-Put'!D50*1=0,\"\",'In-Put'!D50*1),\"\")","v":""},{"$f":"IFERROR(IF('In-Put'!E50*1=0,\"\",IF('In-Put'!E50*1<G50,'In-Put'!E50*1+1,'In-Put'!E50*1)),\"\")","v":""},{"$f":"IF(OR($H50<'관리자 Setting'!$P$14,$G50>='관리자 Setting'!$Q$14),0,IF(AND($G50<'관리자 Setting'!$P$14,$H50<'관리자 Setting'!$Q$14),$H50-'관리자 Setting'!$P$14,IF(AND($G50<'관리자 Setting'!$P$14,$H50>='관리자 Setting'!$Q$14),'관리자 Setting'!$R$14,IF(AND($G50>='관리자 Setting'!$P$14,$H50>='관리자 Setting'!$Q$14),'관리자 Setting'!$Q$14-$G50,IF(AND($G50>='관리자 Setting'!$P$14,$H50<'관리자 Setting'!$Q$14),$H50-$G50,IF($G50>='관리자 Setting'!$Q$14,0,0))))))","v":"00:00:00"},{"$f":"IF(OR($H50<'관리자 Setting'!$P$15,$G50>='관리자 Setting'!$Q$15),0,IF(AND($G50<'관리자 Setting'!$P$15,$H50<'관리자 Setting'!$Q$15),$H50-'관리자 Setting'!$P$15,IF(AND($G50<'관리자 Setting'!$P$15,$H50>='관리자 Setting'!$Q$15),'관리자 Setting'!$R$15,IF(AND($G50>='관리자 Setting'!$P$15,$H50>='관리자 Setting'!$Q$15),'관리자 Setting'!$Q$15-$G50,IF(AND($G50>='관리자 Setting'!$P$15,$H50<'관리자 Setting'!$Q$15),$H50-$G50,IF($G50>='관리자 Setting'!$Q$15,0,0))))))","v":"00:00:00"},"",{"$f":"IFERROR(VLOOKUP($F50,'관리자 Setting'!$P$18:$Q$33,2,0)/24,\"\")","v":""}]
["","",{"$f":"IFERROR(DATE(LEFT('In-Put'!$B51,4),MID('In-Put'!$B51,5,2),RIGHT('In-Put'!$B51,2)),\"\")","v":""},{"$f":"IF($C51=\"\",\"\",COUNTIFS($C$2:$C$401,C51)-COUNTIFS($C$2:C51,C51))","v":""},{"$f":"IF($C51=\"\",\"\",COUNTIFS('관리자 Setting'!$P$18:$P$33,'설정_In-Put'!$F51))","v":""},{"$f":"'In-Put'!G51","v":0},{"$f":"IFERROR(IF('In-Put'!D51*1=0,\"\",'In-Put'!D51*1),\"\")","v":""},{"$f":"IFERROR(IF('In-Put'!E51*1=0,\"\",IF('In-Put'!E51*1<G51,'In-Put'!E51*1+1,'In-Put'!E51*1)),\"\")","v":""},{"$f":"IF(OR($H51<'관리자 Setting'!$P$14,$G51>='관리자 Setting'!$Q$14),0,IF(AND($G51<'관리자 Setting'!$P$14,$H51<'관리자 Setting'!$Q$14),$H51-'관리자 Setting'!$P$14,IF(AND($G51<'관리자 Setting'!$P$14,$H51>='관리자 Setting'!$Q$14),'관리자 Setting'!$R$14,IF(AND($G51>='관리자 Setting'!$P$14,$H51>='관리자 Setting'!$Q$14),'관리자 Setting'!$Q$14-$G51,IF(AND($G51>='관리자 Setting'!$P$14,$H51<'관리자 Setting'!$Q$14),$H51-$G51,IF($G51>='관리자 Setting'!$Q$14,0,0))))))","v":"00:00:00"},{"$f":"IF(OR($H51<'관리자 Setting'!$P$15,$G51>='관리자 Setting'!$Q$15),0,IF(AND($G51<'관리자 Setting'!$P$15,$H51<'관리자 Setting'!$Q$15),$H51-'관리자 Setting'!$P$15,IF(AND($G51<'관리자 Setting'!$P$15,$H51>='관리자 Setting'!$Q$15),'관리자 Setting'!$R$15,IF(AND($G51>='관리자 Setting'!$P$15,$H51>='관리자 Setting'!$Q$15),'관리자 Setting'!$Q$15-$G51,IF(AND($G51>='관리자 Setting'!$P$15,$H51<'관리자 Setting'!$Q$15),$H51-$G51,IF($G51>='관리자 Setting'!$Q$15,0,0))))))","v":"00:00:00"},"",{"$f":"IFERROR(VLOOKUP($F51,'관리자 Setting'!$P$18:$Q$33,2,0)/24,\"\")","v":""}]
["","",{"$f":"IFERROR(DATE(LEFT('In-Put'!$B52,4),MID('In-Put'!$B52,5,2),RIGHT('In-Put'!$B52,2)),\"\")","v":""},{"$f":"IF($C52=\"\",\"\",COUNTIFS($C$2:$C$401,C52)-COUNTIFS($C$2:C52,C52))","v":""},{"$f":"IF($C52=\"\",\"\",COUNTIFS('관리자 Setting'!$P$18:$P$33,'설정_In-Put'!$F52))","v":""},{"$f":"'In-Put'!G52","v":0},{"$f":"IFERROR(IF('In-Put'!D52*1=0,\"\",'In-Put'!D52*1),\"\")","v":""},{"$f":"IFERROR(IF('In-Put'!E52*1=0,\"\",IF('In-Put'!E52*1<G52,'In-Put'!E52*1+1,'In-Put'!E52*1)),\"\")","v":""},{"$f":"IF(OR($H52<'관리자 Setting'!$P$14,$G52>='관리자 Setting'!$Q$14),0,IF(AND($G52<'관리자 Setting'!$P$14,$H52<'관리자 Setting'!$Q$14),$H52-'관리자 Setting'!$P$14,IF(AND($G52<'관리자 Setting'!$P$14,$H52>='관리자 Setting'!$Q$14),'관리자 Setting'!$R$14,IF(AND($G52>='관리자 Setting'!$P$14,$H52>='관리자 Setting'!$Q$14),'관리자 Setting'!$Q$14-$G52,IF(AND($G52>='관리자 Setting'!$P$14,$H52<'관리자 Setting'!$Q$14),$H52-$G52,IF($G52>='관리자 Setting'!$Q$14,0,0))))))","v":"00:00:00"},{"$f":"IF(OR($H52<'관리자 Setting'!$P$15,$G52>='관리자 Setting'!$Q$15),0,IF(AND($G52<'관리자 Setting'!$P$15,$H52<'관리자 Setting'!$Q$15),$H52-'관리자 Setting'!$P$15,IF(AND($G52<'관리자 Setting'!$P$15,$H52>='관리자 Setting'!$Q$15),'관리자 Setting'!$R$15,IF(AND($G52>='관리자 Setting'!$P$15,$H52>='관리자 Setting'!$Q$15),'관리자 Setting'!$Q$15-$G52,IF(AND($G52>='관리자 Setting'!$P$15,$H52<'관리자 Setting'!$Q$15),$H52-$G52,IF($G52>='관리자 Setting'!$Q$15,0,0))))))","v":"00:00:00"},"",{"$f":"IFERROR(VLOOKUP($F52,'관리자 Setting'!$P$18:$Q$33,2,0)/24,\"\")","v":""}]
["","",{"$f":"IFERROR(DATE(LEFT('In-Put'!$B53,4),MID('In-Put'!$B53,5,2),RIGHT('In-Put'!$B53,2)),\"\")","v":""},{"$f":"IF($C53=\"\",\"\",COUNTIFS($C$2:$C$401,C53)-COUNTIFS($C$2:C53,C53))","v":""},{"$f":"IF($C53=\"\",\"\",COUNTIFS('관리자 Setting'!$P$18:$P$33,'설정_In-Put'!$F53))","v":""},{"$f":"'In-Put'!G53","v":0},{"$f":"IFERROR(IF('In-Put'!D53*1=0,\"\",'In-Put'!D53*1),\"\")","v":""},{"$f":"IFERROR(IF('In-Put'!E53*1=0,\"\",IF('In-Put'!E53*1<G53,'In-Put'!E53*1+1,'In-Put'!E53*1)),\"\")","v":""},{"$f":"IF(OR($H53<'관리자 Setting'!$P$14,$G53>='관리자 Setting'!$Q$14),0,IF(AND($G53<'관리자 Setting'!$P$14,$H53<'관리자 Setting'!$Q$14),$H53-'관리자 Setting'!$P$14,IF(AND($G53<'관리자 Setting'!$P$14,$H53>='관리자 Setting'!$Q$14),'관리자 Setting'!$R$14,IF(AND($G53>='관리자 Setting'!$P$14,$H53>='관리자 Setting'!$Q$14),'관리자 Setting'!$Q$14-$G53,IF(AND($G53>='관리자 Setting'!$P$14,$H53<'관리자 Setting'!$Q$14),$H53-$G53,IF($G53>='관리자 Setting'!$Q$14,0,0))))))","v":"00:00:00"},{"$f":"IF(OR($H53<'관리자 Setting'!$P$15,$G53>='관리자 Setting'!$Q$15),0,IF(AND($G53<'관리자 Setting'!$P$15,$H53<'관리자 Setting'!$Q$15),$H53-'관리자 Setting'!$P$15,IF(AND($G53<'관리자 Setting'!$P$15,$H53>='관리자 Setting'!$Q$15),'관리자 Setting'!$R$15,IF(AND($G53>='관리자 Setting'!$P$15,$H53>='관리자 Setting'!$Q$15),'관리자 Setting'!$Q$15-$G53,IF(AND($G53>='관리자 Setting'!$P$15,$H53<'관리자 Setting'!$Q$15),$H53-$G53,IF($G53>='관리자 Setting'!$Q$15,0,0))))))","v":"00:00:00"},"",{"$f":"IFERROR(VLOOKUP($F53,'관리자 Setting'!$P$18:$Q$33,2,0)/24,\"\")","v":""}]
["","",{"$f":"IFERROR(DATE(LEFT('In-Put'!$B54,4),MID('In-Put'!$B54,5,2),RIGHT('In-Put'!$B54,2)),\"\")","v":""},{"$f":"IF($C54=\"\",\"\",COUNTIFS($C$2:$C$401,C54)-COUNTIFS($C$2:C54,C54))","v":""},{"$f":"IF($C54=\"\",\"\",COUNTIFS('관리자 Setting'!$P$18:$P$33,'설정_In-Put'!$F54))","v":""},{"$f":"'In-Put'!G54","v":0},{"$f":"IFERROR(IF('In-Put'!D54*1=0,\"\",'In-Put'!D54*1),\"\")","v":""},{"$f":"IFERROR(IF('In-Put'!E54*1=0,\"\",IF('In-Put'!E54*1<G54,'In-Put'!E54*1+1,'In-Put'!E54*1)),\"\")","v":""},{"$f":"IF(OR($H54<'관리자 Setting'!$P$14,$G54>='관리자 Setting'!$Q$14),0,IF(AND($G54<'관리자 Setting'!$P$14,$H54<'관리자 Setting'!$Q$14),$H54-'관리자 Setting'!$P$14,IF(AND($G54<'관리자 Setting'!$P$14,$H54>='관리자 Setting'!$Q$14),'관리자 Setting'!$R$14,IF(AND($G54>='관리자 Setting'!$P$14,$H54>='관리자 Setting'!$Q$14),'관리자 Setting'!$Q$14-$G54,IF(AND($G54>='관리자 Setting'!$P$14,$H54<'관리자 Setting'!$Q$14),$H54-$G54,IF($G54>='관리자 Setting'!$Q$14,0,0))))))","v":"00:00:00"},{"$f":"IF(OR($H54<'관리자 Setting'!$P$15,$G54>='관리자 Setting'!$Q$15),0,IF(AND($G54<'관리자 Setting'!$P$15,$H54<'관리자 Setting'!$Q$15),$H54-'관리자 Setting'!$P$15,IF(AND($G54<'관리자 Setting'!$P$15,$H54>='관리자 Setting'!$Q$15),'관리자 Setting'!$R$15,IF(AND($G54>='관리자 Setting'!$P$15,$H54>='관리자 Setting'!$Q$15),'관리자 Setting'!$Q$15-$G54,IF(AND($G54>='관리자 Setting'!$P$15,$H54<'관리자 Setting'!$Q$15),$H54-$G54,IF($G54>='관리자 Setting'!$Q$15,0,0))))))","v":"00:00:00"},"",{"$f":"IFERROR(VLOOKUP($F54,'관리자 Setting'!$P$18:$Q$33,2,0)/24,\"\")","v":""}]
["","",{"$f":"IFERROR(DATE(LEFT('In-Put'!$B55,4),MID('In-Put'!$B55,5,2),RIGHT('In-Put'!$B55,2)),\"\")","v":""},{"$f":"IF($C55=\"\",\"\",COUNTIFS($C$2:$C$401,C55)-COUNTIFS($C$2:C55,C55))","v":""},{"$f":"IF($C55=\"\",\"\",COUNTIFS('관리자 Setting'!$P$18:$P$33,'설정_In-Put'!$F55))","v":""},{"$f":"'In-Put'!G55","v":0},{"$f":"IFERROR(IF('In-Put'!D55*1=0,\"\",'In-Put'!D55*1),\"\")","v":""},{"$f":"IFERROR(IF('In-Put'!E55*1=0,\"\",IF('In-Put'!E55*1<G55,'In-Put'!E55*1+1,'In-Put'!E55*1)),\"\")","v":""},{"$f":"IF(OR($H55<'관리자 Setting'!$P$14,$G55>='관리자 Setting'!$Q$14),0,IF(AND($G55<'관리자 Setting'!$P$14,$H55<'관리자 Setting'!$Q$14),$H55-'관리자 Setting'!$P$14,IF(AND($G55<'관리자 Setting'!$P$14,$H55>='관리자 Setting'!$Q$14),'관리자 Setting'!$R$14,IF(AND($G55>='관리자 Setting'!$P$14,$H55>='관리자 Setting'!$Q$14),'관리자 Setting'!$Q$14-$G55,IF(AND($G55>='관리자 Setting'!$P$14,$H55<'관리자 Setting'!$Q$14),$H55-$G55,IF($G55>='관리자 Setting'!$Q$14,0,0))))))","v":"00:00:00"},{"$f":"IF(OR($H55<'관리자 Setting'!$P$15,$G55>='관리자 Setting'!$Q$15),0,IF(AND($G55<'관리자 Setting'!$P$15,$H55<'관리자 Setting'!$Q$15),$H55-'관리자 Setting'!$P$15,IF(AND($G55<'관리자 Setting'!$P$15,$H55>='관리자 Setting'!$Q$15),'관리자 Setting'!$R$15,IF(AND($G55>='관리자 Setting'!$P$15,$H55>='관리자 Setting'!$Q$15),'관리자 Setting'!$Q$15-$G55,IF(AND($G55>='관리자 Setting'!$P$15,$H55<'관리자 Setting'!$Q$15),$H55-$G55,IF($G55>='관리자 Setting'!$Q$15,0,0))))))","v":"00:00:00"},"",{"$f":"IFERROR(VLOOKUP($F55,'관리자 Setting'!$P$18:$Q$33,2,0)/24,\"\")","v":""}]
["","",{"$f":"IFERROR(DATE(LEFT('In-Put'!$B56,4),MID('In-Put'!$B56,5,2),RIGHT('In-Put'!$B56,2)),\"\")","v":""},{"$f":"IF($C56=\"\",\"\",COUNTIFS($C$2:$C$401,C56)-COUNTIFS($C$2:C56,C56))","v":""},{"$f":"IF($C56=\"\",\"\",COUNTIFS('관리자 Setting'!$P$18:$P$33,'설정_In-Put'!$F56))","v":""},{"$f":"'In-Put'!G56","v":0},{"$f":"IFERROR(IF('In-Put'!D56*1=0,\"\",'In-Put'!D56*1),\"\")","v":""},{"$f":"IFERROR(IF('In-Put'!E56*1=0,\"\",IF('In-Put'!E56*1<G56,'In-Put'!E56*1+1,'In-Put'!E56*1)),\"\")","v":""},{"$f":"IF(OR($H56<'관리자 Setting'!$P$14,$G56>='관리자 Setting'!$Q$14),0,IF(AND($G56<'관리자 Setting'!$P$14,$H56<'관리자 Setting'!$Q$14),$H56-'관리자 Setting'!$P$14,IF(AND($G56<'관리자 Setting'!$P$14,$H56>='관리자 Setting'!$Q$14),'관리자 Setting'!$R$14,IF(AND($G56>='관리자 Setting'!$P$14,$H56>='관리자 Setting'!$Q$14),'관리자 Setting'!$Q$14-$G56,IF(AND($G56>='관리자 Setting'!$P$14,$H56<'관리자 Setting'!$Q$14),$H56-$G56,IF($G56>='관리자 Setting'!$Q$14,0,0))))))","v":"00:00:00"},{"$f":"IF(OR($H56<'관리자 Setting'!$P$15,$G56>='관리자 Setting'!$Q$15),0,IF(AND($G56<'관리자 Setting'!$P$15,$H56<'관리자 Setting'!$Q$15),$H56-'관리자 Setting'!$P$15,IF(AND($G56<'관리자 Setting'!$P$15,$H56>='관리자 Setting'!$Q$15),'관리자 Setting'!$R$15,IF(AND($G56>='관리자 Setting'!$P$15,$H56>='관리자 Setting'!$Q$15),'관리자 Setting'!$Q$15-$G56,IF(AND($G56>='관리자 Setting'!$P$15,$H56<'관리자 Setting'!$Q$15),$H56-$G56,IF($G56>='관리자 Setting'!$Q$15,0,0))))))","v":"00:00:00"},"",{"$f":"IFERROR(VLOOKUP($F56,'관리자 Setting'!$P$18:$Q$33,2,0)/24,\"\")","v":""}]
["","",{"$f":"IFERROR(DATE(LEFT('In-Put'!$B57,4),MID('In-Put'!$B57,5,2),RIGHT('In-Put'!$B57,2)),\"\")","v":""},{"$f":"IF($C57=\"\",\"\",COUNTIFS($C$2:$C$401,C57)-COUNTIFS($C$2:C57,C57))","v":""},{"$f":"IF($C57=\"\",\"\",COUNTIFS('관리자 Setting'!$P$18:$P$33,'설정_In-Put'!$F57))","v":""},{"$f":"'In-Put'!G57","v":0},{"$f":"IFERROR(IF('In-Put'!D57*1=0,\"\",'In-Put'!D57*1),\"\")","v":""},{"$f":"IFERROR(IF('In-Put'!E57*1=0,\"\",IF('In-Put'!E57*1<G57,'In-Put'!E57*1+1,'In-Put'!E57*1)),\"\")","v":""},{"$f":"IF(OR($H57<'관리자 Setting'!$P$14,$G57>='관리자 Setting'!$Q$14),0,IF(AND($G57<'관리자 Setting'!$P$14,$H57<'관리자 Setting'!$Q$14),$H57-'관리자 Setting'!$P$14,IF(AND($G57<'관리자 Setting'!$P$14,$H57>='관리자 Setting'!$Q$14),'관리자 Setting'!$R$14,IF(AND($G57>='관리자 Setting'!$P$14,$H57>='관리자 Setting'!$Q$14),'관리자 Setting'!$Q$14-$G57,IF(AND($G57>='관리자 Setting'!$P$14,$H57<'관리자 Setting'!$Q$14),$H57-$G57,IF($G57>='관리자 Setting'!$Q$14,0,0))))))","v":"00:00:00"},{"$f":"IF(OR($H57<'관리자 Setting'!$P$15,$G57>='관리자 Setting'!$Q$15),0,IF(AND($G57<'관리자 Setting'!$P$15,$H57<'관리자 Setting'!$Q$15),$H57-'관리자 Setting'!$P$15,IF(AND($G57<'관리자 Setting'!$P$15,$H57>='관리자 Setting'!$Q$15),'관리자 Setting'!$R$15,IF(AND($G57>='관리자 Setting'!$P$15,$H57>='관리자 Setting'!$Q$15),'관리자 Setting'!$Q$15-$G57,IF(AND($G57>='관리자 Setting'!$P$15,$H57<'관리자 Setting'!$Q$15),$H57-$G57,IF($G57>='관리자 Setting'!$Q$15,0,0))))))","v":"00:00:00"},"",{"$f":"IFERROR(VLOOKUP($F57,'관리자 Setting'!$P$18:$Q$33,2,0)/24,\"\")","v":""}]
["","",{"$f":"IFERROR(DATE(LEFT('In-Put'!$B58,4),MID('In-Put'!$B58,5,2),RIGHT('In-Put'!$B58,2)),\"\")","v":""},{"$f":"IF($C58=\"\",\"\",COUNTIFS($C$2:$C$401,C58)-COUNTIFS($C$2:C58,C58))","v":""},{"$f":"IF($C58=\"\",\"\",COUNTIFS('관리자 Setting'!$P$18:$P$33,'설정_In-Put'!$F58))","v":""},{"$f":"'In-Put'!G58","v":0},{"$f":"IFERROR(IF('In-Put'!D58*1=0,\"\",'In-Put'!D58*1),\"\")","v":""},{"$f":"IFERROR(IF('In-Put'!E58*1=0,\"\",IF('In-Put'!E58*1<G58,'In-Put'!E58*1+1,'In-Put'!E58*1)),\"\")","v":""},{"$f":"IF(OR($H58<'관리자 Setting'!$P$14,$G58>='관리자 Setting'!$Q$14),0,IF(AND($G58<'관리자 Setting'!$P$14,$H58<'관리자 Setting'!$Q$14),$H58-'관리자 Setting'!$P$14,IF(AND($G58<'관리자 Setting'!$P$14,$H58>='관리자 Setting'!$Q$14),'관리자 Setting'!$R$14,IF(AND($G58>='관리자 Setting'!$P$14,$H58>='관리자 Setting'!$Q$14),'관리자 Setting'!$Q$14-$G58,IF(AND($G58>='관리자 Setting'!$P$14,$H58<'관리자 Setting'!$Q$14),$H58-$G58,IF($G58>='관리자 Setting'!$Q$14,0,0))))))","v":"00:00:00"},{"$f":"IF(OR($H58<'관리자 Setting'!$P$15,$G58>='관리자 Setting'!$Q$15),0,IF(AND($G58<'관리자 Setting'!$P$15,$H58<'관리자 Setting'!$Q$15),$H58-'관리자 Setting'!$P$15,IF(AND($G58<'관리자 Setting'!$P$15,$H58>='관리자 Setting'!$Q$15),'관리자 Setting'!$R$15,IF(AND($G58>='관리자 Setting'!$P$15,$H58>='관리자 Setting'!$Q$15),'관리자 Setting'!$Q$15-$G58,IF(AND($G58>='관리자 Setting'!$P$15,$H58<'관리자 Setting'!$Q$15),$H58-$G58,IF($G58>='관리자 Setting'!$Q$15,0,0))))))","v":"00:00:00"},"",{"$f":"IFERROR(VLOOKUP($F58,'관리자 Setting'!$P$18:$Q$33,2,0)/24,\"\")","v":""}]
["","",{"$f":"IFERROR(DATE(LEFT('In-Put'!$B59,4),MID('In-Put'!$B59,5,2),RIGHT('In-Put'!$B59,2)),\"\")","v":""},{"$f":"IF($C59=\"\",\"\",COUNTIFS($C$2:$C$401,C59)-COUNTIFS($C$2:C59,C59))","v":""},{"$f":"IF($C59=\"\",\"\",COUNTIFS('관리자 Setting'!$P$18:$P$33,'설정_In-Put'!$F59))","v":""},{"$f":"'In-Put'!G59","v":0},{"$f":"IFERROR(IF('In-Put'!D59*1=0,\"\",'In-Put'!D59*1),\"\")","v":""},{"$f":"IFERROR(IF('In-Put'!E59*1=0,\"\",IF('In-Put'!E59*1<G59,'In-Put'!E59*1+1,'In-Put'!E59*1)),\"\")","v":""},{"$f":"IF(OR($H59<'관리자 Setting'!$P$14,$G59>='관리자 Setting'!$Q$14),0,IF(AND($G59<'관리자 Setting'!$P$14,$H59<'관리자 Setting'!$Q$14),$H59-'관리자 Setting'!$P$14,IF(AND($G59<'관리자 Setting'!$P$14,$H59>='관리자 Setting'!$Q$14),'관리자 Setting'!$R$14,IF(AND($G59>='관리자 Setting'!$P$14,$H59>='관리자 Setting'!$Q$14),'관리자 Setting'!$Q$14-$G59,IF(AND($G59>='관리자 Setting'!$P$14,$H59<'관리자 Setting'!$Q$14),$H59-$G59,IF($G59>='관리자 Setting'!$Q$14,0,0))))))","v":"00:00:00"},{"$f":"IF(OR($H59<'관리자 Setting'!$P$15,$G59>='관리자 Setting'!$Q$15),0,IF(AND($G59<'관리자 Setting'!$P$15,$H59<'관리자 Setting'!$Q$15),$H59-'관리자 Setting'!$P$15,IF(AND($G59<'관리자 Setting'!$P$15,$H59>='관리자 Setting'!$Q$15),'관리자 Setting'!$R$15,IF(AND($G59>='관리자 Setting'!$P$15,$H59>='관리자 Setting'!$Q$15),'관리자 Setting'!$Q$15-$G59,IF(AND($G59>='관리자 Setting'!$P$15,$H59<'관리자 Setting'!$Q$15),$H59-$G59,IF($G59>='관리자 Setting'!$Q$15,0,0))))))","v":"00:00:00"},"",{"$f":"IFERROR(VLOOKUP($F59,'관리자 Setting'!$P$18:$Q$33,2,0)/24,\"\")","v":""}]
["","",{"$f":"IFERROR(DATE(LEFT('In-Put'!$B60,4),MID('In-Put'!$B60,5,2),RIGHT('In-Put'!$B60,2)),\"\")","v":""},{"$f":"IF($C60=\"\",\"\",COUNTIFS($C$2:$C$401,C60)-COUNTIFS($C$2:C60,C60))","v":""},{"$f":"IF($C60=\"\",\"\",COUNTIFS('관리자 Setting'!$P$18:$P$33,'설정_In-Put'!$F60))","v":""},{"$f":"'In-Put'!G60","v":0},{"$f":"IFERROR(IF('In-Put'!D60*1=0,\"\",'In-Put'!D60*1),\"\")","v":""},{"$f":"IFERROR(IF('In-Put'!E60*1=0,\"\",IF('In-Put'!E60*1<G60,'In-Put'!E60*1+1,'In-Put'!E60*1)),\"\")","v":""},{"$f":"IF(OR($H60<'관리자 Setting'!$P$14,$G60>='관리자 Setting'!$Q$14),0,IF(AND($G60<'관리자 Setting'!$P$14,$H60<'관리자 Setting'!$Q$14),$H60-'관리자 Setting'!$P$14,IF(AND($G60<'관리자 Setting'!$P$14,$H60>='관리자 Setting'!$Q$14),'관리자 Setting'!$R$14,IF(AND($G60>='관리자 Setting'!$P$14,$H60>='관리자 Setting'!$Q$14),'관리자 Setting'!$Q$14-$G60,IF(AND($G60>='관리자 Setting'!$P$14,$H60<'관리자 Setting'!$Q$14),$H60-$G60,IF($G60>='관리자 Setting'!$Q$14,0,0))))))","v":"00:00:00"},{"$f":"IF(OR($H60<'관리자 Setting'!$P$15,$G60>='관리자 Setting'!$Q$15),0,IF(AND($G60<'관리자 Setting'!$P$15,$H60<'관리자 Setting'!$Q$15),$H60-'관리자 Setting'!$P$15,IF(AND($G60<'관리자 Setting'!$P$15,$H60>='관리자 Setting'!$Q$15),'관리자 Setting'!$R$15,IF(AND($G60>='관리자 Setting'!$P$15,$H60>='관리자 Setting'!$Q$15),'관리자 Setting'!$Q$15-$G60,IF(AND($G60>='관리자 Setting'!$P$15,$H60<'관리자 Setting'!$Q$15),$H60-$G60,IF($G60>='관리자 Setting'!$Q$15,0,0))))))","v":"00:00:00"},"",{"$f":"IFERROR(VLOOKUP($F60,'관리자 Setting'!$P$18:$Q$33,2,0)/24,\"\")","v":""}]
["","",{"$f":"IFERROR(DATE(LEFT('In-Put'!$B61,4),MID('In-Put'!$B61,5,2),RIGHT('In-Put'!$B61,2)),\"\")","v":""},{"$f":"IF($C61=\"\",\"\",COUNTIFS($C$2:$C$401,C61)-COUNTIFS($C$2:C61,C61))","v":""},{"$f":"IF($C61=\"\",\"\",COUNTIFS('관리자 Setting'!$P$18:$P$33,'설정_In-Put'!$F61))","v":""},{"$f":"'In-Put'!G61","v":0},{"$f":"IFERROR(IF('In-Put'!D61*1=0,\"\",'In-Put'!D61*1),\"\")","v":""},{"$f":"IFERROR(IF('In-Put'!E61*1=0,\"\",IF('In-Put'!E61*1<G61,'In-Put'!E61*1+1,'In-Put'!E61*1)),\"\")","v":""},{"$f":"IF(OR($H61<'관리자 Setting'!$P$14,$G61>='관리자 Setting'!$Q$14),0,IF(AND($G61<'관리자 Setting'!$P$14,$H61<'관리자 Setting'!$Q$14),$H61-'관리자 Setting'!$P$14,IF(AND($G61<'관리자 Setting'!$P$14,$H61>='관리자 Setting'!$Q$14),'관리자 Setting'!$R$14,IF(AND($G61>='관리자 Setting'!$P$14,$H61>='관리자 Setting'!$Q$14),'관리자 Setting'!$Q$14-$G61,IF(AND($G61>='관리자 Setting'!$P$14,$H61<'관리자 Setting'!$Q$14),$H61-$G61,IF($G61>='관리자 Setting'!$Q$14,0,0))))))","v":"00:00:00"},{"$f":"IF(OR($H61<'관리자 Setting'!$P$15,$G61>='관리자 Setting'!$Q$15),0,IF(AND($G61<'관리자 Setting'!$P$15,$H61<'관리자 Setting'!$Q$15),$H61-'관리자 Setting'!$P$15,IF(AND($G61<'관리자 Setting'!$P$15,$H61>='관리자 Setting'!$Q$15),'관리자 Setting'!$R$15,IF(AND($G61>='관리자 Setting'!$P$15,$H61>='관리자 Setting'!$Q$15),'관리자 Setting'!$Q$15-$G61,IF(AND($G61>='관리자 Setting'!$P$15,$H61<'관리자 Setting'!$Q$15),$H61-$G61,IF($G61>='관리자 Setting'!$Q$15,0,0))))))","v":"00:00:00"},"",{"$f":"IFERROR(VLOOKUP($F61,'관리자 Setting'!$P$18:$Q$33,2,0)/24,\"\")","v":""}]
["","",{"$f":"IFERROR(DATE(LEFT('In-Put'!$B62,4),MID('In-Put'!$B62,5,2),RIGHT('In-Put'!$B62,2)),\"\")","v":""},{"$f":"IF($C62=\"\",\"\",COUNTIFS($C$2:$C$401,C62)-COUNTIFS($C$2:C62,C62))","v":""},{"$f":"IF($C62=\"\",\"\",COUNTIFS('관리자 Setting'!$P$18:$P$33,'설정_In-Put'!$F62))","v":""},{"$f":"'In-Put'!G62","v":0},{"$f":"IFERROR(IF('In-Put'!D62*1=0,\"\",'In-Put'!D62*1),\"\")","v":""},{"$f":"IFERROR(IF('In-Put'!E62*1=0,\"\",IF('In-Put'!E62*1<G62,'In-Put'!E62*1+1,'In-Put'!E62*1)),\"\")","v":""},{"$f":"IF(OR($H62<'관리자 Setting'!$P$14,$G62>='관리자 Setting'!$Q$14),0,IF(AND($G62<'관리자 Setting'!$P$14,$H62<'관리자 Setting'!$Q$14),$H62-'관리자 Setting'!$P$14,IF(AND($G62<'관리자 Setting'!$P$14,$H62>='관리자 Setting'!$Q$14),'관리자 Setting'!$R$14,IF(AND($G62>='관리자 Setting'!$P$14,$H62>='관리자 Setting'!$Q$14),'관리자 Setting'!$Q$14-$G62,IF(AND($G62>='관리자 Setting'!$P$14,$H62<'관리자 Setting'!$Q$14),$H62-$G62,IF($G62>='관리자 Setting'!$Q$14,0,0))))))","v":"00:00:00"},{"$f":"IF(OR($H62<'관리자 Setting'!$P$15,$G62>='관리자 Setting'!$Q$15),0,IF(AND($G62<'관리자 Setting'!$P$15,$H62<'관리자 Setting'!$Q$15),$H62-'관리자 Setting'!$P$15,IF(AND($G62<'관리자 Setting'!$P$15,$H62>='관리자 Setting'!$Q$15),'관리자 Setting'!$R$15,IF(AND($G62>='관리자 Setting'!$P$15,$H62>='관리자 Setting'!$Q$15),'관리자 Setting'!$Q$15-$G62,IF(AND($G62>='관리자 Setting'!$P$15,$H62<'관리자 Setting'!$Q$15),$H62-$G62,IF($G62>='관리자 Setting'!$Q$15,0,0))))))","v":"00:00:00"},"",{"$f":"IFERROR(VLOOKUP($F62,'관리자 Setting'!$P$18:$Q$33,2,0)/24,\"\")","v":""}]
["","",{"$f":"IFERROR(DATE(LEFT('In-Put'!$B63,4),MID('In-Put'!$B63,5,2),RIGHT('In-Put'!$B63,2)),\"\")","v":""},{"$f":"IF($C63=\"\",\"\",COUNTIFS($C$2:$C$401,C63)-COUNTIFS($C$2:C63,C63))","v":""},{"$f":"IF($C63=\"\",\"\",COUNTIFS('관리자 Setting'!$P$18:$P$33,'설정_In-Put'!$F63))","v":""},{"$f":"'In-Put'!G63","v":0},{"$f":"IFERROR(IF('In-Put'!D63*1=0,\"\",'In-Put'!D63*1),\"\")","v":""},{"$f":"IFERROR(IF('In-Put'!E63*1=0,\"\",IF('In-Put'!E63*1<G63,'In-Put'!E63*1+1,'In-Put'!E63*1)),\"\")","v":""},{"$f":"IF(OR($H63<'관리자 Setting'!$P$14,$G63>='관리자 Setting'!$Q$14),0,IF(AND($G63<'관리자 Setting'!$P$14,$H63<'관리자 Setting'!$Q$14),$H63-'관리자 Setting'!$P$14,IF(AND($G63<'관리자 Setting'!$P$14,$H63>='관리자 Setting'!$Q$14),'관리자 Setting'!$R$14,IF(AND($G63>='관리자 Setting'!$P$14,$H63>='관리자 Setting'!$Q$14),'관리자 Setting'!$Q$14-$G63,IF(AND($G63>='관리자 Setting'!$P$14,$H63<'관리자 Setting'!$Q$14),$H63-$G63,IF($G63>='관리자 Setting'!$Q$14,0,0))))))","v":"00:00:00"},{"$f":"IF(OR($H63<'관리자 Setting'!$P$15,$G63>='관리자 Setting'!$Q$15),0,IF(AND($G63<'관리자 Setting'!$P$15,$H63<'관리자 Setting'!$Q$15),$H63-'관리자 Setting'!$P$15,IF(AND($G63<'관리자 Setting'!$P$15,$H63>='관리자 Setting'!$Q$15),'관리자 Setting'!$R$15,IF(AND($G63>='관리자 Setting'!$P$15,$H63>='관리자 Setting'!$Q$15),'관리자 Setting'!$Q$15-$G63,IF(AND($G63>='관리자 Setting'!$P$15,$H63<'관리자 Setting'!$Q$15),$H63-$G63,IF($G63>='관리자 Setting'!$Q$15,0,0))))))","v":"00:00:00"},"",{"$f":"IFERROR(VLOOKUP($F63,'관리자 Setting'!$P$18:$Q$33,2,0)/24,\"\")","v":""}]
["","",{"$f":"IFERROR(DATE(LEFT('In-Put'!$B64,4),MID('In-Put'!$B64,5,2),RIGHT('In-Put'!$B64,2)),\"\")","v":""},{"$f":"IF($C64=\"\",\"\",COUNTIFS($C$2:$C$401,C64)-COUNTIFS($C$2:C64,C64))","v":""},{"$f":"IF($C64=\"\",\"\",COUNTIFS('관리자 Setting'!$P$18:$P$33,'설정_In-Put'!$F64))","v":""},{"$f":"'In-Put'!G64","v":0},{"$f":"IFERROR(IF('In-Put'!D64*1=0,\"\",'In-Put'!D64*1),\"\")","v":""},{"$f":"IFERROR(IF('In-Put'!E64*1=0,\"\",IF('In-Put'!E64*1<G64,'In-Put'!E64*1+1,'In-Put'!E64*1)),\"\")","v":""},{"$f":"IF(OR($H64<'관리자 Setting'!$P$14,$G64>='관리자 Setting'!$Q$14),0,IF(AND($G64<'관리자 Setting'!$P$14,$H64<'관리자 Setting'!$Q$14),$H64-'관리자 Setting'!$P$14,IF(AND($G64<'관리자 Setting'!$P$14,$H64>='관리자 Setting'!$Q$14),'관리자 Setting'!$R$14,IF(AND($G64>='관리자 Setting'!$P$14,$H64>='관리자 Setting'!$Q$14),'관리자 Setting'!$Q$14-$G64,IF(AND($G64>='관리자 Setting'!$P$14,$H64<'관리자 Setting'!$Q$14),$H64-$G64,IF($G64>='관리자 Setting'!$Q$14,0,0))))))","v":"00:00:00"},{"$f":"IF(OR($H64<'관리자 Setting'!$P$15,$G64>='관리자 Setting'!$Q$15),0,IF(AND($G64<'관리자 Setting'!$P$15,$H64<'관리자 Setting'!$Q$15),$H64-'관리자 Setting'!$P$15,IF(AND($G64<'관리자 Setting'!$P$15,$H64>='관리자 Setting'!$Q$15),'관리자 Setting'!$R$15,IF(AND($G64>='관리자 Setting'!$P$15,$H64>='관리자 Setting'!$Q$15),'관리자 Setting'!$Q$15-$G64,IF(AND($G64>='관리자 Setting'!$P$15,$H64<'관리자 Setting'!$Q$15),$H64-$G64,IF($G64>='관리자 Setting'!$Q$15,0,0))))))","v":"00:00:00"},"",{"$f":"IFERROR(VLOOKUP($F64,'관리자 Setting'!$P$18:$Q$33,2,0)/24,\"\")","v":""}]
["","",{"$f":"IFERROR(DATE(LEFT('In-Put'!$B65,4),MID('In-Put'!$B65,5,2),RIGHT('In-Put'!$B65,2)),\"\")","v":""},{"$f":"IF($C65=\"\",\"\",COUNTIFS($C$2:$C$401,C65)-COUNTIFS($C$2:C65,C65))","v":""},{"$f":"IF($C65=\"\",\"\",COUNTIFS('관리자 Setting'!$P$18:$P$33,'설정_In-Put'!$F65))","v":""},{"$f":"'In-Put'!G65","v":0},{"$f":"IFERROR(IF('In-Put'!D65*1=0,\"\",'In-Put'!D65*1),\"\")","v":""},{"$f":"IFERROR(IF('In-Put'!E65*1=0,\"\",IF('In-Put'!E65*1<G65,'In-Put'!E65*1+1,'In-Put'!E65*1)),\"\")","v":""},{"$f":"IF(OR($H65<'관리자 Setting'!$P$14,$G65>='관리자 Setting'!$Q$14),0,IF(AND($G65<'관리자 Setting'!$P$14,$H65<'관리자 Setting'!$Q$14),$H65-'관리자 Setting'!$P$14,IF(AND($G65<'관리자 Setting'!$P$14,$H65>='관리자 Setting'!$Q$14),'관리자 Setting'!$R$14,IF(AND($G65>='관리자 Setting'!$P$14,$H65>='관리자 Setting'!$Q$14),'관리자 Setting'!$Q$14-$G65,IF(AND($G65>='관리자 Setting'!$P$14,$H65<'관리자 Setting'!$Q$14),$H65-$G65,IF($G65>='관리자 Setting'!$Q$14,0,0))))))","v":"00:00:00"},{"$f":"IF(OR($H65<'관리자 Setting'!$P$15,$G65>='관리자 Setting'!$Q$15),0,IF(AND($G65<'관리자 Setting'!$P$15,$H65<'관리자 Setting'!$Q$15),$H65-'관리자 Setting'!$P$15,IF(AND($G65<'관리자 Setting'!$P$15,$H65>='관리자 Setting'!$Q$15),'관리자 Setting'!$R$15,IF(AND($G65>='관리자 Setting'!$P$15,$H65>='관리자 Setting'!$Q$15),'관리자 Setting'!$Q$15-$G65,IF(AND($G65>='관리자 Setting'!$P$15,$H65<'관리자 Setting'!$Q$15),$H65-$G65,IF($G65>='관리자 Setting'!$Q$15,0,0))))))","v":"00:00:00"},"",{"$f":"IFERROR(VLOOKUP($F65,'관리자 Setting'!$P$18:$Q$33,2,0)/24,\"\")","v":""}]
["","",{"$f":"IFERROR(DATE(LEFT('In-Put'!$B66,4),MID('In-Put'!$B66,5,2),RIGHT('In-Put'!$B66,2)),\"\")","v":""},{"$f":"IF($C66=\"\",\"\",COUNTIFS($C$2:$C$401,C66)-COUNTIFS($C$2:C66,C66))","v":""},{"$f":"IF($C66=\"\",\"\",COUNTIFS('관리자 Setting'!$P$18:$P$33,'설정_In-Put'!$F66))","v":""},{"$f":"'In-Put'!G66","v":0},{"$f":"IFERROR(IF('In-Put'!D66*1=0,\"\",'In-Put'!D66*1),\"\")","v":""},{"$f":"IFERROR(IF('In-Put'!E66*1=0,\"\",IF('In-Put'!E66*1<G66,'In-Put'!E66*1+1,'In-Put'!E66*1)),\"\")","v":""},{"$f":"IF(OR($H66<'관리자 Setting'!$P$14,$G66>='관리자 Setting'!$Q$14),0,IF(AND($G66<'관리자 Setting'!$P$14,$H66<'관리자 Setting'!$Q$14),$H66-'관리자 Setting'!$P$14,IF(AND($G66<'관리자 Setting'!$P$14,$H66>='관리자 Setting'!$Q$14),'관리자 Setting'!$R$14,IF(AND($G66>='관리자 Setting'!$P$14,$H66>='관리자 Setting'!$Q$14),'관리자 Setting'!$Q$14-$G66,IF(AND($G66>='관리자 Setting'!$P$14,$H66<'관리자 Setting'!$Q$14),$H66-$G66,IF($G66>='관리자 Setting'!$Q$14,0,0))))))","v":"00:00:00"},{"$f":"IF(OR($H66<'관리자 Setting'!$P$15,$G66>='관리자 Setting'!$Q$15),0,IF(AND($G66<'관리자 Setting'!$P$15,$H66<'관리자 Setting'!$Q$15),$H66-'관리자 Setting'!$P$15,IF(AND($G66<'관리자 Setting'!$P$15,$H66>='관리자 Setting'!$Q$15),'관리자 Setting'!$R$15,IF(AND($G66>='관리자 Setting'!$P$15,$H66>='관리자 Setting'!$Q$15),'관리자 Setting'!$Q$15-$G66,IF(AND($G66>='관리자 Setting'!$P$15,$H66<'관리자 Setting'!$Q$15),$H66-$G66,IF($G66>='관리자 Setting'!$Q$15,0,0))))))","v":"00:00:00"},{"$f":"IF(OR(G66=\"\",H66=\"\"),\"\",H66-G66-SUM(I66:J66))","v":""},{"$f":"IFERROR(VLOOKUP($F66,'관리자 Setting'!$P$18:$Q$33,2,0)/24,\"\")","v":""}]
[{"$f":"$C67&$D67","v":""},{"$f":"$C67&$E67","v":""},{"$f":"IFERROR(DATE(LEFT('In-Put'!$B67,4),MID('In-Put'!$B67,5,2),RIGHT('In-Put'!$B67,2)),\"\")","v":""},{"$f":"IF($C67=\"\",\"\",COUNTIFS($C$2:$C$401,C67)-COUNTIFS($C$2:C67,C67))","v":""},{"$f":"IF($C67=\"\",\"\",COUNTIFS('관리자 Setting'!$P$18:$P$33,'설정_In-Put'!$F67))","v":""},{"$f":"'In-Put'!G67","v":0},{"$f":"IFERROR(IF('In-Put'!D67*1=0,\"\",'In-Put'!D67*1),\"\")","v":""},{"$f":"IFERROR(IF('In-Put'!E67*1=0,\"\",IF('In-Put'!E67*1<G67,'In-Put'!E67*1+1,'In-Put'!E67*1)),\"\")","v":""},{"$f":"IF(OR($H67<'관리자 Setting'!$P$14,$G67>='관리자 Setting'!$Q$14),0,IF(AND($G67<'관리자 Setting'!$P$14,$H67<'관리자 Setting'!$Q$14),$H67-'관리자 Setting'!$P$14,IF(AND($G67<'관리자 Setting'!$P$14,$H67>='관리자 Setting'!$Q$14),'관리자 Setting'!$R$14,IF(AND($G67>='관리자 Setting'!$P$14,$H67>='관리자 Setting'!$Q$14),'관리자 Setting'!$Q$14-$G67,IF(AND($G67>='관리자 Setting'!$P$14,$H67<'관리자 Setting'!$Q$14),$H67-$G67,IF($G67>='관리자 Setting'!$Q$14,0,0))))))","v":"00:00:00"},{"$f":"IF(OR($H67<'관리자 Setting'!$P$15,$G67>='관리자 Setting'!$Q$15),0,IF(AND($G67<'관리자 Setting'!$P$15,$H67<'관리자 Setting'!$Q$15),$H67-'관리자 Setting'!$P$15,IF(AND($G67<'관리자 Setting'!$P$15,$H67>='관리자 Setting'!$Q$15),'관리자 Setting'!$R$15,IF(AND($G67>='관리자 Setting'!$P$15,$H67>='관리자 Setting'!$Q$15),'관리자 Setting'!$Q$15-$G67,IF(AND($G67>='관리자 Setting'!$P$15,$H67<'관리자 Setting'!$Q$15),$H67-$G67,IF($G67>='관리자 Setting'!$Q$15,0,0))))))","v":"00:00:00"},"",{"$f":"IFERROR(VLOOKUP($F67,'관리자 Setting'!$P$18:$Q$33,2,0)/24,\"\")","v":""}]
["","",{"$f":"IFERROR(DATE(LEFT('In-Put'!$B68,4),MID('In-Put'!$B68,5,2),RIGHT('In-Put'!$B68,2)),\"\")","v":""},{"$f":"IF($C68=\"\",\"\",COUNTIFS($C$2:$C$401,C68)-COUNTIFS($C$2:C68,C68))","v":""},{"$f":"IF($C68=\"\",\"\",COUNTIFS('관리자 Setting'!$P$18:$P$33,'설정_In-Put'!$F68))","v":""},{"$f":"'In-Put'!G68","v":0},{"$f":"IFERROR(IF('In-Put'!D68*1=0,\"\",'In-Put'!D68*1),\"\")","v":""},{"$f":"IFERROR(IF('In-Put'!E68*1=0,\"\",IF('In-Put'!E68*1<G68,'In-Put'!E68*1+1,'In-Put'!E68*1)),\"\")","v":""},{"$f":"IF(OR($H68<'관리자 Setting'!$P$14,$G68>='관리자 Setting'!$Q$14),0,IF(AND($G68<'관리자 Setting'!$P$14,$H68<'관리자 Setting'!$Q$14),$H68-'관리자 Setting'!$P$14,IF(AND($G68<'관리자 Setting'!$P$14,$H68>='관리자 Setting'!$Q$14),'관리자 Setting'!$R$14,IF(AND($G68>='관리자 Setting'!$P$14,$H68>='관리자 Setting'!$Q$14),'관리자 Setting'!$Q$14-$G68,IF(AND($G68>='관리자 Setting'!$P$14,$H68<'관리자 Setting'!$Q$14),$H68-$G68,IF($G68>='관리자 Setting'!$Q$14,0,0))))))","v":"00:00:00"},{"$f":"IF(OR($H68<'관리자 Setting'!$P$15,$G68>='관리자 Setting'!$Q$15),0,IF(AND($G68<'관리자 Setting'!$P$15,$H68<'관리자 Setting'!$Q$15),$H68-'관리자 Setting'!$P$15,IF(AND($G68<'관리자 Setting'!$P$15,$H68>='관리자 Setting'!$Q$15),'관리자 Setting'!$R$15,IF(AND($G68>='관리자 Setting'!$P$15,$H68>='관리자 Setting'!$Q$15),'관리자 Setting'!$Q$15-$G68,IF(AND($G68>='관리자 Setting'!$P$15,$H68<'관리자 Setting'!$Q$15),$H68-$G68,IF($G68>='관리자 Setting'!$Q$15,0,0))))))","v":"00:00:00"},"",{"$f":"IFERROR(VLOOKUP($F68,'관리자 Setting'!$P$18:$Q$33,2,0)/24,\"\")","v":""}]
["","",{"$f":"IFERROR(DATE(LEFT('In-Put'!$B69,4),MID('In-Put'!$B69,5,2),RIGHT('In-Put'!$B69,2)),\"\")","v":""},{"$f":"IF($C69=\"\",\"\",COUNTIFS($C$2:$C$401,C69)-COUNTIFS($C$2:C69,C69))","v":""},{"$f":"IF($C69=\"\",\"\",COUNTIFS('관리자 Setting'!$P$18:$P$33,'설정_In-Put'!$F69))","v":""},{"$f":"'In-Put'!G69","v":0},{"$f":"IFERROR(IF('In-Put'!D69*1=0,\"\",'In-Put'!D69*1),\"\")","v":""},{"$f":"IFERROR(IF('In-Put'!E69*1=0,\"\",IF('In-Put'!E69*1<G69,'In-Put'!E69*1+1,'In-Put'!E69*1)),\"\")","v":""},{"$f":"IF(OR($H69<'관리자 Setting'!$P$14,$G69>='관리자 Setting'!$Q$14),0,IF(AND($G69<'관리자 Setting'!$P$14,$H69<'관리자 Setting'!$Q$14),$H69-'관리자 Setting'!$P$14,IF(AND($G69<'관리자 Setting'!$P$14,$H69>='관리자 Setting'!$Q$14),'관리자 Setting'!$R$14,IF(AND($G69>='관리자 Setting'!$P$14,$H69>='관리자 Setting'!$Q$14),'관리자 Setting'!$Q$14-$G69,IF(AND($G69>='관리자 Setting'!$P$14,$H69<'관리자 Setting'!$Q$14),$H69-$G69,IF($G69>='관리자 Setting'!$Q$14,0,0))))))","v":"00:00:00"},{"$f":"IF(OR($H69<'관리자 Setting'!$P$15,$G69>='관리자 Setting'!$Q$15),0,IF(AND($G69<'관리자 Setting'!$P$15,$H69<'관리자 Setting'!$Q$15),$H69-'관리자 Setting'!$P$15,IF(AND($G69<'관리자 Setting'!$P$15,$H69>='관리자 Setting'!$Q$15),'관리자 Setting'!$R$15,IF(AND($G69>='관리자 Setting'!$P$15,$H69>='관리자 Setting'!$Q$15),'관리자 Setting'!$Q$15-$G69,IF(AND($G69>='관리자 Setting'!$P$15,$H69<'관리자 Setting'!$Q$15),$H69-$G69,IF($G69>='관리자 Setting'!$Q$15,0,0))))))","v":"00:00:00"},"",{"$f":"IFERROR(VLOOKUP($F69,'관리자 Setting'!$P$18:$Q$33,2,0)/24,\"\")","v":""}]
["","",{"$f":"IFERROR(DATE(LEFT('In-Put'!$B70,4),MID('In-Put'!$B70,5,2),RIGHT('In-Put'!$B70,2)),\"\")","v":""},{"$f":"IF($C70=\"\",\"\",COUNTIFS($C$2:$C$401,C70)-COUNTIFS($C$2:C70,C70))","v":""},{"$f":"IF($C70=\"\",\"\",COUNTIFS('관리자 Setting'!$P$18:$P$33,'설정_In-Put'!$F70))","v":""},{"$f":"'In-Put'!G70","v":0},{"$f":"IFERROR(IF('In-Put'!D70*1=0,\"\",'In-Put'!D70*1),\"\")","v":""},{"$f":"IFERROR(IF('In-Put'!E70*1=0,\"\",IF('In-Put'!E70*1<G70,'In-Put'!E70*1+1,'In-Put'!E70*1)),\"\")","v":""},{"$f":"IF(OR($H70<'관리자 Setting'!$P$14,$G70>='관리자 Setting'!$Q$14),0,IF(AND($G70<'관리자 Setting'!$P$14,$H70<'관리자 Setting'!$Q$14),$H70-'관리자 Setting'!$P$14,IF(AND($G70<'관리자 Setting'!$P$14,$H70>='관리자 Setting'!$Q$14),'관리자 Setting'!$R$14,IF(AND($G70>='관리자 Setting'!$P$14,$H70>='관리자 Setting'!$Q$14),'관리자 Setting'!$Q$14-$G70,IF(AND($G70>='관리자 Setting'!$P$14,$H70<'관리자 Setting'!$Q$14),$H70-$G70,IF($G70>='관리자 Setting'!$Q$14,0,0))))))","v":"00:00:00"},{"$f":"IF(OR($H70<'관리자 Setting'!$P$15,$G70>='관리자 Setting'!$Q$15),0,IF(AND($G70<'관리자 Setting'!$P$15,$H70<'관리자 Setting'!$Q$15),$H70-'관리자 Setting'!$P$15,IF(AND($G70<'관리자 Setting'!$P$15,$H70>='관리자 Setting'!$Q$15),'관리자 Setting'!$R$15,IF(AND($G70>='관리자 Setting'!$P$15,$H70>='관리자 Setting'!$Q$15),'관리자 Setting'!$Q$15-$G70,IF(AND($G70>='관리자 Setting'!$P$15,$H70<'관리자 Setting'!$Q$15),$H70-$G70,IF($G70>='관리자 Setting'!$Q$15,0,0))))))","v":"00:00:00"},"",{"$f":"IFERROR(VLOOKUP($F70,'관리자 Setting'!$P$18:$Q$33,2,0)/24,\"\")","v":""}]
["","",{"$f":"IFERROR(DATE(LEFT('In-Put'!$B71,4),MID('In-Put'!$B71,5,2),RIGHT('In-Put'!$B71,2)),\"\")","v":""},{"$f":"IF($C71=\"\",\"\",COUNTIFS($C$2:$C$401,C71)-COUNTIFS($C$2:C71,C71))","v":""},{"$f":"IF($C71=\"\",\"\",COUNTIFS('관리자 Setting'!$P$18:$P$33,'설정_In-Put'!$F71))","v":""},{"$f":"'In-Put'!G71","v":0},{"$f":"IFERROR(IF('In-Put'!D71*1=0,\"\",'In-Put'!D71*1),\"\")","v":""},{"$f":"IFERROR(IF('In-Put'!E71*1=0,\"\",IF('In-Put'!E71*1<G71,'In-Put'!E71*1+1,'In-Put'!E71*1)),\"\")","v":""},{"$f":"IF(OR($H71<'관리자 Setting'!$P$14,$G71>='관리자 Setting'!$Q$14),0,IF(AND($G71<'관리자 Setting'!$P$14,$H71<'관리자 Setting'!$Q$14),$H71-'관리자 Setting'!$P$14,IF(AND($G71<'관리자 Setting'!$P$14,$H71>='관리자 Setting'!$Q$14),'관리자 Setting'!$R$14,IF(AND($G71>='관리자 Setting'!$P$14,$H71>='관리자 Setting'!$Q$14),'관리자 Setting'!$Q$14-$G71,IF(AND($G71>='관리자 Setting'!$P$14,$H71<'관리자 Setting'!$Q$14),$H71-$G71,IF($G71>='관리자 Setting'!$Q$14,0,0))))))","v":"00:00:00"},{"$f":"IF(OR($H71<'관리자 Setting'!$P$15,$G71>='관리자 Setting'!$Q$15),0,IF(AND($G71<'관리자 Setting'!$P$15,$H71<'관리자 Setting'!$Q$15),$H71-'관리자 Setting'!$P$15,IF(AND($G71<'관리자 Setting'!$P$15,$H71>='관리자 Setting'!$Q$15),'관리자 Setting'!$R$15,IF(AND($G71>='관리자 Setting'!$P$15,$H71>='관리자 Setting'!$Q$15),'관리자 Setting'!$Q$15-$G71,IF(AND($G71>='관리자 Setting'!$P$15,$H71<'관리자 Setting'!$Q$15),$H71-$G71,IF($G71>='관리자 Setting'!$Q$15,0,0))))))","v":"00:00:00"},"",{"$f":"IFERROR(VLOOKUP($F71,'관리자 Setting'!$P$18:$Q$33,2,0)/24,\"\")","v":""}]
["","",{"$f":"IFERROR(DATE(LEFT('In-Put'!$B72,4),MID('In-Put'!$B72,5,2),RIGHT('In-Put'!$B72,2)),\"\")","v":""},{"$f":"IF($C72=\"\",\"\",COUNTIFS($C$2:$C$401,C72)-COUNTIFS($C$2:C72,C72))","v":""},{"$f":"IF($C72=\"\",\"\",COUNTIFS('관리자 Setting'!$P$18:$P$33,'설정_In-Put'!$F72))","v":""},{"$f":"'In-Put'!G72","v":0},{"$f":"IFERROR(IF('In-Put'!D72*1=0,\"\",'In-Put'!D72*1),\"\")","v":""},{"$f":"IFERROR(IF('In-Put'!E72*1=0,\"\",IF('In-Put'!E72*1<G72,'In-Put'!E72*1+1,'In-Put'!E72*1)),\"\")","v":""},{"$f":"IF(OR($H72<'관리자 Setting'!$P$14,$G72>='관리자 Setting'!$Q$14),0,IF(AND($G72<'관리자 Setting'!$P$14,$H72<'관리자 Setting'!$Q$14),$H72-'관리자 Setting'!$P$14,IF(AND($G72<'관리자 Setting'!$P$14,$H72>='관리자 Setting'!$Q$14),'관리자 Setting'!$R$14,IF(AND($G72>='관리자 Setting'!$P$14,$H72>='관리자 Setting'!$Q$14),'관리자 Setting'!$Q$14-$G72,IF(AND($G72>='관리자 Setting'!$P$14,$H72<'관리자 Setting'!$Q$14),$H72-$G72,IF($G72>='관리자 Setting'!$Q$14,0,0))))))","v":"00:00:00"},{"$f":"IF(OR($H72<'관리자 Setting'!$P$15,$G72>='관리자 Setting'!$Q$15),0,IF(AND($G72<'관리자 Setting'!$P$15,$H72<'관리자 Setting'!$Q$15),$H72-'관리자 Setting'!$P$15,IF(AND($G72<'관리자 Setting'!$P$15,$H72>='관리자 Setting'!$Q$15),'관리자 Setting'!$R$15,IF(AND($G72>='관리자 Setting'!$P$15,$H72>='관리자 Setting'!$Q$15),'관리자 Setting'!$Q$15-$G72,IF(AND($G72>='관리자 Setting'!$P$15,$H72<'관리자 Setting'!$Q$15),$H72-$G72,IF($G72>='관리자 Setting'!$Q$15,0,0))))))","v":"00:00:00"},"",{"$f":"IFERROR(VLOOKUP($F72,'관리자 Setting'!$P$18:$Q$33,2,0)/24,\"\")","v":""}]
["","",{"$f":"IFERROR(DATE(LEFT('In-Put'!$B73,4),MID('In-Put'!$B73,5,2),RIGHT('In-Put'!$B73,2)),\"\")","v":""},{"$f":"IF($C73=\"\",\"\",COUNTIFS($C$2:$C$401,C73)-COUNTIFS($C$2:C73,C73))","v":""},{"$f":"IF($C73=\"\",\"\",COUNTIFS('관리자 Setting'!$P$18:$P$33,'설정_In-Put'!$F73))","v":""},{"$f":"'In-Put'!G73","v":0},{"$f":"IFERROR(IF('In-Put'!D73*1=0,\"\",'In-Put'!D73*1),\"\")","v":""},{"$f":"IFERROR(IF('In-Put'!E73*1=0,\"\",IF('In-Put'!E73*1<G73,'In-Put'!E73*1+1,'In-Put'!E73*1)),\"\")","v":""},{"$f":"IF(OR($H73<'관리자 Setting'!$P$14,$G73>='관리자 Setting'!$Q$14),0,IF(AND($G73<'관리자 Setting'!$P$14,$H73<'관리자 Setting'!$Q$14),$H73-'관리자 Setting'!$P$14,IF(AND($G73<'관리자 Setting'!$P$14,$H73>='관리자 Setting'!$Q$14),'관리자 Setting'!$R$14,IF(AND($G73>='관리자 Setting'!$P$14,$H73>='관리자 Setting'!$Q$14),'관리자 Setting'!$Q$14-$G73,IF(AND($G73>='관리자 Setting'!$P$14,$H73<'관리자 Setting'!$Q$14),$H73-$G73,IF($G73>='관리자 Setting'!$Q$14,0,0))))))","v":"00:00:00"},{"$f":"IF(OR($H73<'관리자 Setting'!$P$15,$G73>='관리자 Setting'!$Q$15),0,IF(AND($G73<'관리자 Setting'!$P$15,$H73<'관리자 Setting'!$Q$15),$H73-'관리자 Setting'!$P$15,IF(AND($G73<'관리자 Setting'!$P$15,$H73>='관리자 Setting'!$Q$15),'관리자 Setting'!$R$15,IF(AND($G73>='관리자 Setting'!$P$15,$H73>='관리자 Setting'!$Q$15),'관리자 Setting'!$Q$15-$G73,IF(AND($G73>='관리자 Setting'!$P$15,$H73<'관리자 Setting'!$Q$15),$H73-$G73,IF($G73>='관리자 Setting'!$Q$15,0,0))))))","v":"00:00:00"},"",{"$f":"IFERROR(VLOOKUP($F73,'관리자 Setting'!$P$18:$Q$33,2,0)/24,\"\")","v":""}]
["","",{"$f":"IFERROR(DATE(LEFT('In-Put'!$B74,4),MID('In-Put'!$B74,5,2),RIGHT('In-Put'!$B74,2)),\"\")","v":""},{"$f":"IF($C74=\"\",\"\",COUNTIFS($C$2:$C$401,C74)-COUNTIFS($C$2:C74,C74))","v":""},{"$f":"IF($C74=\"\",\"\",COUNTIFS('관리자 Setting'!$P$18:$P$33,'설정_In-Put'!$F74))","v":""},{"$f":"'In-Put'!G74","v":0},{"$f":"IFERROR(IF('In-Put'!D74*1=0,\"\",'In-Put'!D74*1),\"\")","v":""},{"$f":"IFERROR(IF('In-Put'!E74*1=0,\"\",IF('In-Put'!E74*1<G74,'In-Put'!E74*1+1,'In-Put'!E74*1)),\"\")","v":""},{"$f":"IF(OR($H74<'관리자 Setting'!$P$14,$G74>='관리자 Setting'!$Q$14),0,IF(AND($G74<'관리자 Setting'!$P$14,$H74<'관리자 Setting'!$Q$14),$H74-'관리자 Setting'!$P$14,IF(AND($G74<'관리자 Setting'!$P$14,$H74>='관리자 Setting'!$Q$14),'관리자 Setting'!$R$14,IF(AND($G74>='관리자 Setting'!$P$14,$H74>='관리자 Setting'!$Q$14),'관리자 Setting'!$Q$14-$G74,IF(AND($G74>='관리자 Setting'!$P$14,$H74<'관리자 Setting'!$Q$14),$H74-$G74,IF($G74>='관리자 Setting'!$Q$14,0,0))))))","v":"00:00:00"},{"$f":"IF(OR($H74<'관리자 Setting'!$P$15,$G74>='관리자 Setting'!$Q$15),0,IF(AND($G74<'관리자 Setting'!$P$15,$H74<'관리자 Setting'!$Q$15),$H74-'관리자 Setting'!$P$15,IF(AND($G74<'관리자 Setting'!$P$15,$H74>='관리자 Setting'!$Q$15),'관리자 Setting'!$R$15,IF(AND($G74>='관리자 Setting'!$P$15,$H74>='관리자 Setting'!$Q$15),'관리자 Setting'!$Q$15-$G74,IF(AND($G74>='관리자 Setting'!$P$15,$H74<'관리자 Setting'!$Q$15),$H74-$G74,IF($G74>='관리자 Setting'!$Q$15,0,0))))))","v":"00:00:00"},"",{"$f":"IFERROR(VLOOKUP($F74,'관리자 Setting'!$P$18:$Q$33,2,0)/24,\"\")","v":""}]
["","",{"$f":"IFERROR(DATE(LEFT('In-Put'!$B75,4),MID('In-Put'!$B75,5,2),RIGHT('In-Put'!$B75,2)),\"\")","v":""},{"$f":"IF($C75=\"\",\"\",COUNTIFS($C$2:$C$401,C75)-COUNTIFS($C$2:C75,C75))","v":""},{"$f":"IF($C75=\"\",\"\",COUNTIFS('관리자 Setting'!$P$18:$P$33,'설정_In-Put'!$F75))","v":""},{"$f":"'In-Put'!G75","v":0},{"$f":"IFERROR(IF('In-Put'!D75*1=0,\"\",'In-Put'!D75*1),\"\")","v":""},{"$f":"IFERROR(IF('In-Put'!E75*1=0,\"\",IF('In-Put'!E75*1<G75,'In-Put'!E75*1+1,'In-Put'!E75*1)),\"\")","v":""},{"$f":"IF(OR($H75<'관리자 Setting'!$P$14,$G75>='관리자 Setting'!$Q$14),0,IF(AND($G75<'관리자 Setting'!$P$14,$H75<'관리자 Setting'!$Q$14),$H75-'관리자 Setting'!$P$14,IF(AND($G75<'관리자 Setting'!$P$14,$H75>='관리자 Setting'!$Q$14),'관리자 Setting'!$R$14,IF(AND($G75>='관리자 Setting'!$P$14,$H75>='관리자 Setting'!$Q$14),'관리자 Setting'!$Q$14-$G75,IF(AND($G75>='관리자 Setting'!$P$14,$H75<'관리자 Setting'!$Q$14),$H75-$G75,IF($G75>='관리자 Setting'!$Q$14,0,0))))))","v":"00:00:00"},{"$f":"IF(OR($H75<'관리자 Setting'!$P$15,$G75>='관리자 Setting'!$Q$15),0,IF(AND($G75<'관리자 Setting'!$P$15,$H75<'관리자 Setting'!$Q$15),$H75-'관리자 Setting'!$P$15,IF(AND($G75<'관리자 Setting'!$P$15,$H75>='관리자 Setting'!$Q$15),'관리자 Setting'!$R$15,IF(AND($G75>='관리자 Setting'!$P$15,$H75>='관리자 Setting'!$Q$15),'관리자 Setting'!$Q$15-$G75,IF(AND($G75>='관리자 Setting'!$P$15,$H75<'관리자 Setting'!$Q$15),$H75-$G75,IF($G75>='관리자 Setting'!$Q$15,0,0))))))","v":"00:00:00"},"",{"$f":"IFERROR(VLOOKUP($F75,'관리자 Setting'!$P$18:$Q$33,2,0)/24,\"\")","v":""}]
["","",{"$f":"IFERROR(DATE(LEFT('In-Put'!$B76,4),MID('In-Put'!$B76,5,2),RIGHT('In-Put'!$B76,2)),\"\")","v":""},{"$f":"IF($C76=\"\",\"\",COUNTIFS($C$2:$C$401,C76)-COUNTIFS($C$2:C76,C76))","v":""},{"$f":"IF($C76=\"\",\"\",COUNTIFS('관리자 Setting'!$P$18:$P$33,'설정_In-Put'!$F76))","v":""},{"$f":"'In-Put'!G76","v":0},{"$f":"IFERROR(IF('In-Put'!D76*1=0,\"\",'In-Put'!D76*1),\"\")","v":""},{"$f":"IFERROR(IF('In-Put'!E76*1=0,\"\",IF('In-Put'!E76*1<G76,'In-Put'!E76*1+1,'In-Put'!E76*1)),\"\")","v":""},{"$f":"IF(OR($H76<'관리자 Setting'!$P$14,$G76>='관리자 Setting'!$Q$14),0,IF(AND($G76<'관리자 Setting'!$P$14,$H76<'관리자 Setting'!$Q$14),$H76-'관리자 Setting'!$P$14,IF(AND($G76<'관리자 Setting'!$P$14,$H76>='관리자 Setting'!$Q$14),'관리자 Setting'!$R$14,IF(AND($G76>='관리자 Setting'!$P$14,$H76>='관리자 Setting'!$Q$14),'관리자 Setting'!$Q$14-$G76,IF(AND($G76>='관리자 Setting'!$P$14,$H76<'관리자 Setting'!$Q$14),$H76-$G76,IF($G76>='관리자 Setting'!$Q$14,0,0))))))","v":"00:00:00"},{"$f":"IF(OR($H76<'관리자 Setting'!$P$15,$G76>='관리자 Setting'!$Q$15),0,IF(AND($G76<'관리자 Setting'!$P$15,$H76<'관리자 Setting'!$Q$15),$H76-'관리자 Setting'!$P$15,IF(AND($G76<'관리자 Setting'!$P$15,$H76>='관리자 Setting'!$Q$15),'관리자 Setting'!$R$15,IF(AND($G76>='관리자 Setting'!$P$15,$H76>='관리자 Setting'!$Q$15),'관리자 Setting'!$Q$15-$G76,IF(AND($G76>='관리자 Setting'!$P$15,$H76<'관리자 Setting'!$Q$15),$H76-$G76,IF($G76>='관리자 Setting'!$Q$15,0,0))))))","v":"00:00:00"},"",{"$f":"IFERROR(VLOOKUP($F76,'관리자 Setting'!$P$18:$Q$33,2,0)/24,\"\")","v":""}]
["","",{"$f":"IFERROR(DATE(LEFT('In-Put'!$B77,4),MID('In-Put'!$B77,5,2),RIGHT('In-Put'!$B77,2)),\"\")","v":""},{"$f":"IF($C77=\"\",\"\",COUNTIFS($C$2:$C$401,C77)-COUNTIFS($C$2:C77,C77))","v":""},{"$f":"IF($C77=\"\",\"\",COUNTIFS('관리자 Setting'!$P$18:$P$33,'설정_In-Put'!$F77))","v":""},{"$f":"'In-Put'!G77","v":0},{"$f":"IFERROR(IF('In-Put'!D77*1=0,\"\",'In-Put'!D77*1),\"\")","v":""},{"$f":"IFERROR(IF('In-Put'!E77*1=0,\"\",IF('In-Put'!E77*1<G77,'In-Put'!E77*1+1,'In-Put'!E77*1)),\"\")","v":""},{"$f":"IF(OR($H77<'관리자 Setting'!$P$14,$G77>='관리자 Setting'!$Q$14),0,IF(AND($G77<'관리자 Setting'!$P$14,$H77<'관리자 Setting'!$Q$14),$H77-'관리자 Setting'!$P$14,IF(AND($G77<'관리자 Setting'!$P$14,$H77>='관리자 Setting'!$Q$14),'관리자 Setting'!$R$14,IF(AND($G77>='관리자 Setting'!$P$14,$H77>='관리자 Setting'!$Q$14),'관리자 Setting'!$Q$14-$G77,IF(AND($G77>='관리자 Setting'!$P$14,$H77<'관리자 Setting'!$Q$14),$H77-$G77,IF($G77>='관리자 Setting'!$Q$14,0,0))))))","v":"00:00:00"},{"$f":"IF(OR($H77<'관리자 Setting'!$P$15,$G77>='관리자 Setting'!$Q$15),0,IF(AND($G77<'관리자 Setting'!$P$15,$H77<'관리자 Setting'!$Q$15),$H77-'관리자 Setting'!$P$15,IF(AND($G77<'관리자 Setting'!$P$15,$H77>='관리자 Setting'!$Q$15),'관리자 Setting'!$R$15,IF(AND($G77>='관리자 Setting'!$P$15,$H77>='관리자 Setting'!$Q$15),'관리자 Setting'!$Q$15-$G77,IF(AND($G77>='관리자 Setting'!$P$15,$H77<'관리자 Setting'!$Q$15),$H77-$G77,IF($G77>='관리자 Setting'!$Q$15,0,0))))))","v":"00:00:00"},"",{"$f":"IFERROR(VLOOKUP($F77,'관리자 Setting'!$P$18:$Q$33,2,0)/24,\"\")","v":""}]
["","",{"$f":"IFERROR(DATE(LEFT('In-Put'!$B78,4),MID('In-Put'!$B78,5,2),RIGHT('In-Put'!$B78,2)),\"\")","v":""},{"$f":"IF($C78=\"\",\"\",COUNTIFS($C$2:$C$401,C78)-COUNTIFS($C$2:C78,C78))","v":""},{"$f":"IF($C78=\"\",\"\",COUNTIFS('관리자 Setting'!$P$18:$P$33,'설정_In-Put'!$F78))","v":""},{"$f":"'In-Put'!G78","v":0},{"$f":"IFERROR(IF('In-Put'!D78*1=0,\"\",'In-Put'!D78*1),\"\")","v":""},{"$f":"IFERROR(IF('In-Put'!E78*1=0,\"\",IF('In-Put'!E78*1<G78,'In-Put'!E78*1+1,'In-Put'!E78*1)),\"\")","v":""},{"$f":"IF(OR($H78<'관리자 Setting'!$P$14,$G78>='관리자 Setting'!$Q$14),0,IF(AND($G78<'관리자 Setting'!$P$14,$H78<'관리자 Setting'!$Q$14),$H78-'관리자 Setting'!$P$14,IF(AND($G78<'관리자 Setting'!$P$14,$H78>='관리자 Setting'!$Q$14),'관리자 Setting'!$R$14,IF(AND($G78>='관리자 Setting'!$P$14,$H78>='관리자 Setting'!$Q$14),'관리자 Setting'!$Q$14-$G78,IF(AND($G78>='관리자 Setting'!$P$14,$H78<'관리자 Setting'!$Q$14),$H78-$G78,IF($G78>='관리자 Setting'!$Q$14,0,0))))))","v":"00:00:00"},{"$f":"IF(OR($H78<'관리자 Setting'!$P$15,$G78>='관리자 Setting'!$Q$15),0,IF(AND($G78<'관리자 Setting'!$P$15,$H78<'관리자 Setting'!$Q$15),$H78-'관리자 Setting'!$P$15,IF(AND($G78<'관리자 Setting'!$P$15,$H78>='관리자 Setting'!$Q$15),'관리자 Setting'!$R$15,IF(AND($G78>='관리자 Setting'!$P$15,$H78>='관리자 Setting'!$Q$15),'관리자 Setting'!$Q$15-$G78,IF(AND($G78>='관리자 Setting'!$P$15,$H78<'관리자 Setting'!$Q$15),$H78-$G78,IF($G78>='관리자 Setting'!$Q$15,0,0))))))","v":"00:00:00"},"",{"$f":"IFERROR(VLOOKUP($F78,'관리자 Setting'!$P$18:$Q$33,2,0)/24,\"\")","v":""}]
["","",{"$f":"IFERROR(DATE(LEFT('In-Put'!$B79,4),MID('In-Put'!$B79,5,2),RIGHT('In-Put'!$B79,2)),\"\")","v":""},{"$f":"IF($C79=\"\",\"\",COUNTIFS($C$2:$C$401,C79)-COUNTIFS($C$2:C79,C79))","v":""},{"$f":"IF($C79=\"\",\"\",COUNTIFS('관리자 Setting'!$P$18:$P$33,'설정_In-Put'!$F79))","v":""},{"$f":"'In-Put'!G79","v":0},{"$f":"IFERROR(IF('In-Put'!D79*1=0,\"\",'In-Put'!D79*1),\"\")","v":""},{"$f":"IFERROR(IF('In-Put'!E79*1=0,\"\",IF('In-Put'!E79*1<G79,'In-Put'!E79*1+1,'In-Put'!E79*1)),\"\")","v":""},{"$f":"IF(OR($H79<'관리자 Setting'!$P$14,$G79>='관리자 Setting'!$Q$14),0,IF(AND($G79<'관리자 Setting'!$P$14,$H79<'관리자 Setting'!$Q$14),$H79-'관리자 Setting'!$P$14,IF(AND($G79<'관리자 Setting'!$P$14,$H79>='관리자 Setting'!$Q$14),'관리자 Setting'!$R$14,IF(AND($G79>='관리자 Setting'!$P$14,$H79>='관리자 Setting'!$Q$14),'관리자 Setting'!$Q$14-$G79,IF(AND($G79>='관리자 Setting'!$P$14,$H79<'관리자 Setting'!$Q$14),$H79-$G79,IF($G79>='관리자 Setting'!$Q$14,0,0))))))","v":"00:00:00"},{"$f":"IF(OR($H79<'관리자 Setting'!$P$15,$G79>='관리자 Setting'!$Q$15),0,IF(AND($G79<'관리자 Setting'!$P$15,$H79<'관리자 Setting'!$Q$15),$H79-'관리자 Setting'!$P$15,IF(AND($G79<'관리자 Setting'!$P$15,$H79>='관리자 Setting'!$Q$15),'관리자 Setting'!$R$15,IF(AND($G79>='관리자 Setting'!$P$15,$H79>='관리자 Setting'!$Q$15),'관리자 Setting'!$Q$15-$G79,IF(AND($G79>='관리자 Setting'!$P$15,$H79<'관리자 Setting'!$Q$15),$H79-$G79,IF($G79>='관리자 Setting'!$Q$15,0,0))))))","v":"00:00:00"},"",{"$f":"IFERROR(VLOOKUP($F79,'관리자 Setting'!$P$18:$Q$33,2,0)/24,\"\")","v":""}]
["","",{"$f":"IFERROR(DATE(LEFT('In-Put'!$B80,4),MID('In-Put'!$B80,5,2),RIGHT('In-Put'!$B80,2)),\"\")","v":""},{"$f":"IF($C80=\"\",\"\",COUNTIFS($C$2:$C$401,C80)-COUNTIFS($C$2:C80,C80))","v":""},{"$f":"IF($C80=\"\",\"\",COUNTIFS('관리자 Setting'!$P$18:$P$33,'설정_In-Put'!$F80))","v":""},{"$f":"'In-Put'!G80","v":0},{"$f":"IFERROR(IF('In-Put'!D80*1=0,\"\",'In-Put'!D80*1),\"\")","v":""},{"$f":"IFERROR(IF('In-Put'!E80*1=0,\"\",IF('In-Put'!E80*1<G80,'In-Put'!E80*1+1,'In-Put'!E80*1)),\"\")","v":""},{"$f":"IF(OR($H80<'관리자 Setting'!$P$14,$G80>='관리자 Setting'!$Q$14),0,IF(AND($G80<'관리자 Setting'!$P$14,$H80<'관리자 Setting'!$Q$14),$H80-'관리자 Setting'!$P$14,IF(AND($G80<'관리자 Setting'!$P$14,$H80>='관리자 Setting'!$Q$14),'관리자 Setting'!$R$14,IF(AND($G80>='관리자 Setting'!$P$14,$H80>='관리자 Setting'!$Q$14),'관리자 Setting'!$Q$14-$G80,IF(AND($G80>='관리자 Setting'!$P$14,$H80<'관리자 Setting'!$Q$14),$H80-$G80,IF($G80>='관리자 Setting'!$Q$14,0,0))))))","v":"00:00:00"},{"$f":"IF(OR($H80<'관리자 Setting'!$P$15,$G80>='관리자 Setting'!$Q$15),0,IF(AND($G80<'관리자 Setting'!$P$15,$H80<'관리자 Setting'!$Q$15),$H80-'관리자 Setting'!$P$15,IF(AND($G80<'관리자 Setting'!$P$15,$H80>='관리자 Setting'!$Q$15),'관리자 Setting'!$R$15,IF(AND($G80>='관리자 Setting'!$P$15,$H80>='관리자 Setting'!$Q$15),'관리자 Setting'!$Q$15-$G80,IF(AND($G80>='관리자 Setting'!$P$15,$H80<'관리자 Setting'!$Q$15),$H80-$G80,IF($G80>='관리자 Setting'!$Q$15,0,0))))))","v":"00:00:00"},"",{"$f":"IFERROR(VLOOKUP($F80,'관리자 Setting'!$P$18:$Q$33,2,0)/24,\"\")","v":""}]
["","",{"$f":"IFERROR(DATE(LEFT('In-Put'!$B81,4),MID('In-Put'!$B81,5,2),RIGHT('In-Put'!$B81,2)),\"\")","v":""},{"$f":"IF($C81=\"\",\"\",COUNTIFS($C$2:$C$401,C81)-COUNTIFS($C$2:C81,C81))","v":""},{"$f":"IF($C81=\"\",\"\",COUNTIFS('관리자 Setting'!$P$18:$P$33,'설정_In-Put'!$F81))","v":""},{"$f":"'In-Put'!G81","v":0},{"$f":"IFERROR(IF('In-Put'!D81*1=0,\"\",'In-Put'!D81*1),\"\")","v":""},{"$f":"IFERROR(IF('In-Put'!E81*1=0,\"\",IF('In-Put'!E81*1<G81,'In-Put'!E81*1+1,'In-Put'!E81*1)),\"\")","v":""},{"$f":"IF(OR($H81<'관리자 Setting'!$P$14,$G81>='관리자 Setting'!$Q$14),0,IF(AND($G81<'관리자 Setting'!$P$14,$H81<'관리자 Setting'!$Q$14),$H81-'관리자 Setting'!$P$14,IF(AND($G81<'관리자 Setting'!$P$14,$H81>='관리자 Setting'!$Q$14),'관리자 Setting'!$R$14,IF(AND($G81>='관리자 Setting'!$P$14,$H81>='관리자 Setting'!$Q$14),'관리자 Setting'!$Q$14-$G81,IF(AND($G81>='관리자 Setting'!$P$14,$H81<'관리자 Setting'!$Q$14),$H81-$G81,IF($G81>='관리자 Setting'!$Q$14,0,0))))))","v":"00:00:00"},{"$f":"IF(OR($H81<'관리자 Setting'!$P$15,$G81>='관리자 Setting'!$Q$15),0,IF(AND($G81<'관리자 Setting'!$P$15,$H81<'관리자 Setting'!$Q$15),$H81-'관리자 Setting'!$P$15,IF(AND($G81<'관리자 Setting'!$P$15,$H81>='관리자 Setting'!$Q$15),'관리자 Setting'!$R$15,IF(AND($G81>='관리자 Setting'!$P$15,$H81>='관리자 Setting'!$Q$15),'관리자 Setting'!$Q$15-$G81,IF(AND($G81>='관리자 Setting'!$P$15,$H81<'관리자 Setting'!$Q$15),$H81-$G81,IF($G81>='관리자 Setting'!$Q$15,0,0))))))","v":"00:00:00"},"",{"$f":"IFERROR(VLOOKUP($F81,'관리자 Setting'!$P$18:$Q$33,2,0)/24,\"\")","v":""}]
["","",{"$f":"IFERROR(DATE(LEFT('In-Put'!$B82,4),MID('In-Put'!$B82,5,2),RIGHT('In-Put'!$B82,2)),\"\")","v":""},{"$f":"IF($C82=\"\",\"\",COUNTIFS($C$2:$C$401,C82)-COUNTIFS($C$2:C82,C82))","v":""},{"$f":"IF($C82=\"\",\"\",COUNTIFS('관리자 Setting'!$P$18:$P$33,'설정_In-Put'!$F82))","v":""},{"$f":"'In-Put'!G82","v":0},{"$f":"IFERROR(IF('In-Put'!D82*1=0,\"\",'In-Put'!D82*1),\"\")","v":""},{"$f":"IFERROR(IF('In-Put'!E82*1=0,\"\",IF('In-Put'!E82*1<G82,'In-Put'!E82*1+1,'In-Put'!E82*1)),\"\")","v":""},{"$f":"IF(OR($H82<'관리자 Setting'!$P$14,$G82>='관리자 Setting'!$Q$14),0,IF(AND($G82<'관리자 Setting'!$P$14,$H82<'관리자 Setting'!$Q$14),$H82-'관리자 Setting'!$P$14,IF(AND($G82<'관리자 Setting'!$P$14,$H82>='관리자 Setting'!$Q$14),'관리자 Setting'!$R$14,IF(AND($G82>='관리자 Setting'!$P$14,$H82>='관리자 Setting'!$Q$14),'관리자 Setting'!$Q$14-$G82,IF(AND($G82>='관리자 Setting'!$P$14,$H82<'관리자 Setting'!$Q$14),$H82-$G82,IF($G82>='관리자 Setting'!$Q$14,0,0))))))","v":"00:00:00"},{"$f":"IF(OR($H82<'관리자 Setting'!$P$15,$G82>='관리자 Setting'!$Q$15),0,IF(AND($G82<'관리자 Setting'!$P$15,$H82<'관리자 Setting'!$Q$15),$H82-'관리자 Setting'!$P$15,IF(AND($G82<'관리자 Setting'!$P$15,$H82>='관리자 Setting'!$Q$15),'관리자 Setting'!$R$15,IF(AND($G82>='관리자 Setting'!$P$15,$H82>='관리자 Setting'!$Q$15),'관리자 Setting'!$Q$15-$G82,IF(AND($G82>='관리자 Setting'!$P$15,$H82<'관리자 Setting'!$Q$15),$H82-$G82,IF($G82>='관리자 Setting'!$Q$15,0,0))))))","v":"00:00:00"},"",{"$f":"IFERROR(VLOOKUP($F82,'관리자 Setting'!$P$18:$Q$33,2,0)/24,\"\")","v":""}]
["","",{"$f":"IFERROR(DATE(LEFT('In-Put'!$B83,4),MID('In-Put'!$B83,5,2),RIGHT('In-Put'!$B83,2)),\"\")","v":""},{"$f":"IF($C83=\"\",\"\",COUNTIFS($C$2:$C$401,C83)-COUNTIFS($C$2:C83,C83))","v":""},{"$f":"IF($C83=\"\",\"\",COUNTIFS('관리자 Setting'!$P$18:$P$33,'설정_In-Put'!$F83))","v":""},{"$f":"'In-Put'!G83","v":0},{"$f":"IFERROR(IF('In-Put'!D83*1=0,\"\",'In-Put'!D83*1),\"\")","v":""},{"$f":"IFERROR(IF('In-Put'!E83*1=0,\"\",IF('In-Put'!E83*1<G83,'In-Put'!E83*1+1,'In-Put'!E83*1)),\"\")","v":""},{"$f":"IF(OR($H83<'관리자 Setting'!$P$14,$G83>='관리자 Setting'!$Q$14),0,IF(AND($G83<'관리자 Setting'!$P$14,$H83<'관리자 Setting'!$Q$14),$H83-'관리자 Setting'!$P$14,IF(AND($G83<'관리자 Setting'!$P$14,$H83>='관리자 Setting'!$Q$14),'관리자 Setting'!$R$14,IF(AND($G83>='관리자 Setting'!$P$14,$H83>='관리자 Setting'!$Q$14),'관리자 Setting'!$Q$14-$G83,IF(AND($G83>='관리자 Setting'!$P$14,$H83<'관리자 Setting'!$Q$14),$H83-$G83,IF($G83>='관리자 Setting'!$Q$14,0,0))))))","v":"00:00:00"},{"$f":"IF(OR($H83<'관리자 Setting'!$P$15,$G83>='관리자 Setting'!$Q$15),0,IF(AND($G83<'관리자 Setting'!$P$15,$H83<'관리자 Setting'!$Q$15),$H83-'관리자 Setting'!$P$15,IF(AND($G83<'관리자 Setting'!$P$15,$H83>='관리자 Setting'!$Q$15),'관리자 Setting'!$R$15,IF(AND($G83>='관리자 Setting'!$P$15,$H83>='관리자 Setting'!$Q$15),'관리자 Setting'!$Q$15-$G83,IF(AND($G83>='관리자 Setting'!$P$15,$H83<'관리자 Setting'!$Q$15),$H83-$G83,IF($G83>='관리자 Setting'!$Q$15,0,0))))))","v":"00:00:00"},"",{"$f":"IFERROR(VLOOKUP($F83,'관리자 Setting'!$P$18:$Q$33,2,0)/24,\"\")","v":""}]
["","",{"$f":"IFERROR(DATE(LEFT('In-Put'!$B84,4),MID('In-Put'!$B84,5,2),RIGHT('In-Put'!$B84,2)),\"\")","v":""},{"$f":"IF($C84=\"\",\"\",COUNTIFS($C$2:$C$401,C84)-COUNTIFS($C$2:C84,C84))","v":""},{"$f":"IF($C84=\"\",\"\",COUNTIFS('관리자 Setting'!$P$18:$P$33,'설정_In-Put'!$F84))","v":""},{"$f":"'In-Put'!G84","v":0},{"$f":"IFERROR(IF('In-Put'!D84*1=0,\"\",'In-Put'!D84*1),\"\")","v":""},{"$f":"IFERROR(IF('In-Put'!E84*1=0,\"\",IF('In-Put'!E84*1<G84,'In-Put'!E84*1+1,'In-Put'!E84*1)),\"\")","v":""},{"$f":"IF(OR($H84<'관리자 Setting'!$P$14,$G84>='관리자 Setting'!$Q$14),0,IF(AND($G84<'관리자 Setting'!$P$14,$H84<'관리자 Setting'!$Q$14),$H84-'관리자 Setting'!$P$14,IF(AND($G84<'관리자 Setting'!$P$14,$H84>='관리자 Setting'!$Q$14),'관리자 Setting'!$R$14,IF(AND($G84>='관리자 Setting'!$P$14,$H84>='관리자 Setting'!$Q$14),'관리자 Setting'!$Q$14-$G84,IF(AND($G84>='관리자 Setting'!$P$14,$H84<'관리자 Setting'!$Q$14),$H84-$G84,IF($G84>='관리자 Setting'!$Q$14,0,0))))))","v":"00:00:00"},{"$f":"IF(OR($H84<'관리자 Setting'!$P$15,$G84>='관리자 Setting'!$Q$15),0,IF(AND($G84<'관리자 Setting'!$P$15,$H84<'관리자 Setting'!$Q$15),$H84-'관리자 Setting'!$P$15,IF(AND($G84<'관리자 Setting'!$P$15,$H84>='관리자 Setting'!$Q$15),'관리자 Setting'!$R$15,IF(AND($G84>='관리자 Setting'!$P$15,$H84>='관리자 Setting'!$Q$15),'관리자 Setting'!$Q$15-$G84,IF(AND($G84>='관리자 Setting'!$P$15,$H84<'관리자 Setting'!$Q$15),$H84-$G84,IF($G84>='관리자 Setting'!$Q$15,0,0))))))","v":"00:00:00"},"",{"$f":"IFERROR(VLOOKUP($F84,'관리자 Setting'!$P$18:$Q$33,2,0)/24,\"\")","v":""}]
["","",{"$f":"IFERROR(DATE(LEFT('In-Put'!$B85,4),MID('In-Put'!$B85,5,2),RIGHT('In-Put'!$B85,2)),\"\")","v":""},{"$f":"IF($C85=\"\",\"\",COUNTIFS($C$2:$C$401,C85)-COUNTIFS($C$2:C85,C85))","v":""},{"$f":"IF($C85=\"\",\"\",COUNTIFS('관리자 Setting'!$P$18:$P$33,'설정_In-Put'!$F85))","v":""},{"$f":"'In-Put'!G85","v":0},{"$f":"IFERROR(IF('In-Put'!D85*1=0,\"\",'In-Put'!D85*1),\"\")","v":""},{"$f":"IFERROR(IF('In-Put'!E85*1=0,\"\",IF('In-Put'!E85*1<G85,'In-Put'!E85*1+1,'In-Put'!E85*1)),\"\")","v":""},{"$f":"IF(OR($H85<'관리자 Setting'!$P$14,$G85>='관리자 Setting'!$Q$14),0,IF(AND($G85<'관리자 Setting'!$P$14,$H85<'관리자 Setting'!$Q$14),$H85-'관리자 Setting'!$P$14,IF(AND($G85<'관리자 Setting'!$P$14,$H85>='관리자 Setting'!$Q$14),'관리자 Setting'!$R$14,IF(AND($G85>='관리자 Setting'!$P$14,$H85>='관리자 Setting'!$Q$14),'관리자 Setting'!$Q$14-$G85,IF(AND($G85>='관리자 Setting'!$P$14,$H85<'관리자 Setting'!$Q$14),$H85-$G85,IF($G85>='관리자 Setting'!$Q$14,0,0))))))","v":"00:00:00"},{"$f":"IF(OR($H85<'관리자 Setting'!$P$15,$G85>='관리자 Setting'!$Q$15),0,IF(AND($G85<'관리자 Setting'!$P$15,$H85<'관리자 Setting'!$Q$15),$H85-'관리자 Setting'!$P$15,IF(AND($G85<'관리자 Setting'!$P$15,$H85>='관리자 Setting'!$Q$15),'관리자 Setting'!$R$15,IF(AND($G85>='관리자 Setting'!$P$15,$H85>='관리자 Setting'!$Q$15),'관리자 Setting'!$Q$15-$G85,IF(AND($G85>='관리자 Setting'!$P$15,$H85<'관리자 Setting'!$Q$15),$H85-$G85,IF($G85>='관리자 Setting'!$Q$15,0,0))))))","v":"00:00:00"},"",{"$f":"IFERROR(VLOOKUP($F85,'관리자 Setting'!$P$18:$Q$33,2,0)/24,\"\")","v":""}]
["","",{"$f":"IFERROR(DATE(LEFT('In-Put'!$B86,4),MID('In-Put'!$B86,5,2),RIGHT('In-Put'!$B86,2)),\"\")","v":""},{"$f":"IF($C86=\"\",\"\",COUNTIFS($C$2:$C$401,C86)-COUNTIFS($C$2:C86,C86))","v":""},{"$f":"IF($C86=\"\",\"\",COUNTIFS('관리자 Setting'!$P$18:$P$33,'설정_In-Put'!$F86))","v":""},{"$f":"'In-Put'!G86","v":0},{"$f":"IFERROR(IF('In-Put'!D86*1=0,\"\",'In-Put'!D86*1),\"\")","v":""},{"$f":"IFERROR(IF('In-Put'!E86*1=0,\"\",IF('In-Put'!E86*1<G86,'In-Put'!E86*1+1,'In-Put'!E86*1)),\"\")","v":""},{"$f":"IF(OR($H86<'관리자 Setting'!$P$14,$G86>='관리자 Setting'!$Q$14),0,IF(AND($G86<'관리자 Setting'!$P$14,$H86<'관리자 Setting'!$Q$14),$H86-'관리자 Setting'!$P$14,IF(AND($G86<'관리자 Setting'!$P$14,$H86>='관리자 Setting'!$Q$14),'관리자 Setting'!$R$14,IF(AND($G86>='관리자 Setting'!$P$14,$H86>='관리자 Setting'!$Q$14),'관리자 Setting'!$Q$14-$G86,IF(AND($G86>='관리자 Setting'!$P$14,$H86<'관리자 Setting'!$Q$14),$H86-$G86,IF($G86>='관리자 Setting'!$Q$14,0,0))))))","v":"00:00:00"},{"$f":"IF(OR($H86<'관리자 Setting'!$P$15,$G86>='관리자 Setting'!$Q$15),0,IF(AND($G86<'관리자 Setting'!$P$15,$H86<'관리자 Setting'!$Q$15),$H86-'관리자 Setting'!$P$15,IF(AND($G86<'관리자 Setting'!$P$15,$H86>='관리자 Setting'!$Q$15),'관리자 Setting'!$R$15,IF(AND($G86>='관리자 Setting'!$P$15,$H86>='관리자 Setting'!$Q$15),'관리자 Setting'!$Q$15-$G86,IF(AND($G86>='관리자 Setting'!$P$15,$H86<'관리자 Setting'!$Q$15),$H86-$G86,IF($G86>='관리자 Setting'!$Q$15,0,0))))))","v":"00:00:00"},"",{"$f":"IFERROR(VLOOKUP($F86,'관리자 Setting'!$P$18:$Q$33,2,0)/24,\"\")","v":""}]
["","",{"$f":"IFERROR(DATE(LEFT('In-Put'!$B87,4),MID('In-Put'!$B87,5,2),RIGHT('In-Put'!$B87,2)),\"\")","v":""},{"$f":"IF($C87=\"\",\"\",COUNTIFS($C$2:$C$401,C87)-COUNTIFS($C$2:C87,C87))","v":""},{"$f":"IF($C87=\"\",\"\",COUNTIFS('관리자 Setting'!$P$18:$P$33,'설정_In-Put'!$F87))","v":""},{"$f":"'In-Put'!G87","v":0},{"$f":"IFERROR(IF('In-Put'!D87*1=0,\"\",'In-Put'!D87*1),\"\")","v":""},{"$f":"IFERROR(IF('In-Put'!E87*1=0,\"\",IF('In-Put'!E87*1<G87,'In-Put'!E87*1+1,'In-Put'!E87*1)),\"\")","v":""},{"$f":"IF(OR($H87<'관리자 Setting'!$P$14,$G87>='관리자 Setting'!$Q$14),0,IF(AND($G87<'관리자 Setting'!$P$14,$H87<'관리자 Setting'!$Q$14),$H87-'관리자 Setting'!$P$14,IF(AND($G87<'관리자 Setting'!$P$14,$H87>='관리자 Setting'!$Q$14),'관리자 Setting'!$R$14,IF(AND($G87>='관리자 Setting'!$P$14,$H87>='관리자 Setting'!$Q$14),'관리자 Setting'!$Q$14-$G87,IF(AND($G87>='관리자 Setting'!$P$14,$H87<'관리자 Setting'!$Q$14),$H87-$G87,IF($G87>='관리자 Setting'!$Q$14,0,0))))))","v":"00:00:00"},{"$f":"IF(OR($H87<'관리자 Setting'!$P$15,$G87>='관리자 Setting'!$Q$15),0,IF(AND($G87<'관리자 Setting'!$P$15,$H87<'관리자 Setting'!$Q$15),$H87-'관리자 Setting'!$P$15,IF(AND($G87<'관리자 Setting'!$P$15,$H87>='관리자 Setting'!$Q$15),'관리자 Setting'!$R$15,IF(AND($G87>='관리자 Setting'!$P$15,$H87>='관리자 Setting'!$Q$15),'관리자 Setting'!$Q$15-$G87,IF(AND($G87>='관리자 Setting'!$P$15,$H87<'관리자 Setting'!$Q$15),$H87-$G87,IF($G87>='관리자 Setting'!$Q$15,0,0))))))","v":"00:00:00"},"",{"$f":"IFERROR(VLOOKUP($F87,'관리자 Setting'!$P$18:$Q$33,2,0)/24,\"\")","v":""}]
["","",{"$f":"IFERROR(DATE(LEFT('In-Put'!$B88,4),MID('In-Put'!$B88,5,2),RIGHT('In-Put'!$B88,2)),\"\")","v":""},{"$f":"IF($C88=\"\",\"\",COUNTIFS($C$2:$C$401,C88)-COUNTIFS($C$2:C88,C88))","v":""},{"$f":"IF($C88=\"\",\"\",COUNTIFS('관리자 Setting'!$P$18:$P$33,'설정_In-Put'!$F88))","v":""},{"$f":"'In-Put'!G88","v":0},{"$f":"IFERROR(IF('In-Put'!D88*1=0,\"\",'In-Put'!D88*1),\"\")","v":""},{"$f":"IFERROR(IF('In-Put'!E88*1=0,\"\",IF('In-Put'!E88*1<G88,'In-Put'!E88*1+1,'In-Put'!E88*1)),\"\")","v":""},{"$f":"IF(OR($H88<'관리자 Setting'!$P$14,$G88>='관리자 Setting'!$Q$14),0,IF(AND($G88<'관리자 Setting'!$P$14,$H88<'관리자 Setting'!$Q$14),$H88-'관리자 Setting'!$P$14,IF(AND($G88<'관리자 Setting'!$P$14,$H88>='관리자 Setting'!$Q$14),'관리자 Setting'!$R$14,IF(AND($G88>='관리자 Setting'!$P$14,$H88>='관리자 Setting'!$Q$14),'관리자 Setting'!$Q$14-$G88,IF(AND($G88>='관리자 Setting'!$P$14,$H88<'관리자 Setting'!$Q$14),$H88-$G88,IF($G88>='관리자 Setting'!$Q$14,0,0))))))","v":"00:00:00"},{"$f":"IF(OR($H88<'관리자 Setting'!$P$15,$G88>='관리자 Setting'!$Q$15),0,IF(AND($G88<'관리자 Setting'!$P$15,$H88<'관리자 Setting'!$Q$15),$H88-'관리자 Setting'!$P$15,IF(AND($G88<'관리자 Setting'!$P$15,$H88>='관리자 Setting'!$Q$15),'관리자 Setting'!$R$15,IF(AND($G88>='관리자 Setting'!$P$15,$H88>='관리자 Setting'!$Q$15),'관리자 Setting'!$Q$15-$G88,IF(AND($G88>='관리자 Setting'!$P$15,$H88<'관리자 Setting'!$Q$15),$H88-$G88,IF($G88>='관리자 Setting'!$Q$15,0,0))))))","v":"00:00:00"},"",{"$f":"IFERROR(VLOOKUP($F88,'관리자 Setting'!$P$18:$Q$33,2,0)/24,\"\")","v":""}]
["","",{"$f":"IFERROR(DATE(LEFT('In-Put'!$B89,4),MID('In-Put'!$B89,5,2),RIGHT('In-Put'!$B89,2)),\"\")","v":""},{"$f":"IF($C89=\"\",\"\",COUNTIFS($C$2:$C$401,C89)-COUNTIFS($C$2:C89,C89))","v":""},{"$f":"IF($C89=\"\",\"\",COUNTIFS('관리자 Setting'!$P$18:$P$33,'설정_In-Put'!$F89))","v":""},{"$f":"'In-Put'!G89","v":0},{"$f":"IFERROR(IF('In-Put'!D89*1=0,\"\",'In-Put'!D89*1),\"\")","v":""},{"$f":"IFERROR(IF('In-Put'!E89*1=0,\"\",IF('In-Put'!E89*1<G89,'In-Put'!E89*1+1,'In-Put'!E89*1)),\"\")","v":""},{"$f":"IF(OR($H89<'관리자 Setting'!$P$14,$G89>='관리자 Setting'!$Q$14),0,IF(AND($G89<'관리자 Setting'!$P$14,$H89<'관리자 Setting'!$Q$14),$H89-'관리자 Setting'!$P$14,IF(AND($G89<'관리자 Setting'!$P$14,$H89>='관리자 Setting'!$Q$14),'관리자 Setting'!$R$14,IF(AND($G89>='관리자 Setting'!$P$14,$H89>='관리자 Setting'!$Q$14),'관리자 Setting'!$Q$14-$G89,IF(AND($G89>='관리자 Setting'!$P$14,$H89<'관리자 Setting'!$Q$14),$H89-$G89,IF($G89>='관리자 Setting'!$Q$14,0,0))))))","v":"00:00:00"},{"$f":"IF(OR($H89<'관리자 Setting'!$P$15,$G89>='관리자 Setting'!$Q$15),0,IF(AND($G89<'관리자 Setting'!$P$15,$H89<'관리자 Setting'!$Q$15),$H89-'관리자 Setting'!$P$15,IF(AND($G89<'관리자 Setting'!$P$15,$H89>='관리자 Setting'!$Q$15),'관리자 Setting'!$R$15,IF(AND($G89>='관리자 Setting'!$P$15,$H89>='관리자 Setting'!$Q$15),'관리자 Setting'!$Q$15-$G89,IF(AND($G89>='관리자 Setting'!$P$15,$H89<'관리자 Setting'!$Q$15),$H89-$G89,IF($G89>='관리자 Setting'!$Q$15,0,0))))))","v":"00:00:00"},"",{"$f":"IFERROR(VLOOKUP($F89,'관리자 Setting'!$P$18:$Q$33,2,0)/24,\"\")","v":""}]
["","",{"$f":"IFERROR(DATE(LEFT('In-Put'!$B90,4),MID('In-Put'!$B90,5,2),RIGHT('In-Put'!$B90,2)),\"\")","v":""},{"$f":"IF($C90=\"\",\"\",COUNTIFS($C$2:$C$401,C90)-COUNTIFS($C$2:C90,C90))","v":""},{"$f":"IF($C90=\"\",\"\",COUNTIFS('관리자 Setting'!$P$18:$P$33,'설정_In-Put'!$F90))","v":""},{"$f":"'In-Put'!G90","v":0},{"$f":"IFERROR(IF('In-Put'!D90*1=0,\"\",'In-Put'!D90*1),\"\")","v":""},{"$f":"IFERROR(IF('In-Put'!E90*1=0,\"\",IF('In-Put'!E90*1<G90,'In-Put'!E90*1+1,'In-Put'!E90*1)),\"\")","v":""},{"$f":"IF(OR($H90<'관리자 Setting'!$P$14,$G90>='관리자 Setting'!$Q$14),0,IF(AND($G90<'관리자 Setting'!$P$14,$H90<'관리자 Setting'!$Q$14),$H90-'관리자 Setting'!$P$14,IF(AND($G90<'관리자 Setting'!$P$14,$H90>='관리자 Setting'!$Q$14),'관리자 Setting'!$R$14,IF(AND($G90>='관리자 Setting'!$P$14,$H90>='관리자 Setting'!$Q$14),'관리자 Setting'!$Q$14-$G90,IF(AND($G90>='관리자 Setting'!$P$14,$H90<'관리자 Setting'!$Q$14),$H90-$G90,IF($G90>='관리자 Setting'!$Q$14,0,0))))))","v":"00:00:00"},{"$f":"IF(OR($H90<'관리자 Setting'!$P$15,$G90>='관리자 Setting'!$Q$15),0,IF(AND($G90<'관리자 Setting'!$P$15,$H90<'관리자 Setting'!$Q$15),$H90-'관리자 Setting'!$P$15,IF(AND($G90<'관리자 Setting'!$P$15,$H90>='관리자 Setting'!$Q$15),'관리자 Setting'!$R$15,IF(AND($G90>='관리자 Setting'!$P$15,$H90>='관리자 Setting'!$Q$15),'관리자 Setting'!$Q$15-$G90,IF(AND($G90>='관리자 Setting'!$P$15,$H90<'관리자 Setting'!$Q$15),$H90-$G90,IF($G90>='관리자 Setting'!$Q$15,0,0))))))","v":"00:00:00"},"",{"$f":"IFERROR(VLOOKUP($F90,'관리자 Setting'!$P$18:$Q$33,2,0)/24,\"\")","v":""}]
["","",{"$f":"IFERROR(DATE(LEFT('In-Put'!$B91,4),MID('In-Put'!$B91,5,2),RIGHT('In-Put'!$B91,2)),\"\")","v":""},{"$f":"IF($C91=\"\",\"\",COUNTIFS($C$2:$C$401,C91)-COUNTIFS($C$2:C91,C91))","v":""},{"$f":"IF($C91=\"\",\"\",COUNTIFS('관리자 Setting'!$P$18:$P$33,'설정_In-Put'!$F91))","v":""},{"$f":"'In-Put'!G91","v":0},{"$f":"IFERROR(IF('In-Put'!D91*1=0,\"\",'In-Put'!D91*1),\"\")","v":""},{"$f":"IFERROR(IF('In-Put'!E91*1=0,\"\",IF('In-Put'!E91*1<G91,'In-Put'!E91*1+1,'In-Put'!E91*1)),\"\")","v":""},{"$f":"IF(OR($H91<'관리자 Setting'!$P$14,$G91>='관리자 Setting'!$Q$14),0,IF(AND($G91<'관리자 Setting'!$P$14,$H91<'관리자 Setting'!$Q$14),$H91-'관리자 Setting'!$P$14,IF(AND($G91<'관리자 Setting'!$P$14,$H91>='관리자 Setting'!$Q$14),'관리자 Setting'!$R$14,IF(AND($G91>='관리자 Setting'!$P$14,$H91>='관리자 Setting'!$Q$14),'관리자 Setting'!$Q$14-$G91,IF(AND($G91>='관리자 Setting'!$P$14,$H91<'관리자 Setting'!$Q$14),$H91-$G91,IF($G91>='관리자 Setting'!$Q$14,0,0))))))","v":"00:00:00"},{"$f":"IF(OR($H91<'관리자 Setting'!$P$15,$G91>='관리자 Setting'!$Q$15),0,IF(AND($G91<'관리자 Setting'!$P$15,$H91<'관리자 Setting'!$Q$15),$H91-'관리자 Setting'!$P$15,IF(AND($G91<'관리자 Setting'!$P$15,$H91>='관리자 Setting'!$Q$15),'관리자 Setting'!$R$15,IF(AND($G91>='관리자 Setting'!$P$15,$H91>='관리자 Setting'!$Q$15),'관리자 Setting'!$Q$15-$G91,IF(AND($G91>='관리자 Setting'!$P$15,$H91<'관리자 Setting'!$Q$15),$H91-$G91,IF($G91>='관리자 Setting'!$Q$15,0,0))))))","v":"00:00:00"},"",{"$f":"IFERROR(VLOOKUP($F91,'관리자 Setting'!$P$18:$Q$33,2,0)/24,\"\")","v":""}]
["","",{"$f":"IFERROR(DATE(LEFT('In-Put'!$B92,4),MID('In-Put'!$B92,5,2),RIGHT('In-Put'!$B92,2)),\"\")","v":""},{"$f":"IF($C92=\"\",\"\",COUNTIFS($C$2:$C$401,C92)-COUNTIFS($C$2:C92,C92))","v":""},{"$f":"IF($C92=\"\",\"\",COUNTIFS('관리자 Setting'!$P$18:$P$33,'설정_In-Put'!$F92))","v":""},{"$f":"'In-Put'!G92","v":0},{"$f":"IFERROR(IF('In-Put'!D92*1=0,\"\",'In-Put'!D92*1),\"\")","v":""},{"$f":"IFERROR(IF('In-Put'!E92*1=0,\"\",IF('In-Put'!E92*1<G92,'In-Put'!E92*1+1,'In-Put'!E92*1)),\"\")","v":""},{"$f":"IF(OR($H92<'관리자 Setting'!$P$14,$G92>='관리자 Setting'!$Q$14),0,IF(AND($G92<'관리자 Setting'!$P$14,$H92<'관리자 Setting'!$Q$14),$H92-'관리자 Setting'!$P$14,IF(AND($G92<'관리자 Setting'!$P$14,$H92>='관리자 Setting'!$Q$14),'관리자 Setting'!$R$14,IF(AND($G92>='관리자 Setting'!$P$14,$H92>='관리자 Setting'!$Q$14),'관리자 Setting'!$Q$14-$G92,IF(AND($G92>='관리자 Setting'!$P$14,$H92<'관리자 Setting'!$Q$14),$H92-$G92,IF($G92>='관리자 Setting'!$Q$14,0,0))))))","v":"00:00:00"},{"$f":"IF(OR($H92<'관리자 Setting'!$P$15,$G92>='관리자 Setting'!$Q$15),0,IF(AND($G92<'관리자 Setting'!$P$15,$H92<'관리자 Setting'!$Q$15),$H92-'관리자 Setting'!$P$15,IF(AND($G92<'관리자 Setting'!$P$15,$H92>='관리자 Setting'!$Q$15),'관리자 Setting'!$R$15,IF(AND($G92>='관리자 Setting'!$P$15,$H92>='관리자 Setting'!$Q$15),'관리자 Setting'!$Q$15-$G92,IF(AND($G92>='관리자 Setting'!$P$15,$H92<'관리자 Setting'!$Q$15),$H92-$G92,IF($G92>='관리자 Setting'!$Q$15,0,0))))))","v":"00:00:00"},"",{"$f":"IFERROR(VLOOKUP($F92,'관리자 Setting'!$P$18:$Q$33,2,0)/24,\"\")","v":""}]
["","",{"$f":"IFERROR(DATE(LEFT('In-Put'!$B93,4),MID('In-Put'!$B93,5,2),RIGHT('In-Put'!$B93,2)),\"\")","v":""},{"$f":"IF($C93=\"\",\"\",COUNTIFS($C$2:$C$401,C93)-COUNTIFS($C$2:C93,C93))","v":""},{"$f":"IF($C93=\"\",\"\",COUNTIFS('관리자 Setting'!$P$18:$P$33,'설정_In-Put'!$F93))","v":""},{"$f":"'In-Put'!G93","v":0},{"$f":"IFERROR(IF('In-Put'!D93*1=0,\"\",'In-Put'!D93*1),\"\")","v":""},{"$f":"IFERROR(IF('In-Put'!E93*1=0,\"\",IF('In-Put'!E93*1<G93,'In-Put'!E93*1+1,'In-Put'!E93*1)),\"\")","v":""},{"$f":"IF(OR($H93<'관리자 Setting'!$P$14,$G93>='관리자 Setting'!$Q$14),0,IF(AND($G93<'관리자 Setting'!$P$14,$H93<'관리자 Setting'!$Q$14),$H93-'관리자 Setting'!$P$14,IF(AND($G93<'관리자 Setting'!$P$14,$H93>='관리자 Setting'!$Q$14),'관리자 Setting'!$R$14,IF(AND($G93>='관리자 Setting'!$P$14,$H93>='관리자 Setting'!$Q$14),'관리자 Setting'!$Q$14-$G93,IF(AND($G93>='관리자 Setting'!$P$14,$H93<'관리자 Setting'!$Q$14),$H93-$G93,IF($G93>='관리자 Setting'!$Q$14,0,0))))))","v":"00:00:00"},{"$f":"IF(OR($H93<'관리자 Setting'!$P$15,$G93>='관리자 Setting'!$Q$15),0,IF(AND($G93<'관리자 Setting'!$P$15,$H93<'관리자 Setting'!$Q$15),$H93-'관리자 Setting'!$P$15,IF(AND($G93<'관리자 Setting'!$P$15,$H93>='관리자 Setting'!$Q$15),'관리자 Setting'!$R$15,IF(AND($G93>='관리자 Setting'!$P$15,$H93>='관리자 Setting'!$Q$15),'관리자 Setting'!$Q$15-$G93,IF(AND($G93>='관리자 Setting'!$P$15,$H93<'관리자 Setting'!$Q$15),$H93-$G93,IF($G93>='관리자 Setting'!$Q$15,0,0))))))","v":"00:00:00"},"",{"$f":"IFERROR(VLOOKUP($F93,'관리자 Setting'!$P$18:$Q$33,2,0)/24,\"\")","v":""}]
["","",{"$f":"IFERROR(DATE(LEFT('In-Put'!$B94,4),MID('In-Put'!$B94,5,2),RIGHT('In-Put'!$B94,2)),\"\")","v":""},{"$f":"IF($C94=\"\",\"\",COUNTIFS($C$2:$C$401,C94)-COUNTIFS($C$2:C94,C94))","v":""},{"$f":"IF($C94=\"\",\"\",COUNTIFS('관리자 Setting'!$P$18:$P$33,'설정_In-Put'!$F94))","v":""},{"$f":"'In-Put'!G94","v":0},{"$f":"IFERROR(IF('In-Put'!D94*1=0,\"\",'In-Put'!D94*1),\"\")","v":""},{"$f":"IFERROR(IF('In-Put'!E94*1=0,\"\",IF('In-Put'!E94*1<G94,'In-Put'!E94*1+1,'In-Put'!E94*1)),\"\")","v":""},{"$f":"IF(OR($H94<'관리자 Setting'!$P$14,$G94>='관리자 Setting'!$Q$14),0,IF(AND($G94<'관리자 Setting'!$P$14,$H94<'관리자 Setting'!$Q$14),$H94-'관리자 Setting'!$P$14,IF(AND($G94<'관리자 Setting'!$P$14,$H94>='관리자 Setting'!$Q$14),'관리자 Setting'!$R$14,IF(AND($G94>='관리자 Setting'!$P$14,$H94>='관리자 Setting'!$Q$14),'관리자 Setting'!$Q$14-$G94,IF(AND($G94>='관리자 Setting'!$P$14,$H94<'관리자 Setting'!$Q$14),$H94-$G94,IF($G94>='관리자 Setting'!$Q$14,0,0))))))","v":"00:00:00"},{"$f":"IF(OR($H94<'관리자 Setting'!$P$15,$G94>='관리자 Setting'!$Q$15),0,IF(AND($G94<'관리자 Setting'!$P$15,$H94<'관리자 Setting'!$Q$15),$H94-'관리자 Setting'!$P$15,IF(AND($G94<'관리자 Setting'!$P$15,$H94>='관리자 Setting'!$Q$15),'관리자 Setting'!$R$15,IF(AND($G94>='관리자 Setting'!$P$15,$H94>='관리자 Setting'!$Q$15),'관리자 Setting'!$Q$15-$G94,IF(AND($G94>='관리자 Setting'!$P$15,$H94<'관리자 Setting'!$Q$15),$H94-$G94,IF($G94>='관리자 Setting'!$Q$15,0,0))))))","v":"00:00:00"},"",{"$f":"IFERROR(VLOOKUP($F94,'관리자 Setting'!$P$18:$Q$33,2,0)/24,\"\")","v":""}]
["","",{"$f":"IFERROR(DATE(LEFT('In-Put'!$B95,4),MID('In-Put'!$B95,5,2),RIGHT('In-Put'!$B95,2)),\"\")","v":""},{"$f":"IF($C95=\"\",\"\",COUNTIFS($C$2:$C$401,C95)-COUNTIFS($C$2:C95,C95))","v":""},{"$f":"IF($C95=\"\",\"\",COUNTIFS('관리자 Setting'!$P$18:$P$33,'설정_In-Put'!$F95))","v":""},{"$f":"'In-Put'!G95","v":0},{"$f":"IFERROR(IF('In-Put'!D95*1=0,\"\",'In-Put'!D95*1),\"\")","v":""},{"$f":"IFERROR(IF('In-Put'!E95*1=0,\"\",IF('In-Put'!E95*1<G95,'In-Put'!E95*1+1,'In-Put'!E95*1)),\"\")","v":""},{"$f":"IF(OR($H95<'관리자 Setting'!$P$14,$G95>='관리자 Setting'!$Q$14),0,IF(AND($G95<'관리자 Setting'!$P$14,$H95<'관리자 Setting'!$Q$14),$H95-'관리자 Setting'!$P$14,IF(AND($G95<'관리자 Setting'!$P$14,$H95>='관리자 Setting'!$Q$14),'관리자 Setting'!$R$14,IF(AND($G95>='관리자 Setting'!$P$14,$H95>='관리자 Setting'!$Q$14),'관리자 Setting'!$Q$14-$G95,IF(AND($G95>='관리자 Setting'!$P$14,$H95<'관리자 Setting'!$Q$14),$H95-$G95,IF($G95>='관리자 Setting'!$Q$14,0,0))))))","v":"00:00:00"},{"$f":"IF(OR($H95<'관리자 Setting'!$P$15,$G95>='관리자 Setting'!$Q$15),0,IF(AND($G95<'관리자 Setting'!$P$15,$H95<'관리자 Setting'!$Q$15),$H95-'관리자 Setting'!$P$15,IF(AND($G95<'관리자 Setting'!$P$15,$H95>='관리자 Setting'!$Q$15),'관리자 Setting'!$R$15,IF(AND($G95>='관리자 Setting'!$P$15,$H95>='관리자 Setting'!$Q$15),'관리자 Setting'!$Q$15-$G95,IF(AND($G95>='관리자 Setting'!$P$15,$H95<'관리자 Setting'!$Q$15),$H95-$G95,IF($G95>='관리자 Setting'!$Q$15,0,0))))))","v":"00:00:00"},"",{"$f":"IFERROR(VLOOKUP($F95,'관리자 Setting'!$P$18:$Q$33,2,0)/24,\"\")","v":""}]
["","",{"$f":"IFERROR(DATE(LEFT('In-Put'!$B96,4),MID('In-Put'!$B96,5,2),RIGHT('In-Put'!$B96,2)),\"\")","v":""},{"$f":"IF($C96=\"\",\"\",COUNTIFS($C$2:$C$401,C96)-COUNTIFS($C$2:C96,C96))","v":""},{"$f":"IF($C96=\"\",\"\",COUNTIFS('관리자 Setting'!$P$18:$P$33,'설정_In-Put'!$F96))","v":""},{"$f":"'In-Put'!G96","v":0},{"$f":"IFERROR(IF('In-Put'!D96*1=0,\"\",'In-Put'!D96*1),\"\")","v":""},{"$f":"IFERROR(IF('In-Put'!E96*1=0,\"\",IF('In-Put'!E96*1<G96,'In-Put'!E96*1+1,'In-Put'!E96*1)),\"\")","v":""},{"$f":"IF(OR($H96<'관리자 Setting'!$P$14,$G96>='관리자 Setting'!$Q$14),0,IF(AND($G96<'관리자 Setting'!$P$14,$H96<'관리자 Setting'!$Q$14),$H96-'관리자 Setting'!$P$14,IF(AND($G96<'관리자 Setting'!$P$14,$H96>='관리자 Setting'!$Q$14),'관리자 Setting'!$R$14,IF(AND($G96>='관리자 Setting'!$P$14,$H96>='관리자 Setting'!$Q$14),'관리자 Setting'!$Q$14-$G96,IF(AND($G96>='관리자 Setting'!$P$14,$H96<'관리자 Setting'!$Q$14),$H96-$G96,IF($G96>='관리자 Setting'!$Q$14,0,0))))))","v":"00:00:00"},{"$f":"IF(OR($H96<'관리자 Setting'!$P$15,$G96>='관리자 Setting'!$Q$15),0,IF(AND($G96<'관리자 Setting'!$P$15,$H96<'관리자 Setting'!$Q$15),$H96-'관리자 Setting'!$P$15,IF(AND($G96<'관리자 Setting'!$P$15,$H96>='관리자 Setting'!$Q$15),'관리자 Setting'!$R$15,IF(AND($G96>='관리자 Setting'!$P$15,$H96>='관리자 Setting'!$Q$15),'관리자 Setting'!$Q$15-$G96,IF(AND($G96>='관리자 Setting'!$P$15,$H96<'관리자 Setting'!$Q$15),$H96-$G96,IF($G96>='관리자 Setting'!$Q$15,0,0))))))","v":"00:00:00"},"",{"$f":"IFERROR(VLOOKUP($F96,'관리자 Setting'!$P$18:$Q$33,2,0)/24,\"\")","v":""}]
["","",{"$f":"IFERROR(DATE(LEFT('In-Put'!$B97,4),MID('In-Put'!$B97,5,2),RIGHT('In-Put'!$B97,2)),\"\")","v":""},{"$f":"IF($C97=\"\",\"\",COUNTIFS($C$2:$C$401,C97)-COUNTIFS($C$2:C97,C97))","v":""},{"$f":"IF($C97=\"\",\"\",COUNTIFS('관리자 Setting'!$P$18:$P$33,'설정_In-Put'!$F97))","v":""},{"$f":"'In-Put'!G97","v":0},{"$f":"IFERROR(IF('In-Put'!D97*1=0,\"\",'In-Put'!D97*1),\"\")","v":""},{"$f":"IFERROR(IF('In-Put'!E97*1=0,\"\",IF('In-Put'!E97*1<G97,'In-Put'!E97*1+1,'In-Put'!E97*1)),\"\")","v":""},{"$f":"IF(OR($H97<'관리자 Setting'!$P$14,$G97>='관리자 Setting'!$Q$14),0,IF(AND($G97<'관리자 Setting'!$P$14,$H97<'관리자 Setting'!$Q$14),$H97-'관리자 Setting'!$P$14,IF(AND($G97<'관리자 Setting'!$P$14,$H97>='관리자 Setting'!$Q$14),'관리자 Setting'!$R$14,IF(AND($G97>='관리자 Setting'!$P$14,$H97>='관리자 Setting'!$Q$14),'관리자 Setting'!$Q$14-$G97,IF(AND($G97>='관리자 Setting'!$P$14,$H97<'관리자 Setting'!$Q$14),$H97-$G97,IF($G97>='관리자 Setting'!$Q$14,0,0))))))","v":"00:00:00"},{"$f":"IF(OR($H97<'관리자 Setting'!$P$15,$G97>='관리자 Setting'!$Q$15),0,IF(AND($G97<'관리자 Setting'!$P$15,$H97<'관리자 Setting'!$Q$15),$H97-'관리자 Setting'!$P$15,IF(AND($G97<'관리자 Setting'!$P$15,$H97>='관리자 Setting'!$Q$15),'관리자 Setting'!$R$15,IF(AND($G97>='관리자 Setting'!$P$15,$H97>='관리자 Setting'!$Q$15),'관리자 Setting'!$Q$15-$G97,IF(AND($G97>='관리자 Setting'!$P$15,$H97<'관리자 Setting'!$Q$15),$H97-$G97,IF($G97>='관리자 Setting'!$Q$15,0,0))))))","v":"00:00:00"},"",{"$f":"IFERROR(VLOOKUP($F97,'관리자 Setting'!$P$18:$Q$33,2,0)/24,\"\")","v":""}]
["","",{"$f":"IFERROR(DATE(LEFT('In-Put'!$B98,4),MID('In-Put'!$B98,5,2),RIGHT('In-Put'!$B98,2)),\"\")","v":""},{"$f":"IF($C98=\"\",\"\",COUNTIFS($C$2:$C$401,C98)-COUNTIFS($C$2:C98,C98))","v":""},{"$f":"IF($C98=\"\",\"\",COUNTIFS('관리자 Setting'!$P$18:$P$33,'설정_In-Put'!$F98))","v":""},{"$f":"'In-Put'!G98","v":0},{"$f":"IFERROR(IF('In-Put'!D98*1=0,\"\",'In-Put'!D98*1),\"\")","v":""},{"$f":"IFERROR(IF('In-Put'!E98*1=0,\"\",IF('In-Put'!E98*1<G98,'In-Put'!E98*1+1,'In-Put'!E98*1)),\"\")","v":""},{"$f":"IF(OR($H98<'관리자 Setting'!$P$14,$G98>='관리자 Setting'!$Q$14),0,IF(AND($G98<'관리자 Setting'!$P$14,$H98<'관리자 Setting'!$Q$14),$H98-'관리자 Setting'!$P$14,IF(AND($G98<'관리자 Setting'!$P$14,$H98>='관리자 Setting'!$Q$14),'관리자 Setting'!$R$14,IF(AND($G98>='관리자 Setting'!$P$14,$H98>='관리자 Setting'!$Q$14),'관리자 Setting'!$Q$14-$G98,IF(AND($G98>='관리자 Setting'!$P$14,$H98<'관리자 Setting'!$Q$14),$H98-$G98,IF($G98>='관리자 Setting'!$Q$14,0,0))))))","v":"00:00:00"},{"$f":"IF(OR($H98<'관리자 Setting'!$P$15,$G98>='관리자 Setting'!$Q$15),0,IF(AND($G98<'관리자 Setting'!$P$15,$H98<'관리자 Setting'!$Q$15),$H98-'관리자 Setting'!$P$15,IF(AND($G98<'관리자 Setting'!$P$15,$H98>='관리자 Setting'!$Q$15),'관리자 Setting'!$R$15,IF(AND($G98>='관리자 Setting'!$P$15,$H98>='관리자 Setting'!$Q$15),'관리자 Setting'!$Q$15-$G98,IF(AND($G98>='관리자 Setting'!$P$15,$H98<'관리자 Setting'!$Q$15),$H98-$G98,IF($G98>='관리자 Setting'!$Q$15,0,0))))))","v":"00:00:00"},"",{"$f":"IFERROR(VLOOKUP($F98,'관리자 Setting'!$P$18:$Q$33,2,0)/24,\"\")","v":""}]
["","",{"$f":"IFERROR(DATE(LEFT('In-Put'!$B99,4),MID('In-Put'!$B99,5,2),RIGHT('In-Put'!$B99,2)),\"\")","v":""},{"$f":"IF($C99=\"\",\"\",COUNTIFS($C$2:$C$401,C99)-COUNTIFS($C$2:C99,C99))","v":""},{"$f":"IF($C99=\"\",\"\",COUNTIFS('관리자 Setting'!$P$18:$P$33,'설정_In-Put'!$F99))","v":""},{"$f":"'In-Put'!G99","v":0},{"$f":"IFERROR(IF('In-Put'!D99*1=0,\"\",'In-Put'!D99*1),\"\")","v":""},{"$f":"IFERROR(IF('In-Put'!E99*1=0,\"\",IF('In-Put'!E99*1<G99,'In-Put'!E99*1+1,'In-Put'!E99*1)),\"\")","v":""},{"$f":"IF(OR($H99<'관리자 Setting'!$P$14,$G99>='관리자 Setting'!$Q$14),0,IF(AND($G99<'관리자 Setting'!$P$14,$H99<'관리자 Setting'!$Q$14),$H99-'관리자 Setting'!$P$14,IF(AND($G99<'관리자 Setting'!$P$14,$H99>='관리자 Setting'!$Q$14),'관리자 Setting'!$R$14,IF(AND($G99>='관리자 Setting'!$P$14,$H99>='관리자 Setting'!$Q$14),'관리자 Setting'!$Q$14-$G99,IF(AND($G99>='관리자 Setting'!$P$14,$H99<'관리자 Setting'!$Q$14),$H99-$G99,IF($G99>='관리자 Setting'!$Q$14,0,0))))))","v":"00:00:00"},{"$f":"IF(OR($H99<'관리자 Setting'!$P$15,$G99>='관리자 Setting'!$Q$15),0,IF(AND($G99<'관리자 Setting'!$P$15,$H99<'관리자 Setting'!$Q$15),$H99-'관리자 Setting'!$P$15,IF(AND($G99<'관리자 Setting'!$P$15,$H99>='관리자 Setting'!$Q$15),'관리자 Setting'!$R$15,IF(AND($G99>='관리자 Setting'!$P$15,$H99>='관리자 Setting'!$Q$15),'관리자 Setting'!$Q$15-$G99,IF(AND($G99>='관리자 Setting'!$P$15,$H99<'관리자 Setting'!$Q$15),$H99-$G99,IF($G99>='관리자 Setting'!$Q$15,0,0))))))","v":"00:00:00"},"",{"$f":"IFERROR(VLOOKUP($F99,'관리자 Setting'!$P$18:$Q$33,2,0)/24,\"\")","v":""}]
["","",{"$f":"IFERROR(DATE(LEFT('In-Put'!$B100,4),MID('In-Put'!$B100,5,2),RIGHT('In-Put'!$B100,2)),\"\")","v":""},{"$f":"IF($C100=\"\",\"\",COUNTIFS($C$2:$C$401,C100)-COUNTIFS($C$2:C100,C100))","v":""},{"$f":"IF($C100=\"\",\"\",COUNTIFS('관리자 Setting'!$P$18:$P$33,'설정_In-Put'!$F100))","v":""},{"$f":"'In-Put'!G100","v":0},{"$f":"IFERROR(IF('In-Put'!D100*1=0,\"\",'In-Put'!D100*1),\"\")","v":""},{"$f":"IFERROR(IF('In-Put'!E100*1=0,\"\",IF('In-Put'!E100*1<G100,'In-Put'!E100*1+1,'In-Put'!E100*1)),\"\")","v":""},{"$f":"IF(OR($H100<'관리자 Setting'!$P$14,$G100>='관리자 Setting'!$Q$14),0,IF(AND($G100<'관리자 Setting'!$P$14,$H100<'관리자 Setting'!$Q$14),$H100-'관리자 Setting'!$P$14,IF(AND($G100<'관리자 Setting'!$P$14,$H100>='관리자 Setting'!$Q$14),'관리자 Setting'!$R$14,IF(AND($G100>='관리자 Setting'!$P$14,$H100>='관리자 Setting'!$Q$14),'관리자 Setting'!$Q$14-$G100,IF(AND($G100>='관리자 Setting'!$P$14,$H100<'관리자 Setting'!$Q$14),$H100-$G100,IF($G100>='관리자 Setting'!$Q$14,0,0))))))","v":"00:00:00"},{"$f":"IF(OR($H100<'관리자 Setting'!$P$15,$G100>='관리자 Setting'!$Q$15),0,IF(AND($G100<'관리자 Setting'!$P$15,$H100<'관리자 Setting'!$Q$15),$H100-'관리자 Setting'!$P$15,IF(AND($G100<'관리자 Setting'!$P$15,$H100>='관리자 Setting'!$Q$15),'관리자 Setting'!$R$15,IF(AND($G100>='관리자 Setting'!$P$15,$H100>='관리자 Setting'!$Q$15),'관리자 Setting'!$Q$15-$G100,IF(AND($G100>='관리자 Setting'!$P$15,$H100<'관리자 Setting'!$Q$15),$H100-$G100,IF($G100>='관리자 Setting'!$Q$15,0,0))))))","v":"00:00:00"},"",{"$f":"IFERROR(VLOOKUP($F100,'관리자 Setting'!$P$18:$Q$33,2,0)/24,\"\")","v":""}]
["","",{"$f":"IFERROR(DATE(LEFT('In-Put'!$B101,4),MID('In-Put'!$B101,5,2),RIGHT('In-Put'!$B101,2)),\"\")","v":""},{"$f":"IF($C101=\"\",\"\",COUNTIFS($C$2:$C$401,C101)-COUNTIFS($C$2:C101,C101))","v":""},{"$f":"IF($C101=\"\",\"\",COUNTIFS('관리자 Setting'!$P$18:$P$33,'설정_In-Put'!$F101))","v":""},{"$f":"'In-Put'!G101","v":0},{"$f":"IFERROR(IF('In-Put'!D101*1=0,\"\",'In-Put'!D101*1),\"\")","v":""},{"$f":"IFERROR(IF('In-Put'!E101*1=0,\"\",IF('In-Put'!E101*1<G101,'In-Put'!E101*1+1,'In-Put'!E101*1)),\"\")","v":""},{"$f":"IF(OR($H101<'관리자 Setting'!$P$14,$G101>='관리자 Setting'!$Q$14),0,IF(AND($G101<'관리자 Setting'!$P$14,$H101<'관리자 Setting'!$Q$14),$H101-'관리자 Setting'!$P$14,IF(AND($G101<'관리자 Setting'!$P$14,$H101>='관리자 Setting'!$Q$14),'관리자 Setting'!$R$14,IF(AND($G101>='관리자 Setting'!$P$14,$H101>='관리자 Setting'!$Q$14),'관리자 Setting'!$Q$14-$G101,IF(AND($G101>='관리자 Setting'!$P$14,$H101<'관리자 Setting'!$Q$14),$H101-$G101,IF($G101>='관리자 Setting'!$Q$14,0,0))))))","v":"00:00:00"},{"$f":"IF(OR($H101<'관리자 Setting'!$P$15,$G101>='관리자 Setting'!$Q$15),0,IF(AND($G101<'관리자 Setting'!$P$15,$H101<'관리자 Setting'!$Q$15),$H101-'관리자 Setting'!$P$15,IF(AND($G101<'관리자 Setting'!$P$15,$H101>='관리자 Setting'!$Q$15),'관리자 Setting'!$R$15,IF(AND($G101>='관리자 Setting'!$P$15,$H101>='관리자 Setting'!$Q$15),'관리자 Setting'!$Q$15-$G101,IF(AND($G101>='관리자 Setting'!$P$15,$H101<'관리자 Setting'!$Q$15),$H101-$G101,IF($G101>='관리자 Setting'!$Q$15,0,0))))))","v":"00:00:00"},"",{"$f":"IFERROR(VLOOKUP($F101,'관리자 Setting'!$P$18:$Q$33,2,0)/24,\"\")","v":""}]
["","",{"$f":"IFERROR(DATE(LEFT('In-Put'!$B102,4),MID('In-Put'!$B102,5,2),RIGHT('In-Put'!$B102,2)),\"\")","v":""},{"$f":"IF($C102=\"\",\"\",COUNTIFS($C$2:$C$401,C102)-COUNTIFS($C$2:C102,C102))","v":""},{"$f":"IF($C102=\"\",\"\",COUNTIFS('관리자 Setting'!$P$18:$P$33,'설정_In-Put'!$F102))","v":""},{"$f":"'In-Put'!G102","v":0},{"$f":"IFERROR(IF('In-Put'!D102*1=0,\"\",'In-Put'!D102*1),\"\")","v":""},{"$f":"IFERROR(IF('In-Put'!E102*1=0,\"\",IF('In-Put'!E102*1<G102,'In-Put'!E102*1+1,'In-Put'!E102*1)),\"\")","v":""},{"$f":"IF(OR($H102<'관리자 Setting'!$P$14,$G102>='관리자 Setting'!$Q$14),0,IF(AND($G102<'관리자 Setting'!$P$14,$H102<'관리자 Setting'!$Q$14),$H102-'관리자 Setting'!$P$14,IF(AND($G102<'관리자 Setting'!$P$14,$H102>='관리자 Setting'!$Q$14),'관리자 Setting'!$R$14,IF(AND($G102>='관리자 Setting'!$P$14,$H102>='관리자 Setting'!$Q$14),'관리자 Setting'!$Q$14-$G102,IF(AND($G102>='관리자 Setting'!$P$14,$H102<'관리자 Setting'!$Q$14),$H102-$G102,IF($G102>='관리자 Setting'!$Q$14,0,0))))))","v":"00:00:00"},{"$f":"IF(OR($H102<'관리자 Setting'!$P$15,$G102>='관리자 Setting'!$Q$15),0,IF(AND($G102<'관리자 Setting'!$P$15,$H102<'관리자 Setting'!$Q$15),$H102-'관리자 Setting'!$P$15,IF(AND($G102<'관리자 Setting'!$P$15,$H102>='관리자 Setting'!$Q$15),'관리자 Setting'!$R$15,IF(AND($G102>='관리자 Setting'!$P$15,$H102>='관리자 Setting'!$Q$15),'관리자 Setting'!$Q$15-$G102,IF(AND($G102>='관리자 Setting'!$P$15,$H102<'관리자 Setting'!$Q$15),$H102-$G102,IF($G102>='관리자 Setting'!$Q$15,0,0))))))","v":"00:00:00"},"",{"$f":"IFERROR(VLOOKUP($F102,'관리자 Setting'!$P$18:$Q$33,2,0)/24,\"\")","v":""}]
["","",{"$f":"IFERROR(DATE(LEFT('In-Put'!$B103,4),MID('In-Put'!$B103,5,2),RIGHT('In-Put'!$B103,2)),\"\")","v":""},{"$f":"IF($C103=\"\",\"\",COUNTIFS($C$2:$C$401,C103)-COUNTIFS($C$2:C103,C103))","v":""},{"$f":"IF($C103=\"\",\"\",COUNTIFS('관리자 Setting'!$P$18:$P$33,'설정_In-Put'!$F103))","v":""},{"$f":"'In-Put'!G103","v":0},{"$f":"IFERROR(IF('In-Put'!D103*1=0,\"\",'In-Put'!D103*1),\"\")","v":""},{"$f":"IFERROR(IF('In-Put'!E103*1=0,\"\",IF('In-Put'!E103*1<G103,'In-Put'!E103*1+1,'In-Put'!E103*1)),\"\")","v":""},{"$f":"IF(OR($H103<'관리자 Setting'!$P$14,$G103>='관리자 Setting'!$Q$14),0,IF(AND($G103<'관리자 Setting'!$P$14,$H103<'관리자 Setting'!$Q$14),$H103-'관리자 Setting'!$P$14,IF(AND($G103<'관리자 Setting'!$P$14,$H103>='관리자 Setting'!$Q$14),'관리자 Setting'!$R$14,IF(AND($G103>='관리자 Setting'!$P$14,$H103>='관리자 Setting'!$Q$14),'관리자 Setting'!$Q$14-$G103,IF(AND($G103>='관리자 Setting'!$P$14,$H103<'관리자 Setting'!$Q$14),$H103-$G103,IF($G103>='관리자 Setting'!$Q$14,0,0))))))","v":"00:00:00"},{"$f":"IF(OR($H103<'관리자 Setting'!$P$15,$G103>='관리자 Setting'!$Q$15),0,IF(AND($G103<'관리자 Setting'!$P$15,$H103<'관리자 Setting'!$Q$15),$H103-'관리자 Setting'!$P$15,IF(AND($G103<'관리자 Setting'!$P$15,$H103>='관리자 Setting'!$Q$15),'관리자 Setting'!$R$15,IF(AND($G103>='관리자 Setting'!$P$15,$H103>='관리자 Setting'!$Q$15),'관리자 Setting'!$Q$15-$G103,IF(AND($G103>='관리자 Setting'!$P$15,$H103<'관리자 Setting'!$Q$15),$H103-$G103,IF($G103>='관리자 Setting'!$Q$15,0,0))))))","v":"00:00:00"},"",{"$f":"IFERROR(VLOOKUP($F103,'관리자 Setting'!$P$18:$Q$33,2,0)/24,\"\")","v":""}]
["","",{"$f":"IFERROR(DATE(LEFT('In-Put'!$B104,4),MID('In-Put'!$B104,5,2),RIGHT('In-Put'!$B104,2)),\"\")","v":""},{"$f":"IF($C104=\"\",\"\",COUNTIFS($C$2:$C$401,C104)-COUNTIFS($C$2:C104,C104))","v":""},{"$f":"IF($C104=\"\",\"\",COUNTIFS('관리자 Setting'!$P$18:$P$33,'설정_In-Put'!$F104))","v":""},{"$f":"'In-Put'!G104","v":0},{"$f":"IFERROR(IF('In-Put'!D104*1=0,\"\",'In-Put'!D104*1),\"\")","v":""},{"$f":"IFERROR(IF('In-Put'!E104*1=0,\"\",IF('In-Put'!E104*1<G104,'In-Put'!E104*1+1,'In-Put'!E104*1)),\"\")","v":""},{"$f":"IF(OR($H104<'관리자 Setting'!$P$14,$G104>='관리자 Setting'!$Q$14),0,IF(AND($G104<'관리자 Setting'!$P$14,$H104<'관리자 Setting'!$Q$14),$H104-'관리자 Setting'!$P$14,IF(AND($G104<'관리자 Setting'!$P$14,$H104>='관리자 Setting'!$Q$14),'관리자 Setting'!$R$14,IF(AND($G104>='관리자 Setting'!$P$14,$H104>='관리자 Setting'!$Q$14),'관리자 Setting'!$Q$14-$G104,IF(AND($G104>='관리자 Setting'!$P$14,$H104<'관리자 Setting'!$Q$14),$H104-$G104,IF($G104>='관리자 Setting'!$Q$14,0,0))))))","v":"00:00:00"},{"$f":"IF(OR($H104<'관리자 Setting'!$P$15,$G104>='관리자 Setting'!$Q$15),0,IF(AND($G104<'관리자 Setting'!$P$15,$H104<'관리자 Setting'!$Q$15),$H104-'관리자 Setting'!$P$15,IF(AND($G104<'관리자 Setting'!$P$15,$H104>='관리자 Setting'!$Q$15),'관리자 Setting'!$R$15,IF(AND($G104>='관리자 Setting'!$P$15,$H104>='관리자 Setting'!$Q$15),'관리자 Setting'!$Q$15-$G104,IF(AND($G104>='관리자 Setting'!$P$15,$H104<'관리자 Setting'!$Q$15),$H104-$G104,IF($G104>='관리자 Setting'!$Q$15,0,0))))))","v":"00:00:00"},"",{"$f":"IFERROR(VLOOKUP($F104,'관리자 Setting'!$P$18:$Q$33,2,0)/24,\"\")","v":""}]
["","",{"$f":"IFERROR(DATE(LEFT('In-Put'!$B105,4),MID('In-Put'!$B105,5,2),RIGHT('In-Put'!$B105,2)),\"\")","v":""},{"$f":"IF($C105=\"\",\"\",COUNTIFS($C$2:$C$401,C105)-COUNTIFS($C$2:C105,C105))","v":""},{"$f":"IF($C105=\"\",\"\",COUNTIFS('관리자 Setting'!$P$18:$P$33,'설정_In-Put'!$F105))","v":""},{"$f":"'In-Put'!G105","v":0},{"$f":"IFERROR(IF('In-Put'!D105*1=0,\"\",'In-Put'!D105*1),\"\")","v":""},{"$f":"IFERROR(IF('In-Put'!E105*1=0,\"\",IF('In-Put'!E105*1<G105,'In-Put'!E105*1+1,'In-Put'!E105*1)),\"\")","v":""},{"$f":"IF(OR($H105<'관리자 Setting'!$P$14,$G105>='관리자 Setting'!$Q$14),0,IF(AND($G105<'관리자 Setting'!$P$14,$H105<'관리자 Setting'!$Q$14),$H105-'관리자 Setting'!$P$14,IF(AND($G105<'관리자 Setting'!$P$14,$H105>='관리자 Setting'!$Q$14),'관리자 Setting'!$R$14,IF(AND($G105>='관리자 Setting'!$P$14,$H105>='관리자 Setting'!$Q$14),'관리자 Setting'!$Q$14-$G105,IF(AND($G105>='관리자 Setting'!$P$14,$H105<'관리자 Setting'!$Q$14),$H105-$G105,IF($G105>='관리자 Setting'!$Q$14,0,0))))))","v":"00:00:00"},{"$f":"IF(OR($H105<'관리자 Setting'!$P$15,$G105>='관리자 Setting'!$Q$15),0,IF(AND($G105<'관리자 Setting'!$P$15,$H105<'관리자 Setting'!$Q$15),$H105-'관리자 Setting'!$P$15,IF(AND($G105<'관리자 Setting'!$P$15,$H105>='관리자 Setting'!$Q$15),'관리자 Setting'!$R$15,IF(AND($G105>='관리자 Setting'!$P$15,$H105>='관리자 Setting'!$Q$15),'관리자 Setting'!$Q$15-$G105,IF(AND($G105>='관리자 Setting'!$P$15,$H105<'관리자 Setting'!$Q$15),$H105-$G105,IF($G105>='관리자 Setting'!$Q$15,0,0))))))","v":"00:00:00"},"",{"$f":"IFERROR(VLOOKUP($F105,'관리자 Setting'!$P$18:$Q$33,2,0)/24,\"\")","v":""}]
["","",{"$f":"IFERROR(DATE(LEFT('In-Put'!$B106,4),MID('In-Put'!$B106,5,2),RIGHT('In-Put'!$B106,2)),\"\")","v":""},{"$f":"IF($C106=\"\",\"\",COUNTIFS($C$2:$C$401,C106)-COUNTIFS($C$2:C106,C106))","v":""},{"$f":"IF($C106=\"\",\"\",COUNTIFS('관리자 Setting'!$P$18:$P$33,'설정_In-Put'!$F106))","v":""},{"$f":"'In-Put'!G106","v":0},{"$f":"IFERROR(IF('In-Put'!D106*1=0,\"\",'In-Put'!D106*1),\"\")","v":""},{"$f":"IFERROR(IF('In-Put'!E106*1=0,\"\",IF('In-Put'!E106*1<G106,'In-Put'!E106*1+1,'In-Put'!E106*1)),\"\")","v":""},{"$f":"IF(OR($H106<'관리자 Setting'!$P$14,$G106>='관리자 Setting'!$Q$14),0,IF(AND($G106<'관리자 Setting'!$P$14,$H106<'관리자 Setting'!$Q$14),$H106-'관리자 Setting'!$P$14,IF(AND($G106<'관리자 Setting'!$P$14,$H106>='관리자 Setting'!$Q$14),'관리자 Setting'!$R$14,IF(AND($G106>='관리자 Setting'!$P$14,$H106>='관리자 Setting'!$Q$14),'관리자 Setting'!$Q$14-$G106,IF(AND($G106>='관리자 Setting'!$P$14,$H106<'관리자 Setting'!$Q$14),$H106-$G106,IF($G106>='관리자 Setting'!$Q$14,0,0))))))","v":"00:00:00"},{"$f":"IF(OR($H106<'관리자 Setting'!$P$15,$G106>='관리자 Setting'!$Q$15),0,IF(AND($G106<'관리자 Setting'!$P$15,$H106<'관리자 Setting'!$Q$15),$H106-'관리자 Setting'!$P$15,IF(AND($G106<'관리자 Setting'!$P$15,$H106>='관리자 Setting'!$Q$15),'관리자 Setting'!$R$15,IF(AND($G106>='관리자 Setting'!$P$15,$H106>='관리자 Setting'!$Q$15),'관리자 Setting'!$Q$15-$G106,IF(AND($G106>='관리자 Setting'!$P$15,$H106<'관리자 Setting'!$Q$15),$H106-$G106,IF($G106>='관리자 Setting'!$Q$15,0,0))))))","v":"00:00:00"},"",{"$f":"IFERROR(VLOOKUP($F106,'관리자 Setting'!$P$18:$Q$33,2,0)/24,\"\")","v":""}]
["","",{"$f":"IFERROR(DATE(LEFT('In-Put'!$B107,4),MID('In-Put'!$B107,5,2),RIGHT('In-Put'!$B107,2)),\"\")","v":""},{"$f":"IF($C107=\"\",\"\",COUNTIFS($C$2:$C$401,C107)-COUNTIFS($C$2:C107,C107))","v":""},{"$f":"IF($C107=\"\",\"\",COUNTIFS('관리자 Setting'!$P$18:$P$33,'설정_In-Put'!$F107))","v":""},{"$f":"'In-Put'!G107","v":0},{"$f":"IFERROR(IF('In-Put'!D107*1=0,\"\",'In-Put'!D107*1),\"\")","v":""},{"$f":"IFERROR(IF('In-Put'!E107*1=0,\"\",IF('In-Put'!E107*1<G107,'In-Put'!E107*1+1,'In-Put'!E107*1)),\"\")","v":""},{"$f":"IF(OR($H107<'관리자 Setting'!$P$14,$G107>='관리자 Setting'!$Q$14),0,IF(AND($G107<'관리자 Setting'!$P$14,$H107<'관리자 Setting'!$Q$14),$H107-'관리자 Setting'!$P$14,IF(AND($G107<'관리자 Setting'!$P$14,$H107>='관리자 Setting'!$Q$14),'관리자 Setting'!$R$14,IF(AND($G107>='관리자 Setting'!$P$14,$H107>='관리자 Setting'!$Q$14),'관리자 Setting'!$Q$14-$G107,IF(AND($G107>='관리자 Setting'!$P$14,$H107<'관리자 Setting'!$Q$14),$H107-$G107,IF($G107>='관리자 Setting'!$Q$14,0,0))))))","v":"00:00:00"},{"$f":"IF(OR($H107<'관리자 Setting'!$P$15,$G107>='관리자 Setting'!$Q$15),0,IF(AND($G107<'관리자 Setting'!$P$15,$H107<'관리자 Setting'!$Q$15),$H107-'관리자 Setting'!$P$15,IF(AND($G107<'관리자 Setting'!$P$15,$H107>='관리자 Setting'!$Q$15),'관리자 Setting'!$R$15,IF(AND($G107>='관리자 Setting'!$P$15,$H107>='관리자 Setting'!$Q$15),'관리자 Setting'!$Q$15-$G107,IF(AND($G107>='관리자 Setting'!$P$15,$H107<'관리자 Setting'!$Q$15),$H107-$G107,IF($G107>='관리자 Setting'!$Q$15,0,0))))))","v":"00:00:00"},"",{"$f":"IFERROR(VLOOKUP($F107,'관리자 Setting'!$P$18:$Q$33,2,0)/24,\"\")","v":""}]
["","",{"$f":"IFERROR(DATE(LEFT('In-Put'!$B108,4),MID('In-Put'!$B108,5,2),RIGHT('In-Put'!$B108,2)),\"\")","v":""},{"$f":"IF($C108=\"\",\"\",COUNTIFS($C$2:$C$401,C108)-COUNTIFS($C$2:C108,C108))","v":""},{"$f":"IF($C108=\"\",\"\",COUNTIFS('관리자 Setting'!$P$18:$P$33,'설정_In-Put'!$F108))","v":""},{"$f":"'In-Put'!G108","v":0},{"$f":"IFERROR(IF('In-Put'!D108*1=0,\"\",'In-Put'!D108*1),\"\")","v":""},{"$f":"IFERROR(IF('In-Put'!E108*1=0,\"\",IF('In-Put'!E108*1<G108,'In-Put'!E108*1+1,'In-Put'!E108*1)),\"\")","v":""},{"$f":"IF(OR($H108<'관리자 Setting'!$P$14,$G108>='관리자 Setting'!$Q$14),0,IF(AND($G108<'관리자 Setting'!$P$14,$H108<'관리자 Setting'!$Q$14),$H108-'관리자 Setting'!$P$14,IF(AND($G108<'관리자 Setting'!$P$14,$H108>='관리자 Setting'!$Q$14),'관리자 Setting'!$R$14,IF(AND($G108>='관리자 Setting'!$P$14,$H108>='관리자 Setting'!$Q$14),'관리자 Setting'!$Q$14-$G108,IF(AND($G108>='관리자 Setting'!$P$14,$H108<'관리자 Setting'!$Q$14),$H108-$G108,IF($G108>='관리자 Setting'!$Q$14,0,0))))))","v":"00:00:00"},{"$f":"IF(OR($H108<'관리자 Setting'!$P$15,$G108>='관리자 Setting'!$Q$15),0,IF(AND($G108<'관리자 Setting'!$P$15,$H108<'관리자 Setting'!$Q$15),$H108-'관리자 Setting'!$P$15,IF(AND($G108<'관리자 Setting'!$P$15,$H108>='관리자 Setting'!$Q$15),'관리자 Setting'!$R$15,IF(AND($G108>='관리자 Setting'!$P$15,$H108>='관리자 Setting'!$Q$15),'관리자 Setting'!$Q$15-$G108,IF(AND($G108>='관리자 Setting'!$P$15,$H108<'관리자 Setting'!$Q$15),$H108-$G108,IF($G108>='관리자 Setting'!$Q$15,0,0))))))","v":"00:00:00"},"",{"$f":"IFERROR(VLOOKUP($F108,'관리자 Setting'!$P$18:$Q$33,2,0)/24,\"\")","v":""}]
["","",{"$f":"IFERROR(DATE(LEFT('In-Put'!$B109,4),MID('In-Put'!$B109,5,2),RIGHT('In-Put'!$B109,2)),\"\")","v":""},{"$f":"IF($C109=\"\",\"\",COUNTIFS($C$2:$C$401,C109)-COUNTIFS($C$2:C109,C109))","v":""},{"$f":"IF($C109=\"\",\"\",COUNTIFS('관리자 Setting'!$P$18:$P$33,'설정_In-Put'!$F109))","v":""},{"$f":"'In-Put'!G109","v":0},{"$f":"IFERROR(IF('In-Put'!D109*1=0,\"\",'In-Put'!D109*1),\"\")","v":""},{"$f":"IFERROR(IF('In-Put'!E109*1=0,\"\",IF('In-Put'!E109*1<G109,'In-Put'!E109*1+1,'In-Put'!E109*1)),\"\")","v":""},{"$f":"IF(OR($H109<'관리자 Setting'!$P$14,$G109>='관리자 Setting'!$Q$14),0,IF(AND($G109<'관리자 Setting'!$P$14,$H109<'관리자 Setting'!$Q$14),$H109-'관리자 Setting'!$P$14,IF(AND($G109<'관리자 Setting'!$P$14,$H109>='관리자 Setting'!$Q$14),'관리자 Setting'!$R$14,IF(AND($G109>='관리자 Setting'!$P$14,$H109>='관리자 Setting'!$Q$14),'관리자 Setting'!$Q$14-$G109,IF(AND($G109>='관리자 Setting'!$P$14,$H109<'관리자 Setting'!$Q$14),$H109-$G109,IF($G109>='관리자 Setting'!$Q$14,0,0))))))","v":"00:00:00"},{"$f":"IF(OR($H109<'관리자 Setting'!$P$15,$G109>='관리자 Setting'!$Q$15),0,IF(AND($G109<'관리자 Setting'!$P$15,$H109<'관리자 Setting'!$Q$15),$H109-'관리자 Setting'!$P$15,IF(AND($G109<'관리자 Setting'!$P$15,$H109>='관리자 Setting'!$Q$15),'관리자 Setting'!$R$15,IF(AND($G109>='관리자 Setting'!$P$15,$H109>='관리자 Setting'!$Q$15),'관리자 Setting'!$Q$15-$G109,IF(AND($G109>='관리자 Setting'!$P$15,$H109<'관리자 Setting'!$Q$15),$H109-$G109,IF($G109>='관리자 Setting'!$Q$15,0,0))))))","v":"00:00:00"},"",{"$f":"IFERROR(VLOOKUP($F109,'관리자 Setting'!$P$18:$Q$33,2,0)/24,\"\")","v":""}]
["","",{"$f":"IFERROR(DATE(LEFT('In-Put'!$B110,4),MID('In-Put'!$B110,5,2),RIGHT('In-Put'!$B110,2)),\"\")","v":""},{"$f":"IF($C110=\"\",\"\",COUNTIFS($C$2:$C$401,C110)-COUNTIFS($C$2:C110,C110))","v":""},{"$f":"IF($C110=\"\",\"\",COUNTIFS('관리자 Setting'!$P$18:$P$33,'설정_In-Put'!$F110))","v":""},{"$f":"'In-Put'!G110","v":0},{"$f":"IFERROR(IF('In-Put'!D110*1=0,\"\",'In-Put'!D110*1),\"\")","v":""},{"$f":"IFERROR(IF('In-Put'!E110*1=0,\"\",IF('In-Put'!E110*1<G110,'In-Put'!E110*1+1,'In-Put'!E110*1)),\"\")","v":""},{"$f":"IF(OR($H110<'관리자 Setting'!$P$14,$G110>='관리자 Setting'!$Q$14),0,IF(AND($G110<'관리자 Setting'!$P$14,$H110<'관리자 Setting'!$Q$14),$H110-'관리자 Setting'!$P$14,IF(AND($G110<'관리자 Setting'!$P$14,$H110>='관리자 Setting'!$Q$14),'관리자 Setting'!$R$14,IF(AND($G110>='관리자 Setting'!$P$14,$H110>='관리자 Setting'!$Q$14),'관리자 Setting'!$Q$14-$G110,IF(AND($G110>='관리자 Setting'!$P$14,$H110<'관리자 Setting'!$Q$14),$H110-$G110,IF($G110>='관리자 Setting'!$Q$14,0,0))))))","v":"00:00:00"},{"$f":"IF(OR($H110<'관리자 Setting'!$P$15,$G110>='관리자 Setting'!$Q$15),0,IF(AND($G110<'관리자 Setting'!$P$15,$H110<'관리자 Setting'!$Q$15),$H110-'관리자 Setting'!$P$15,IF(AND($G110<'관리자 Setting'!$P$15,$H110>='관리자 Setting'!$Q$15),'관리자 Setting'!$R$15,IF(AND($G110>='관리자 Setting'!$P$15,$H110>='관리자 Setting'!$Q$15),'관리자 Setting'!$Q$15-$G110,IF(AND($G110>='관리자 Setting'!$P$15,$H110<'관리자 Setting'!$Q$15),$H110-$G110,IF($G110>='관리자 Setting'!$Q$15,0,0))))))","v":"00:00:00"},"",{"$f":"IFERROR(VLOOKUP($F110,'관리자 Setting'!$P$18:$Q$33,2,0)/24,\"\")","v":""}]
["","",{"$f":"IFERROR(DATE(LEFT('In-Put'!$B111,4),MID('In-Put'!$B111,5,2),RIGHT('In-Put'!$B111,2)),\"\")","v":""},{"$f":"IF($C111=\"\",\"\",COUNTIFS($C$2:$C$401,C111)-COUNTIFS($C$2:C111,C111))","v":""},{"$f":"IF($C111=\"\",\"\",COUNTIFS('관리자 Setting'!$P$18:$P$33,'설정_In-Put'!$F111))","v":""},{"$f":"'In-Put'!G111","v":0},{"$f":"IFERROR(IF('In-Put'!D111*1=0,\"\",'In-Put'!D111*1),\"\")","v":""},{"$f":"IFERROR(IF('In-Put'!E111*1=0,\"\",IF('In-Put'!E111*1<G111,'In-Put'!E111*1+1,'In-Put'!E111*1)),\"\")","v":""},{"$f":"IF(OR($H111<'관리자 Setting'!$P$14,$G111>='관리자 Setting'!$Q$14),0,IF(AND($G111<'관리자 Setting'!$P$14,$H111<'관리자 Setting'!$Q$14),$H111-'관리자 Setting'!$P$14,IF(AND($G111<'관리자 Setting'!$P$14,$H111>='관리자 Setting'!$Q$14),'관리자 Setting'!$R$14,IF(AND($G111>='관리자 Setting'!$P$14,$H111>='관리자 Setting'!$Q$14),'관리자 Setting'!$Q$14-$G111,IF(AND($G111>='관리자 Setting'!$P$14,$H111<'관리자 Setting'!$Q$14),$H111-$G111,IF($G111>='관리자 Setting'!$Q$14,0,0))))))","v":"00:00:00"},{"$f":"IF(OR($H111<'관리자 Setting'!$P$15,$G111>='관리자 Setting'!$Q$15),0,IF(AND($G111<'관리자 Setting'!$P$15,$H111<'관리자 Setting'!$Q$15),$H111-'관리자 Setting'!$P$15,IF(AND($G111<'관리자 Setting'!$P$15,$H111>='관리자 Setting'!$Q$15),'관리자 Setting'!$R$15,IF(AND($G111>='관리자 Setting'!$P$15,$H111>='관리자 Setting'!$Q$15),'관리자 Setting'!$Q$15-$G111,IF(AND($G111>='관리자 Setting'!$P$15,$H111<'관리자 Setting'!$Q$15),$H111-$G111,IF($G111>='관리자 Setting'!$Q$15,0,0))))))","v":"00:00:00"},"",{"$f":"IFERROR(VLOOKUP($F111,'관리자 Setting'!$P$18:$Q$33,2,0)/24,\"\")","v":""}]
["","",{"$f":"IFERROR(DATE(LEFT('In-Put'!$B112,4),MID('In-Put'!$B112,5,2),RIGHT('In-Put'!$B112,2)),\"\")","v":""},{"$f":"IF($C112=\"\",\"\",COUNTIFS($C$2:$C$401,C112)-COUNTIFS($C$2:C112,C112))","v":""},{"$f":"IF($C112=\"\",\"\",COUNTIFS('관리자 Setting'!$P$18:$P$33,'설정_In-Put'!$F112))","v":""},{"$f":"'In-Put'!G112","v":0},{"$f":"IFERROR(IF('In-Put'!D112*1=0,\"\",'In-Put'!D112*1),\"\")","v":""},{"$f":"IFERROR(IF('In-Put'!E112*1=0,\"\",IF('In-Put'!E112*1<G112,'In-Put'!E112*1+1,'In-Put'!E112*1)),\"\")","v":""},{"$f":"IF(OR($H112<'관리자 Setting'!$P$14,$G112>='관리자 Setting'!$Q$14),0,IF(AND($G112<'관리자 Setting'!$P$14,$H112<'관리자 Setting'!$Q$14),$H112-'관리자 Setting'!$P$14,IF(AND($G112<'관리자 Setting'!$P$14,$H112>='관리자 Setting'!$Q$14),'관리자 Setting'!$R$14,IF(AND($G112>='관리자 Setting'!$P$14,$H112>='관리자 Setting'!$Q$14),'관리자 Setting'!$Q$14-$G112,IF(AND($G112>='관리자 Setting'!$P$14,$H112<'관리자 Setting'!$Q$14),$H112-$G112,IF($G112>='관리자 Setting'!$Q$14,0,0))))))","v":"00:00:00"},{"$f":"IF(OR($H112<'관리자 Setting'!$P$15,$G112>='관리자 Setting'!$Q$15),0,IF(AND($G112<'관리자 Setting'!$P$15,$H112<'관리자 Setting'!$Q$15),$H112-'관리자 Setting'!$P$15,IF(AND($G112<'관리자 Setting'!$P$15,$H112>='관리자 Setting'!$Q$15),'관리자 Setting'!$R$15,IF(AND($G112>='관리자 Setting'!$P$15,$H112>='관리자 Setting'!$Q$15),'관리자 Setting'!$Q$15-$G112,IF(AND($G112>='관리자 Setting'!$P$15,$H112<'관리자 Setting'!$Q$15),$H112-$G112,IF($G112>='관리자 Setting'!$Q$15,0,0))))))","v":"00:00:00"},"",{"$f":"IFERROR(VLOOKUP($F112,'관리자 Setting'!$P$18:$Q$33,2,0)/24,\"\")","v":""}]
["","",{"$f":"IFERROR(DATE(LEFT('In-Put'!$B113,4),MID('In-Put'!$B113,5,2),RIGHT('In-Put'!$B113,2)),\"\")","v":""},{"$f":"IF($C113=\"\",\"\",COUNTIFS($C$2:$C$401,C113)-COUNTIFS($C$2:C113,C113))","v":""},{"$f":"IF($C113=\"\",\"\",COUNTIFS('관리자 Setting'!$P$18:$P$33,'설정_In-Put'!$F113))","v":""},{"$f":"'In-Put'!G113","v":0},{"$f":"IFERROR(IF('In-Put'!D113*1=0,\"\",'In-Put'!D113*1),\"\")","v":""},{"$f":"IFERROR(IF('In-Put'!E113*1=0,\"\",IF('In-Put'!E113*1<G113,'In-Put'!E113*1+1,'In-Put'!E113*1)),\"\")","v":""},{"$f":"IF(OR($H113<'관리자 Setting'!$P$14,$G113>='관리자 Setting'!$Q$14),0,IF(AND($G113<'관리자 Setting'!$P$14,$H113<'관리자 Setting'!$Q$14),$H113-'관리자 Setting'!$P$14,IF(AND($G113<'관리자 Setting'!$P$14,$H113>='관리자 Setting'!$Q$14),'관리자 Setting'!$R$14,IF(AND($G113>='관리자 Setting'!$P$14,$H113>='관리자 Setting'!$Q$14),'관리자 Setting'!$Q$14-$G113,IF(AND($G113>='관리자 Setting'!$P$14,$H113<'관리자 Setting'!$Q$14),$H113-$G113,IF($G113>='관리자 Setting'!$Q$14,0,0))))))","v":"00:00:00"},{"$f":"IF(OR($H113<'관리자 Setting'!$P$15,$G113>='관리자 Setting'!$Q$15),0,IF(AND($G113<'관리자 Setting'!$P$15,$H113<'관리자 Setting'!$Q$15),$H113-'관리자 Setting'!$P$15,IF(AND($G113<'관리자 Setting'!$P$15,$H113>='관리자 Setting'!$Q$15),'관리자 Setting'!$R$15,IF(AND($G113>='관리자 Setting'!$P$15,$H113>='관리자 Setting'!$Q$15),'관리자 Setting'!$Q$15-$G113,IF(AND($G113>='관리자 Setting'!$P$15,$H113<'관리자 Setting'!$Q$15),$H113-$G113,IF($G113>='관리자 Setting'!$Q$15,0,0))))))","v":"00:00:00"},"",{"$f":"IFERROR(VLOOKUP($F113,'관리자 Setting'!$P$18:$Q$33,2,0)/24,\"\")","v":""}]
["","",{"$f":"IFERROR(DATE(LEFT('In-Put'!$B114,4),MID('In-Put'!$B114,5,2),RIGHT('In-Put'!$B114,2)),\"\")","v":""},{"$f":"IF($C114=\"\",\"\",COUNTIFS($C$2:$C$401,C114)-COUNTIFS($C$2:C114,C114))","v":""},{"$f":"IF($C114=\"\",\"\",COUNTIFS('관리자 Setting'!$P$18:$P$33,'설정_In-Put'!$F114))","v":""},{"$f":"'In-Put'!G114","v":0},{"$f":"IFERROR(IF('In-Put'!D114*1=0,\"\",'In-Put'!D114*1),\"\")","v":""},{"$f":"IFERROR(IF('In-Put'!E114*1=0,\"\",IF('In-Put'!E114*1<G114,'In-Put'!E114*1+1,'In-Put'!E114*1)),\"\")","v":""},{"$f":"IF(OR($H114<'관리자 Setting'!$P$14,$G114>='관리자 Setting'!$Q$14),0,IF(AND($G114<'관리자 Setting'!$P$14,$H114<'관리자 Setting'!$Q$14),$H114-'관리자 Setting'!$P$14,IF(AND($G114<'관리자 Setting'!$P$14,$H114>='관리자 Setting'!$Q$14),'관리자 Setting'!$R$14,IF(AND($G114>='관리자 Setting'!$P$14,$H114>='관리자 Setting'!$Q$14),'관리자 Setting'!$Q$14-$G114,IF(AND($G114>='관리자 Setting'!$P$14,$H114<'관리자 Setting'!$Q$14),$H114-$G114,IF($G114>='관리자 Setting'!$Q$14,0,0))))))","v":"00:00:00"},{"$f":"IF(OR($H114<'관리자 Setting'!$P$15,$G114>='관리자 Setting'!$Q$15),0,IF(AND($G114<'관리자 Setting'!$P$15,$H114<'관리자 Setting'!$Q$15),$H114-'관리자 Setting'!$P$15,IF(AND($G114<'관리자 Setting'!$P$15,$H114>='관리자 Setting'!$Q$15),'관리자 Setting'!$R$15,IF(AND($G114>='관리자 Setting'!$P$15,$H114>='관리자 Setting'!$Q$15),'관리자 Setting'!$Q$15-$G114,IF(AND($G114>='관리자 Setting'!$P$15,$H114<'관리자 Setting'!$Q$15),$H114-$G114,IF($G114>='관리자 Setting'!$Q$15,0,0))))))","v":"00:00:00"},"",{"$f":"IFERROR(VLOOKUP($F114,'관리자 Setting'!$P$18:$Q$33,2,0)/24,\"\")","v":""}]
["","",{"$f":"IFERROR(DATE(LEFT('In-Put'!$B115,4),MID('In-Put'!$B115,5,2),RIGHT('In-Put'!$B115,2)),\"\")","v":""},{"$f":"IF($C115=\"\",\"\",COUNTIFS($C$2:$C$401,C115)-COUNTIFS($C$2:C115,C115))","v":""},{"$f":"IF($C115=\"\",\"\",COUNTIFS('관리자 Setting'!$P$18:$P$33,'설정_In-Put'!$F115))","v":""},{"$f":"'In-Put'!G115","v":0},{"$f":"IFERROR(IF('In-Put'!D115*1=0,\"\",'In-Put'!D115*1),\"\")","v":""},{"$f":"IFERROR(IF('In-Put'!E115*1=0,\"\",IF('In-Put'!E115*1<G115,'In-Put'!E115*1+1,'In-Put'!E115*1)),\"\")","v":""},{"$f":"IF(OR($H115<'관리자 Setting'!$P$14,$G115>='관리자 Setting'!$Q$14),0,IF(AND($G115<'관리자 Setting'!$P$14,$H115<'관리자 Setting'!$Q$14),$H115-'관리자 Setting'!$P$14,IF(AND($G115<'관리자 Setting'!$P$14,$H115>='관리자 Setting'!$Q$14),'관리자 Setting'!$R$14,IF(AND($G115>='관리자 Setting'!$P$14,$H115>='관리자 Setting'!$Q$14),'관리자 Setting'!$Q$14-$G115,IF(AND($G115>='관리자 Setting'!$P$14,$H115<'관리자 Setting'!$Q$14),$H115-$G115,IF($G115>='관리자 Setting'!$Q$14,0,0))))))","v":"00:00:00"},{"$f":"IF(OR($H115<'관리자 Setting'!$P$15,$G115>='관리자 Setting'!$Q$15),0,IF(AND($G115<'관리자 Setting'!$P$15,$H115<'관리자 Setting'!$Q$15),$H115-'관리자 Setting'!$P$15,IF(AND($G115<'관리자 Setting'!$P$15,$H115>='관리자 Setting'!$Q$15),'관리자 Setting'!$R$15,IF(AND($G115>='관리자 Setting'!$P$15,$H115>='관리자 Setting'!$Q$15),'관리자 Setting'!$Q$15-$G115,IF(AND($G115>='관리자 Setting'!$P$15,$H115<'관리자 Setting'!$Q$15),$H115-$G115,IF($G115>='관리자 Setting'!$Q$15,0,0))))))","v":"00:00:00"},"",{"$f":"IFERROR(VLOOKUP($F115,'관리자 Setting'!$P$18:$Q$33,2,0)/24,\"\")","v":""}]
["","",{"$f":"IFERROR(DATE(LEFT('In-Put'!$B116,4),MID('In-Put'!$B116,5,2),RIGHT('In-Put'!$B116,2)),\"\")","v":""},{"$f":"IF($C116=\"\",\"\",COUNTIFS($C$2:$C$401,C116)-COUNTIFS($C$2:C116,C116))","v":""},{"$f":"IF($C116=\"\",\"\",COUNTIFS('관리자 Setting'!$P$18:$P$33,'설정_In-Put'!$F116))","v":""},{"$f":"'In-Put'!G116","v":0},{"$f":"IFERROR(IF('In-Put'!D116*1=0,\"\",'In-Put'!D116*1),\"\")","v":""},{"$f":"IFERROR(IF('In-Put'!E116*1=0,\"\",IF('In-Put'!E116*1<G116,'In-Put'!E116*1+1,'In-Put'!E116*1)),\"\")","v":""},{"$f":"IF(OR($H116<'관리자 Setting'!$P$14,$G116>='관리자 Setting'!$Q$14),0,IF(AND($G116<'관리자 Setting'!$P$14,$H116<'관리자 Setting'!$Q$14),$H116-'관리자 Setting'!$P$14,IF(AND($G116<'관리자 Setting'!$P$14,$H116>='관리자 Setting'!$Q$14),'관리자 Setting'!$R$14,IF(AND($G116>='관리자 Setting'!$P$14,$H116>='관리자 Setting'!$Q$14),'관리자 Setting'!$Q$14-$G116,IF(AND($G116>='관리자 Setting'!$P$14,$H116<'관리자 Setting'!$Q$14),$H116-$G116,IF($G116>='관리자 Setting'!$Q$14,0,0))))))","v":"00:00:00"},{"$f":"IF(OR($H116<'관리자 Setting'!$P$15,$G116>='관리자 Setting'!$Q$15),0,IF(AND($G116<'관리자 Setting'!$P$15,$H116<'관리자 Setting'!$Q$15),$H116-'관리자 Setting'!$P$15,IF(AND($G116<'관리자 Setting'!$P$15,$H116>='관리자 Setting'!$Q$15),'관리자 Setting'!$R$15,IF(AND($G116>='관리자 Setting'!$P$15,$H116>='관리자 Setting'!$Q$15),'관리자 Setting'!$Q$15-$G116,IF(AND($G116>='관리자 Setting'!$P$15,$H116<'관리자 Setting'!$Q$15),$H116-$G116,IF($G116>='관리자 Setting'!$Q$15,0,0))))))","v":"00:00:00"},"",{"$f":"IFERROR(VLOOKUP($F116,'관리자 Setting'!$P$18:$Q$33,2,0)/24,\"\")","v":""}]
["","",{"$f":"IFERROR(DATE(LEFT('In-Put'!$B117,4),MID('In-Put'!$B117,5,2),RIGHT('In-Put'!$B117,2)),\"\")","v":""},{"$f":"IF($C117=\"\",\"\",COUNTIFS($C$2:$C$401,C117)-COUNTIFS($C$2:C117,C117))","v":""},{"$f":"IF($C117=\"\",\"\",COUNTIFS('관리자 Setting'!$P$18:$P$33,'설정_In-Put'!$F117))","v":""},{"$f":"'In-Put'!G117","v":0},{"$f":"IFERROR(IF('In-Put'!D117*1=0,\"\",'In-Put'!D117*1),\"\")","v":""},{"$f":"IFERROR(IF('In-Put'!E117*1=0,\"\",IF('In-Put'!E117*1<G117,'In-Put'!E117*1+1,'In-Put'!E117*1)),\"\")","v":""},{"$f":"IF(OR($H117<'관리자 Setting'!$P$14,$G117>='관리자 Setting'!$Q$14),0,IF(AND($G117<'관리자 Setting'!$P$14,$H117<'관리자 Setting'!$Q$14),$H117-'관리자 Setting'!$P$14,IF(AND($G117<'관리자 Setting'!$P$14,$H117>='관리자 Setting'!$Q$14),'관리자 Setting'!$R$14,IF(AND($G117>='관리자 Setting'!$P$14,$H117>='관리자 Setting'!$Q$14),'관리자 Setting'!$Q$14-$G117,IF(AND($G117>='관리자 Setting'!$P$14,$H117<'관리자 Setting'!$Q$14),$H117-$G117,IF($G117>='관리자 Setting'!$Q$14,0,0))))))","v":"00:00:00"},{"$f":"IF(OR($H117<'관리자 Setting'!$P$15,$G117>='관리자 Setting'!$Q$15),0,IF(AND($G117<'관리자 Setting'!$P$15,$H117<'관리자 Setting'!$Q$15),$H117-'관리자 Setting'!$P$15,IF(AND($G117<'관리자 Setting'!$P$15,$H117>='관리자 Setting'!$Q$15),'관리자 Setting'!$R$15,IF(AND($G117>='관리자 Setting'!$P$15,$H117>='관리자 Setting'!$Q$15),'관리자 Setting'!$Q$15-$G117,IF(AND($G117>='관리자 Setting'!$P$15,$H117<'관리자 Setting'!$Q$15),$H117-$G117,IF($G117>='관리자 Setting'!$Q$15,0,0))))))","v":"00:00:00"},"",{"$f":"IFERROR(VLOOKUP($F117,'관리자 Setting'!$P$18:$Q$33,2,0)/24,\"\")","v":""}]
["","",{"$f":"IFERROR(DATE(LEFT('In-Put'!$B118,4),MID('In-Put'!$B118,5,2),RIGHT('In-Put'!$B118,2)),\"\")","v":""},{"$f":"IF($C118=\"\",\"\",COUNTIFS($C$2:$C$401,C118)-COUNTIFS($C$2:C118,C118))","v":""},{"$f":"IF($C118=\"\",\"\",COUNTIFS('관리자 Setting'!$P$18:$P$33,'설정_In-Put'!$F118))","v":""},{"$f":"'In-Put'!G118","v":0},{"$f":"IFERROR(IF('In-Put'!D118*1=0,\"\",'In-Put'!D118*1),\"\")","v":""},{"$f":"IFERROR(IF('In-Put'!E118*1=0,\"\",IF('In-Put'!E118*1<G118,'In-Put'!E118*1+1,'In-Put'!E118*1)),\"\")","v":""},{"$f":"IF(OR($H118<'관리자 Setting'!$P$14,$G118>='관리자 Setting'!$Q$14),0,IF(AND($G118<'관리자 Setting'!$P$14,$H118<'관리자 Setting'!$Q$14),$H118-'관리자 Setting'!$P$14,IF(AND($G118<'관리자 Setting'!$P$14,$H118>='관리자 Setting'!$Q$14),'관리자 Setting'!$R$14,IF(AND($G118>='관리자 Setting'!$P$14,$H118>='관리자 Setting'!$Q$14),'관리자 Setting'!$Q$14-$G118,IF(AND($G118>='관리자 Setting'!$P$14,$H118<'관리자 Setting'!$Q$14),$H118-$G118,IF($G118>='관리자 Setting'!$Q$14,0,0))))))","v":"00:00:00"},{"$f":"IF(OR($H118<'관리자 Setting'!$P$15,$G118>='관리자 Setting'!$Q$15),0,IF(AND($G118<'관리자 Setting'!$P$15,$H118<'관리자 Setting'!$Q$15),$H118-'관리자 Setting'!$P$15,IF(AND($G118<'관리자 Setting'!$P$15,$H118>='관리자 Setting'!$Q$15),'관리자 Setting'!$R$15,IF(AND($G118>='관리자 Setting'!$P$15,$H118>='관리자 Setting'!$Q$15),'관리자 Setting'!$Q$15-$G118,IF(AND($G118>='관리자 Setting'!$P$15,$H118<'관리자 Setting'!$Q$15),$H118-$G118,IF($G118>='관리자 Setting'!$Q$15,0,0))))))","v":"00:00:00"},"",{"$f":"IFERROR(VLOOKUP($F118,'관리자 Setting'!$P$18:$Q$33,2,0)/24,\"\")","v":""}]
["","",{"$f":"IFERROR(DATE(LEFT('In-Put'!$B119,4),MID('In-Put'!$B119,5,2),RIGHT('In-Put'!$B119,2)),\"\")","v":""},{"$f":"IF($C119=\"\",\"\",COUNTIFS($C$2:$C$401,C119)-COUNTIFS($C$2:C119,C119))","v":""},{"$f":"IF($C119=\"\",\"\",COUNTIFS('관리자 Setting'!$P$18:$P$33,'설정_In-Put'!$F119))","v":""},{"$f":"'In-Put'!G119","v":0},{"$f":"IFERROR(IF('In-Put'!D119*1=0,\"\",'In-Put'!D119*1),\"\")","v":""},{"$f":"IFERROR(IF('In-Put'!E119*1=0,\"\",IF('In-Put'!E119*1<G119,'In-Put'!E119*1+1,'In-Put'!E119*1)),\"\")","v":""},{"$f":"IF(OR($H119<'관리자 Setting'!$P$14,$G119>='관리자 Setting'!$Q$14),0,IF(AND($G119<'관리자 Setting'!$P$14,$H119<'관리자 Setting'!$Q$14),$H119-'관리자 Setting'!$P$14,IF(AND($G119<'관리자 Setting'!$P$14,$H119>='관리자 Setting'!$Q$14),'관리자 Setting'!$R$14,IF(AND($G119>='관리자 Setting'!$P$14,$H119>='관리자 Setting'!$Q$14),'관리자 Setting'!$Q$14-$G119,IF(AND($G119>='관리자 Setting'!$P$14,$H119<'관리자 Setting'!$Q$14),$H119-$G119,IF($G119>='관리자 Setting'!$Q$14,0,0))))))","v":"00:00:00"},{"$f":"IF(OR($H119<'관리자 Setting'!$P$15,$G119>='관리자 Setting'!$Q$15),0,IF(AND($G119<'관리자 Setting'!$P$15,$H119<'관리자 Setting'!$Q$15),$H119-'관리자 Setting'!$P$15,IF(AND($G119<'관리자 Setting'!$P$15,$H119>='관리자 Setting'!$Q$15),'관리자 Setting'!$R$15,IF(AND($G119>='관리자 Setting'!$P$15,$H119>='관리자 Setting'!$Q$15),'관리자 Setting'!$Q$15-$G119,IF(AND($G119>='관리자 Setting'!$P$15,$H119<'관리자 Setting'!$Q$15),$H119-$G119,IF($G119>='관리자 Setting'!$Q$15,0,0))))))","v":"00:00:00"},"",{"$f":"IFERROR(VLOOKUP($F119,'관리자 Setting'!$P$18:$Q$33,2,0)/24,\"\")","v":""}]
["","",{"$f":"IFERROR(DATE(LEFT('In-Put'!$B120,4),MID('In-Put'!$B120,5,2),RIGHT('In-Put'!$B120,2)),\"\")","v":""},{"$f":"IF($C120=\"\",\"\",COUNTIFS($C$2:$C$401,C120)-COUNTIFS($C$2:C120,C120))","v":""},{"$f":"IF($C120=\"\",\"\",COUNTIFS('관리자 Setting'!$P$18:$P$33,'설정_In-Put'!$F120))","v":""},{"$f":"'In-Put'!G120","v":0},{"$f":"IFERROR(IF('In-Put'!D120*1=0,\"\",'In-Put'!D120*1),\"\")","v":""},{"$f":"IFERROR(IF('In-Put'!E120*1=0,\"\",IF('In-Put'!E120*1<G120,'In-Put'!E120*1+1,'In-Put'!E120*1)),\"\")","v":""},{"$f":"IF(OR($H120<'관리자 Setting'!$P$14,$G120>='관리자 Setting'!$Q$14),0,IF(AND($G120<'관리자 Setting'!$P$14,$H120<'관리자 Setting'!$Q$14),$H120-'관리자 Setting'!$P$14,IF(AND($G120<'관리자 Setting'!$P$14,$H120>='관리자 Setting'!$Q$14),'관리자 Setting'!$R$14,IF(AND($G120>='관리자 Setting'!$P$14,$H120>='관리자 Setting'!$Q$14),'관리자 Setting'!$Q$14-$G120,IF(AND($G120>='관리자 Setting'!$P$14,$H120<'관리자 Setting'!$Q$14),$H120-$G120,IF($G120>='관리자 Setting'!$Q$14,0,0))))))","v":"00:00:00"},{"$f":"IF(OR($H120<'관리자 Setting'!$P$15,$G120>='관리자 Setting'!$Q$15),0,IF(AND($G120<'관리자 Setting'!$P$15,$H120<'관리자 Setting'!$Q$15),$H120-'관리자 Setting'!$P$15,IF(AND($G120<'관리자 Setting'!$P$15,$H120>='관리자 Setting'!$Q$15),'관리자 Setting'!$R$15,IF(AND($G120>='관리자 Setting'!$P$15,$H120>='관리자 Setting'!$Q$15),'관리자 Setting'!$Q$15-$G120,IF(AND($G120>='관리자 Setting'!$P$15,$H120<'관리자 Setting'!$Q$15),$H120-$G120,IF($G120>='관리자 Setting'!$Q$15,0,0))))))","v":"00:00:00"},"",{"$f":"IFERROR(VLOOKUP($F120,'관리자 Setting'!$P$18:$Q$33,2,0)/24,\"\")","v":""}]
["","",{"$f":"IFERROR(DATE(LEFT('In-Put'!$B121,4),MID('In-Put'!$B121,5,2),RIGHT('In-Put'!$B121,2)),\"\")","v":""},{"$f":"IF($C121=\"\",\"\",COUNTIFS($C$2:$C$401,C121)-COUNTIFS($C$2:C121,C121))","v":""},{"$f":"IF($C121=\"\",\"\",COUNTIFS('관리자 Setting'!$P$18:$P$33,'설정_In-Put'!$F121))","v":""},{"$f":"'In-Put'!G121","v":0},{"$f":"IFERROR(IF('In-Put'!D121*1=0,\"\",'In-Put'!D121*1),\"\")","v":""},{"$f":"IFERROR(IF('In-Put'!E121*1=0,\"\",IF('In-Put'!E121*1<G121,'In-Put'!E121*1+1,'In-Put'!E121*1)),\"\")","v":""},{"$f":"IF(OR($H121<'관리자 Setting'!$P$14,$G121>='관리자 Setting'!$Q$14),0,IF(AND($G121<'관리자 Setting'!$P$14,$H121<'관리자 Setting'!$Q$14),$H121-'관리자 Setting'!$P$14,IF(AND($G121<'관리자 Setting'!$P$14,$H121>='관리자 Setting'!$Q$14),'관리자 Setting'!$R$14,IF(AND($G121>='관리자 Setting'!$P$14,$H121>='관리자 Setting'!$Q$14),'관리자 Setting'!$Q$14-$G121,IF(AND($G121>='관리자 Setting'!$P$14,$H121<'관리자 Setting'!$Q$14),$H121-$G121,IF($G121>='관리자 Setting'!$Q$14,0,0))))))","v":"00:00:00"},{"$f":"IF(OR($H121<'관리자 Setting'!$P$15,$G121>='관리자 Setting'!$Q$15),0,IF(AND($G121<'관리자 Setting'!$P$15,$H121<'관리자 Setting'!$Q$15),$H121-'관리자 Setting'!$P$15,IF(AND($G121<'관리자 Setting'!$P$15,$H121>='관리자 Setting'!$Q$15),'관리자 Setting'!$R$15,IF(AND($G121>='관리자 Setting'!$P$15,$H121>='관리자 Setting'!$Q$15),'관리자 Setting'!$Q$15-$G121,IF(AND($G121>='관리자 Setting'!$P$15,$H121<'관리자 Setting'!$Q$15),$H121-$G121,IF($G121>='관리자 Setting'!$Q$15,0,0))))))","v":"00:00:00"},"",{"$f":"IFERROR(VLOOKUP($F121,'관리자 Setting'!$P$18:$Q$33,2,0)/24,\"\")","v":""}]
["","",{"$f":"IFERROR(DATE(LEFT('In-Put'!$B122,4),MID('In-Put'!$B122,5,2),RIGHT('In-Put'!$B122,2)),\"\")","v":""},{"$f":"IF($C122=\"\",\"\",COUNTIFS($C$2:$C$401,C122)-COUNTIFS($C$2:C122,C122))","v":""},{"$f":"IF($C122=\"\",\"\",COUNTIFS('관리자 Setting'!$P$18:$P$33,'설정_In-Put'!$F122))","v":""},{"$f":"'In-Put'!G122","v":0},{"$f":"IFERROR(IF('In-Put'!D122*1=0,\"\",'In-Put'!D122*1),\"\")","v":""},{"$f":"IFERROR(IF('In-Put'!E122*1=0,\"\",IF('In-Put'!E122*1<G122,'In-Put'!E122*1+1,'In-Put'!E122*1)),\"\")","v":""},{"$f":"IF(OR($H122<'관리자 Setting'!$P$14,$G122>='관리자 Setting'!$Q$14),0,IF(AND($G122<'관리자 Setting'!$P$14,$H122<'관리자 Setting'!$Q$14),$H122-'관리자 Setting'!$P$14,IF(AND($G122<'관리자 Setting'!$P$14,$H122>='관리자 Setting'!$Q$14),'관리자 Setting'!$R$14,IF(AND($G122>='관리자 Setting'!$P$14,$H122>='관리자 Setting'!$Q$14),'관리자 Setting'!$Q$14-$G122,IF(AND($G122>='관리자 Setting'!$P$14,$H122<'관리자 Setting'!$Q$14),$H122-$G122,IF($G122>='관리자 Setting'!$Q$14,0,0))))))","v":"00:00:00"},{"$f":"IF(OR($H122<'관리자 Setting'!$P$15,$G122>='관리자 Setting'!$Q$15),0,IF(AND($G122<'관리자 Setting'!$P$15,$H122<'관리자 Setting'!$Q$15),$H122-'관리자 Setting'!$P$15,IF(AND($G122<'관리자 Setting'!$P$15,$H122>='관리자 Setting'!$Q$15),'관리자 Setting'!$R$15,IF(AND($G122>='관리자 Setting'!$P$15,$H122>='관리자 Setting'!$Q$15),'관리자 Setting'!$Q$15-$G122,IF(AND($G122>='관리자 Setting'!$P$15,$H122<'관리자 Setting'!$Q$15),$H122-$G122,IF($G122>='관리자 Setting'!$Q$15,0,0))))))","v":"00:00:00"},"",{"$f":"IFERROR(VLOOKUP($F122,'관리자 Setting'!$P$18:$Q$33,2,0)/24,\"\")","v":""}]
["","",{"$f":"IFERROR(DATE(LEFT('In-Put'!$B123,4),MID('In-Put'!$B123,5,2),RIGHT('In-Put'!$B123,2)),\"\")","v":""},{"$f":"IF($C123=\"\",\"\",COUNTIFS($C$2:$C$401,C123)-COUNTIFS($C$2:C123,C123))","v":""},{"$f":"IF($C123=\"\",\"\",COUNTIFS('관리자 Setting'!$P$18:$P$33,'설정_In-Put'!$F123))","v":""},{"$f":"'In-Put'!G123","v":0},{"$f":"IFERROR(IF('In-Put'!D123*1=0,\"\",'In-Put'!D123*1),\"\")","v":""},{"$f":"IFERROR(IF('In-Put'!E123*1=0,\"\",IF('In-Put'!E123*1<G123,'In-Put'!E123*1+1,'In-Put'!E123*1)),\"\")","v":""},{"$f":"IF(OR($H123<'관리자 Setting'!$P$14,$G123>='관리자 Setting'!$Q$14),0,IF(AND($G123<'관리자 Setting'!$P$14,$H123<'관리자 Setting'!$Q$14),$H123-'관리자 Setting'!$P$14,IF(AND($G123<'관리자 Setting'!$P$14,$H123>='관리자 Setting'!$Q$14),'관리자 Setting'!$R$14,IF(AND($G123>='관리자 Setting'!$P$14,$H123>='관리자 Setting'!$Q$14),'관리자 Setting'!$Q$14-$G123,IF(AND($G123>='관리자 Setting'!$P$14,$H123<'관리자 Setting'!$Q$14),$H123-$G123,IF($G123>='관리자 Setting'!$Q$14,0,0))))))","v":"00:00:00"},{"$f":"IF(OR($H123<'관리자 Setting'!$P$15,$G123>='관리자 Setting'!$Q$15),0,IF(AND($G123<'관리자 Setting'!$P$15,$H123<'관리자 Setting'!$Q$15),$H123-'관리자 Setting'!$P$15,IF(AND($G123<'관리자 Setting'!$P$15,$H123>='관리자 Setting'!$Q$15),'관리자 Setting'!$R$15,IF(AND($G123>='관리자 Setting'!$P$15,$H123>='관리자 Setting'!$Q$15),'관리자 Setting'!$Q$15-$G123,IF(AND($G123>='관리자 Setting'!$P$15,$H123<'관리자 Setting'!$Q$15),$H123-$G123,IF($G123>='관리자 Setting'!$Q$15,0,0))))))","v":"00:00:00"},"",{"$f":"IFERROR(VLOOKUP($F123,'관리자 Setting'!$P$18:$Q$33,2,0)/24,\"\")","v":""}]
["","",{"$f":"IFERROR(DATE(LEFT('In-Put'!$B124,4),MID('In-Put'!$B124,5,2),RIGHT('In-Put'!$B124,2)),\"\")","v":""},{"$f":"IF($C124=\"\",\"\",COUNTIFS($C$2:$C$401,C124)-COUNTIFS($C$2:C124,C124))","v":""},{"$f":"IF($C124=\"\",\"\",COUNTIFS('관리자 Setting'!$P$18:$P$33,'설정_In-Put'!$F124))","v":""},{"$f":"'In-Put'!G124","v":0},{"$f":"IFERROR(IF('In-Put'!D124*1=0,\"\",'In-Put'!D124*1),\"\")","v":""},{"$f":"IFERROR(IF('In-Put'!E124*1=0,\"\",IF('In-Put'!E124*1<G124,'In-Put'!E124*1+1,'In-Put'!E124*1)),\"\")","v":""},{"$f":"IF(OR($H124<'관리자 Setting'!$P$14,$G124>='관리자 Setting'!$Q$14),0,IF(AND($G124<'관리자 Setting'!$P$14,$H124<'관리자 Setting'!$Q$14),$H124-'관리자 Setting'!$P$14,IF(AND($G124<'관리자 Setting'!$P$14,$H124>='관리자 Setting'!$Q$14),'관리자 Setting'!$R$14,IF(AND($G124>='관리자 Setting'!$P$14,$H124>='관리자 Setting'!$Q$14),'관리자 Setting'!$Q$14-$G124,IF(AND($G124>='관리자 Setting'!$P$14,$H124<'관리자 Setting'!$Q$14),$H124-$G124,IF($G124>='관리자 Setting'!$Q$14,0,0))))))","v":"00:00:00"},{"$f":"IF(OR($H124<'관리자 Setting'!$P$15,$G124>='관리자 Setting'!$Q$15),0,IF(AND($G124<'관리자 Setting'!$P$15,$H124<'관리자 Setting'!$Q$15),$H124-'관리자 Setting'!$P$15,IF(AND($G124<'관리자 Setting'!$P$15,$H124>='관리자 Setting'!$Q$15),'관리자 Setting'!$R$15,IF(AND($G124>='관리자 Setting'!$P$15,$H124>='관리자 Setting'!$Q$15),'관리자 Setting'!$Q$15-$G124,IF(AND($G124>='관리자 Setting'!$P$15,$H124<'관리자 Setting'!$Q$15),$H124-$G124,IF($G124>='관리자 Setting'!$Q$15,0,0))))))","v":"00:00:00"},"",{"$f":"IFERROR(VLOOKUP($F124,'관리자 Setting'!$P$18:$Q$33,2,0)/24,\"\")","v":""}]
["","",{"$f":"IFERROR(DATE(LEFT('In-Put'!$B125,4),MID('In-Put'!$B125,5,2),RIGHT('In-Put'!$B125,2)),\"\")","v":""},{"$f":"IF($C125=\"\",\"\",COUNTIFS($C$2:$C$401,C125)-COUNTIFS($C$2:C125,C125))","v":""},{"$f":"IF($C125=\"\",\"\",COUNTIFS('관리자 Setting'!$P$18:$P$33,'설정_In-Put'!$F125))","v":""},{"$f":"'In-Put'!G125","v":0},{"$f":"IFERROR(IF('In-Put'!D125*1=0,\"\",'In-Put'!D125*1),\"\")","v":""},{"$f":"IFERROR(IF('In-Put'!E125*1=0,\"\",IF('In-Put'!E125*1<G125,'In-Put'!E125*1+1,'In-Put'!E125*1)),\"\")","v":""},{"$f":"IF(OR($H125<'관리자 Setting'!$P$14,$G125>='관리자 Setting'!$Q$14),0,IF(AND($G125<'관리자 Setting'!$P$14,$H125<'관리자 Setting'!$Q$14),$H125-'관리자 Setting'!$P$14,IF(AND($G125<'관리자 Setting'!$P$14,$H125>='관리자 Setting'!$Q$14),'관리자 Setting'!$R$14,IF(AND($G125>='관리자 Setting'!$P$14,$H125>='관리자 Setting'!$Q$14),'관리자 Setting'!$Q$14-$G125,IF(AND($G125>='관리자 Setting'!$P$14,$H125<'관리자 Setting'!$Q$14),$H125-$G125,IF($G125>='관리자 Setting'!$Q$14,0,0))))))","v":"00:00:00"},{"$f":"IF(OR($H125<'관리자 Setting'!$P$15,$G125>='관리자 Setting'!$Q$15),0,IF(AND($G125<'관리자 Setting'!$P$15,$H125<'관리자 Setting'!$Q$15),$H125-'관리자 Setting'!$P$15,IF(AND($G125<'관리자 Setting'!$P$15,$H125>='관리자 Setting'!$Q$15),'관리자 Setting'!$R$15,IF(AND($G125>='관리자 Setting'!$P$15,$H125>='관리자 Setting'!$Q$15),'관리자 Setting'!$Q$15-$G125,IF(AND($G125>='관리자 Setting'!$P$15,$H125<'관리자 Setting'!$Q$15),$H125-$G125,IF($G125>='관리자 Setting'!$Q$15,0,0))))))","v":"00:00:00"},"",{"$f":"IFERROR(VLOOKUP($F125,'관리자 Setting'!$P$18:$Q$33,2,0)/24,\"\")","v":""}]
["","",{"$f":"IFERROR(DATE(LEFT('In-Put'!$B126,4),MID('In-Put'!$B126,5,2),RIGHT('In-Put'!$B126,2)),\"\")","v":""},{"$f":"IF($C126=\"\",\"\",COUNTIFS($C$2:$C$401,C126)-COUNTIFS($C$2:C126,C126))","v":""},{"$f":"IF($C126=\"\",\"\",COUNTIFS('관리자 Setting'!$P$18:$P$33,'설정_In-Put'!$F126))","v":""},{"$f":"'In-Put'!G126","v":0},{"$f":"IFERROR(IF('In-Put'!D126*1=0,\"\",'In-Put'!D126*1),\"\")","v":""},{"$f":"IFERROR(IF('In-Put'!E126*1=0,\"\",IF('In-Put'!E126*1<G126,'In-Put'!E126*1+1,'In-Put'!E126*1)),\"\")","v":""},{"$f":"IF(OR($H126<'관리자 Setting'!$P$14,$G126>='관리자 Setting'!$Q$14),0,IF(AND($G126<'관리자 Setting'!$P$14,$H126<'관리자 Setting'!$Q$14),$H126-'관리자 Setting'!$P$14,IF(AND($G126<'관리자 Setting'!$P$14,$H126>='관리자 Setting'!$Q$14),'관리자 Setting'!$R$14,IF(AND($G126>='관리자 Setting'!$P$14,$H126>='관리자 Setting'!$Q$14),'관리자 Setting'!$Q$14-$G126,IF(AND($G126>='관리자 Setting'!$P$14,$H126<'관리자 Setting'!$Q$14),$H126-$G126,IF($G126>='관리자 Setting'!$Q$14,0,0))))))","v":"00:00:00"},{"$f":"IF(OR($H126<'관리자 Setting'!$P$15,$G126>='관리자 Setting'!$Q$15),0,IF(AND($G126<'관리자 Setting'!$P$15,$H126<'관리자 Setting'!$Q$15),$H126-'관리자 Setting'!$P$15,IF(AND($G126<'관리자 Setting'!$P$15,$H126>='관리자 Setting'!$Q$15),'관리자 Setting'!$R$15,IF(AND($G126>='관리자 Setting'!$P$15,$H126>='관리자 Setting'!$Q$15),'관리자 Setting'!$Q$15-$G126,IF(AND($G126>='관리자 Setting'!$P$15,$H126<'관리자 Setting'!$Q$15),$H126-$G126,IF($G126>='관리자 Setting'!$Q$15,0,0))))))","v":"00:00:00"},"",{"$f":"IFERROR(VLOOKUP($F126,'관리자 Setting'!$P$18:$Q$33,2,0)/24,\"\")","v":""}]
["","",{"$f":"IFERROR(DATE(LEFT('In-Put'!$B127,4),MID('In-Put'!$B127,5,2),RIGHT('In-Put'!$B127,2)),\"\")","v":""},{"$f":"IF($C127=\"\",\"\",COUNTIFS($C$2:$C$401,C127)-COUNTIFS($C$2:C127,C127))","v":""},{"$f":"IF($C127=\"\",\"\",COUNTIFS('관리자 Setting'!$P$18:$P$33,'설정_In-Put'!$F127))","v":""},{"$f":"'In-Put'!G127","v":0},{"$f":"IFERROR(IF('In-Put'!D127*1=0,\"\",'In-Put'!D127*1),\"\")","v":""},{"$f":"IFERROR(IF('In-Put'!E127*1=0,\"\",IF('In-Put'!E127*1<G127,'In-Put'!E127*1+1,'In-Put'!E127*1)),\"\")","v":""},{"$f":"IF(OR($H127<'관리자 Setting'!$P$14,$G127>='관리자 Setting'!$Q$14),0,IF(AND($G127<'관리자 Setting'!$P$14,$H127<'관리자 Setting'!$Q$14),$H127-'관리자 Setting'!$P$14,IF(AND($G127<'관리자 Setting'!$P$14,$H127>='관리자 Setting'!$Q$14),'관리자 Setting'!$R$14,IF(AND($G127>='관리자 Setting'!$P$14,$H127>='관리자 Setting'!$Q$14),'관리자 Setting'!$Q$14-$G127,IF(AND($G127>='관리자 Setting'!$P$14,$H127<'관리자 Setting'!$Q$14),$H127-$G127,IF($G127>='관리자 Setting'!$Q$14,0,0))))))","v":"00:00:00"},{"$f":"IF(OR($H127<'관리자 Setting'!$P$15,$G127>='관리자 Setting'!$Q$15),0,IF(AND($G127<'관리자 Setting'!$P$15,$H127<'관리자 Setting'!$Q$15),$H127-'관리자 Setting'!$P$15,IF(AND($G127<'관리자 Setting'!$P$15,$H127>='관리자 Setting'!$Q$15),'관리자 Setting'!$R$15,IF(AND($G127>='관리자 Setting'!$P$15,$H127>='관리자 Setting'!$Q$15),'관리자 Setting'!$Q$15-$G127,IF(AND($G127>='관리자 Setting'!$P$15,$H127<'관리자 Setting'!$Q$15),$H127-$G127,IF($G127>='관리자 Setting'!$Q$15,0,0))))))","v":"00:00:00"},"",{"$f":"IFERROR(VLOOKUP($F127,'관리자 Setting'!$P$18:$Q$33,2,0)/24,\"\")","v":""}]
["","",{"$f":"IFERROR(DATE(LEFT('In-Put'!$B128,4),MID('In-Put'!$B128,5,2),RIGHT('In-Put'!$B128,2)),\"\")","v":""},{"$f":"IF($C128=\"\",\"\",COUNTIFS($C$2:$C$401,C128)-COUNTIFS($C$2:C128,C128))","v":""},{"$f":"IF($C128=\"\",\"\",COUNTIFS('관리자 Setting'!$P$18:$P$33,'설정_In-Put'!$F128))","v":""},{"$f":"'In-Put'!G128","v":0},{"$f":"IFERROR(IF('In-Put'!D128*1=0,\"\",'In-Put'!D128*1),\"\")","v":""},{"$f":"IFERROR(IF('In-Put'!E128*1=0,\"\",IF('In-Put'!E128*1<G128,'In-Put'!E128*1+1,'In-Put'!E128*1)),\"\")","v":""},{"$f":"IF(OR($H128<'관리자 Setting'!$P$14,$G128>='관리자 Setting'!$Q$14),0,IF(AND($G128<'관리자 Setting'!$P$14,$H128<'관리자 Setting'!$Q$14),$H128-'관리자 Setting'!$P$14,IF(AND($G128<'관리자 Setting'!$P$14,$H128>='관리자 Setting'!$Q$14),'관리자 Setting'!$R$14,IF(AND($G128>='관리자 Setting'!$P$14,$H128>='관리자 Setting'!$Q$14),'관리자 Setting'!$Q$14-$G128,IF(AND($G128>='관리자 Setting'!$P$14,$H128<'관리자 Setting'!$Q$14),$H128-$G128,IF($G128>='관리자 Setting'!$Q$14,0,0))))))","v":"00:00:00"},{"$f":"IF(OR($H128<'관리자 Setting'!$P$15,$G128>='관리자 Setting'!$Q$15),0,IF(AND($G128<'관리자 Setting'!$P$15,$H128<'관리자 Setting'!$Q$15),$H128-'관리자 Setting'!$P$15,IF(AND($G128<'관리자 Setting'!$P$15,$H128>='관리자 Setting'!$Q$15),'관리자 Setting'!$R$15,IF(AND($G128>='관리자 Setting'!$P$15,$H128>='관리자 Setting'!$Q$15),'관리자 Setting'!$Q$15-$G128,IF(AND($G128>='관리자 Setting'!$P$15,$H128<'관리자 Setting'!$Q$15),$H128-$G128,IF($G128>='관리자 Setting'!$Q$15,0,0))))))","v":"00:00:00"},"",{"$f":"IFERROR(VLOOKUP($F128,'관리자 Setting'!$P$18:$Q$33,2,0)/24,\"\")","v":""}]
["","",{"$f":"IFERROR(DATE(LEFT('In-Put'!$B129,4),MID('In-Put'!$B129,5,2),RIGHT('In-Put'!$B129,2)),\"\")","v":""},{"$f":"IF($C129=\"\",\"\",COUNTIFS($C$2:$C$401,C129)-COUNTIFS($C$2:C129,C129))","v":""},{"$f":"IF($C129=\"\",\"\",COUNTIFS('관리자 Setting'!$P$18:$P$33,'설정_In-Put'!$F129))","v":""},{"$f":"'In-Put'!G129","v":0},{"$f":"IFERROR(IF('In-Put'!D129*1=0,\"\",'In-Put'!D129*1),\"\")","v":""},{"$f":"IFERROR(IF('In-Put'!E129*1=0,\"\",IF('In-Put'!E129*1<G129,'In-Put'!E129*1+1,'In-Put'!E129*1)),\"\")","v":""},{"$f":"IF(OR($H129<'관리자 Setting'!$P$14,$G129>='관리자 Setting'!$Q$14),0,IF(AND($G129<'관리자 Setting'!$P$14,$H129<'관리자 Setting'!$Q$14),$H129-'관리자 Setting'!$P$14,IF(AND($G129<'관리자 Setting'!$P$14,$H129>='관리자 Setting'!$Q$14),'관리자 Setting'!$R$14,IF(AND($G129>='관리자 Setting'!$P$14,$H129>='관리자 Setting'!$Q$14),'관리자 Setting'!$Q$14-$G129,IF(AND($G129>='관리자 Setting'!$P$14,$H129<'관리자 Setting'!$Q$14),$H129-$G129,IF($G129>='관리자 Setting'!$Q$14,0,0))))))","v":"00:00:00"},{"$f":"IF(OR($H129<'관리자 Setting'!$P$15,$G129>='관리자 Setting'!$Q$15),0,IF(AND($G129<'관리자 Setting'!$P$15,$H129<'관리자 Setting'!$Q$15),$H129-'관리자 Setting'!$P$15,IF(AND($G129<'관리자 Setting'!$P$15,$H129>='관리자 Setting'!$Q$15),'관리자 Setting'!$R$15,IF(AND($G129>='관리자 Setting'!$P$15,$H129>='관리자 Setting'!$Q$15),'관리자 Setting'!$Q$15-$G129,IF(AND($G129>='관리자 Setting'!$P$15,$H129<'관리자 Setting'!$Q$15),$H129-$G129,IF($G129>='관리자 Setting'!$Q$15,0,0))))))","v":"00:00:00"},"",{"$f":"IFERROR(VLOOKUP($F129,'관리자 Setting'!$P$18:$Q$33,2,0)/24,\"\")","v":""}]
["","",{"$f":"IFERROR(DATE(LEFT('In-Put'!$B130,4),MID('In-Put'!$B130,5,2),RIGHT('In-Put'!$B130,2)),\"\")","v":""},{"$f":"IF($C130=\"\",\"\",COUNTIFS($C$2:$C$401,C130)-COUNTIFS($C$2:C130,C130))","v":""},{"$f":"IF($C130=\"\",\"\",COUNTIFS('관리자 Setting'!$P$18:$P$33,'설정_In-Put'!$F130))","v":""},{"$f":"'In-Put'!G130","v":0},{"$f":"IFERROR(IF('In-Put'!D130*1=0,\"\",'In-Put'!D130*1),\"\")","v":""},{"$f":"IFERROR(IF('In-Put'!E130*1=0,\"\",IF('In-Put'!E130*1<G130,'In-Put'!E130*1+1,'In-Put'!E130*1)),\"\")","v":""},{"$f":"IF(OR($H130<'관리자 Setting'!$P$14,$G130>='관리자 Setting'!$Q$14),0,IF(AND($G130<'관리자 Setting'!$P$14,$H130<'관리자 Setting'!$Q$14),$H130-'관리자 Setting'!$P$14,IF(AND($G130<'관리자 Setting'!$P$14,$H130>='관리자 Setting'!$Q$14),'관리자 Setting'!$R$14,IF(AND($G130>='관리자 Setting'!$P$14,$H130>='관리자 Setting'!$Q$14),'관리자 Setting'!$Q$14-$G130,IF(AND($G130>='관리자 Setting'!$P$14,$H130<'관리자 Setting'!$Q$14),$H130-$G130,IF($G130>='관리자 Setting'!$Q$14,0,0))))))","v":"00:00:00"},{"$f":"IF(OR($H130<'관리자 Setting'!$P$15,$G130>='관리자 Setting'!$Q$15),0,IF(AND($G130<'관리자 Setting'!$P$15,$H130<'관리자 Setting'!$Q$15),$H130-'관리자 Setting'!$P$15,IF(AND($G130<'관리자 Setting'!$P$15,$H130>='관리자 Setting'!$Q$15),'관리자 Setting'!$R$15,IF(AND($G130>='관리자 Setting'!$P$15,$H130>='관리자 Setting'!$Q$15),'관리자 Setting'!$Q$15-$G130,IF(AND($G130>='관리자 Setting'!$P$15,$H130<'관리자 Setting'!$Q$15),$H130-$G130,IF($G130>='관리자 Setting'!$Q$15,0,0))))))","v":"00:00:00"},{"$f":"IF(OR(G130=\"\",H130=\"\"),\"\",H130-G130-SUM(I130:J130))","v":""},{"$f":"IFERROR(VLOOKUP($F130,'관리자 Setting'!$P$18:$Q$33,2,0)/24,\"\")","v":""}]
[{"$f":"$C131&$D131","v":""},{"$f":"$C131&$E131","v":""},{"$f":"IFERROR(DATE(LEFT('In-Put'!$B131,4),MID('In-Put'!$B131,5,2),RIGHT('In-Put'!$B131,2)),\"\")","v":""},{"$f":"IF($C131=\"\",\"\",COUNTIFS($C$2:$C$401,C131)-COUNTIFS($C$2:C131,C131))","v":""},{"$f":"IF($C131=\"\",\"\",COUNTIFS('관리자 Setting'!$P$18:$P$33,'설정_In-Put'!$F131))","v":""},{"$f":"'In-Put'!G131","v":0},{"$f":"IFERROR(IF('In-Put'!D131*1=0,\"\",'In-Put'!D131*1),\"\")","v":""},{"$f":"IFERROR(IF('In-Put'!E131*1=0,\"\",IF('In-Put'!E131*1<G131,'In-Put'!E131*1+1,'In-Put'!E131*1)),\"\")","v":""},{"$f":"IF(OR($H131<'관리자 Setting'!$P$14,$G131>='관리자 Setting'!$Q$14),0,IF(AND($G131<'관리자 Setting'!$P$14,$H131<'관리자 Setting'!$Q$14),$H131-'관리자 Setting'!$P$14,IF(AND($G131<'관리자 Setting'!$P$14,$H131>='관리자 Setting'!$Q$14),'관리자 Setting'!$R$14,IF(AND($G131>='관리자 Setting'!$P$14,$H131>='관리자 Setting'!$Q$14),'관리자 Setting'!$Q$14-$G131,IF(AND($G131>='관리자 Setting'!$P$14,$H131<'관리자 Setting'!$Q$14),$H131-$G131,IF($G131>='관리자 Setting'!$Q$14,0,0))))))","v":"00:00:00"},{"$f":"IF(OR($H131<'관리자 Setting'!$P$15,$G131>='관리자 Setting'!$Q$15),0,IF(AND($G131<'관리자 Setting'!$P$15,$H131<'관리자 Setting'!$Q$15),$H131-'관리자 Setting'!$P$15,IF(AND($G131<'관리자 Setting'!$P$15,$H131>='관리자 Setting'!$Q$15),'관리자 Setting'!$R$15,IF(AND($G131>='관리자 Setting'!$P$15,$H131>='관리자 Setting'!$Q$15),'관리자 Setting'!$Q$15-$G131,IF(AND($G131>='관리자 Setting'!$P$15,$H131<'관리자 Setting'!$Q$15),$H131-$G131,IF($G131>='관리자 Setting'!$Q$15,0,0))))))","v":"00:00:00"},"",{"$f":"IFERROR(VLOOKUP($F131,'관리자 Setting'!$P$18:$Q$33,2,0)/24,\"\")","v":""}]
["","",{"$f":"IFERROR(DATE(LEFT('In-Put'!$B132,4),MID('In-Put'!$B132,5,2),RIGHT('In-Put'!$B132,2)),\"\")","v":""},{"$f":"IF($C132=\"\",\"\",COUNTIFS($C$2:$C$401,C132)-COUNTIFS($C$2:C132,C132))","v":""},{"$f":"IF($C132=\"\",\"\",COUNTIFS('관리자 Setting'!$P$18:$P$33,'설정_In-Put'!$F132))","v":""},{"$f":"'In-Put'!G132","v":0},{"$f":"IFERROR(IF('In-Put'!D132*1=0,\"\",'In-Put'!D132*1),\"\")","v":""},{"$f":"IFERROR(IF('In-Put'!E132*1=0,\"\",IF('In-Put'!E132*1<G132,'In-Put'!E132*1+1,'In-Put'!E132*1)),\"\")","v":""},{"$f":"IF(OR($H132<'관리자 Setting'!$P$14,$G132>='관리자 Setting'!$Q$14),0,IF(AND($G132<'관리자 Setting'!$P$14,$H132<'관리자 Setting'!$Q$14),$H132-'관리자 Setting'!$P$14,IF(AND($G132<'관리자 Setting'!$P$14,$H132>='관리자 Setting'!$Q$14),'관리자 Setting'!$R$14,IF(AND($G132>='관리자 Setting'!$P$14,$H132>='관리자 Setting'!$Q$14),'관리자 Setting'!$Q$14-$G132,IF(AND($G132>='관리자 Setting'!$P$14,$H132<'관리자 Setting'!$Q$14),$H132-$G132,IF($G132>='관리자 Setting'!$Q$14,0,0))))))","v":"00:00:00"},{"$f":"IF(OR($H132<'관리자 Setting'!$P$15,$G132>='관리자 Setting'!$Q$15),0,IF(AND($G132<'관리자 Setting'!$P$15,$H132<'관리자 Setting'!$Q$15),$H132-'관리자 Setting'!$P$15,IF(AND($G132<'관리자 Setting'!$P$15,$H132>='관리자 Setting'!$Q$15),'관리자 Setting'!$R$15,IF(AND($G132>='관리자 Setting'!$P$15,$H132>='관리자 Setting'!$Q$15),'관리자 Setting'!$Q$15-$G132,IF(AND($G132>='관리자 Setting'!$P$15,$H132<'관리자 Setting'!$Q$15),$H132-$G132,IF($G132>='관리자 Setting'!$Q$15,0,0))))))","v":"00:00:00"},"",{"$f":"IFERROR(VLOOKUP($F132,'관리자 Setting'!$P$18:$Q$33,2,0)/24,\"\")","v":""}]
["","",{"$f":"IFERROR(DATE(LEFT('In-Put'!$B133,4),MID('In-Put'!$B133,5,2),RIGHT('In-Put'!$B133,2)),\"\")","v":""},{"$f":"IF($C133=\"\",\"\",COUNTIFS($C$2:$C$401,C133)-COUNTIFS($C$2:C133,C133))","v":""},{"$f":"IF($C133=\"\",\"\",COUNTIFS('관리자 Setting'!$P$18:$P$33,'설정_In-Put'!$F133))","v":""},{"$f":"'In-Put'!G133","v":0},{"$f":"IFERROR(IF('In-Put'!D133*1=0,\"\",'In-Put'!D133*1),\"\")","v":""},{"$f":"IFERROR(IF('In-Put'!E133*1=0,\"\",IF('In-Put'!E133*1<G133,'In-Put'!E133*1+1,'In-Put'!E133*1)),\"\")","v":""},{"$f":"IF(OR($H133<'관리자 Setting'!$P$14,$G133>='관리자 Setting'!$Q$14),0,IF(AND($G133<'관리자 Setting'!$P$14,$H133<'관리자 Setting'!$Q$14),$H133-'관리자 Setting'!$P$14,IF(AND($G133<'관리자 Setting'!$P$14,$H133>='관리자 Setting'!$Q$14),'관리자 Setting'!$R$14,IF(AND($G133>='관리자 Setting'!$P$14,$H133>='관리자 Setting'!$Q$14),'관리자 Setting'!$Q$14-$G133,IF(AND($G133>='관리자 Setting'!$P$14,$H133<'관리자 Setting'!$Q$14),$H133-$G133,IF($G133>='관리자 Setting'!$Q$14,0,0))))))","v":"00:00:00"},{"$f":"IF(OR($H133<'관리자 Setting'!$P$15,$G133>='관리자 Setting'!$Q$15),0,IF(AND($G133<'관리자 Setting'!$P$15,$H133<'관리자 Setting'!$Q$15),$H133-'관리자 Setting'!$P$15,IF(AND($G133<'관리자 Setting'!$P$15,$H133>='관리자 Setting'!$Q$15),'관리자 Setting'!$R$15,IF(AND($G133>='관리자 Setting'!$P$15,$H133>='관리자 Setting'!$Q$15),'관리자 Setting'!$Q$15-$G133,IF(AND($G133>='관리자 Setting'!$P$15,$H133<'관리자 Setting'!$Q$15),$H133-$G133,IF($G133>='관리자 Setting'!$Q$15,0,0))))))","v":"00:00:00"},"",{"$f":"IFERROR(VLOOKUP($F133,'관리자 Setting'!$P$18:$Q$33,2,0)/24,\"\")","v":""}]
["","",{"$f":"IFERROR(DATE(LEFT('In-Put'!$B134,4),MID('In-Put'!$B134,5,2),RIGHT('In-Put'!$B134,2)),\"\")","v":""},{"$f":"IF($C134=\"\",\"\",COUNTIFS($C$2:$C$401,C134)-COUNTIFS($C$2:C134,C134))","v":""},{"$f":"IF($C134=\"\",\"\",COUNTIFS('관리자 Setting'!$P$18:$P$33,'설정_In-Put'!$F134))","v":""},{"$f":"'In-Put'!G134","v":0},{"$f":"IFERROR(IF('In-Put'!D134*1=0,\"\",'In-Put'!D134*1),\"\")","v":""},{"$f":"IFERROR(IF('In-Put'!E134*1=0,\"\",IF('In-Put'!E134*1<G134,'In-Put'!E134*1+1,'In-Put'!E134*1)),\"\")","v":""},{"$f":"IF(OR($H134<'관리자 Setting'!$P$14,$G134>='관리자 Setting'!$Q$14),0,IF(AND($G134<'관리자 Setting'!$P$14,$H134<'관리자 Setting'!$Q$14),$H134-'관리자 Setting'!$P$14,IF(AND($G134<'관리자 Setting'!$P$14,$H134>='관리자 Setting'!$Q$14),'관리자 Setting'!$R$14,IF(AND($G134>='관리자 Setting'!$P$14,$H134>='관리자 Setting'!$Q$14),'관리자 Setting'!$Q$14-$G134,IF(AND($G134>='관리자 Setting'!$P$14,$H134<'관리자 Setting'!$Q$14),$H134-$G134,IF($G134>='관리자 Setting'!$Q$14,0,0))))))","v":"00:00:00"},{"$f":"IF(OR($H134<'관리자 Setting'!$P$15,$G134>='관리자 Setting'!$Q$15),0,IF(AND($G134<'관리자 Setting'!$P$15,$H134<'관리자 Setting'!$Q$15),$H134-'관리자 Setting'!$P$15,IF(AND($G134<'관리자 Setting'!$P$15,$H134>='관리자 Setting'!$Q$15),'관리자 Setting'!$R$15,IF(AND($G134>='관리자 Setting'!$P$15,$H134>='관리자 Setting'!$Q$15),'관리자 Setting'!$Q$15-$G134,IF(AND($G134>='관리자 Setting'!$P$15,$H134<'관리자 Setting'!$Q$15),$H134-$G134,IF($G134>='관리자 Setting'!$Q$15,0,0))))))","v":"00:00:00"},"",{"$f":"IFERROR(VLOOKUP($F134,'관리자 Setting'!$P$18:$Q$33,2,0)/24,\"\")","v":""}]
["","",{"$f":"IFERROR(DATE(LEFT('In-Put'!$B135,4),MID('In-Put'!$B135,5,2),RIGHT('In-Put'!$B135,2)),\"\")","v":""},{"$f":"IF($C135=\"\",\"\",COUNTIFS($C$2:$C$401,C135)-COUNTIFS($C$2:C135,C135))","v":""},{"$f":"IF($C135=\"\",\"\",COUNTIFS('관리자 Setting'!$P$18:$P$33,'설정_In-Put'!$F135))","v":""},{"$f":"'In-Put'!G135","v":0},{"$f":"IFERROR(IF('In-Put'!D135*1=0,\"\",'In-Put'!D135*1),\"\")","v":""},{"$f":"IFERROR(IF('In-Put'!E135*1=0,\"\",IF('In-Put'!E135*1<G135,'In-Put'!E135*1+1,'In-Put'!E135*1)),\"\")","v":""},{"$f":"IF(OR($H135<'관리자 Setting'!$P$14,$G135>='관리자 Setting'!$Q$14),0,IF(AND($G135<'관리자 Setting'!$P$14,$H135<'관리자 Setting'!$Q$14),$H135-'관리자 Setting'!$P$14,IF(AND($G135<'관리자 Setting'!$P$14,$H135>='관리자 Setting'!$Q$14),'관리자 Setting'!$R$14,IF(AND($G135>='관리자 Setting'!$P$14,$H135>='관리자 Setting'!$Q$14),'관리자 Setting'!$Q$14-$G135,IF(AND($G135>='관리자 Setting'!$P$14,$H135<'관리자 Setting'!$Q$14),$H135-$G135,IF($G135>='관리자 Setting'!$Q$14,0,0))))))","v":"00:00:00"},{"$f":"IF(OR($H135<'관리자 Setting'!$P$15,$G135>='관리자 Setting'!$Q$15),0,IF(AND($G135<'관리자 Setting'!$P$15,$H135<'관리자 Setting'!$Q$15),$H135-'관리자 Setting'!$P$15,IF(AND($G135<'관리자 Setting'!$P$15,$H135>='관리자 Setting'!$Q$15),'관리자 Setting'!$R$15,IF(AND($G135>='관리자 Setting'!$P$15,$H135>='관리자 Setting'!$Q$15),'관리자 Setting'!$Q$15-$G135,IF(AND($G135>='관리자 Setting'!$P$15,$H135<'관리자 Setting'!$Q$15),$H135-$G135,IF($G135>='관리자 Setting'!$Q$15,0,0))))))","v":"00:00:00"},"",{"$f":"IFERROR(VLOOKUP($F135,'관리자 Setting'!$P$18:$Q$33,2,0)/24,\"\")","v":""}]
["","",{"$f":"IFERROR(DATE(LEFT('In-Put'!$B136,4),MID('In-Put'!$B136,5,2),RIGHT('In-Put'!$B136,2)),\"\")","v":""},{"$f":"IF($C136=\"\",\"\",COUNTIFS($C$2:$C$401,C136)-COUNTIFS($C$2:C136,C136))","v":""},{"$f":"IF($C136=\"\",\"\",COUNTIFS('관리자 Setting'!$P$18:$P$33,'설정_In-Put'!$F136))","v":""},{"$f":"'In-Put'!G136","v":0},{"$f":"IFERROR(IF('In-Put'!D136*1=0,\"\",'In-Put'!D136*1),\"\")","v":""},{"$f":"IFERROR(IF('In-Put'!E136*1=0,\"\",IF('In-Put'!E136*1<G136,'In-Put'!E136*1+1,'In-Put'!E136*1)),\"\")","v":""},{"$f":"IF(OR($H136<'관리자 Setting'!$P$14,$G136>='관리자 Setting'!$Q$14),0,IF(AND($G136<'관리자 Setting'!$P$14,$H136<'관리자 Setting'!$Q$14),$H136-'관리자 Setting'!$P$14,IF(AND($G136<'관리자 Setting'!$P$14,$H136>='관리자 Setting'!$Q$14),'관리자 Setting'!$R$14,IF(AND($G136>='관리자 Setting'!$P$14,$H136>='관리자 Setting'!$Q$14),'관리자 Setting'!$Q$14-$G136,IF(AND($G136>='관리자 Setting'!$P$14,$H136<'관리자 Setting'!$Q$14),$H136-$G136,IF($G136>='관리자 Setting'!$Q$14,0,0))))))","v":"00:00:00"},{"$f":"IF(OR($H136<'관리자 Setting'!$P$15,$G136>='관리자 Setting'!$Q$15),0,IF(AND($G136<'관리자 Setting'!$P$15,$H136<'관리자 Setting'!$Q$15),$H136-'관리자 Setting'!$P$15,IF(AND($G136<'관리자 Setting'!$P$15,$H136>='관리자 Setting'!$Q$15),'관리자 Setting'!$R$15,IF(AND($G136>='관리자 Setting'!$P$15,$H136>='관리자 Setting'!$Q$15),'관리자 Setting'!$Q$15-$G136,IF(AND($G136>='관리자 Setting'!$P$15,$H136<'관리자 Setting'!$Q$15),$H136-$G136,IF($G136>='관리자 Setting'!$Q$15,0,0))))))","v":"00:00:00"},"",{"$f":"IFERROR(VLOOKUP($F136,'관리자 Setting'!$P$18:$Q$33,2,0)/24,\"\")","v":""}]
["","",{"$f":"IFERROR(DATE(LEFT('In-Put'!$B137,4),MID('In-Put'!$B137,5,2),RIGHT('In-Put'!$B137,2)),\"\")","v":""},{"$f":"IF($C137=\"\",\"\",COUNTIFS($C$2:$C$401,C137)-COUNTIFS($C$2:C137,C137))","v":""},{"$f":"IF($C137=\"\",\"\",COUNTIFS('관리자 Setting'!$P$18:$P$33,'설정_In-Put'!$F137))","v":""},{"$f":"'In-Put'!G137","v":0},{"$f":"IFERROR(IF('In-Put'!D137*1=0,\"\",'In-Put'!D137*1),\"\")","v":""},{"$f":"IFERROR(IF('In-Put'!E137*1=0,\"\",IF('In-Put'!E137*1<G137,'In-Put'!E137*1+1,'In-Put'!E137*1)),\"\")","v":""},{"$f":"IF(OR($H137<'관리자 Setting'!$P$14,$G137>='관리자 Setting'!$Q$14),0,IF(AND($G137<'관리자 Setting'!$P$14,$H137<'관리자 Setting'!$Q$14),$H137-'관리자 Setting'!$P$14,IF(AND($G137<'관리자 Setting'!$P$14,$H137>='관리자 Setting'!$Q$14),'관리자 Setting'!$R$14,IF(AND($G137>='관리자 Setting'!$P$14,$H137>='관리자 Setting'!$Q$14),'관리자 Setting'!$Q$14-$G137,IF(AND($G137>='관리자 Setting'!$P$14,$H137<'관리자 Setting'!$Q$14),$H137-$G137,IF($G137>='관리자 Setting'!$Q$14,0,0))))))","v":"00:00:00"},{"$f":"IF(OR($H137<'관리자 Setting'!$P$15,$G137>='관리자 Setting'!$Q$15),0,IF(AND($G137<'관리자 Setting'!$P$15,$H137<'관리자 Setting'!$Q$15),$H137-'관리자 Setting'!$P$15,IF(AND($G137<'관리자 Setting'!$P$15,$H137>='관리자 Setting'!$Q$15),'관리자 Setting'!$R$15,IF(AND($G137>='관리자 Setting'!$P$15,$H137>='관리자 Setting'!$Q$15),'관리자 Setting'!$Q$15-$G137,IF(AND($G137>='관리자 Setting'!$P$15,$H137<'관리자 Setting'!$Q$15),$H137-$G137,IF($G137>='관리자 Setting'!$Q$15,0,0))))))","v":"00:00:00"},"",{"$f":"IFERROR(VLOOKUP($F137,'관리자 Setting'!$P$18:$Q$33,2,0)/24,\"\")","v":""}]
["","",{"$f":"IFERROR(DATE(LEFT('In-Put'!$B138,4),MID('In-Put'!$B138,5,2),RIGHT('In-Put'!$B138,2)),\"\")","v":""},{"$f":"IF($C138=\"\",\"\",COUNTIFS($C$2:$C$401,C138)-COUNTIFS($C$2:C138,C138))","v":""},{"$f":"IF($C138=\"\",\"\",COUNTIFS('관리자 Setting'!$P$18:$P$33,'설정_In-Put'!$F138))","v":""},{"$f":"'In-Put'!G138","v":0},{"$f":"IFERROR(IF('In-Put'!D138*1=0,\"\",'In-Put'!D138*1),\"\")","v":""},{"$f":"IFERROR(IF('In-Put'!E138*1=0,\"\",IF('In-Put'!E138*1<G138,'In-Put'!E138*1+1,'In-Put'!E138*1)),\"\")","v":""},{"$f":"IF(OR($H138<'관리자 Setting'!$P$14,$G138>='관리자 Setting'!$Q$14),0,IF(AND($G138<'관리자 Setting'!$P$14,$H138<'관리자 Setting'!$Q$14),$H138-'관리자 Setting'!$P$14,IF(AND($G138<'관리자 Setting'!$P$14,$H138>='관리자 Setting'!$Q$14),'관리자 Setting'!$R$14,IF(AND($G138>='관리자 Setting'!$P$14,$H138>='관리자 Setting'!$Q$14),'관리자 Setting'!$Q$14-$G138,IF(AND($G138>='관리자 Setting'!$P$14,$H138<'관리자 Setting'!$Q$14),$H138-$G138,IF($G138>='관리자 Setting'!$Q$14,0,0))))))","v":"00:00:00"},{"$f":"IF(OR($H138<'관리자 Setting'!$P$15,$G138>='관리자 Setting'!$Q$15),0,IF(AND($G138<'관리자 Setting'!$P$15,$H138<'관리자 Setting'!$Q$15),$H138-'관리자 Setting'!$P$15,IF(AND($G138<'관리자 Setting'!$P$15,$H138>='관리자 Setting'!$Q$15),'관리자 Setting'!$R$15,IF(AND($G138>='관리자 Setting'!$P$15,$H138>='관리자 Setting'!$Q$15),'관리자 Setting'!$Q$15-$G138,IF(AND($G138>='관리자 Setting'!$P$15,$H138<'관리자 Setting'!$Q$15),$H138-$G138,IF($G138>='관리자 Setting'!$Q$15,0,0))))))","v":"00:00:00"},"",{"$f":"IFERROR(VLOOKUP($F138,'관리자 Setting'!$P$18:$Q$33,2,0)/24,\"\")","v":""}]
["","",{"$f":"IFERROR(DATE(LEFT('In-Put'!$B139,4),MID('In-Put'!$B139,5,2),RIGHT('In-Put'!$B139,2)),\"\")","v":""},{"$f":"IF($C139=\"\",\"\",COUNTIFS($C$2:$C$401,C139)-COUNTIFS($C$2:C139,C139))","v":""},{"$f":"IF($C139=\"\",\"\",COUNTIFS('관리자 Setting'!$P$18:$P$33,'설정_In-Put'!$F139))","v":""},{"$f":"'In-Put'!G139","v":0},{"$f":"IFERROR(IF('In-Put'!D139*1=0,\"\",'In-Put'!D139*1),\"\")","v":""},{"$f":"IFERROR(IF('In-Put'!E139*1=0,\"\",IF('In-Put'!E139*1<G139,'In-Put'!E139*1+1,'In-Put'!E139*1)),\"\")","v":""},{"$f":"IF(OR($H139<'관리자 Setting'!$P$14,$G139>='관리자 Setting'!$Q$14),0,IF(AND($G139<'관리자 Setting'!$P$14,$H139<'관리자 Setting'!$Q$14),$H139-'관리자 Setting'!$P$14,IF(AND($G139<'관리자 Setting'!$P$14,$H139>='관리자 Setting'!$Q$14),'관리자 Setting'!$R$14,IF(AND($G139>='관리자 Setting'!$P$14,$H139>='관리자 Setting'!$Q$14),'관리자 Setting'!$Q$14-$G139,IF(AND($G139>='관리자 Setting'!$P$14,$H139<'관리자 Setting'!$Q$14),$H139-$G139,IF($G139>='관리자 Setting'!$Q$14,0,0))))))","v":"00:00:00"},{"$f":"IF(OR($H139<'관리자 Setting'!$P$15,$G139>='관리자 Setting'!$Q$15),0,IF(AND($G139<'관리자 Setting'!$P$15,$H139<'관리자 Setting'!$Q$15),$H139-'관리자 Setting'!$P$15,IF(AND($G139<'관리자 Setting'!$P$15,$H139>='관리자 Setting'!$Q$15),'관리자 Setting'!$R$15,IF(AND($G139>='관리자 Setting'!$P$15,$H139>='관리자 Setting'!$Q$15),'관리자 Setting'!$Q$15-$G139,IF(AND($G139>='관리자 Setting'!$P$15,$H139<'관리자 Setting'!$Q$15),$H139-$G139,IF($G139>='관리자 Setting'!$Q$15,0,0))))))","v":"00:00:00"},"",{"$f":"IFERROR(VLOOKUP($F139,'관리자 Setting'!$P$18:$Q$33,2,0)/24,\"\")","v":""}]
["","",{"$f":"IFERROR(DATE(LEFT('In-Put'!$B140,4),MID('In-Put'!$B140,5,2),RIGHT('In-Put'!$B140,2)),\"\")","v":""},{"$f":"IF($C140=\"\",\"\",COUNTIFS($C$2:$C$401,C140)-COUNTIFS($C$2:C140,C140))","v":""},{"$f":"IF($C140=\"\",\"\",COUNTIFS('관리자 Setting'!$P$18:$P$33,'설정_In-Put'!$F140))","v":""},{"$f":"'In-Put'!G140","v":0},{"$f":"IFERROR(IF('In-Put'!D140*1=0,\"\",'In-Put'!D140*1),\"\")","v":""},{"$f":"IFERROR(IF('In-Put'!E140*1=0,\"\",IF('In-Put'!E140*1<G140,'In-Put'!E140*1+1,'In-Put'!E140*1)),\"\")","v":""},{"$f":"IF(OR($H140<'관리자 Setting'!$P$14,$G140>='관리자 Setting'!$Q$14),0,IF(AND($G140<'관리자 Setting'!$P$14,$H140<'관리자 Setting'!$Q$14),$H140-'관리자 Setting'!$P$14,IF(AND($G140<'관리자 Setting'!$P$14,$H140>='관리자 Setting'!$Q$14),'관리자 Setting'!$R$14,IF(AND($G140>='관리자 Setting'!$P$14,$H140>='관리자 Setting'!$Q$14),'관리자 Setting'!$Q$14-$G140,IF(AND($G140>='관리자 Setting'!$P$14,$H140<'관리자 Setting'!$Q$14),$H140-$G140,IF($G140>='관리자 Setting'!$Q$14,0,0))))))","v":"00:00:00"},{"$f":"IF(OR($H140<'관리자 Setting'!$P$15,$G140>='관리자 Setting'!$Q$15),0,IF(AND($G140<'관리자 Setting'!$P$15,$H140<'관리자 Setting'!$Q$15),$H140-'관리자 Setting'!$P$15,IF(AND($G140<'관리자 Setting'!$P$15,$H140>='관리자 Setting'!$Q$15),'관리자 Setting'!$R$15,IF(AND($G140>='관리자 Setting'!$P$15,$H140>='관리자 Setting'!$Q$15),'관리자 Setting'!$Q$15-$G140,IF(AND($G140>='관리자 Setting'!$P$15,$H140<'관리자 Setting'!$Q$15),$H140-$G140,IF($G140>='관리자 Setting'!$Q$15,0,0))))))","v":"00:00:00"},"",{"$f":"IFERROR(VLOOKUP($F140,'관리자 Setting'!$P$18:$Q$33,2,0)/24,\"\")","v":""}]
["","",{"$f":"IFERROR(DATE(LEFT('In-Put'!$B141,4),MID('In-Put'!$B141,5,2),RIGHT('In-Put'!$B141,2)),\"\")","v":""},{"$f":"IF($C141=\"\",\"\",COUNTIFS($C$2:$C$401,C141)-COUNTIFS($C$2:C141,C141))","v":""},{"$f":"IF($C141=\"\",\"\",COUNTIFS('관리자 Setting'!$P$18:$P$33,'설정_In-Put'!$F141))","v":""},{"$f":"'In-Put'!G141","v":0},{"$f":"IFERROR(IF('In-Put'!D141*1=0,\"\",'In-Put'!D141*1),\"\")","v":""},{"$f":"IFERROR(IF('In-Put'!E141*1=0,\"\",IF('In-Put'!E141*1<G141,'In-Put'!E141*1+1,'In-Put'!E141*1)),\"\")","v":""},{"$f":"IF(OR($H141<'관리자 Setting'!$P$14,$G141>='관리자 Setting'!$Q$14),0,IF(AND($G141<'관리자 Setting'!$P$14,$H141<'관리자 Setting'!$Q$14),$H141-'관리자 Setting'!$P$14,IF(AND($G141<'관리자 Setting'!$P$14,$H141>='관리자 Setting'!$Q$14),'관리자 Setting'!$R$14,IF(AND($G141>='관리자 Setting'!$P$14,$H141>='관리자 Setting'!$Q$14),'관리자 Setting'!$Q$14-$G141,IF(AND($G141>='관리자 Setting'!$P$14,$H141<'관리자 Setting'!$Q$14),$H141-$G141,IF($G141>='관리자 Setting'!$Q$14,0,0))))))","v":"00:00:00"},{"$f":"IF(OR($H141<'관리자 Setting'!$P$15,$G141>='관리자 Setting'!$Q$15),0,IF(AND($G141<'관리자 Setting'!$P$15,$H141<'관리자 Setting'!$Q$15),$H141-'관리자 Setting'!$P$15,IF(AND($G141<'관리자 Setting'!$P$15,$H141>='관리자 Setting'!$Q$15),'관리자 Setting'!$R$15,IF(AND($G141>='관리자 Setting'!$P$15,$H141>='관리자 Setting'!$Q$15),'관리자 Setting'!$Q$15-$G141,IF(AND($G141>='관리자 Setting'!$P$15,$H141<'관리자 Setting'!$Q$15),$H141-$G141,IF($G141>='관리자 Setting'!$Q$15,0,0))))))","v":"00:00:00"},"",{"$f":"IFERROR(VLOOKUP($F141,'관리자 Setting'!$P$18:$Q$33,2,0)/24,\"\")","v":""}]
["","",{"$f":"IFERROR(DATE(LEFT('In-Put'!$B142,4),MID('In-Put'!$B142,5,2),RIGHT('In-Put'!$B142,2)),\"\")","v":""},{"$f":"IF($C142=\"\",\"\",COUNTIFS($C$2:$C$401,C142)-COUNTIFS($C$2:C142,C142))","v":""},{"$f":"IF($C142=\"\",\"\",COUNTIFS('관리자 Setting'!$P$18:$P$33,'설정_In-Put'!$F142))","v":""},{"$f":"'In-Put'!G142","v":0},{"$f":"IFERROR(IF('In-Put'!D142*1=0,\"\",'In-Put'!D142*1),\"\")","v":""},{"$f":"IFERROR(IF('In-Put'!E142*1=0,\"\",IF('In-Put'!E142*1<G142,'In-Put'!E142*1+1,'In-Put'!E142*1)),\"\")","v":""},{"$f":"IF(OR($H142<'관리자 Setting'!$P$14,$G142>='관리자 Setting'!$Q$14),0,IF(AND($G142<'관리자 Setting'!$P$14,$H142<'관리자 Setting'!$Q$14),$H142-'관리자 Setting'!$P$14,IF(AND($G142<'관리자 Setting'!$P$14,$H142>='관리자 Setting'!$Q$14),'관리자 Setting'!$R$14,IF(AND($G142>='관리자 Setting'!$P$14,$H142>='관리자 Setting'!$Q$14),'관리자 Setting'!$Q$14-$G142,IF(AND($G142>='관리자 Setting'!$P$14,$H142<'관리자 Setting'!$Q$14),$H142-$G142,IF($G142>='관리자 Setting'!$Q$14,0,0))))))","v":"00:00:00"},{"$f":"IF(OR($H142<'관리자 Setting'!$P$15,$G142>='관리자 Setting'!$Q$15),0,IF(AND($G142<'관리자 Setting'!$P$15,$H142<'관리자 Setting'!$Q$15),$H142-'관리자 Setting'!$P$15,IF(AND($G142<'관리자 Setting'!$P$15,$H142>='관리자 Setting'!$Q$15),'관리자 Setting'!$R$15,IF(AND($G142>='관리자 Setting'!$P$15,$H142>='관리자 Setting'!$Q$15),'관리자 Setting'!$Q$15-$G142,IF(AND($G142>='관리자 Setting'!$P$15,$H142<'관리자 Setting'!$Q$15),$H142-$G142,IF($G142>='관리자 Setting'!$Q$15,0,0))))))","v":"00:00:00"},"",{"$f":"IFERROR(VLOOKUP($F142,'관리자 Setting'!$P$18:$Q$33,2,0)/24,\"\")","v":""}]
["","",{"$f":"IFERROR(DATE(LEFT('In-Put'!$B143,4),MID('In-Put'!$B143,5,2),RIGHT('In-Put'!$B143,2)),\"\")","v":""},{"$f":"IF($C143=\"\",\"\",COUNTIFS($C$2:$C$401,C143)-COUNTIFS($C$2:C143,C143))","v":""},{"$f":"IF($C143=\"\",\"\",COUNTIFS('관리자 Setting'!$P$18:$P$33,'설정_In-Put'!$F143))","v":""},{"$f":"'In-Put'!G143","v":0},{"$f":"IFERROR(IF('In-Put'!D143*1=0,\"\",'In-Put'!D143*1),\"\")","v":""},{"$f":"IFERROR(IF('In-Put'!E143*1=0,\"\",IF('In-Put'!E143*1<G143,'In-Put'!E143*1+1,'In-Put'!E143*1)),\"\")","v":""},{"$f":"IF(OR($H143<'관리자 Setting'!$P$14,$G143>='관리자 Setting'!$Q$14),0,IF(AND($G143<'관리자 Setting'!$P$14,$H143<'관리자 Setting'!$Q$14),$H143-'관리자 Setting'!$P$14,IF(AND($G143<'관리자 Setting'!$P$14,$H143>='관리자 Setting'!$Q$14),'관리자 Setting'!$R$14,IF(AND($G143>='관리자 Setting'!$P$14,$H143>='관리자 Setting'!$Q$14),'관리자 Setting'!$Q$14-$G143,IF(AND($G143>='관리자 Setting'!$P$14,$H143<'관리자 Setting'!$Q$14),$H143-$G143,IF($G143>='관리자 Setting'!$Q$14,0,0))))))","v":"00:00:00"},{"$f":"IF(OR($H143<'관리자 Setting'!$P$15,$G143>='관리자 Setting'!$Q$15),0,IF(AND($G143<'관리자 Setting'!$P$15,$H143<'관리자 Setting'!$Q$15),$H143-'관리자 Setting'!$P$15,IF(AND($G143<'관리자 Setting'!$P$15,$H143>='관리자 Setting'!$Q$15),'관리자 Setting'!$R$15,IF(AND($G143>='관리자 Setting'!$P$15,$H143>='관리자 Setting'!$Q$15),'관리자 Setting'!$Q$15-$G143,IF(AND($G143>='관리자 Setting'!$P$15,$H143<'관리자 Setting'!$Q$15),$H143-$G143,IF($G143>='관리자 Setting'!$Q$15,0,0))))))","v":"00:00:00"},"",{"$f":"IFERROR(VLOOKUP($F143,'관리자 Setting'!$P$18:$Q$33,2,0)/24,\"\")","v":""}]
["","",{"$f":"IFERROR(DATE(LEFT('In-Put'!$B144,4),MID('In-Put'!$B144,5,2),RIGHT('In-Put'!$B144,2)),\"\")","v":""},{"$f":"IF($C144=\"\",\"\",COUNTIFS($C$2:$C$401,C144)-COUNTIFS($C$2:C144,C144))","v":""},{"$f":"IF($C144=\"\",\"\",COUNTIFS('관리자 Setting'!$P$18:$P$33,'설정_In-Put'!$F144))","v":""},{"$f":"'In-Put'!G144","v":0},{"$f":"IFERROR(IF('In-Put'!D144*1=0,\"\",'In-Put'!D144*1),\"\")","v":""},{"$f":"IFERROR(IF('In-Put'!E144*1=0,\"\",IF('In-Put'!E144*1<G144,'In-Put'!E144*1+1,'In-Put'!E144*1)),\"\")","v":""},{"$f":"IF(OR($H144<'관리자 Setting'!$P$14,$G144>='관리자 Setting'!$Q$14),0,IF(AND($G144<'관리자 Setting'!$P$14,$H144<'관리자 Setting'!$Q$14),$H144-'관리자 Setting'!$P$14,IF(AND($G144<'관리자 Setting'!$P$14,$H144>='관리자 Setting'!$Q$14),'관리자 Setting'!$R$14,IF(AND($G144>='관리자 Setting'!$P$14,$H144>='관리자 Setting'!$Q$14),'관리자 Setting'!$Q$14-$G144,IF(AND($G144>='관리자 Setting'!$P$14,$H144<'관리자 Setting'!$Q$14),$H144-$G144,IF($G144>='관리자 Setting'!$Q$14,0,0))))))","v":"00:00:00"},{"$f":"IF(OR($H144<'관리자 Setting'!$P$15,$G144>='관리자 Setting'!$Q$15),0,IF(AND($G144<'관리자 Setting'!$P$15,$H144<'관리자 Setting'!$Q$15),$H144-'관리자 Setting'!$P$15,IF(AND($G144<'관리자 Setting'!$P$15,$H144>='관리자 Setting'!$Q$15),'관리자 Setting'!$R$15,IF(AND($G144>='관리자 Setting'!$P$15,$H144>='관리자 Setting'!$Q$15),'관리자 Setting'!$Q$15-$G144,IF(AND($G144>='관리자 Setting'!$P$15,$H144<'관리자 Setting'!$Q$15),$H144-$G144,IF($G144>='관리자 Setting'!$Q$15,0,0))))))","v":"00:00:00"},"",{"$f":"IFERROR(VLOOKUP($F144,'관리자 Setting'!$P$18:$Q$33,2,0)/24,\"\")","v":""}]
["","",{"$f":"IFERROR(DATE(LEFT('In-Put'!$B145,4),MID('In-Put'!$B145,5,2),RIGHT('In-Put'!$B145,2)),\"\")","v":""},{"$f":"IF($C145=\"\",\"\",COUNTIFS($C$2:$C$401,C145)-COUNTIFS($C$2:C145,C145))","v":""},{"$f":"IF($C145=\"\",\"\",COUNTIFS('관리자 Setting'!$P$18:$P$33,'설정_In-Put'!$F145))","v":""},{"$f":"'In-Put'!G145","v":0},{"$f":"IFERROR(IF('In-Put'!D145*1=0,\"\",'In-Put'!D145*1),\"\")","v":""},{"$f":"IFERROR(IF('In-Put'!E145*1=0,\"\",IF('In-Put'!E145*1<G145,'In-Put'!E145*1+1,'In-Put'!E145*1)),\"\")","v":""},{"$f":"IF(OR($H145<'관리자 Setting'!$P$14,$G145>='관리자 Setting'!$Q$14),0,IF(AND($G145<'관리자 Setting'!$P$14,$H145<'관리자 Setting'!$Q$14),$H145-'관리자 Setting'!$P$14,IF(AND($G145<'관리자 Setting'!$P$14,$H145>='관리자 Setting'!$Q$14),'관리자 Setting'!$R$14,IF(AND($G145>='관리자 Setting'!$P$14,$H145>='관리자 Setting'!$Q$14),'관리자 Setting'!$Q$14-$G145,IF(AND($G145>='관리자 Setting'!$P$14,$H145<'관리자 Setting'!$Q$14),$H145-$G145,IF($G145>='관리자 Setting'!$Q$14,0,0))))))","v":"00:00:00"},{"$f":"IF(OR($H145<'관리자 Setting'!$P$15,$G145>='관리자 Setting'!$Q$15),0,IF(AND($G145<'관리자 Setting'!$P$15,$H145<'관리자 Setting'!$Q$15),$H145-'관리자 Setting'!$P$15,IF(AND($G145<'관리자 Setting'!$P$15,$H145>='관리자 Setting'!$Q$15),'관리자 Setting'!$R$15,IF(AND($G145>='관리자 Setting'!$P$15,$H145>='관리자 Setting'!$Q$15),'관리자 Setting'!$Q$15-$G145,IF(AND($G145>='관리자 Setting'!$P$15,$H145<'관리자 Setting'!$Q$15),$H145-$G145,IF($G145>='관리자 Setting'!$Q$15,0,0))))))","v":"00:00:00"},"",{"$f":"IFERROR(VLOOKUP($F145,'관리자 Setting'!$P$18:$Q$33,2,0)/24,\"\")","v":""}]
["","",{"$f":"IFERROR(DATE(LEFT('In-Put'!$B146,4),MID('In-Put'!$B146,5,2),RIGHT('In-Put'!$B146,2)),\"\")","v":""},{"$f":"IF($C146=\"\",\"\",COUNTIFS($C$2:$C$401,C146)-COUNTIFS($C$2:C146,C146))","v":""},{"$f":"IF($C146=\"\",\"\",COUNTIFS('관리자 Setting'!$P$18:$P$33,'설정_In-Put'!$F146))","v":""},{"$f":"'In-Put'!G146","v":0},{"$f":"IFERROR(IF('In-Put'!D146*1=0,\"\",'In-Put'!D146*1),\"\")","v":""},{"$f":"IFERROR(IF('In-Put'!E146*1=0,\"\",IF('In-Put'!E146*1<G146,'In-Put'!E146*1+1,'In-Put'!E146*1)),\"\")","v":""},{"$f":"IF(OR($H146<'관리자 Setting'!$P$14,$G146>='관리자 Setting'!$Q$14),0,IF(AND($G146<'관리자 Setting'!$P$14,$H146<'관리자 Setting'!$Q$14),$H146-'관리자 Setting'!$P$14,IF(AND($G146<'관리자 Setting'!$P$14,$H146>='관리자 Setting'!$Q$14),'관리자 Setting'!$R$14,IF(AND($G146>='관리자 Setting'!$P$14,$H146>='관리자 Setting'!$Q$14),'관리자 Setting'!$Q$14-$G146,IF(AND($G146>='관리자 Setting'!$P$14,$H146<'관리자 Setting'!$Q$14),$H146-$G146,IF($G146>='관리자 Setting'!$Q$14,0,0))))))","v":"00:00:00"},{"$f":"IF(OR($H146<'관리자 Setting'!$P$15,$G146>='관리자 Setting'!$Q$15),0,IF(AND($G146<'관리자 Setting'!$P$15,$H146<'관리자 Setting'!$Q$15),$H146-'관리자 Setting'!$P$15,IF(AND($G146<'관리자 Setting'!$P$15,$H146>='관리자 Setting'!$Q$15),'관리자 Setting'!$R$15,IF(AND($G146>='관리자 Setting'!$P$15,$H146>='관리자 Setting'!$Q$15),'관리자 Setting'!$Q$15-$G146,IF(AND($G146>='관리자 Setting'!$P$15,$H146<'관리자 Setting'!$Q$15),$H146-$G146,IF($G146>='관리자 Setting'!$Q$15,0,0))))))","v":"00:00:00"},"",{"$f":"IFERROR(VLOOKUP($F146,'관리자 Setting'!$P$18:$Q$33,2,0)/24,\"\")","v":""}]
["","",{"$f":"IFERROR(DATE(LEFT('In-Put'!$B147,4),MID('In-Put'!$B147,5,2),RIGHT('In-Put'!$B147,2)),\"\")","v":""},{"$f":"IF($C147=\"\",\"\",COUNTIFS($C$2:$C$401,C147)-COUNTIFS($C$2:C147,C147))","v":""},{"$f":"IF($C147=\"\",\"\",COUNTIFS('관리자 Setting'!$P$18:$P$33,'설정_In-Put'!$F147))","v":""},{"$f":"'In-Put'!G147","v":0},{"$f":"IFERROR(IF('In-Put'!D147*1=0,\"\",'In-Put'!D147*1),\"\")","v":""},{"$f":"IFERROR(IF('In-Put'!E147*1=0,\"\",IF('In-Put'!E147*1<G147,'In-Put'!E147*1+1,'In-Put'!E147*1)),\"\")","v":""},{"$f":"IF(OR($H147<'관리자 Setting'!$P$14,$G147>='관리자 Setting'!$Q$14),0,IF(AND($G147<'관리자 Setting'!$P$14,$H147<'관리자 Setting'!$Q$14),$H147-'관리자 Setting'!$P$14,IF(AND($G147<'관리자 Setting'!$P$14,$H147>='관리자 Setting'!$Q$14),'관리자 Setting'!$R$14,IF(AND($G147>='관리자 Setting'!$P$14,$H147>='관리자 Setting'!$Q$14),'관리자 Setting'!$Q$14-$G147,IF(AND($G147>='관리자 Setting'!$P$14,$H147<'관리자 Setting'!$Q$14),$H147-$G147,IF($G147>='관리자 Setting'!$Q$14,0,0))))))","v":"00:00:00"},{"$f":"IF(OR($H147<'관리자 Setting'!$P$15,$G147>='관리자 Setting'!$Q$15),0,IF(AND($G147<'관리자 Setting'!$P$15,$H147<'관리자 Setting'!$Q$15),$H147-'관리자 Setting'!$P$15,IF(AND($G147<'관리자 Setting'!$P$15,$H147>='관리자 Setting'!$Q$15),'관리자 Setting'!$R$15,IF(AND($G147>='관리자 Setting'!$P$15,$H147>='관리자 Setting'!$Q$15),'관리자 Setting'!$Q$15-$G147,IF(AND($G147>='관리자 Setting'!$P$15,$H147<'관리자 Setting'!$Q$15),$H147-$G147,IF($G147>='관리자 Setting'!$Q$15,0,0))))))","v":"00:00:00"},"",{"$f":"IFERROR(VLOOKUP($F147,'관리자 Setting'!$P$18:$Q$33,2,0)/24,\"\")","v":""}]
["","",{"$f":"IFERROR(DATE(LEFT('In-Put'!$B148,4),MID('In-Put'!$B148,5,2),RIGHT('In-Put'!$B148,2)),\"\")","v":""},{"$f":"IF($C148=\"\",\"\",COUNTIFS($C$2:$C$401,C148)-COUNTIFS($C$2:C148,C148))","v":""},{"$f":"IF($C148=\"\",\"\",COUNTIFS('관리자 Setting'!$P$18:$P$33,'설정_In-Put'!$F148))","v":""},{"$f":"'In-Put'!G148","v":0},{"$f":"IFERROR(IF('In-Put'!D148*1=0,\"\",'In-Put'!D148*1),\"\")","v":""},{"$f":"IFERROR(IF('In-Put'!E148*1=0,\"\",IF('In-Put'!E148*1<G148,'In-Put'!E148*1+1,'In-Put'!E148*1)),\"\")","v":""},{"$f":"IF(OR($H148<'관리자 Setting'!$P$14,$G148>='관리자 Setting'!$Q$14),0,IF(AND($G148<'관리자 Setting'!$P$14,$H148<'관리자 Setting'!$Q$14),$H148-'관리자 Setting'!$P$14,IF(AND($G148<'관리자 Setting'!$P$14,$H148>='관리자 Setting'!$Q$14),'관리자 Setting'!$R$14,IF(AND($G148>='관리자 Setting'!$P$14,$H148>='관리자 Setting'!$Q$14),'관리자 Setting'!$Q$14-$G148,IF(AND($G148>='관리자 Setting'!$P$14,$H148<'관리자 Setting'!$Q$14),$H148-$G148,IF($G148>='관리자 Setting'!$Q$14,0,0))))))","v":"00:00:00"},{"$f":"IF(OR($H148<'관리자 Setting'!$P$15,$G148>='관리자 Setting'!$Q$15),0,IF(AND($G148<'관리자 Setting'!$P$15,$H148<'관리자 Setting'!$Q$15),$H148-'관리자 Setting'!$P$15,IF(AND($G148<'관리자 Setting'!$P$15,$H148>='관리자 Setting'!$Q$15),'관리자 Setting'!$R$15,IF(AND($G148>='관리자 Setting'!$P$15,$H148>='관리자 Setting'!$Q$15),'관리자 Setting'!$Q$15-$G148,IF(AND($G148>='관리자 Setting'!$P$15,$H148<'관리자 Setting'!$Q$15),$H148-$G148,IF($G148>='관리자 Setting'!$Q$15,0,0))))))","v":"00:00:00"},"",{"$f":"IFERROR(VLOOKUP($F148,'관리자 Setting'!$P$18:$Q$33,2,0)/24,\"\")","v":""}]
["","",{"$f":"IFERROR(DATE(LEFT('In-Put'!$B149,4),MID('In-Put'!$B149,5,2),RIGHT('In-Put'!$B149,2)),\"\")","v":""},{"$f":"IF($C149=\"\",\"\",COUNTIFS($C$2:$C$401,C149)-COUNTIFS($C$2:C149,C149))","v":""},{"$f":"IF($C149=\"\",\"\",COUNTIFS('관리자 Setting'!$P$18:$P$33,'설정_In-Put'!$F149))","v":""},{"$f":"'In-Put'!G149","v":0},{"$f":"IFERROR(IF('In-Put'!D149*1=0,\"\",'In-Put'!D149*1),\"\")","v":""},{"$f":"IFERROR(IF('In-Put'!E149*1=0,\"\",IF('In-Put'!E149*1<G149,'In-Put'!E149*1+1,'In-Put'!E149*1)),\"\")","v":""},{"$f":"IF(OR($H149<'관리자 Setting'!$P$14,$G149>='관리자 Setting'!$Q$14),0,IF(AND($G149<'관리자 Setting'!$P$14,$H149<'관리자 Setting'!$Q$14),$H149-'관리자 Setting'!$P$14,IF(AND($G149<'관리자 Setting'!$P$14,$H149>='관리자 Setting'!$Q$14),'관리자 Setting'!$R$14,IF(AND($G149>='관리자 Setting'!$P$14,$H149>='관리자 Setting'!$Q$14),'관리자 Setting'!$Q$14-$G149,IF(AND($G149>='관리자 Setting'!$P$14,$H149<'관리자 Setting'!$Q$14),$H149-$G149,IF($G149>='관리자 Setting'!$Q$14,0,0))))))","v":"00:00:00"},{"$f":"IF(OR($H149<'관리자 Setting'!$P$15,$G149>='관리자 Setting'!$Q$15),0,IF(AND($G149<'관리자 Setting'!$P$15,$H149<'관리자 Setting'!$Q$15),$H149-'관리자 Setting'!$P$15,IF(AND($G149<'관리자 Setting'!$P$15,$H149>='관리자 Setting'!$Q$15),'관리자 Setting'!$R$15,IF(AND($G149>='관리자 Setting'!$P$15,$H149>='관리자 Setting'!$Q$15),'관리자 Setting'!$Q$15-$G149,IF(AND($G149>='관리자 Setting'!$P$15,$H149<'관리자 Setting'!$Q$15),$H149-$G149,IF($G149>='관리자 Setting'!$Q$15,0,0))))))","v":"00:00:00"},"",{"$f":"IFERROR(VLOOKUP($F149,'관리자 Setting'!$P$18:$Q$33,2,0)/24,\"\")","v":""}]
["","",{"$f":"IFERROR(DATE(LEFT('In-Put'!$B150,4),MID('In-Put'!$B150,5,2),RIGHT('In-Put'!$B150,2)),\"\")","v":""},{"$f":"IF($C150=\"\",\"\",COUNTIFS($C$2:$C$401,C150)-COUNTIFS($C$2:C150,C150))","v":""},{"$f":"IF($C150=\"\",\"\",COUNTIFS('관리자 Setting'!$P$18:$P$33,'설정_In-Put'!$F150))","v":""},{"$f":"'In-Put'!G150","v":0},{"$f":"IFERROR(IF('In-Put'!D150*1=0,\"\",'In-Put'!D150*1),\"\")","v":""},{"$f":"IFERROR(IF('In-Put'!E150*1=0,\"\",IF('In-Put'!E150*1<G150,'In-Put'!E150*1+1,'In-Put'!E150*1)),\"\")","v":""},{"$f":"IF(OR($H150<'관리자 Setting'!$P$14,$G150>='관리자 Setting'!$Q$14),0,IF(AND($G150<'관리자 Setting'!$P$14,$H150<'관리자 Setting'!$Q$14),$H150-'관리자 Setting'!$P$14,IF(AND($G150<'관리자 Setting'!$P$14,$H150>='관리자 Setting'!$Q$14),'관리자 Setting'!$R$14,IF(AND($G150>='관리자 Setting'!$P$14,$H150>='관리자 Setting'!$Q$14),'관리자 Setting'!$Q$14-$G150,IF(AND($G150>='관리자 Setting'!$P$14,$H150<'관리자 Setting'!$Q$14),$H150-$G150,IF($G150>='관리자 Setting'!$Q$14,0,0))))))","v":"00:00:00"},{"$f":"IF(OR($H150<'관리자 Setting'!$P$15,$G150>='관리자 Setting'!$Q$15),0,IF(AND($G150<'관리자 Setting'!$P$15,$H150<'관리자 Setting'!$Q$15),$H150-'관리자 Setting'!$P$15,IF(AND($G150<'관리자 Setting'!$P$15,$H150>='관리자 Setting'!$Q$15),'관리자 Setting'!$R$15,IF(AND($G150>='관리자 Setting'!$P$15,$H150>='관리자 Setting'!$Q$15),'관리자 Setting'!$Q$15-$G150,IF(AND($G150>='관리자 Setting'!$P$15,$H150<'관리자 Setting'!$Q$15),$H150-$G150,IF($G150>='관리자 Setting'!$Q$15,0,0))))))","v":"00:00:00"},"",{"$f":"IFERROR(VLOOKUP($F150,'관리자 Setting'!$P$18:$Q$33,2,0)/24,\"\")","v":""}]
["","",{"$f":"IFERROR(DATE(LEFT('In-Put'!$B151,4),MID('In-Put'!$B151,5,2),RIGHT('In-Put'!$B151,2)),\"\")","v":""},{"$f":"IF($C151=\"\",\"\",COUNTIFS($C$2:$C$401,C151)-COUNTIFS($C$2:C151,C151))","v":""},{"$f":"IF($C151=\"\",\"\",COUNTIFS('관리자 Setting'!$P$18:$P$33,'설정_In-Put'!$F151))","v":""},{"$f":"'In-Put'!G151","v":0},{"$f":"IFERROR(IF('In-Put'!D151*1=0,\"\",'In-Put'!D151*1),\"\")","v":""},{"$f":"IFERROR(IF('In-Put'!E151*1=0,\"\",IF('In-Put'!E151*1<G151,'In-Put'!E151*1+1,'In-Put'!E151*1)),\"\")","v":""},{"$f":"IF(OR($H151<'관리자 Setting'!$P$14,$G151>='관리자 Setting'!$Q$14),0,IF(AND($G151<'관리자 Setting'!$P$14,$H151<'관리자 Setting'!$Q$14),$H151-'관리자 Setting'!$P$14,IF(AND($G151<'관리자 Setting'!$P$14,$H151>='관리자 Setting'!$Q$14),'관리자 Setting'!$R$14,IF(AND($G151>='관리자 Setting'!$P$14,$H151>='관리자 Setting'!$Q$14),'관리자 Setting'!$Q$14-$G151,IF(AND($G151>='관리자 Setting'!$P$14,$H151<'관리자 Setting'!$Q$14),$H151-$G151,IF($G151>='관리자 Setting'!$Q$14,0,0))))))","v":"00:00:00"},{"$f":"IF(OR($H151<'관리자 Setting'!$P$15,$G151>='관리자 Setting'!$Q$15),0,IF(AND($G151<'관리자 Setting'!$P$15,$H151<'관리자 Setting'!$Q$15),$H151-'관리자 Setting'!$P$15,IF(AND($G151<'관리자 Setting'!$P$15,$H151>='관리자 Setting'!$Q$15),'관리자 Setting'!$R$15,IF(AND($G151>='관리자 Setting'!$P$15,$H151>='관리자 Setting'!$Q$15),'관리자 Setting'!$Q$15-$G151,IF(AND($G151>='관리자 Setting'!$P$15,$H151<'관리자 Setting'!$Q$15),$H151-$G151,IF($G151>='관리자 Setting'!$Q$15,0,0))))))","v":"00:00:00"},"",{"$f":"IFERROR(VLOOKUP($F151,'관리자 Setting'!$P$18:$Q$33,2,0)/24,\"\")","v":""}]
["","",{"$f":"IFERROR(DATE(LEFT('In-Put'!$B152,4),MID('In-Put'!$B152,5,2),RIGHT('In-Put'!$B152,2)),\"\")","v":""},{"$f":"IF($C152=\"\",\"\",COUNTIFS($C$2:$C$401,C152)-COUNTIFS($C$2:C152,C152))","v":""},{"$f":"IF($C152=\"\",\"\",COUNTIFS('관리자 Setting'!$P$18:$P$33,'설정_In-Put'!$F152))","v":""},{"$f":"'In-Put'!G152","v":0},{"$f":"IFERROR(IF('In-Put'!D152*1=0,\"\",'In-Put'!D152*1),\"\")","v":""},{"$f":"IFERROR(IF('In-Put'!E152*1=0,\"\",IF('In-Put'!E152*1<G152,'In-Put'!E152*1+1,'In-Put'!E152*1)),\"\")","v":""},{"$f":"IF(OR($H152<'관리자 Setting'!$P$14,$G152>='관리자 Setting'!$Q$14),0,IF(AND($G152<'관리자 Setting'!$P$14,$H152<'관리자 Setting'!$Q$14),$H152-'관리자 Setting'!$P$14,IF(AND($G152<'관리자 Setting'!$P$14,$H152>='관리자 Setting'!$Q$14),'관리자 Setting'!$R$14,IF(AND($G152>='관리자 Setting'!$P$14,$H152>='관리자 Setting'!$Q$14),'관리자 Setting'!$Q$14-$G152,IF(AND($G152>='관리자 Setting'!$P$14,$H152<'관리자 Setting'!$Q$14),$H152-$G152,IF($G152>='관리자 Setting'!$Q$14,0,0))))))","v":"00:00:00"},{"$f":"IF(OR($H152<'관리자 Setting'!$P$15,$G152>='관리자 Setting'!$Q$15),0,IF(AND($G152<'관리자 Setting'!$P$15,$H152<'관리자 Setting'!$Q$15),$H152-'관리자 Setting'!$P$15,IF(AND($G152<'관리자 Setting'!$P$15,$H152>='관리자 Setting'!$Q$15),'관리자 Setting'!$R$15,IF(AND($G152>='관리자 Setting'!$P$15,$H152>='관리자 Setting'!$Q$15),'관리자 Setting'!$Q$15-$G152,IF(AND($G152>='관리자 Setting'!$P$15,$H152<'관리자 Setting'!$Q$15),$H152-$G152,IF($G152>='관리자 Setting'!$Q$15,0,0))))))","v":"00:00:00"},"",{"$f":"IFERROR(VLOOKUP($F152,'관리자 Setting'!$P$18:$Q$33,2,0)/24,\"\")","v":""}]
["","",{"$f":"IFERROR(DATE(LEFT('In-Put'!$B153,4),MID('In-Put'!$B153,5,2),RIGHT('In-Put'!$B153,2)),\"\")","v":""},{"$f":"IF($C153=\"\",\"\",COUNTIFS($C$2:$C$401,C153)-COUNTIFS($C$2:C153,C153))","v":""},{"$f":"IF($C153=\"\",\"\",COUNTIFS('관리자 Setting'!$P$18:$P$33,'설정_In-Put'!$F153))","v":""},{"$f":"'In-Put'!G153","v":0},{"$f":"IFERROR(IF('In-Put'!D153*1=0,\"\",'In-Put'!D153*1),\"\")","v":""},{"$f":"IFERROR(IF('In-Put'!E153*1=0,\"\",IF('In-Put'!E153*1<G153,'In-Put'!E153*1+1,'In-Put'!E153*1)),\"\")","v":""},{"$f":"IF(OR($H153<'관리자 Setting'!$P$14,$G153>='관리자 Setting'!$Q$14),0,IF(AND($G153<'관리자 Setting'!$P$14,$H153<'관리자 Setting'!$Q$14),$H153-'관리자 Setting'!$P$14,IF(AND($G153<'관리자 Setting'!$P$14,$H153>='관리자 Setting'!$Q$14),'관리자 Setting'!$R$14,IF(AND($G153>='관리자 Setting'!$P$14,$H153>='관리자 Setting'!$Q$14),'관리자 Setting'!$Q$14-$G153,IF(AND($G153>='관리자 Setting'!$P$14,$H153<'관리자 Setting'!$Q$14),$H153-$G153,IF($G153>='관리자 Setting'!$Q$14,0,0))))))","v":"00:00:00"},{"$f":"IF(OR($H153<'관리자 Setting'!$P$15,$G153>='관리자 Setting'!$Q$15),0,IF(AND($G153<'관리자 Setting'!$P$15,$H153<'관리자 Setting'!$Q$15),$H153-'관리자 Setting'!$P$15,IF(AND($G153<'관리자 Setting'!$P$15,$H153>='관리자 Setting'!$Q$15),'관리자 Setting'!$R$15,IF(AND($G153>='관리자 Setting'!$P$15,$H153>='관리자 Setting'!$Q$15),'관리자 Setting'!$Q$15-$G153,IF(AND($G153>='관리자 Setting'!$P$15,$H153<'관리자 Setting'!$Q$15),$H153-$G153,IF($G153>='관리자 Setting'!$Q$15,0,0))))))","v":"00:00:00"},"",{"$f":"IFERROR(VLOOKUP($F153,'관리자 Setting'!$P$18:$Q$33,2,0)/24,\"\")","v":""}]
["","",{"$f":"IFERROR(DATE(LEFT('In-Put'!$B154,4),MID('In-Put'!$B154,5,2),RIGHT('In-Put'!$B154,2)),\"\")","v":""},{"$f":"IF($C154=\"\",\"\",COUNTIFS($C$2:$C$401,C154)-COUNTIFS($C$2:C154,C154))","v":""},{"$f":"IF($C154=\"\",\"\",COUNTIFS('관리자 Setting'!$P$18:$P$33,'설정_In-Put'!$F154))","v":""},{"$f":"'In-Put'!G154","v":0},{"$f":"IFERROR(IF('In-Put'!D154*1=0,\"\",'In-Put'!D154*1),\"\")","v":""},{"$f":"IFERROR(IF('In-Put'!E154*1=0,\"\",IF('In-Put'!E154*1<G154,'In-Put'!E154*1+1,'In-Put'!E154*1)),\"\")","v":""},{"$f":"IF(OR($H154<'관리자 Setting'!$P$14,$G154>='관리자 Setting'!$Q$14),0,IF(AND($G154<'관리자 Setting'!$P$14,$H154<'관리자 Setting'!$Q$14),$H154-'관리자 Setting'!$P$14,IF(AND($G154<'관리자 Setting'!$P$14,$H154>='관리자 Setting'!$Q$14),'관리자 Setting'!$R$14,IF(AND($G154>='관리자 Setting'!$P$14,$H154>='관리자 Setting'!$Q$14),'관리자 Setting'!$Q$14-$G154,IF(AND($G154>='관리자 Setting'!$P$14,$H154<'관리자 Setting'!$Q$14),$H154-$G154,IF($G154>='관리자 Setting'!$Q$14,0,0))))))","v":"00:00:00"},{"$f":"IF(OR($H154<'관리자 Setting'!$P$15,$G154>='관리자 Setting'!$Q$15),0,IF(AND($G154<'관리자 Setting'!$P$15,$H154<'관리자 Setting'!$Q$15),$H154-'관리자 Setting'!$P$15,IF(AND($G154<'관리자 Setting'!$P$15,$H154>='관리자 Setting'!$Q$15),'관리자 Setting'!$R$15,IF(AND($G154>='관리자 Setting'!$P$15,$H154>='관리자 Setting'!$Q$15),'관리자 Setting'!$Q$15-$G154,IF(AND($G154>='관리자 Setting'!$P$15,$H154<'관리자 Setting'!$Q$15),$H154-$G154,IF($G154>='관리자 Setting'!$Q$15,0,0))))))","v":"00:00:00"},"",{"$f":"IFERROR(VLOOKUP($F154,'관리자 Setting'!$P$18:$Q$33,2,0)/24,\"\")","v":""}]
["","",{"$f":"IFERROR(DATE(LEFT('In-Put'!$B155,4),MID('In-Put'!$B155,5,2),RIGHT('In-Put'!$B155,2)),\"\")","v":""},{"$f":"IF($C155=\"\",\"\",COUNTIFS($C$2:$C$401,C155)-COUNTIFS($C$2:C155,C155))","v":""},{"$f":"IF($C155=\"\",\"\",COUNTIFS('관리자 Setting'!$P$18:$P$33,'설정_In-Put'!$F155))","v":""},{"$f":"'In-Put'!G155","v":0},{"$f":"IFERROR(IF('In-Put'!D155*1=0,\"\",'In-Put'!D155*1),\"\")","v":""},{"$f":"IFERROR(IF('In-Put'!E155*1=0,\"\",IF('In-Put'!E155*1<G155,'In-Put'!E155*1+1,'In-Put'!E155*1)),\"\")","v":""},{"$f":"IF(OR($H155<'관리자 Setting'!$P$14,$G155>='관리자 Setting'!$Q$14),0,IF(AND($G155<'관리자 Setting'!$P$14,$H155<'관리자 Setting'!$Q$14),$H155-'관리자 Setting'!$P$14,IF(AND($G155<'관리자 Setting'!$P$14,$H155>='관리자 Setting'!$Q$14),'관리자 Setting'!$R$14,IF(AND($G155>='관리자 Setting'!$P$14,$H155>='관리자 Setting'!$Q$14),'관리자 Setting'!$Q$14-$G155,IF(AND($G155>='관리자 Setting'!$P$14,$H155<'관리자 Setting'!$Q$14),$H155-$G155,IF($G155>='관리자 Setting'!$Q$14,0,0))))))","v":"00:00:00"},{"$f":"IF(OR($H155<'관리자 Setting'!$P$15,$G155>='관리자 Setting'!$Q$15),0,IF(AND($G155<'관리자 Setting'!$P$15,$H155<'관리자 Setting'!$Q$15),$H155-'관리자 Setting'!$P$15,IF(AND($G155<'관리자 Setting'!$P$15,$H155>='관리자 Setting'!$Q$15),'관리자 Setting'!$R$15,IF(AND($G155>='관리자 Setting'!$P$15,$H155>='관리자 Setting'!$Q$15),'관리자 Setting'!$Q$15-$G155,IF(AND($G155>='관리자 Setting'!$P$15,$H155<'관리자 Setting'!$Q$15),$H155-$G155,IF($G155>='관리자 Setting'!$Q$15,0,0))))))","v":"00:00:00"},"",{"$f":"IFERROR(VLOOKUP($F155,'관리자 Setting'!$P$18:$Q$33,2,0)/24,\"\")","v":""}]
["","",{"$f":"IFERROR(DATE(LEFT('In-Put'!$B156,4),MID('In-Put'!$B156,5,2),RIGHT('In-Put'!$B156,2)),\"\")","v":""},{"$f":"IF($C156=\"\",\"\",COUNTIFS($C$2:$C$401,C156)-COUNTIFS($C$2:C156,C156))","v":""},{"$f":"IF($C156=\"\",\"\",COUNTIFS('관리자 Setting'!$P$18:$P$33,'설정_In-Put'!$F156))","v":""},{"$f":"'In-Put'!G156","v":0},{"$f":"IFERROR(IF('In-Put'!D156*1=0,\"\",'In-Put'!D156*1),\"\")","v":""},{"$f":"IFERROR(IF('In-Put'!E156*1=0,\"\",IF('In-Put'!E156*1<G156,'In-Put'!E156*1+1,'In-Put'!E156*1)),\"\")","v":""},{"$f":"IF(OR($H156<'관리자 Setting'!$P$14,$G156>='관리자 Setting'!$Q$14),0,IF(AND($G156<'관리자 Setting'!$P$14,$H156<'관리자 Setting'!$Q$14),$H156-'관리자 Setting'!$P$14,IF(AND($G156<'관리자 Setting'!$P$14,$H156>='관리자 Setting'!$Q$14),'관리자 Setting'!$R$14,IF(AND($G156>='관리자 Setting'!$P$14,$H156>='관리자 Setting'!$Q$14),'관리자 Setting'!$Q$14-$G156,IF(AND($G156>='관리자 Setting'!$P$14,$H156<'관리자 Setting'!$Q$14),$H156-$G156,IF($G156>='관리자 Setting'!$Q$14,0,0))))))","v":"00:00:00"},{"$f":"IF(OR($H156<'관리자 Setting'!$P$15,$G156>='관리자 Setting'!$Q$15),0,IF(AND($G156<'관리자 Setting'!$P$15,$H156<'관리자 Setting'!$Q$15),$H156-'관리자 Setting'!$P$15,IF(AND($G156<'관리자 Setting'!$P$15,$H156>='관리자 Setting'!$Q$15),'관리자 Setting'!$R$15,IF(AND($G156>='관리자 Setting'!$P$15,$H156>='관리자 Setting'!$Q$15),'관리자 Setting'!$Q$15-$G156,IF(AND($G156>='관리자 Setting'!$P$15,$H156<'관리자 Setting'!$Q$15),$H156-$G156,IF($G156>='관리자 Setting'!$Q$15,0,0))))))","v":"00:00:00"},"",{"$f":"IFERROR(VLOOKUP($F156,'관리자 Setting'!$P$18:$Q$33,2,0)/24,\"\")","v":""}]
["","",{"$f":"IFERROR(DATE(LEFT('In-Put'!$B157,4),MID('In-Put'!$B157,5,2),RIGHT('In-Put'!$B157,2)),\"\")","v":""},{"$f":"IF($C157=\"\",\"\",COUNTIFS($C$2:$C$401,C157)-COUNTIFS($C$2:C157,C157))","v":""},{"$f":"IF($C157=\"\",\"\",COUNTIFS('관리자 Setting'!$P$18:$P$33,'설정_In-Put'!$F157))","v":""},{"$f":"'In-Put'!G157","v":0},{"$f":"IFERROR(IF('In-Put'!D157*1=0,\"\",'In-Put'!D157*1),\"\")","v":""},{"$f":"IFERROR(IF('In-Put'!E157*1=0,\"\",IF('In-Put'!E157*1<G157,'In-Put'!E157*1+1,'In-Put'!E157*1)),\"\")","v":""},{"$f":"IF(OR($H157<'관리자 Setting'!$P$14,$G157>='관리자 Setting'!$Q$14),0,IF(AND($G157<'관리자 Setting'!$P$14,$H157<'관리자 Setting'!$Q$14),$H157-'관리자 Setting'!$P$14,IF(AND($G157<'관리자 Setting'!$P$14,$H157>='관리자 Setting'!$Q$14),'관리자 Setting'!$R$14,IF(AND($G157>='관리자 Setting'!$P$14,$H157>='관리자 Setting'!$Q$14),'관리자 Setting'!$Q$14-$G157,IF(AND($G157>='관리자 Setting'!$P$14,$H157<'관리자 Setting'!$Q$14),$H157-$G157,IF($G157>='관리자 Setting'!$Q$14,0,0))))))","v":"00:00:00"},{"$f":"IF(OR($H157<'관리자 Setting'!$P$15,$G157>='관리자 Setting'!$Q$15),0,IF(AND($G157<'관리자 Setting'!$P$15,$H157<'관리자 Setting'!$Q$15),$H157-'관리자 Setting'!$P$15,IF(AND($G157<'관리자 Setting'!$P$15,$H157>='관리자 Setting'!$Q$15),'관리자 Setting'!$R$15,IF(AND($G157>='관리자 Setting'!$P$15,$H157>='관리자 Setting'!$Q$15),'관리자 Setting'!$Q$15-$G157,IF(AND($G157>='관리자 Setting'!$P$15,$H157<'관리자 Setting'!$Q$15),$H157-$G157,IF($G157>='관리자 Setting'!$Q$15,0,0))))))","v":"00:00:00"},"",{"$f":"IFERROR(VLOOKUP($F157,'관리자 Setting'!$P$18:$Q$33,2,0)/24,\"\")","v":""}]
["","",{"$f":"IFERROR(DATE(LEFT('In-Put'!$B158,4),MID('In-Put'!$B158,5,2),RIGHT('In-Put'!$B158,2)),\"\")","v":""},{"$f":"IF($C158=\"\",\"\",COUNTIFS($C$2:$C$401,C158)-COUNTIFS($C$2:C158,C158))","v":""},{"$f":"IF($C158=\"\",\"\",COUNTIFS('관리자 Setting'!$P$18:$P$33,'설정_In-Put'!$F158))","v":""},{"$f":"'In-Put'!G158","v":0},{"$f":"IFERROR(IF('In-Put'!D158*1=0,\"\",'In-Put'!D158*1),\"\")","v":""},{"$f":"IFERROR(IF('In-Put'!E158*1=0,\"\",IF('In-Put'!E158*1<G158,'In-Put'!E158*1+1,'In-Put'!E158*1)),\"\")","v":""},{"$f":"IF(OR($H158<'관리자 Setting'!$P$14,$G158>='관리자 Setting'!$Q$14),0,IF(AND($G158<'관리자 Setting'!$P$14,$H158<'관리자 Setting'!$Q$14),$H158-'관리자 Setting'!$P$14,IF(AND($G158<'관리자 Setting'!$P$14,$H158>='관리자 Setting'!$Q$14),'관리자 Setting'!$R$14,IF(AND($G158>='관리자 Setting'!$P$14,$H158>='관리자 Setting'!$Q$14),'관리자 Setting'!$Q$14-$G158,IF(AND($G158>='관리자 Setting'!$P$14,$H158<'관리자 Setting'!$Q$14),$H158-$G158,IF($G158>='관리자 Setting'!$Q$14,0,0))))))","v":"00:00:00"},{"$f":"IF(OR($H158<'관리자 Setting'!$P$15,$G158>='관리자 Setting'!$Q$15),0,IF(AND($G158<'관리자 Setting'!$P$15,$H158<'관리자 Setting'!$Q$15),$H158-'관리자 Setting'!$P$15,IF(AND($G158<'관리자 Setting'!$P$15,$H158>='관리자 Setting'!$Q$15),'관리자 Setting'!$R$15,IF(AND($G158>='관리자 Setting'!$P$15,$H158>='관리자 Setting'!$Q$15),'관리자 Setting'!$Q$15-$G158,IF(AND($G158>='관리자 Setting'!$P$15,$H158<'관리자 Setting'!$Q$15),$H158-$G158,IF($G158>='관리자 Setting'!$Q$15,0,0))))))","v":"00:00:00"},"",{"$f":"IFERROR(VLOOKUP($F158,'관리자 Setting'!$P$18:$Q$33,2,0)/24,\"\")","v":""}]
["","",{"$f":"IFERROR(DATE(LEFT('In-Put'!$B159,4),MID('In-Put'!$B159,5,2),RIGHT('In-Put'!$B159,2)),\"\")","v":""},{"$f":"IF($C159=\"\",\"\",COUNTIFS($C$2:$C$401,C159)-COUNTIFS($C$2:C159,C159))","v":""},{"$f":"IF($C159=\"\",\"\",COUNTIFS('관리자 Setting'!$P$18:$P$33,'설정_In-Put'!$F159))","v":""},{"$f":"'In-Put'!G159","v":0},{"$f":"IFERROR(IF('In-Put'!D159*1=0,\"\",'In-Put'!D159*1),\"\")","v":""},{"$f":"IFERROR(IF('In-Put'!E159*1=0,\"\",IF('In-Put'!E159*1<G159,'In-Put'!E159*1+1,'In-Put'!E159*1)),\"\")","v":""},{"$f":"IF(OR($H159<'관리자 Setting'!$P$14,$G159>='관리자 Setting'!$Q$14),0,IF(AND($G159<'관리자 Setting'!$P$14,$H159<'관리자 Setting'!$Q$14),$H159-'관리자 Setting'!$P$14,IF(AND($G159<'관리자 Setting'!$P$14,$H159>='관리자 Setting'!$Q$14),'관리자 Setting'!$R$14,IF(AND($G159>='관리자 Setting'!$P$14,$H159>='관리자 Setting'!$Q$14),'관리자 Setting'!$Q$14-$G159,IF(AND($G159>='관리자 Setting'!$P$14,$H159<'관리자 Setting'!$Q$14),$H159-$G159,IF($G159>='관리자 Setting'!$Q$14,0,0))))))","v":"00:00:00"},{"$f":"IF(OR($H159<'관리자 Setting'!$P$15,$G159>='관리자 Setting'!$Q$15),0,IF(AND($G159<'관리자 Setting'!$P$15,$H159<'관리자 Setting'!$Q$15),$H159-'관리자 Setting'!$P$15,IF(AND($G159<'관리자 Setting'!$P$15,$H159>='관리자 Setting'!$Q$15),'관리자 Setting'!$R$15,IF(AND($G159>='관리자 Setting'!$P$15,$H159>='관리자 Setting'!$Q$15),'관리자 Setting'!$Q$15-$G159,IF(AND($G159>='관리자 Setting'!$P$15,$H159<'관리자 Setting'!$Q$15),$H159-$G159,IF($G159>='관리자 Setting'!$Q$15,0,0))))))","v":"00:00:00"},"",{"$f":"IFERROR(VLOOKUP($F159,'관리자 Setting'!$P$18:$Q$33,2,0)/24,\"\")","v":""}]
["","",{"$f":"IFERROR(DATE(LEFT('In-Put'!$B160,4),MID('In-Put'!$B160,5,2),RIGHT('In-Put'!$B160,2)),\"\")","v":""},{"$f":"IF($C160=\"\",\"\",COUNTIFS($C$2:$C$401,C160)-COUNTIFS($C$2:C160,C160))","v":""},{"$f":"IF($C160=\"\",\"\",COUNTIFS('관리자 Setting'!$P$18:$P$33,'설정_In-Put'!$F160))","v":""},{"$f":"'In-Put'!G160","v":0},{"$f":"IFERROR(IF('In-Put'!D160*1=0,\"\",'In-Put'!D160*1),\"\")","v":""},{"$f":"IFERROR(IF('In-Put'!E160*1=0,\"\",IF('In-Put'!E160*1<G160,'In-Put'!E160*1+1,'In-Put'!E160*1)),\"\")","v":""},{"$f":"IF(OR($H160<'관리자 Setting'!$P$14,$G160>='관리자 Setting'!$Q$14),0,IF(AND($G160<'관리자 Setting'!$P$14,$H160<'관리자 Setting'!$Q$14),$H160-'관리자 Setting'!$P$14,IF(AND($G160<'관리자 Setting'!$P$14,$H160>='관리자 Setting'!$Q$14),'관리자 Setting'!$R$14,IF(AND($G160>='관리자 Setting'!$P$14,$H160>='관리자 Setting'!$Q$14),'관리자 Setting'!$Q$14-$G160,IF(AND($G160>='관리자 Setting'!$P$14,$H160<'관리자 Setting'!$Q$14),$H160-$G160,IF($G160>='관리자 Setting'!$Q$14,0,0))))))","v":"00:00:00"},{"$f":"IF(OR($H160<'관리자 Setting'!$P$15,$G160>='관리자 Setting'!$Q$15),0,IF(AND($G160<'관리자 Setting'!$P$15,$H160<'관리자 Setting'!$Q$15),$H160-'관리자 Setting'!$P$15,IF(AND($G160<'관리자 Setting'!$P$15,$H160>='관리자 Setting'!$Q$15),'관리자 Setting'!$R$15,IF(AND($G160>='관리자 Setting'!$P$15,$H160>='관리자 Setting'!$Q$15),'관리자 Setting'!$Q$15-$G160,IF(AND($G160>='관리자 Setting'!$P$15,$H160<'관리자 Setting'!$Q$15),$H160-$G160,IF($G160>='관리자 Setting'!$Q$15,0,0))))))","v":"00:00:00"},"",{"$f":"IFERROR(VLOOKUP($F160,'관리자 Setting'!$P$18:$Q$33,2,0)/24,\"\")","v":""}]
["","",{"$f":"IFERROR(DATE(LEFT('In-Put'!$B161,4),MID('In-Put'!$B161,5,2),RIGHT('In-Put'!$B161,2)),\"\")","v":""},{"$f":"IF($C161=\"\",\"\",COUNTIFS($C$2:$C$401,C161)-COUNTIFS($C$2:C161,C161))","v":""},{"$f":"IF($C161=\"\",\"\",COUNTIFS('관리자 Setting'!$P$18:$P$33,'설정_In-Put'!$F161))","v":""},{"$f":"'In-Put'!G161","v":0},{"$f":"IFERROR(IF('In-Put'!D161*1=0,\"\",'In-Put'!D161*1),\"\")","v":""},{"$f":"IFERROR(IF('In-Put'!E161*1=0,\"\",IF('In-Put'!E161*1<G161,'In-Put'!E161*1+1,'In-Put'!E161*1)),\"\")","v":""},{"$f":"IF(OR($H161<'관리자 Setting'!$P$14,$G161>='관리자 Setting'!$Q$14),0,IF(AND($G161<'관리자 Setting'!$P$14,$H161<'관리자 Setting'!$Q$14),$H161-'관리자 Setting'!$P$14,IF(AND($G161<'관리자 Setting'!$P$14,$H161>='관리자 Setting'!$Q$14),'관리자 Setting'!$R$14,IF(AND($G161>='관리자 Setting'!$P$14,$H161>='관리자 Setting'!$Q$14),'관리자 Setting'!$Q$14-$G161,IF(AND($G161>='관리자 Setting'!$P$14,$H161<'관리자 Setting'!$Q$14),$H161-$G161,IF($G161>='관리자 Setting'!$Q$14,0,0))))))","v":"00:00:00"},{"$f":"IF(OR($H161<'관리자 Setting'!$P$15,$G161>='관리자 Setting'!$Q$15),0,IF(AND($G161<'관리자 Setting'!$P$15,$H161<'관리자 Setting'!$Q$15),$H161-'관리자 Setting'!$P$15,IF(AND($G161<'관리자 Setting'!$P$15,$H161>='관리자 Setting'!$Q$15),'관리자 Setting'!$R$15,IF(AND($G161>='관리자 Setting'!$P$15,$H161>='관리자 Setting'!$Q$15),'관리자 Setting'!$Q$15-$G161,IF(AND($G161>='관리자 Setting'!$P$15,$H161<'관리자 Setting'!$Q$15),$H161-$G161,IF($G161>='관리자 Setting'!$Q$15,0,0))))))","v":"00:00:00"},"",{"$f":"IFERROR(VLOOKUP($F161,'관리자 Setting'!$P$18:$Q$33,2,0)/24,\"\")","v":""}]
["","",{"$f":"IFERROR(DATE(LEFT('In-Put'!$B162,4),MID('In-Put'!$B162,5,2),RIGHT('In-Put'!$B162,2)),\"\")","v":""},{"$f":"IF($C162=\"\",\"\",COUNTIFS($C$2:$C$401,C162)-COUNTIFS($C$2:C162,C162))","v":""},{"$f":"IF($C162=\"\",\"\",COUNTIFS('관리자 Setting'!$P$18:$P$33,'설정_In-Put'!$F162))","v":""},{"$f":"'In-Put'!G162","v":0},{"$f":"IFERROR(IF('In-Put'!D162*1=0,\"\",'In-Put'!D162*1),\"\")","v":""},{"$f":"IFERROR(IF('In-Put'!E162*1=0,\"\",IF('In-Put'!E162*1<G162,'In-Put'!E162*1+1,'In-Put'!E162*1)),\"\")","v":""},{"$f":"IF(OR($H162<'관리자 Setting'!$P$14,$G162>='관리자 Setting'!$Q$14),0,IF(AND($G162<'관리자 Setting'!$P$14,$H162<'관리자 Setting'!$Q$14),$H162-'관리자 Setting'!$P$14,IF(AND($G162<'관리자 Setting'!$P$14,$H162>='관리자 Setting'!$Q$14),'관리자 Setting'!$R$14,IF(AND($G162>='관리자 Setting'!$P$14,$H162>='관리자 Setting'!$Q$14),'관리자 Setting'!$Q$14-$G162,IF(AND($G162>='관리자 Setting'!$P$14,$H162<'관리자 Setting'!$Q$14),$H162-$G162,IF($G162>='관리자 Setting'!$Q$14,0,0))))))","v":"00:00:00"},{"$f":"IF(OR($H162<'관리자 Setting'!$P$15,$G162>='관리자 Setting'!$Q$15),0,IF(AND($G162<'관리자 Setting'!$P$15,$H162<'관리자 Setting'!$Q$15),$H162-'관리자 Setting'!$P$15,IF(AND($G162<'관리자 Setting'!$P$15,$H162>='관리자 Setting'!$Q$15),'관리자 Setting'!$R$15,IF(AND($G162>='관리자 Setting'!$P$15,$H162>='관리자 Setting'!$Q$15),'관리자 Setting'!$Q$15-$G162,IF(AND($G162>='관리자 Setting'!$P$15,$H162<'관리자 Setting'!$Q$15),$H162-$G162,IF($G162>='관리자 Setting'!$Q$15,0,0))))))","v":"00:00:00"},"",{"$f":"IFERROR(VLOOKUP($F162,'관리자 Setting'!$P$18:$Q$33,2,0)/24,\"\")","v":""}]
["","",{"$f":"IFERROR(DATE(LEFT('In-Put'!$B163,4),MID('In-Put'!$B163,5,2),RIGHT('In-Put'!$B163,2)),\"\")","v":""},{"$f":"IF($C163=\"\",\"\",COUNTIFS($C$2:$C$401,C163)-COUNTIFS($C$2:C163,C163))","v":""},{"$f":"IF($C163=\"\",\"\",COUNTIFS('관리자 Setting'!$P$18:$P$33,'설정_In-Put'!$F163))","v":""},{"$f":"'In-Put'!G163","v":0},{"$f":"IFERROR(IF('In-Put'!D163*1=0,\"\",'In-Put'!D163*1),\"\")","v":""},{"$f":"IFERROR(IF('In-Put'!E163*1=0,\"\",IF('In-Put'!E163*1<G163,'In-Put'!E163*1+1,'In-Put'!E163*1)),\"\")","v":""},{"$f":"IF(OR($H163<'관리자 Setting'!$P$14,$G163>='관리자 Setting'!$Q$14),0,IF(AND($G163<'관리자 Setting'!$P$14,$H163<'관리자 Setting'!$Q$14),$H163-'관리자 Setting'!$P$14,IF(AND($G163<'관리자 Setting'!$P$14,$H163>='관리자 Setting'!$Q$14),'관리자 Setting'!$R$14,IF(AND($G163>='관리자 Setting'!$P$14,$H163>='관리자 Setting'!$Q$14),'관리자 Setting'!$Q$14-$G163,IF(AND($G163>='관리자 Setting'!$P$14,$H163<'관리자 Setting'!$Q$14),$H163-$G163,IF($G163>='관리자 Setting'!$Q$14,0,0))))))","v":"00:00:00"},{"$f":"IF(OR($H163<'관리자 Setting'!$P$15,$G163>='관리자 Setting'!$Q$15),0,IF(AND($G163<'관리자 Setting'!$P$15,$H163<'관리자 Setting'!$Q$15),$H163-'관리자 Setting'!$P$15,IF(AND($G163<'관리자 Setting'!$P$15,$H163>='관리자 Setting'!$Q$15),'관리자 Setting'!$R$15,IF(AND($G163>='관리자 Setting'!$P$15,$H163>='관리자 Setting'!$Q$15),'관리자 Setting'!$Q$15-$G163,IF(AND($G163>='관리자 Setting'!$P$15,$H163<'관리자 Setting'!$Q$15),$H163-$G163,IF($G163>='관리자 Setting'!$Q$15,0,0))))))","v":"00:00:00"},"",{"$f":"IFERROR(VLOOKUP($F163,'관리자 Setting'!$P$18:$Q$33,2,0)/24,\"\")","v":""}]
["","",{"$f":"IFERROR(DATE(LEFT('In-Put'!$B164,4),MID('In-Put'!$B164,5,2),RIGHT('In-Put'!$B164,2)),\"\")","v":""},{"$f":"IF($C164=\"\",\"\",COUNTIFS($C$2:$C$401,C164)-COUNTIFS($C$2:C164,C164))","v":""},{"$f":"IF($C164=\"\",\"\",COUNTIFS('관리자 Setting'!$P$18:$P$33,'설정_In-Put'!$F164))","v":""},{"$f":"'In-Put'!G164","v":0},{"$f":"IFERROR(IF('In-Put'!D164*1=0,\"\",'In-Put'!D164*1),\"\")","v":""},{"$f":"IFERROR(IF('In-Put'!E164*1=0,\"\",IF('In-Put'!E164*1<G164,'In-Put'!E164*1+1,'In-Put'!E164*1)),\"\")","v":""},{"$f":"IF(OR($H164<'관리자 Setting'!$P$14,$G164>='관리자 Setting'!$Q$14),0,IF(AND($G164<'관리자 Setting'!$P$14,$H164<'관리자 Setting'!$Q$14),$H164-'관리자 Setting'!$P$14,IF(AND($G164<'관리자 Setting'!$P$14,$H164>='관리자 Setting'!$Q$14),'관리자 Setting'!$R$14,IF(AND($G164>='관리자 Setting'!$P$14,$H164>='관리자 Setting'!$Q$14),'관리자 Setting'!$Q$14-$G164,IF(AND($G164>='관리자 Setting'!$P$14,$H164<'관리자 Setting'!$Q$14),$H164-$G164,IF($G164>='관리자 Setting'!$Q$14,0,0))))))","v":"00:00:00"},{"$f":"IF(OR($H164<'관리자 Setting'!$P$15,$G164>='관리자 Setting'!$Q$15),0,IF(AND($G164<'관리자 Setting'!$P$15,$H164<'관리자 Setting'!$Q$15),$H164-'관리자 Setting'!$P$15,IF(AND($G164<'관리자 Setting'!$P$15,$H164>='관리자 Setting'!$Q$15),'관리자 Setting'!$R$15,IF(AND($G164>='관리자 Setting'!$P$15,$H164>='관리자 Setting'!$Q$15),'관리자 Setting'!$Q$15-$G164,IF(AND($G164>='관리자 Setting'!$P$15,$H164<'관리자 Setting'!$Q$15),$H164-$G164,IF($G164>='관리자 Setting'!$Q$15,0,0))))))","v":"00:00:00"},"",{"$f":"IFERROR(VLOOKUP($F164,'관리자 Setting'!$P$18:$Q$33,2,0)/24,\"\")","v":""}]
["","",{"$f":"IFERROR(DATE(LEFT('In-Put'!$B165,4),MID('In-Put'!$B165,5,2),RIGHT('In-Put'!$B165,2)),\"\")","v":""},{"$f":"IF($C165=\"\",\"\",COUNTIFS($C$2:$C$401,C165)-COUNTIFS($C$2:C165,C165))","v":""},{"$f":"IF($C165=\"\",\"\",COUNTIFS('관리자 Setting'!$P$18:$P$33,'설정_In-Put'!$F165))","v":""},{"$f":"'In-Put'!G165","v":0},{"$f":"IFERROR(IF('In-Put'!D165*1=0,\"\",'In-Put'!D165*1),\"\")","v":""},{"$f":"IFERROR(IF('In-Put'!E165*1=0,\"\",IF('In-Put'!E165*1<G165,'In-Put'!E165*1+1,'In-Put'!E165*1)),\"\")","v":""},{"$f":"IF(OR($H165<'관리자 Setting'!$P$14,$G165>='관리자 Setting'!$Q$14),0,IF(AND($G165<'관리자 Setting'!$P$14,$H165<'관리자 Setting'!$Q$14),$H165-'관리자 Setting'!$P$14,IF(AND($G165<'관리자 Setting'!$P$14,$H165>='관리자 Setting'!$Q$14),'관리자 Setting'!$R$14,IF(AND($G165>='관리자 Setting'!$P$14,$H165>='관리자 Setting'!$Q$14),'관리자 Setting'!$Q$14-$G165,IF(AND($G165>='관리자 Setting'!$P$14,$H165<'관리자 Setting'!$Q$14),$H165-$G165,IF($G165>='관리자 Setting'!$Q$14,0,0))))))","v":"00:00:00"},{"$f":"IF(OR($H165<'관리자 Setting'!$P$15,$G165>='관리자 Setting'!$Q$15),0,IF(AND($G165<'관리자 Setting'!$P$15,$H165<'관리자 Setting'!$Q$15),$H165-'관리자 Setting'!$P$15,IF(AND($G165<'관리자 Setting'!$P$15,$H165>='관리자 Setting'!$Q$15),'관리자 Setting'!$R$15,IF(AND($G165>='관리자 Setting'!$P$15,$H165>='관리자 Setting'!$Q$15),'관리자 Setting'!$Q$15-$G165,IF(AND($G165>='관리자 Setting'!$P$15,$H165<'관리자 Setting'!$Q$15),$H165-$G165,IF($G165>='관리자 Setting'!$Q$15,0,0))))))","v":"00:00:00"},"",{"$f":"IFERROR(VLOOKUP($F165,'관리자 Setting'!$P$18:$Q$33,2,0)/24,\"\")","v":""}]
["","",{"$f":"IFERROR(DATE(LEFT('In-Put'!$B166,4),MID('In-Put'!$B166,5,2),RIGHT('In-Put'!$B166,2)),\"\")","v":""},{"$f":"IF($C166=\"\",\"\",COUNTIFS($C$2:$C$401,C166)-COUNTIFS($C$2:C166,C166))","v":""},{"$f":"IF($C166=\"\",\"\",COUNTIFS('관리자 Setting'!$P$18:$P$33,'설정_In-Put'!$F166))","v":""},{"$f":"'In-Put'!G166","v":0},{"$f":"IFERROR(IF('In-Put'!D166*1=0,\"\",'In-Put'!D166*1),\"\")","v":""},{"$f":"IFERROR(IF('In-Put'!E166*1=0,\"\",IF('In-Put'!E166*1<G166,'In-Put'!E166*1+1,'In-Put'!E166*1)),\"\")","v":""},{"$f":"IF(OR($H166<'관리자 Setting'!$P$14,$G166>='관리자 Setting'!$Q$14),0,IF(AND($G166<'관리자 Setting'!$P$14,$H166<'관리자 Setting'!$Q$14),$H166-'관리자 Setting'!$P$14,IF(AND($G166<'관리자 Setting'!$P$14,$H166>='관리자 Setting'!$Q$14),'관리자 Setting'!$R$14,IF(AND($G166>='관리자 Setting'!$P$14,$H166>='관리자 Setting'!$Q$14),'관리자 Setting'!$Q$14-$G166,IF(AND($G166>='관리자 Setting'!$P$14,$H166<'관리자 Setting'!$Q$14),$H166-$G166,IF($G166>='관리자 Setting'!$Q$14,0,0))))))","v":"00:00:00"},{"$f":"IF(OR($H166<'관리자 Setting'!$P$15,$G166>='관리자 Setting'!$Q$15),0,IF(AND($G166<'관리자 Setting'!$P$15,$H166<'관리자 Setting'!$Q$15),$H166-'관리자 Setting'!$P$15,IF(AND($G166<'관리자 Setting'!$P$15,$H166>='관리자 Setting'!$Q$15),'관리자 Setting'!$R$15,IF(AND($G166>='관리자 Setting'!$P$15,$H166>='관리자 Setting'!$Q$15),'관리자 Setting'!$Q$15-$G166,IF(AND($G166>='관리자 Setting'!$P$15,$H166<'관리자 Setting'!$Q$15),$H166-$G166,IF($G166>='관리자 Setting'!$Q$15,0,0))))))","v":"00:00:00"},"",{"$f":"IFERROR(VLOOKUP($F166,'관리자 Setting'!$P$18:$Q$33,2,0)/24,\"\")","v":""}]
["","",{"$f":"IFERROR(DATE(LEFT('In-Put'!$B167,4),MID('In-Put'!$B167,5,2),RIGHT('In-Put'!$B167,2)),\"\")","v":""},{"$f":"IF($C167=\"\",\"\",COUNTIFS($C$2:$C$401,C167)-COUNTIFS($C$2:C167,C167))","v":""},{"$f":"IF($C167=\"\",\"\",COUNTIFS('관리자 Setting'!$P$18:$P$33,'설정_In-Put'!$F167))","v":""},{"$f":"'In-Put'!G167","v":0},{"$f":"IFERROR(IF('In-Put'!D167*1=0,\"\",'In-Put'!D167*1),\"\")","v":""},{"$f":"IFERROR(IF('In-Put'!E167*1=0,\"\",IF('In-Put'!E167*1<G167,'In-Put'!E167*1+1,'In-Put'!E167*1)),\"\")","v":""},{"$f":"IF(OR($H167<'관리자 Setting'!$P$14,$G167>='관리자 Setting'!$Q$14),0,IF(AND($G167<'관리자 Setting'!$P$14,$H167<'관리자 Setting'!$Q$14),$H167-'관리자 Setting'!$P$14,IF(AND($G167<'관리자 Setting'!$P$14,$H167>='관리자 Setting'!$Q$14),'관리자 Setting'!$R$14,IF(AND($G167>='관리자 Setting'!$P$14,$H167>='관리자 Setting'!$Q$14),'관리자 Setting'!$Q$14-$G167,IF(AND($G167>='관리자 Setting'!$P$14,$H167<'관리자 Setting'!$Q$14),$H167-$G167,IF($G167>='관리자 Setting'!$Q$14,0,0))))))","v":"00:00:00"},{"$f":"IF(OR($H167<'관리자 Setting'!$P$15,$G167>='관리자 Setting'!$Q$15),0,IF(AND($G167<'관리자 Setting'!$P$15,$H167<'관리자 Setting'!$Q$15),$H167-'관리자 Setting'!$P$15,IF(AND($G167<'관리자 Setting'!$P$15,$H167>='관리자 Setting'!$Q$15),'관리자 Setting'!$R$15,IF(AND($G167>='관리자 Setting'!$P$15,$H167>='관리자 Setting'!$Q$15),'관리자 Setting'!$Q$15-$G167,IF(AND($G167>='관리자 Setting'!$P$15,$H167<'관리자 Setting'!$Q$15),$H167-$G167,IF($G167>='관리자 Setting'!$Q$15,0,0))))))","v":"00:00:00"},"",{"$f":"IFERROR(VLOOKUP($F167,'관리자 Setting'!$P$18:$Q$33,2,0)/24,\"\")","v":""}]
["","",{"$f":"IFERROR(DATE(LEFT('In-Put'!$B168,4),MID('In-Put'!$B168,5,2),RIGHT('In-Put'!$B168,2)),\"\")","v":""},{"$f":"IF($C168=\"\",\"\",COUNTIFS($C$2:$C$401,C168)-COUNTIFS($C$2:C168,C168))","v":""},{"$f":"IF($C168=\"\",\"\",COUNTIFS('관리자 Setting'!$P$18:$P$33,'설정_In-Put'!$F168))","v":""},{"$f":"'In-Put'!G168","v":0},{"$f":"IFERROR(IF('In-Put'!D168*1=0,\"\",'In-Put'!D168*1),\"\")","v":""},{"$f":"IFERROR(IF('In-Put'!E168*1=0,\"\",IF('In-Put'!E168*1<G168,'In-Put'!E168*1+1,'In-Put'!E168*1)),\"\")","v":""},{"$f":"IF(OR($H168<'관리자 Setting'!$P$14,$G168>='관리자 Setting'!$Q$14),0,IF(AND($G168<'관리자 Setting'!$P$14,$H168<'관리자 Setting'!$Q$14),$H168-'관리자 Setting'!$P$14,IF(AND($G168<'관리자 Setting'!$P$14,$H168>='관리자 Setting'!$Q$14),'관리자 Setting'!$R$14,IF(AND($G168>='관리자 Setting'!$P$14,$H168>='관리자 Setting'!$Q$14),'관리자 Setting'!$Q$14-$G168,IF(AND($G168>='관리자 Setting'!$P$14,$H168<'관리자 Setting'!$Q$14),$H168-$G168,IF($G168>='관리자 Setting'!$Q$14,0,0))))))","v":"00:00:00"},{"$f":"IF(OR($H168<'관리자 Setting'!$P$15,$G168>='관리자 Setting'!$Q$15),0,IF(AND($G168<'관리자 Setting'!$P$15,$H168<'관리자 Setting'!$Q$15),$H168-'관리자 Setting'!$P$15,IF(AND($G168<'관리자 Setting'!$P$15,$H168>='관리자 Setting'!$Q$15),'관리자 Setting'!$R$15,IF(AND($G168>='관리자 Setting'!$P$15,$H168>='관리자 Setting'!$Q$15),'관리자 Setting'!$Q$15-$G168,IF(AND($G168>='관리자 Setting'!$P$15,$H168<'관리자 Setting'!$Q$15),$H168-$G168,IF($G168>='관리자 Setting'!$Q$15,0,0))))))","v":"00:00:00"},"",{"$f":"IFERROR(VLOOKUP($F168,'관리자 Setting'!$P$18:$Q$33,2,0)/24,\"\")","v":""}]
["","",{"$f":"IFERROR(DATE(LEFT('In-Put'!$B169,4),MID('In-Put'!$B169,5,2),RIGHT('In-Put'!$B169,2)),\"\")","v":""},{"$f":"IF($C169=\"\",\"\",COUNTIFS($C$2:$C$401,C169)-COUNTIFS($C$2:C169,C169))","v":""},{"$f":"IF($C169=\"\",\"\",COUNTIFS('관리자 Setting'!$P$18:$P$33,'설정_In-Put'!$F169))","v":""},{"$f":"'In-Put'!G169","v":0},{"$f":"IFERROR(IF('In-Put'!D169*1=0,\"\",'In-Put'!D169*1),\"\")","v":""},{"$f":"IFERROR(IF('In-Put'!E169*1=0,\"\",IF('In-Put'!E169*1<G169,'In-Put'!E169*1+1,'In-Put'!E169*1)),\"\")","v":""},{"$f":"IF(OR($H169<'관리자 Setting'!$P$14,$G169>='관리자 Setting'!$Q$14),0,IF(AND($G169<'관리자 Setting'!$P$14,$H169<'관리자 Setting'!$Q$14),$H169-'관리자 Setting'!$P$14,IF(AND($G169<'관리자 Setting'!$P$14,$H169>='관리자 Setting'!$Q$14),'관리자 Setting'!$R$14,IF(AND($G169>='관리자 Setting'!$P$14,$H169>='관리자 Setting'!$Q$14),'관리자 Setting'!$Q$14-$G169,IF(AND($G169>='관리자 Setting'!$P$14,$H169<'관리자 Setting'!$Q$14),$H169-$G169,IF($G169>='관리자 Setting'!$Q$14,0,0))))))","v":"00:00:00"},{"$f":"IF(OR($H169<'관리자 Setting'!$P$15,$G169>='관리자 Setting'!$Q$15),0,IF(AND($G169<'관리자 Setting'!$P$15,$H169<'관리자 Setting'!$Q$15),$H169-'관리자 Setting'!$P$15,IF(AND($G169<'관리자 Setting'!$P$15,$H169>='관리자 Setting'!$Q$15),'관리자 Setting'!$R$15,IF(AND($G169>='관리자 Setting'!$P$15,$H169>='관리자 Setting'!$Q$15),'관리자 Setting'!$Q$15-$G169,IF(AND($G169>='관리자 Setting'!$P$15,$H169<'관리자 Setting'!$Q$15),$H169-$G169,IF($G169>='관리자 Setting'!$Q$15,0,0))))))","v":"00:00:00"},"",{"$f":"IFERROR(VLOOKUP($F169,'관리자 Setting'!$P$18:$Q$33,2,0)/24,\"\")","v":""}]
["","",{"$f":"IFERROR(DATE(LEFT('In-Put'!$B170,4),MID('In-Put'!$B170,5,2),RIGHT('In-Put'!$B170,2)),\"\")","v":""},{"$f":"IF($C170=\"\",\"\",COUNTIFS($C$2:$C$401,C170)-COUNTIFS($C$2:C170,C170))","v":""},{"$f":"IF($C170=\"\",\"\",COUNTIFS('관리자 Setting'!$P$18:$P$33,'설정_In-Put'!$F170))","v":""},{"$f":"'In-Put'!G170","v":0},{"$f":"IFERROR(IF('In-Put'!D170*1=0,\"\",'In-Put'!D170*1),\"\")","v":""},{"$f":"IFERROR(IF('In-Put'!E170*1=0,\"\",IF('In-Put'!E170*1<G170,'In-Put'!E170*1+1,'In-Put'!E170*1)),\"\")","v":""},{"$f":"IF(OR($H170<'관리자 Setting'!$P$14,$G170>='관리자 Setting'!$Q$14),0,IF(AND($G170<'관리자 Setting'!$P$14,$H170<'관리자 Setting'!$Q$14),$H170-'관리자 Setting'!$P$14,IF(AND($G170<'관리자 Setting'!$P$14,$H170>='관리자 Setting'!$Q$14),'관리자 Setting'!$R$14,IF(AND($G170>='관리자 Setting'!$P$14,$H170>='관리자 Setting'!$Q$14),'관리자 Setting'!$Q$14-$G170,IF(AND($G170>='관리자 Setting'!$P$14,$H170<'관리자 Setting'!$Q$14),$H170-$G170,IF($G170>='관리자 Setting'!$Q$14,0,0))))))","v":"00:00:00"},{"$f":"IF(OR($H170<'관리자 Setting'!$P$15,$G170>='관리자 Setting'!$Q$15),0,IF(AND($G170<'관리자 Setting'!$P$15,$H170<'관리자 Setting'!$Q$15),$H170-'관리자 Setting'!$P$15,IF(AND($G170<'관리자 Setting'!$P$15,$H170>='관리자 Setting'!$Q$15),'관리자 Setting'!$R$15,IF(AND($G170>='관리자 Setting'!$P$15,$H170>='관리자 Setting'!$Q$15),'관리자 Setting'!$Q$15-$G170,IF(AND($G170>='관리자 Setting'!$P$15,$H170<'관리자 Setting'!$Q$15),$H170-$G170,IF($G170>='관리자 Setting'!$Q$15,0,0))))))","v":"00:00:00"},"",{"$f":"IFERROR(VLOOKUP($F170,'관리자 Setting'!$P$18:$Q$33,2,0)/24,\"\")","v":""}]
["","",{"$f":"IFERROR(DATE(LEFT('In-Put'!$B171,4),MID('In-Put'!$B171,5,2),RIGHT('In-Put'!$B171,2)),\"\")","v":""},{"$f":"IF($C171=\"\",\"\",COUNTIFS($C$2:$C$401,C171)-COUNTIFS($C$2:C171,C171))","v":""},{"$f":"IF($C171=\"\",\"\",COUNTIFS('관리자 Setting'!$P$18:$P$33,'설정_In-Put'!$F171))","v":""},{"$f":"'In-Put'!G171","v":0},{"$f":"IFERROR(IF('In-Put'!D171*1=0,\"\",'In-Put'!D171*1),\"\")","v":""},{"$f":"IFERROR(IF('In-Put'!E171*1=0,\"\",IF('In-Put'!E171*1<G171,'In-Put'!E171*1+1,'In-Put'!E171*1)),\"\")","v":""},{"$f":"IF(OR($H171<'관리자 Setting'!$P$14,$G171>='관리자 Setting'!$Q$14),0,IF(AND($G171<'관리자 Setting'!$P$14,$H171<'관리자 Setting'!$Q$14),$H171-'관리자 Setting'!$P$14,IF(AND($G171<'관리자 Setting'!$P$14,$H171>='관리자 Setting'!$Q$14),'관리자 Setting'!$R$14,IF(AND($G171>='관리자 Setting'!$P$14,$H171>='관리자 Setting'!$Q$14),'관리자 Setting'!$Q$14-$G171,IF(AND($G171>='관리자 Setting'!$P$14,$H171<'관리자 Setting'!$Q$14),$H171-$G171,IF($G171>='관리자 Setting'!$Q$14,0,0))))))","v":"00:00:00"},{"$f":"IF(OR($H171<'관리자 Setting'!$P$15,$G171>='관리자 Setting'!$Q$15),0,IF(AND($G171<'관리자 Setting'!$P$15,$H171<'관리자 Setting'!$Q$15),$H171-'관리자 Setting'!$P$15,IF(AND($G171<'관리자 Setting'!$P$15,$H171>='관리자 Setting'!$Q$15),'관리자 Setting'!$R$15,IF(AND($G171>='관리자 Setting'!$P$15,$H171>='관리자 Setting'!$Q$15),'관리자 Setting'!$Q$15-$G171,IF(AND($G171>='관리자 Setting'!$P$15,$H171<'관리자 Setting'!$Q$15),$H171-$G171,IF($G171>='관리자 Setting'!$Q$15,0,0))))))","v":"00:00:00"},"",{"$f":"IFERROR(VLOOKUP($F171,'관리자 Setting'!$P$18:$Q$33,2,0)/24,\"\")","v":""}]
["","",{"$f":"IFERROR(DATE(LEFT('In-Put'!$B172,4),MID('In-Put'!$B172,5,2),RIGHT('In-Put'!$B172,2)),\"\")","v":""},{"$f":"IF($C172=\"\",\"\",COUNTIFS($C$2:$C$401,C172)-COUNTIFS($C$2:C172,C172))","v":""},{"$f":"IF($C172=\"\",\"\",COUNTIFS('관리자 Setting'!$P$18:$P$33,'설정_In-Put'!$F172))","v":""},{"$f":"'In-Put'!G172","v":0},{"$f":"IFERROR(IF('In-Put'!D172*1=0,\"\",'In-Put'!D172*1),\"\")","v":""},{"$f":"IFERROR(IF('In-Put'!E172*1=0,\"\",IF('In-Put'!E172*1<G172,'In-Put'!E172*1+1,'In-Put'!E172*1)),\"\")","v":""},{"$f":"IF(OR($H172<'관리자 Setting'!$P$14,$G172>='관리자 Setting'!$Q$14),0,IF(AND($G172<'관리자 Setting'!$P$14,$H172<'관리자 Setting'!$Q$14),$H172-'관리자 Setting'!$P$14,IF(AND($G172<'관리자 Setting'!$P$14,$H172>='관리자 Setting'!$Q$14),'관리자 Setting'!$R$14,IF(AND($G172>='관리자 Setting'!$P$14,$H172>='관리자 Setting'!$Q$14),'관리자 Setting'!$Q$14-$G172,IF(AND($G172>='관리자 Setting'!$P$14,$H172<'관리자 Setting'!$Q$14),$H172-$G172,IF($G172>='관리자 Setting'!$Q$14,0,0))))))","v":"00:00:00"},{"$f":"IF(OR($H172<'관리자 Setting'!$P$15,$G172>='관리자 Setting'!$Q$15),0,IF(AND($G172<'관리자 Setting'!$P$15,$H172<'관리자 Setting'!$Q$15),$H172-'관리자 Setting'!$P$15,IF(AND($G172<'관리자 Setting'!$P$15,$H172>='관리자 Setting'!$Q$15),'관리자 Setting'!$R$15,IF(AND($G172>='관리자 Setting'!$P$15,$H172>='관리자 Setting'!$Q$15),'관리자 Setting'!$Q$15-$G172,IF(AND($G172>='관리자 Setting'!$P$15,$H172<'관리자 Setting'!$Q$15),$H172-$G172,IF($G172>='관리자 Setting'!$Q$15,0,0))))))","v":"00:00:00"},"",{"$f":"IFERROR(VLOOKUP($F172,'관리자 Setting'!$P$18:$Q$33,2,0)/24,\"\")","v":""}]
["","",{"$f":"IFERROR(DATE(LEFT('In-Put'!$B173,4),MID('In-Put'!$B173,5,2),RIGHT('In-Put'!$B173,2)),\"\")","v":""},{"$f":"IF($C173=\"\",\"\",COUNTIFS($C$2:$C$401,C173)-COUNTIFS($C$2:C173,C173))","v":""},{"$f":"IF($C173=\"\",\"\",COUNTIFS('관리자 Setting'!$P$18:$P$33,'설정_In-Put'!$F173))","v":""},{"$f":"'In-Put'!G173","v":0},{"$f":"IFERROR(IF('In-Put'!D173*1=0,\"\",'In-Put'!D173*1),\"\")","v":""},{"$f":"IFERROR(IF('In-Put'!E173*1=0,\"\",IF('In-Put'!E173*1<G173,'In-Put'!E173*1+1,'In-Put'!E173*1)),\"\")","v":""},{"$f":"IF(OR($H173<'관리자 Setting'!$P$14,$G173>='관리자 Setting'!$Q$14),0,IF(AND($G173<'관리자 Setting'!$P$14,$H173<'관리자 Setting'!$Q$14),$H173-'관리자 Setting'!$P$14,IF(AND($G173<'관리자 Setting'!$P$14,$H173>='관리자 Setting'!$Q$14),'관리자 Setting'!$R$14,IF(AND($G173>='관리자 Setting'!$P$14,$H173>='관리자 Setting'!$Q$14),'관리자 Setting'!$Q$14-$G173,IF(AND($G173>='관리자 Setting'!$P$14,$H173<'관리자 Setting'!$Q$14),$H173-$G173,IF($G173>='관리자 Setting'!$Q$14,0,0))))))","v":"00:00:00"},{"$f":"IF(OR($H173<'관리자 Setting'!$P$15,$G173>='관리자 Setting'!$Q$15),0,IF(AND($G173<'관리자 Setting'!$P$15,$H173<'관리자 Setting'!$Q$15),$H173-'관리자 Setting'!$P$15,IF(AND($G173<'관리자 Setting'!$P$15,$H173>='관리자 Setting'!$Q$15),'관리자 Setting'!$R$15,IF(AND($G173>='관리자 Setting'!$P$15,$H173>='관리자 Setting'!$Q$15),'관리자 Setting'!$Q$15-$G173,IF(AND($G173>='관리자 Setting'!$P$15,$H173<'관리자 Setting'!$Q$15),$H173-$G173,IF($G173>='관리자 Setting'!$Q$15,0,0))))))","v":"00:00:00"},"",{"$f":"IFERROR(VLOOKUP($F173,'관리자 Setting'!$P$18:$Q$33,2,0)/24,\"\")","v":""}]
["","",{"$f":"IFERROR(DATE(LEFT('In-Put'!$B174,4),MID('In-Put'!$B174,5,2),RIGHT('In-Put'!$B174,2)),\"\")","v":""},{"$f":"IF($C174=\"\",\"\",COUNTIFS($C$2:$C$401,C174)-COUNTIFS($C$2:C174,C174))","v":""},{"$f":"IF($C174=\"\",\"\",COUNTIFS('관리자 Setting'!$P$18:$P$33,'설정_In-Put'!$F174))","v":""},{"$f":"'In-Put'!G174","v":0},{"$f":"IFERROR(IF('In-Put'!D174*1=0,\"\",'In-Put'!D174*1),\"\")","v":""},{"$f":"IFERROR(IF('In-Put'!E174*1=0,\"\",IF('In-Put'!E174*1<G174,'In-Put'!E174*1+1,'In-Put'!E174*1)),\"\")","v":""},{"$f":"IF(OR($H174<'관리자 Setting'!$P$14,$G174>='관리자 Setting'!$Q$14),0,IF(AND($G174<'관리자 Setting'!$P$14,$H174<'관리자 Setting'!$Q$14),$H174-'관리자 Setting'!$P$14,IF(AND($G174<'관리자 Setting'!$P$14,$H174>='관리자 Setting'!$Q$14),'관리자 Setting'!$R$14,IF(AND($G174>='관리자 Setting'!$P$14,$H174>='관리자 Setting'!$Q$14),'관리자 Setting'!$Q$14-$G174,IF(AND($G174>='관리자 Setting'!$P$14,$H174<'관리자 Setting'!$Q$14),$H174-$G174,IF($G174>='관리자 Setting'!$Q$14,0,0))))))","v":"00:00:00"},{"$f":"IF(OR($H174<'관리자 Setting'!$P$15,$G174>='관리자 Setting'!$Q$15),0,IF(AND($G174<'관리자 Setting'!$P$15,$H174<'관리자 Setting'!$Q$15),$H174-'관리자 Setting'!$P$15,IF(AND($G174<'관리자 Setting'!$P$15,$H174>='관리자 Setting'!$Q$15),'관리자 Setting'!$R$15,IF(AND($G174>='관리자 Setting'!$P$15,$H174>='관리자 Setting'!$Q$15),'관리자 Setting'!$Q$15-$G174,IF(AND($G174>='관리자 Setting'!$P$15,$H174<'관리자 Setting'!$Q$15),$H174-$G174,IF($G174>='관리자 Setting'!$Q$15,0,0))))))","v":"00:00:00"},"",{"$f":"IFERROR(VLOOKUP($F174,'관리자 Setting'!$P$18:$Q$33,2,0)/24,\"\")","v":""}]
["","",{"$f":"IFERROR(DATE(LEFT('In-Put'!$B175,4),MID('In-Put'!$B175,5,2),RIGHT('In-Put'!$B175,2)),\"\")","v":""},{"$f":"IF($C175=\"\",\"\",COUNTIFS($C$2:$C$401,C175)-COUNTIFS($C$2:C175,C175))","v":""},{"$f":"IF($C175=\"\",\"\",COUNTIFS('관리자 Setting'!$P$18:$P$33,'설정_In-Put'!$F175))","v":""},{"$f":"'In-Put'!G175","v":0},{"$f":"IFERROR(IF('In-Put'!D175*1=0,\"\",'In-Put'!D175*1),\"\")","v":""},{"$f":"IFERROR(IF('In-Put'!E175*1=0,\"\",IF('In-Put'!E175*1<G175,'In-Put'!E175*1+1,'In-Put'!E175*1)),\"\")","v":""},{"$f":"IF(OR($H175<'관리자 Setting'!$P$14,$G175>='관리자 Setting'!$Q$14),0,IF(AND($G175<'관리자 Setting'!$P$14,$H175<'관리자 Setting'!$Q$14),$H175-'관리자 Setting'!$P$14,IF(AND($G175<'관리자 Setting'!$P$14,$H175>='관리자 Setting'!$Q$14),'관리자 Setting'!$R$14,IF(AND($G175>='관리자 Setting'!$P$14,$H175>='관리자 Setting'!$Q$14),'관리자 Setting'!$Q$14-$G175,IF(AND($G175>='관리자 Setting'!$P$14,$H175<'관리자 Setting'!$Q$14),$H175-$G175,IF($G175>='관리자 Setting'!$Q$14,0,0))))))","v":"00:00:00"},{"$f":"IF(OR($H175<'관리자 Setting'!$P$15,$G175>='관리자 Setting'!$Q$15),0,IF(AND($G175<'관리자 Setting'!$P$15,$H175<'관리자 Setting'!$Q$15),$H175-'관리자 Setting'!$P$15,IF(AND($G175<'관리자 Setting'!$P$15,$H175>='관리자 Setting'!$Q$15),'관리자 Setting'!$R$15,IF(AND($G175>='관리자 Setting'!$P$15,$H175>='관리자 Setting'!$Q$15),'관리자 Setting'!$Q$15-$G175,IF(AND($G175>='관리자 Setting'!$P$15,$H175<'관리자 Setting'!$Q$15),$H175-$G175,IF($G175>='관리자 Setting'!$Q$15,0,0))))))","v":"00:00:00"},"",{"$f":"IFERROR(VLOOKUP($F175,'관리자 Setting'!$P$18:$Q$33,2,0)/24,\"\")","v":""}]
["","",{"$f":"IFERROR(DATE(LEFT('In-Put'!$B176,4),MID('In-Put'!$B176,5,2),RIGHT('In-Put'!$B176,2)),\"\")","v":""},{"$f":"IF($C176=\"\",\"\",COUNTIFS($C$2:$C$401,C176)-COUNTIFS($C$2:C176,C176))","v":""},{"$f":"IF($C176=\"\",\"\",COUNTIFS('관리자 Setting'!$P$18:$P$33,'설정_In-Put'!$F176))","v":""},{"$f":"'In-Put'!G176","v":0},{"$f":"IFERROR(IF('In-Put'!D176*1=0,\"\",'In-Put'!D176*1),\"\")","v":""},{"$f":"IFERROR(IF('In-Put'!E176*1=0,\"\",IF('In-Put'!E176*1<G176,'In-Put'!E176*1+1,'In-Put'!E176*1)),\"\")","v":""},{"$f":"IF(OR($H176<'관리자 Setting'!$P$14,$G176>='관리자 Setting'!$Q$14),0,IF(AND($G176<'관리자 Setting'!$P$14,$H176<'관리자 Setting'!$Q$14),$H176-'관리자 Setting'!$P$14,IF(AND($G176<'관리자 Setting'!$P$14,$H176>='관리자 Setting'!$Q$14),'관리자 Setting'!$R$14,IF(AND($G176>='관리자 Setting'!$P$14,$H176>='관리자 Setting'!$Q$14),'관리자 Setting'!$Q$14-$G176,IF(AND($G176>='관리자 Setting'!$P$14,$H176<'관리자 Setting'!$Q$14),$H176-$G176,IF($G176>='관리자 Setting'!$Q$14,0,0))))))","v":"00:00:00"},{"$f":"IF(OR($H176<'관리자 Setting'!$P$15,$G176>='관리자 Setting'!$Q$15),0,IF(AND($G176<'관리자 Setting'!$P$15,$H176<'관리자 Setting'!$Q$15),$H176-'관리자 Setting'!$P$15,IF(AND($G176<'관리자 Setting'!$P$15,$H176>='관리자 Setting'!$Q$15),'관리자 Setting'!$R$15,IF(AND($G176>='관리자 Setting'!$P$15,$H176>='관리자 Setting'!$Q$15),'관리자 Setting'!$Q$15-$G176,IF(AND($G176>='관리자 Setting'!$P$15,$H176<'관리자 Setting'!$Q$15),$H176-$G176,IF($G176>='관리자 Setting'!$Q$15,0,0))))))","v":"00:00:00"},"",{"$f":"IFERROR(VLOOKUP($F176,'관리자 Setting'!$P$18:$Q$33,2,0)/24,\"\")","v":""}]
["","",{"$f":"IFERROR(DATE(LEFT('In-Put'!$B177,4),MID('In-Put'!$B177,5,2),RIGHT('In-Put'!$B177,2)),\"\")","v":""},{"$f":"IF($C177=\"\",\"\",COUNTIFS($C$2:$C$401,C177)-COUNTIFS($C$2:C177,C177))","v":""},{"$f":"IF($C177=\"\",\"\",COUNTIFS('관리자 Setting'!$P$18:$P$33,'설정_In-Put'!$F177))","v":""},{"$f":"'In-Put'!G177","v":0},{"$f":"IFERROR(IF('In-Put'!D177*1=0,\"\",'In-Put'!D177*1),\"\")","v":""},{"$f":"IFERROR(IF('In-Put'!E177*1=0,\"\",IF('In-Put'!E177*1<G177,'In-Put'!E177*1+1,'In-Put'!E177*1)),\"\")","v":""},{"$f":"IF(OR($H177<'관리자 Setting'!$P$14,$G177>='관리자 Setting'!$Q$14),0,IF(AND($G177<'관리자 Setting'!$P$14,$H177<'관리자 Setting'!$Q$14),$H177-'관리자 Setting'!$P$14,IF(AND($G177<'관리자 Setting'!$P$14,$H177>='관리자 Setting'!$Q$14),'관리자 Setting'!$R$14,IF(AND($G177>='관리자 Setting'!$P$14,$H177>='관리자 Setting'!$Q$14),'관리자 Setting'!$Q$14-$G177,IF(AND($G177>='관리자 Setting'!$P$14,$H177<'관리자 Setting'!$Q$14),$H177-$G177,IF($G177>='관리자 Setting'!$Q$14,0,0))))))","v":"00:00:00"},{"$f":"IF(OR($H177<'관리자 Setting'!$P$15,$G177>='관리자 Setting'!$Q$15),0,IF(AND($G177<'관리자 Setting'!$P$15,$H177<'관리자 Setting'!$Q$15),$H177-'관리자 Setting'!$P$15,IF(AND($G177<'관리자 Setting'!$P$15,$H177>='관리자 Setting'!$Q$15),'관리자 Setting'!$R$15,IF(AND($G177>='관리자 Setting'!$P$15,$H177>='관리자 Setting'!$Q$15),'관리자 Setting'!$Q$15-$G177,IF(AND($G177>='관리자 Setting'!$P$15,$H177<'관리자 Setting'!$Q$15),$H177-$G177,IF($G177>='관리자 Setting'!$Q$15,0,0))))))","v":"00:00:00"},"",{"$f":"IFERROR(VLOOKUP($F177,'관리자 Setting'!$P$18:$Q$33,2,0)/24,\"\")","v":""}]
["","",{"$f":"IFERROR(DATE(LEFT('In-Put'!$B178,4),MID('In-Put'!$B178,5,2),RIGHT('In-Put'!$B178,2)),\"\")","v":""},{"$f":"IF($C178=\"\",\"\",COUNTIFS($C$2:$C$401,C178)-COUNTIFS($C$2:C178,C178))","v":""},{"$f":"IF($C178=\"\",\"\",COUNTIFS('관리자 Setting'!$P$18:$P$33,'설정_In-Put'!$F178))","v":""},{"$f":"'In-Put'!G178","v":0},{"$f":"IFERROR(IF('In-Put'!D178*1=0,\"\",'In-Put'!D178*1),\"\")","v":""},{"$f":"IFERROR(IF('In-Put'!E178*1=0,\"\",IF('In-Put'!E178*1<G178,'In-Put'!E178*1+1,'In-Put'!E178*1)),\"\")","v":""},{"$f":"IF(OR($H178<'관리자 Setting'!$P$14,$G178>='관리자 Setting'!$Q$14),0,IF(AND($G178<'관리자 Setting'!$P$14,$H178<'관리자 Setting'!$Q$14),$H178-'관리자 Setting'!$P$14,IF(AND($G178<'관리자 Setting'!$P$14,$H178>='관리자 Setting'!$Q$14),'관리자 Setting'!$R$14,IF(AND($G178>='관리자 Setting'!$P$14,$H178>='관리자 Setting'!$Q$14),'관리자 Setting'!$Q$14-$G178,IF(AND($G178>='관리자 Setting'!$P$14,$H178<'관리자 Setting'!$Q$14),$H178-$G178,IF($G178>='관리자 Setting'!$Q$14,0,0))))))","v":"00:00:00"},{"$f":"IF(OR($H178<'관리자 Setting'!$P$15,$G178>='관리자 Setting'!$Q$15),0,IF(AND($G178<'관리자 Setting'!$P$15,$H178<'관리자 Setting'!$Q$15),$H178-'관리자 Setting'!$P$15,IF(AND($G178<'관리자 Setting'!$P$15,$H178>='관리자 Setting'!$Q$15),'관리자 Setting'!$R$15,IF(AND($G178>='관리자 Setting'!$P$15,$H178>='관리자 Setting'!$Q$15),'관리자 Setting'!$Q$15-$G178,IF(AND($G178>='관리자 Setting'!$P$15,$H178<'관리자 Setting'!$Q$15),$H178-$G178,IF($G178>='관리자 Setting'!$Q$15,0,0))))))","v":"00:00:00"},"",{"$f":"IFERROR(VLOOKUP($F178,'관리자 Setting'!$P$18:$Q$33,2,0)/24,\"\")","v":""}]
["","",{"$f":"IFERROR(DATE(LEFT('In-Put'!$B179,4),MID('In-Put'!$B179,5,2),RIGHT('In-Put'!$B179,2)),\"\")","v":""},{"$f":"IF($C179=\"\",\"\",COUNTIFS($C$2:$C$401,C179)-COUNTIFS($C$2:C179,C179))","v":""},{"$f":"IF($C179=\"\",\"\",COUNTIFS('관리자 Setting'!$P$18:$P$33,'설정_In-Put'!$F179))","v":""},{"$f":"'In-Put'!G179","v":0},{"$f":"IFERROR(IF('In-Put'!D179*1=0,\"\",'In-Put'!D179*1),\"\")","v":""},{"$f":"IFERROR(IF('In-Put'!E179*1=0,\"\",IF('In-Put'!E179*1<G179,'In-Put'!E179*1+1,'In-Put'!E179*1)),\"\")","v":""},{"$f":"IF(OR($H179<'관리자 Setting'!$P$14,$G179>='관리자 Setting'!$Q$14),0,IF(AND($G179<'관리자 Setting'!$P$14,$H179<'관리자 Setting'!$Q$14),$H179-'관리자 Setting'!$P$14,IF(AND($G179<'관리자 Setting'!$P$14,$H179>='관리자 Setting'!$Q$14),'관리자 Setting'!$R$14,IF(AND($G179>='관리자 Setting'!$P$14,$H179>='관리자 Setting'!$Q$14),'관리자 Setting'!$Q$14-$G179,IF(AND($G179>='관리자 Setting'!$P$14,$H179<'관리자 Setting'!$Q$14),$H179-$G179,IF($G179>='관리자 Setting'!$Q$14,0,0))))))","v":"00:00:00"},{"$f":"IF(OR($H179<'관리자 Setting'!$P$15,$G179>='관리자 Setting'!$Q$15),0,IF(AND($G179<'관리자 Setting'!$P$15,$H179<'관리자 Setting'!$Q$15),$H179-'관리자 Setting'!$P$15,IF(AND($G179<'관리자 Setting'!$P$15,$H179>='관리자 Setting'!$Q$15),'관리자 Setting'!$R$15,IF(AND($G179>='관리자 Setting'!$P$15,$H179>='관리자 Setting'!$Q$15),'관리자 Setting'!$Q$15-$G179,IF(AND($G179>='관리자 Setting'!$P$15,$H179<'관리자 Setting'!$Q$15),$H179-$G179,IF($G179>='관리자 Setting'!$Q$15,0,0))))))","v":"00:00:00"},"",{"$f":"IFERROR(VLOOKUP($F179,'관리자 Setting'!$P$18:$Q$33,2,0)/24,\"\")","v":""}]
["","",{"$f":"IFERROR(DATE(LEFT('In-Put'!$B180,4),MID('In-Put'!$B180,5,2),RIGHT('In-Put'!$B180,2)),\"\")","v":""},{"$f":"IF($C180=\"\",\"\",COUNTIFS($C$2:$C$401,C180)-COUNTIFS($C$2:C180,C180))","v":""},{"$f":"IF($C180=\"\",\"\",COUNTIFS('관리자 Setting'!$P$18:$P$33,'설정_In-Put'!$F180))","v":""},{"$f":"'In-Put'!G180","v":0},{"$f":"IFERROR(IF('In-Put'!D180*1=0,\"\",'In-Put'!D180*1),\"\")","v":""},{"$f":"IFERROR(IF('In-Put'!E180*1=0,\"\",IF('In-Put'!E180*1<G180,'In-Put'!E180*1+1,'In-Put'!E180*1)),\"\")","v":""},{"$f":"IF(OR($H180<'관리자 Setting'!$P$14,$G180>='관리자 Setting'!$Q$14),0,IF(AND($G180<'관리자 Setting'!$P$14,$H180<'관리자 Setting'!$Q$14),$H180-'관리자 Setting'!$P$14,IF(AND($G180<'관리자 Setting'!$P$14,$H180>='관리자 Setting'!$Q$14),'관리자 Setting'!$R$14,IF(AND($G180>='관리자 Setting'!$P$14,$H180>='관리자 Setting'!$Q$14),'관리자 Setting'!$Q$14-$G180,IF(AND($G180>='관리자 Setting'!$P$14,$H180<'관리자 Setting'!$Q$14),$H180-$G180,IF($G180>='관리자 Setting'!$Q$14,0,0))))))","v":"00:00:00"},{"$f":"IF(OR($H180<'관리자 Setting'!$P$15,$G180>='관리자 Setting'!$Q$15),0,IF(AND($G180<'관리자 Setting'!$P$15,$H180<'관리자 Setting'!$Q$15),$H180-'관리자 Setting'!$P$15,IF(AND($G180<'관리자 Setting'!$P$15,$H180>='관리자 Setting'!$Q$15),'관리자 Setting'!$R$15,IF(AND($G180>='관리자 Setting'!$P$15,$H180>='관리자 Setting'!$Q$15),'관리자 Setting'!$Q$15-$G180,IF(AND($G180>='관리자 Setting'!$P$15,$H180<'관리자 Setting'!$Q$15),$H180-$G180,IF($G180>='관리자 Setting'!$Q$15,0,0))))))","v":"00:00:00"},"",{"$f":"IFERROR(VLOOKUP($F180,'관리자 Setting'!$P$18:$Q$33,2,0)/24,\"\")","v":""}]
["","",{"$f":"IFERROR(DATE(LEFT('In-Put'!$B181,4),MID('In-Put'!$B181,5,2),RIGHT('In-Put'!$B181,2)),\"\")","v":""},{"$f":"IF($C181=\"\",\"\",COUNTIFS($C$2:$C$401,C181)-COUNTIFS($C$2:C181,C181))","v":""},{"$f":"IF($C181=\"\",\"\",COUNTIFS('관리자 Setting'!$P$18:$P$33,'설정_In-Put'!$F181))","v":""},{"$f":"'In-Put'!G181","v":0},{"$f":"IFERROR(IF('In-Put'!D181*1=0,\"\",'In-Put'!D181*1),\"\")","v":""},{"$f":"IFERROR(IF('In-Put'!E181*1=0,\"\",IF('In-Put'!E181*1<G181,'In-Put'!E181*1+1,'In-Put'!E181*1)),\"\")","v":""},{"$f":"IF(OR($H181<'관리자 Setting'!$P$14,$G181>='관리자 Setting'!$Q$14),0,IF(AND($G181<'관리자 Setting'!$P$14,$H181<'관리자 Setting'!$Q$14),$H181-'관리자 Setting'!$P$14,IF(AND($G181<'관리자 Setting'!$P$14,$H181>='관리자 Setting'!$Q$14),'관리자 Setting'!$R$14,IF(AND($G181>='관리자 Setting'!$P$14,$H181>='관리자 Setting'!$Q$14),'관리자 Setting'!$Q$14-$G181,IF(AND($G181>='관리자 Setting'!$P$14,$H181<'관리자 Setting'!$Q$14),$H181-$G181,IF($G181>='관리자 Setting'!$Q$14,0,0))))))","v":"00:00:00"},{"$f":"IF(OR($H181<'관리자 Setting'!$P$15,$G181>='관리자 Setting'!$Q$15),0,IF(AND($G181<'관리자 Setting'!$P$15,$H181<'관리자 Setting'!$Q$15),$H181-'관리자 Setting'!$P$15,IF(AND($G181<'관리자 Setting'!$P$15,$H181>='관리자 Setting'!$Q$15),'관리자 Setting'!$R$15,IF(AND($G181>='관리자 Setting'!$P$15,$H181>='관리자 Setting'!$Q$15),'관리자 Setting'!$Q$15-$G181,IF(AND($G181>='관리자 Setting'!$P$15,$H181<'관리자 Setting'!$Q$15),$H181-$G181,IF($G181>='관리자 Setting'!$Q$15,0,0))))))","v":"00:00:00"},"",{"$f":"IFERROR(VLOOKUP($F181,'관리자 Setting'!$P$18:$Q$33,2,0)/24,\"\")","v":""}]
["","",{"$f":"IFERROR(DATE(LEFT('In-Put'!$B182,4),MID('In-Put'!$B182,5,2),RIGHT('In-Put'!$B182,2)),\"\")","v":""},{"$f":"IF($C182=\"\",\"\",COUNTIFS($C$2:$C$401,C182)-COUNTIFS($C$2:C182,C182))","v":""},{"$f":"IF($C182=\"\",\"\",COUNTIFS('관리자 Setting'!$P$18:$P$33,'설정_In-Put'!$F182))","v":""},{"$f":"'In-Put'!G182","v":0},{"$f":"IFERROR(IF('In-Put'!D182*1=0,\"\",'In-Put'!D182*1),\"\")","v":""},{"$f":"IFERROR(IF('In-Put'!E182*1=0,\"\",IF('In-Put'!E182*1<G182,'In-Put'!E182*1+1,'In-Put'!E182*1)),\"\")","v":""},{"$f":"IF(OR($H182<'관리자 Setting'!$P$14,$G182>='관리자 Setting'!$Q$14),0,IF(AND($G182<'관리자 Setting'!$P$14,$H182<'관리자 Setting'!$Q$14),$H182-'관리자 Setting'!$P$14,IF(AND($G182<'관리자 Setting'!$P$14,$H182>='관리자 Setting'!$Q$14),'관리자 Setting'!$R$14,IF(AND($G182>='관리자 Setting'!$P$14,$H182>='관리자 Setting'!$Q$14),'관리자 Setting'!$Q$14-$G182,IF(AND($G182>='관리자 Setting'!$P$14,$H182<'관리자 Setting'!$Q$14),$H182-$G182,IF($G182>='관리자 Setting'!$Q$14,0,0))))))","v":"00:00:00"},{"$f":"IF(OR($H182<'관리자 Setting'!$P$15,$G182>='관리자 Setting'!$Q$15),0,IF(AND($G182<'관리자 Setting'!$P$15,$H182<'관리자 Setting'!$Q$15),$H182-'관리자 Setting'!$P$15,IF(AND($G182<'관리자 Setting'!$P$15,$H182>='관리자 Setting'!$Q$15),'관리자 Setting'!$R$15,IF(AND($G182>='관리자 Setting'!$P$15,$H182>='관리자 Setting'!$Q$15),'관리자 Setting'!$Q$15-$G182,IF(AND($G182>='관리자 Setting'!$P$15,$H182<'관리자 Setting'!$Q$15),$H182-$G182,IF($G182>='관리자 Setting'!$Q$15,0,0))))))","v":"00:00:00"},"",{"$f":"IFERROR(VLOOKUP($F182,'관리자 Setting'!$P$18:$Q$33,2,0)/24,\"\")","v":""}]
["","",{"$f":"IFERROR(DATE(LEFT('In-Put'!$B183,4),MID('In-Put'!$B183,5,2),RIGHT('In-Put'!$B183,2)),\"\")","v":""},{"$f":"IF($C183=\"\",\"\",COUNTIFS($C$2:$C$401,C183)-COUNTIFS($C$2:C183,C183))","v":""},{"$f":"IF($C183=\"\",\"\",COUNTIFS('관리자 Setting'!$P$18:$P$33,'설정_In-Put'!$F183))","v":""},{"$f":"'In-Put'!G183","v":0},{"$f":"IFERROR(IF('In-Put'!D183*1=0,\"\",'In-Put'!D183*1),\"\")","v":""},{"$f":"IFERROR(IF('In-Put'!E183*1=0,\"\",IF('In-Put'!E183*1<G183,'In-Put'!E183*1+1,'In-Put'!E183*1)),\"\")","v":""},{"$f":"IF(OR($H183<'관리자 Setting'!$P$14,$G183>='관리자 Setting'!$Q$14),0,IF(AND($G183<'관리자 Setting'!$P$14,$H183<'관리자 Setting'!$Q$14),$H183-'관리자 Setting'!$P$14,IF(AND($G183<'관리자 Setting'!$P$14,$H183>='관리자 Setting'!$Q$14),'관리자 Setting'!$R$14,IF(AND($G183>='관리자 Setting'!$P$14,$H183>='관리자 Setting'!$Q$14),'관리자 Setting'!$Q$14-$G183,IF(AND($G183>='관리자 Setting'!$P$14,$H183<'관리자 Setting'!$Q$14),$H183-$G183,IF($G183>='관리자 Setting'!$Q$14,0,0))))))","v":"00:00:00"},{"$f":"IF(OR($H183<'관리자 Setting'!$P$15,$G183>='관리자 Setting'!$Q$15),0,IF(AND($G183<'관리자 Setting'!$P$15,$H183<'관리자 Setting'!$Q$15),$H183-'관리자 Setting'!$P$15,IF(AND($G183<'관리자 Setting'!$P$15,$H183>='관리자 Setting'!$Q$15),'관리자 Setting'!$R$15,IF(AND($G183>='관리자 Setting'!$P$15,$H183>='관리자 Setting'!$Q$15),'관리자 Setting'!$Q$15-$G183,IF(AND($G183>='관리자 Setting'!$P$15,$H183<'관리자 Setting'!$Q$15),$H183-$G183,IF($G183>='관리자 Setting'!$Q$15,0,0))))))","v":"00:00:00"},"",{"$f":"IFERROR(VLOOKUP($F183,'관리자 Setting'!$P$18:$Q$33,2,0)/24,\"\")","v":""}]
["","",{"$f":"IFERROR(DATE(LEFT('In-Put'!$B184,4),MID('In-Put'!$B184,5,2),RIGHT('In-Put'!$B184,2)),\"\")","v":""},{"$f":"IF($C184=\"\",\"\",COUNTIFS($C$2:$C$401,C184)-COUNTIFS($C$2:C184,C184))","v":""},{"$f":"IF($C184=\"\",\"\",COUNTIFS('관리자 Setting'!$P$18:$P$33,'설정_In-Put'!$F184))","v":""},{"$f":"'In-Put'!G184","v":0},{"$f":"IFERROR(IF('In-Put'!D184*1=0,\"\",'In-Put'!D184*1),\"\")","v":""},{"$f":"IFERROR(IF('In-Put'!E184*1=0,\"\",IF('In-Put'!E184*1<G184,'In-Put'!E184*1+1,'In-Put'!E184*1)),\"\")","v":""},{"$f":"IF(OR($H184<'관리자 Setting'!$P$14,$G184>='관리자 Setting'!$Q$14),0,IF(AND($G184<'관리자 Setting'!$P$14,$H184<'관리자 Setting'!$Q$14),$H184-'관리자 Setting'!$P$14,IF(AND($G184<'관리자 Setting'!$P$14,$H184>='관리자 Setting'!$Q$14),'관리자 Setting'!$R$14,IF(AND($G184>='관리자 Setting'!$P$14,$H184>='관리자 Setting'!$Q$14),'관리자 Setting'!$Q$14-$G184,IF(AND($G184>='관리자 Setting'!$P$14,$H184<'관리자 Setting'!$Q$14),$H184-$G184,IF($G184>='관리자 Setting'!$Q$14,0,0))))))","v":"00:00:00"},{"$f":"IF(OR($H184<'관리자 Setting'!$P$15,$G184>='관리자 Setting'!$Q$15),0,IF(AND($G184<'관리자 Setting'!$P$15,$H184<'관리자 Setting'!$Q$15),$H184-'관리자 Setting'!$P$15,IF(AND($G184<'관리자 Setting'!$P$15,$H184>='관리자 Setting'!$Q$15),'관리자 Setting'!$R$15,IF(AND($G184>='관리자 Setting'!$P$15,$H184>='관리자 Setting'!$Q$15),'관리자 Setting'!$Q$15-$G184,IF(AND($G184>='관리자 Setting'!$P$15,$H184<'관리자 Setting'!$Q$15),$H184-$G184,IF($G184>='관리자 Setting'!$Q$15,0,0))))))","v":"00:00:00"},"",{"$f":"IFERROR(VLOOKUP($F184,'관리자 Setting'!$P$18:$Q$33,2,0)/24,\"\")","v":""}]
["","",{"$f":"IFERROR(DATE(LEFT('In-Put'!$B185,4),MID('In-Put'!$B185,5,2),RIGHT('In-Put'!$B185,2)),\"\")","v":""},{"$f":"IF($C185=\"\",\"\",COUNTIFS($C$2:$C$401,C185)-COUNTIFS($C$2:C185,C185))","v":""},{"$f":"IF($C185=\"\",\"\",COUNTIFS('관리자 Setting'!$P$18:$P$33,'설정_In-Put'!$F185))","v":""},{"$f":"'In-Put'!G185","v":0},{"$f":"IFERROR(IF('In-Put'!D185*1=0,\"\",'In-Put'!D185*1),\"\")","v":""},{"$f":"IFERROR(IF('In-Put'!E185*1=0,\"\",IF('In-Put'!E185*1<G185,'In-Put'!E185*1+1,'In-Put'!E185*1)),\"\")","v":""},{"$f":"IF(OR($H185<'관리자 Setting'!$P$14,$G185>='관리자 Setting'!$Q$14),0,IF(AND($G185<'관리자 Setting'!$P$14,$H185<'관리자 Setting'!$Q$14),$H185-'관리자 Setting'!$P$14,IF(AND($G185<'관리자 Setting'!$P$14,$H185>='관리자 Setting'!$Q$14),'관리자 Setting'!$R$14,IF(AND($G185>='관리자 Setting'!$P$14,$H185>='관리자 Setting'!$Q$14),'관리자 Setting'!$Q$14-$G185,IF(AND($G185>='관리자 Setting'!$P$14,$H185<'관리자 Setting'!$Q$14),$H185-$G185,IF($G185>='관리자 Setting'!$Q$14,0,0))))))","v":"00:00:00"},{"$f":"IF(OR($H185<'관리자 Setting'!$P$15,$G185>='관리자 Setting'!$Q$15),0,IF(AND($G185<'관리자 Setting'!$P$15,$H185<'관리자 Setting'!$Q$15),$H185-'관리자 Setting'!$P$15,IF(AND($G185<'관리자 Setting'!$P$15,$H185>='관리자 Setting'!$Q$15),'관리자 Setting'!$R$15,IF(AND($G185>='관리자 Setting'!$P$15,$H185>='관리자 Setting'!$Q$15),'관리자 Setting'!$Q$15-$G185,IF(AND($G185>='관리자 Setting'!$P$15,$H185<'관리자 Setting'!$Q$15),$H185-$G185,IF($G185>='관리자 Setting'!$Q$15,0,0))))))","v":"00:00:00"},"",{"$f":"IFERROR(VLOOKUP($F185,'관리자 Setting'!$P$18:$Q$33,2,0)/24,\"\")","v":""}]
["","",{"$f":"IFERROR(DATE(LEFT('In-Put'!$B186,4),MID('In-Put'!$B186,5,2),RIGHT('In-Put'!$B186,2)),\"\")","v":""},{"$f":"IF($C186=\"\",\"\",COUNTIFS($C$2:$C$401,C186)-COUNTIFS($C$2:C186,C186))","v":""},{"$f":"IF($C186=\"\",\"\",COUNTIFS('관리자 Setting'!$P$18:$P$33,'설정_In-Put'!$F186))","v":""},{"$f":"'In-Put'!G186","v":0},{"$f":"IFERROR(IF('In-Put'!D186*1=0,\"\",'In-Put'!D186*1),\"\")","v":""},{"$f":"IFERROR(IF('In-Put'!E186*1=0,\"\",IF('In-Put'!E186*1<G186,'In-Put'!E186*1+1,'In-Put'!E186*1)),\"\")","v":""},{"$f":"IF(OR($H186<'관리자 Setting'!$P$14,$G186>='관리자 Setting'!$Q$14),0,IF(AND($G186<'관리자 Setting'!$P$14,$H186<'관리자 Setting'!$Q$14),$H186-'관리자 Setting'!$P$14,IF(AND($G186<'관리자 Setting'!$P$14,$H186>='관리자 Setting'!$Q$14),'관리자 Setting'!$R$14,IF(AND($G186>='관리자 Setting'!$P$14,$H186>='관리자 Setting'!$Q$14),'관리자 Setting'!$Q$14-$G186,IF(AND($G186>='관리자 Setting'!$P$14,$H186<'관리자 Setting'!$Q$14),$H186-$G186,IF($G186>='관리자 Setting'!$Q$14,0,0))))))","v":"00:00:00"},{"$f":"IF(OR($H186<'관리자 Setting'!$P$15,$G186>='관리자 Setting'!$Q$15),0,IF(AND($G186<'관리자 Setting'!$P$15,$H186<'관리자 Setting'!$Q$15),$H186-'관리자 Setting'!$P$15,IF(AND($G186<'관리자 Setting'!$P$15,$H186>='관리자 Setting'!$Q$15),'관리자 Setting'!$R$15,IF(AND($G186>='관리자 Setting'!$P$15,$H186>='관리자 Setting'!$Q$15),'관리자 Setting'!$Q$15-$G186,IF(AND($G186>='관리자 Setting'!$P$15,$H186<'관리자 Setting'!$Q$15),$H186-$G186,IF($G186>='관리자 Setting'!$Q$15,0,0))))))","v":"00:00:00"},"",{"$f":"IFERROR(VLOOKUP($F186,'관리자 Setting'!$P$18:$Q$33,2,0)/24,\"\")","v":""}]
["","",{"$f":"IFERROR(DATE(LEFT('In-Put'!$B187,4),MID('In-Put'!$B187,5,2),RIGHT('In-Put'!$B187,2)),\"\")","v":""},{"$f":"IF($C187=\"\",\"\",COUNTIFS($C$2:$C$401,C187)-COUNTIFS($C$2:C187,C187))","v":""},{"$f":"IF($C187=\"\",\"\",COUNTIFS('관리자 Setting'!$P$18:$P$33,'설정_In-Put'!$F187))","v":""},{"$f":"'In-Put'!G187","v":0},{"$f":"IFERROR(IF('In-Put'!D187*1=0,\"\",'In-Put'!D187*1),\"\")","v":""},{"$f":"IFERROR(IF('In-Put'!E187*1=0,\"\",IF('In-Put'!E187*1<G187,'In-Put'!E187*1+1,'In-Put'!E187*1)),\"\")","v":""},{"$f":"IF(OR($H187<'관리자 Setting'!$P$14,$G187>='관리자 Setting'!$Q$14),0,IF(AND($G187<'관리자 Setting'!$P$14,$H187<'관리자 Setting'!$Q$14),$H187-'관리자 Setting'!$P$14,IF(AND($G187<'관리자 Setting'!$P$14,$H187>='관리자 Setting'!$Q$14),'관리자 Setting'!$R$14,IF(AND($G187>='관리자 Setting'!$P$14,$H187>='관리자 Setting'!$Q$14),'관리자 Setting'!$Q$14-$G187,IF(AND($G187>='관리자 Setting'!$P$14,$H187<'관리자 Setting'!$Q$14),$H187-$G187,IF($G187>='관리자 Setting'!$Q$14,0,0))))))","v":"00:00:00"},{"$f":"IF(OR($H187<'관리자 Setting'!$P$15,$G187>='관리자 Setting'!$Q$15),0,IF(AND($G187<'관리자 Setting'!$P$15,$H187<'관리자 Setting'!$Q$15),$H187-'관리자 Setting'!$P$15,IF(AND($G187<'관리자 Setting'!$P$15,$H187>='관리자 Setting'!$Q$15),'관리자 Setting'!$R$15,IF(AND($G187>='관리자 Setting'!$P$15,$H187>='관리자 Setting'!$Q$15),'관리자 Setting'!$Q$15-$G187,IF(AND($G187>='관리자 Setting'!$P$15,$H187<'관리자 Setting'!$Q$15),$H187-$G187,IF($G187>='관리자 Setting'!$Q$15,0,0))))))","v":"00:00:00"},"",{"$f":"IFERROR(VLOOKUP($F187,'관리자 Setting'!$P$18:$Q$33,2,0)/24,\"\")","v":""}]
["","",{"$f":"IFERROR(DATE(LEFT('In-Put'!$B188,4),MID('In-Put'!$B188,5,2),RIGHT('In-Put'!$B188,2)),\"\")","v":""},{"$f":"IF($C188=\"\",\"\",COUNTIFS($C$2:$C$401,C188)-COUNTIFS($C$2:C188,C188))","v":""},{"$f":"IF($C188=\"\",\"\",COUNTIFS('관리자 Setting'!$P$18:$P$33,'설정_In-Put'!$F188))","v":""},{"$f":"'In-Put'!G188","v":0},{"$f":"IFERROR(IF('In-Put'!D188*1=0,\"\",'In-Put'!D188*1),\"\")","v":""},{"$f":"IFERROR(IF('In-Put'!E188*1=0,\"\",IF('In-Put'!E188*1<G188,'In-Put'!E188*1+1,'In-Put'!E188*1)),\"\")","v":""},{"$f":"IF(OR($H188<'관리자 Setting'!$P$14,$G188>='관리자 Setting'!$Q$14),0,IF(AND($G188<'관리자 Setting'!$P$14,$H188<'관리자 Setting'!$Q$14),$H188-'관리자 Setting'!$P$14,IF(AND($G188<'관리자 Setting'!$P$14,$H188>='관리자 Setting'!$Q$14),'관리자 Setting'!$R$14,IF(AND($G188>='관리자 Setting'!$P$14,$H188>='관리자 Setting'!$Q$14),'관리자 Setting'!$Q$14-$G188,IF(AND($G188>='관리자 Setting'!$P$14,$H188<'관리자 Setting'!$Q$14),$H188-$G188,IF($G188>='관리자 Setting'!$Q$14,0,0))))))","v":"00:00:00"},{"$f":"IF(OR($H188<'관리자 Setting'!$P$15,$G188>='관리자 Setting'!$Q$15),0,IF(AND($G188<'관리자 Setting'!$P$15,$H188<'관리자 Setting'!$Q$15),$H188-'관리자 Setting'!$P$15,IF(AND($G188<'관리자 Setting'!$P$15,$H188>='관리자 Setting'!$Q$15),'관리자 Setting'!$R$15,IF(AND($G188>='관리자 Setting'!$P$15,$H188>='관리자 Setting'!$Q$15),'관리자 Setting'!$Q$15-$G188,IF(AND($G188>='관리자 Setting'!$P$15,$H188<'관리자 Setting'!$Q$15),$H188-$G188,IF($G188>='관리자 Setting'!$Q$15,0,0))))))","v":"00:00:00"},"",{"$f":"IFERROR(VLOOKUP($F188,'관리자 Setting'!$P$18:$Q$33,2,0)/24,\"\")","v":""}]
["","",{"$f":"IFERROR(DATE(LEFT('In-Put'!$B189,4),MID('In-Put'!$B189,5,2),RIGHT('In-Put'!$B189,2)),\"\")","v":""},{"$f":"IF($C189=\"\",\"\",COUNTIFS($C$2:$C$401,C189)-COUNTIFS($C$2:C189,C189))","v":""},{"$f":"IF($C189=\"\",\"\",COUNTIFS('관리자 Setting'!$P$18:$P$33,'설정_In-Put'!$F189))","v":""},{"$f":"'In-Put'!G189","v":0},{"$f":"IFERROR(IF('In-Put'!D189*1=0,\"\",'In-Put'!D189*1),\"\")","v":""},{"$f":"IFERROR(IF('In-Put'!E189*1=0,\"\",IF('In-Put'!E189*1<G189,'In-Put'!E189*1+1,'In-Put'!E189*1)),\"\")","v":""},{"$f":"IF(OR($H189<'관리자 Setting'!$P$14,$G189>='관리자 Setting'!$Q$14),0,IF(AND($G189<'관리자 Setting'!$P$14,$H189<'관리자 Setting'!$Q$14),$H189-'관리자 Setting'!$P$14,IF(AND($G189<'관리자 Setting'!$P$14,$H189>='관리자 Setting'!$Q$14),'관리자 Setting'!$R$14,IF(AND($G189>='관리자 Setting'!$P$14,$H189>='관리자 Setting'!$Q$14),'관리자 Setting'!$Q$14-$G189,IF(AND($G189>='관리자 Setting'!$P$14,$H189<'관리자 Setting'!$Q$14),$H189-$G189,IF($G189>='관리자 Setting'!$Q$14,0,0))))))","v":"00:00:00"},{"$f":"IF(OR($H189<'관리자 Setting'!$P$15,$G189>='관리자 Setting'!$Q$15),0,IF(AND($G189<'관리자 Setting'!$P$15,$H189<'관리자 Setting'!$Q$15),$H189-'관리자 Setting'!$P$15,IF(AND($G189<'관리자 Setting'!$P$15,$H189>='관리자 Setting'!$Q$15),'관리자 Setting'!$R$15,IF(AND($G189>='관리자 Setting'!$P$15,$H189>='관리자 Setting'!$Q$15),'관리자 Setting'!$Q$15-$G189,IF(AND($G189>='관리자 Setting'!$P$15,$H189<'관리자 Setting'!$Q$15),$H189-$G189,IF($G189>='관리자 Setting'!$Q$15,0,0))))))","v":"00:00:00"},"",{"$f":"IFERROR(VLOOKUP($F189,'관리자 Setting'!$P$18:$Q$33,2,0)/24,\"\")","v":""}]
["","",{"$f":"IFERROR(DATE(LEFT('In-Put'!$B190,4),MID('In-Put'!$B190,5,2),RIGHT('In-Put'!$B190,2)),\"\")","v":""},{"$f":"IF($C190=\"\",\"\",COUNTIFS($C$2:$C$401,C190)-COUNTIFS($C$2:C190,C190))","v":""},{"$f":"IF($C190=\"\",\"\",COUNTIFS('관리자 Setting'!$P$18:$P$33,'설정_In-Put'!$F190))","v":""},{"$f":"'In-Put'!G190","v":0},{"$f":"IFERROR(IF('In-Put'!D190*1=0,\"\",'In-Put'!D190*1),\"\")","v":""},{"$f":"IFERROR(IF('In-Put'!E190*1=0,\"\",IF('In-Put'!E190*1<G190,'In-Put'!E190*1+1,'In-Put'!E190*1)),\"\")","v":""},{"$f":"IF(OR($H190<'관리자 Setting'!$P$14,$G190>='관리자 Setting'!$Q$14),0,IF(AND($G190<'관리자 Setting'!$P$14,$H190<'관리자 Setting'!$Q$14),$H190-'관리자 Setting'!$P$14,IF(AND($G190<'관리자 Setting'!$P$14,$H190>='관리자 Setting'!$Q$14),'관리자 Setting'!$R$14,IF(AND($G190>='관리자 Setting'!$P$14,$H190>='관리자 Setting'!$Q$14),'관리자 Setting'!$Q$14-$G190,IF(AND($G190>='관리자 Setting'!$P$14,$H190<'관리자 Setting'!$Q$14),$H190-$G190,IF($G190>='관리자 Setting'!$Q$14,0,0))))))","v":"00:00:00"},{"$f":"IF(OR($H190<'관리자 Setting'!$P$15,$G190>='관리자 Setting'!$Q$15),0,IF(AND($G190<'관리자 Setting'!$P$15,$H190<'관리자 Setting'!$Q$15),$H190-'관리자 Setting'!$P$15,IF(AND($G190<'관리자 Setting'!$P$15,$H190>='관리자 Setting'!$Q$15),'관리자 Setting'!$R$15,IF(AND($G190>='관리자 Setting'!$P$15,$H190>='관리자 Setting'!$Q$15),'관리자 Setting'!$Q$15-$G190,IF(AND($G190>='관리자 Setting'!$P$15,$H190<'관리자 Setting'!$Q$15),$H190-$G190,IF($G190>='관리자 Setting'!$Q$15,0,0))))))","v":"00:00:00"},"",{"$f":"IFERROR(VLOOKUP($F190,'관리자 Setting'!$P$18:$Q$33,2,0)/24,\"\")","v":""}]
["","",{"$f":"IFERROR(DATE(LEFT('In-Put'!$B191,4),MID('In-Put'!$B191,5,2),RIGHT('In-Put'!$B191,2)),\"\")","v":""},{"$f":"IF($C191=\"\",\"\",COUNTIFS($C$2:$C$401,C191)-COUNTIFS($C$2:C191,C191))","v":""},{"$f":"IF($C191=\"\",\"\",COUNTIFS('관리자 Setting'!$P$18:$P$33,'설정_In-Put'!$F191))","v":""},{"$f":"'In-Put'!G191","v":0},{"$f":"IFERROR(IF('In-Put'!D191*1=0,\"\",'In-Put'!D191*1),\"\")","v":""},{"$f":"IFERROR(IF('In-Put'!E191*1=0,\"\",IF('In-Put'!E191*1<G191,'In-Put'!E191*1+1,'In-Put'!E191*1)),\"\")","v":""},{"$f":"IF(OR($H191<'관리자 Setting'!$P$14,$G191>='관리자 Setting'!$Q$14),0,IF(AND($G191<'관리자 Setting'!$P$14,$H191<'관리자 Setting'!$Q$14),$H191-'관리자 Setting'!$P$14,IF(AND($G191<'관리자 Setting'!$P$14,$H191>='관리자 Setting'!$Q$14),'관리자 Setting'!$R$14,IF(AND($G191>='관리자 Setting'!$P$14,$H191>='관리자 Setting'!$Q$14),'관리자 Setting'!$Q$14-$G191,IF(AND($G191>='관리자 Setting'!$P$14,$H191<'관리자 Setting'!$Q$14),$H191-$G191,IF($G191>='관리자 Setting'!$Q$14,0,0))))))","v":"00:00:00"},{"$f":"IF(OR($H191<'관리자 Setting'!$P$15,$G191>='관리자 Setting'!$Q$15),0,IF(AND($G191<'관리자 Setting'!$P$15,$H191<'관리자 Setting'!$Q$15),$H191-'관리자 Setting'!$P$15,IF(AND($G191<'관리자 Setting'!$P$15,$H191>='관리자 Setting'!$Q$15),'관리자 Setting'!$R$15,IF(AND($G191>='관리자 Setting'!$P$15,$H191>='관리자 Setting'!$Q$15),'관리자 Setting'!$Q$15-$G191,IF(AND($G191>='관리자 Setting'!$P$15,$H191<'관리자 Setting'!$Q$15),$H191-$G191,IF($G191>='관리자 Setting'!$Q$15,0,0))))))","v":"00:00:00"},"",{"$f":"IFERROR(VLOOKUP($F191,'관리자 Setting'!$P$18:$Q$33,2,0)/24,\"\")","v":""}]
["","",{"$f":"IFERROR(DATE(LEFT('In-Put'!$B192,4),MID('In-Put'!$B192,5,2),RIGHT('In-Put'!$B192,2)),\"\")","v":""},{"$f":"IF($C192=\"\",\"\",COUNTIFS($C$2:$C$401,C192)-COUNTIFS($C$2:C192,C192))","v":""},{"$f":"IF($C192=\"\",\"\",COUNTIFS('관리자 Setting'!$P$18:$P$33,'설정_In-Put'!$F192))","v":""},{"$f":"'In-Put'!G192","v":0},{"$f":"IFERROR(IF('In-Put'!D192*1=0,\"\",'In-Put'!D192*1),\"\")","v":""},{"$f":"IFERROR(IF('In-Put'!E192*1=0,\"\",IF('In-Put'!E192*1<G192,'In-Put'!E192*1+1,'In-Put'!E192*1)),\"\")","v":""},{"$f":"IF(OR($H192<'관리자 Setting'!$P$14,$G192>='관리자 Setting'!$Q$14),0,IF(AND($G192<'관리자 Setting'!$P$14,$H192<'관리자 Setting'!$Q$14),$H192-'관리자 Setting'!$P$14,IF(AND($G192<'관리자 Setting'!$P$14,$H192>='관리자 Setting'!$Q$14),'관리자 Setting'!$R$14,IF(AND($G192>='관리자 Setting'!$P$14,$H192>='관리자 Setting'!$Q$14),'관리자 Setting'!$Q$14-$G192,IF(AND($G192>='관리자 Setting'!$P$14,$H192<'관리자 Setting'!$Q$14),$H192-$G192,IF($G192>='관리자 Setting'!$Q$14,0,0))))))","v":"00:00:00"},{"$f":"IF(OR($H192<'관리자 Setting'!$P$15,$G192>='관리자 Setting'!$Q$15),0,IF(AND($G192<'관리자 Setting'!$P$15,$H192<'관리자 Setting'!$Q$15),$H192-'관리자 Setting'!$P$15,IF(AND($G192<'관리자 Setting'!$P$15,$H192>='관리자 Setting'!$Q$15),'관리자 Setting'!$R$15,IF(AND($G192>='관리자 Setting'!$P$15,$H192>='관리자 Setting'!$Q$15),'관리자 Setting'!$Q$15-$G192,IF(AND($G192>='관리자 Setting'!$P$15,$H192<'관리자 Setting'!$Q$15),$H192-$G192,IF($G192>='관리자 Setting'!$Q$15,0,0))))))","v":"00:00:00"},"",{"$f":"IFERROR(VLOOKUP($F192,'관리자 Setting'!$P$18:$Q$33,2,0)/24,\"\")","v":""}]
["","",{"$f":"IFERROR(DATE(LEFT('In-Put'!$B193,4),MID('In-Put'!$B193,5,2),RIGHT('In-Put'!$B193,2)),\"\")","v":""},{"$f":"IF($C193=\"\",\"\",COUNTIFS($C$2:$C$401,C193)-COUNTIFS($C$2:C193,C193))","v":""},{"$f":"IF($C193=\"\",\"\",COUNTIFS('관리자 Setting'!$P$18:$P$33,'설정_In-Put'!$F193))","v":""},{"$f":"'In-Put'!G193","v":0},{"$f":"IFERROR(IF('In-Put'!D193*1=0,\"\",'In-Put'!D193*1),\"\")","v":""},{"$f":"IFERROR(IF('In-Put'!E193*1=0,\"\",IF('In-Put'!E193*1<G193,'In-Put'!E193*1+1,'In-Put'!E193*1)),\"\")","v":""},{"$f":"IF(OR($H193<'관리자 Setting'!$P$14,$G193>='관리자 Setting'!$Q$14),0,IF(AND($G193<'관리자 Setting'!$P$14,$H193<'관리자 Setting'!$Q$14),$H193-'관리자 Setting'!$P$14,IF(AND($G193<'관리자 Setting'!$P$14,$H193>='관리자 Setting'!$Q$14),'관리자 Setting'!$R$14,IF(AND($G193>='관리자 Setting'!$P$14,$H193>='관리자 Setting'!$Q$14),'관리자 Setting'!$Q$14-$G193,IF(AND($G193>='관리자 Setting'!$P$14,$H193<'관리자 Setting'!$Q$14),$H193-$G193,IF($G193>='관리자 Setting'!$Q$14,0,0))))))","v":"00:00:00"},{"$f":"IF(OR($H193<'관리자 Setting'!$P$15,$G193>='관리자 Setting'!$Q$15),0,IF(AND($G193<'관리자 Setting'!$P$15,$H193<'관리자 Setting'!$Q$15),$H193-'관리자 Setting'!$P$15,IF(AND($G193<'관리자 Setting'!$P$15,$H193>='관리자 Setting'!$Q$15),'관리자 Setting'!$R$15,IF(AND($G193>='관리자 Setting'!$P$15,$H193>='관리자 Setting'!$Q$15),'관리자 Setting'!$Q$15-$G193,IF(AND($G193>='관리자 Setting'!$P$15,$H193<'관리자 Setting'!$Q$15),$H193-$G193,IF($G193>='관리자 Setting'!$Q$15,0,0))))))","v":"00:00:00"},"",{"$f":"IFERROR(VLOOKUP($F193,'관리자 Setting'!$P$18:$Q$33,2,0)/24,\"\")","v":""}]
["","",{"$f":"IFERROR(DATE(LEFT('In-Put'!$B194,4),MID('In-Put'!$B194,5,2),RIGHT('In-Put'!$B194,2)),\"\")","v":""},{"$f":"IF($C194=\"\",\"\",COUNTIFS($C$2:$C$401,C194)-COUNTIFS($C$2:C194,C194))","v":""},{"$f":"IF($C194=\"\",\"\",COUNTIFS('관리자 Setting'!$P$18:$P$33,'설정_In-Put'!$F194))","v":""},{"$f":"'In-Put'!G194","v":0},{"$f":"IFERROR(IF('In-Put'!D194*1=0,\"\",'In-Put'!D194*1),\"\")","v":""},{"$f":"IFERROR(IF('In-Put'!E194*1=0,\"\",IF('In-Put'!E194*1<G194,'In-Put'!E194*1+1,'In-Put'!E194*1)),\"\")","v":""},{"$f":"IF(OR($H194<'관리자 Setting'!$P$14,$G194>='관리자 Setting'!$Q$14),0,IF(AND($G194<'관리자 Setting'!$P$14,$H194<'관리자 Setting'!$Q$14),$H194-'관리자 Setting'!$P$14,IF(AND($G194<'관리자 Setting'!$P$14,$H194>='관리자 Setting'!$Q$14),'관리자 Setting'!$R$14,IF(AND($G194>='관리자 Setting'!$P$14,$H194>='관리자 Setting'!$Q$14),'관리자 Setting'!$Q$14-$G194,IF(AND($G194>='관리자 Setting'!$P$14,$H194<'관리자 Setting'!$Q$14),$H194-$G194,IF($G194>='관리자 Setting'!$Q$14,0,0))))))","v":"00:00:00"},{"$f":"IF(OR($H194<'관리자 Setting'!$P$15,$G194>='관리자 Setting'!$Q$15),0,IF(AND($G194<'관리자 Setting'!$P$15,$H194<'관리자 Setting'!$Q$15),$H194-'관리자 Setting'!$P$15,IF(AND($G194<'관리자 Setting'!$P$15,$H194>='관리자 Setting'!$Q$15),'관리자 Setting'!$R$15,IF(AND($G194>='관리자 Setting'!$P$15,$H194>='관리자 Setting'!$Q$15),'관리자 Setting'!$Q$15-$G194,IF(AND($G194>='관리자 Setting'!$P$15,$H194<'관리자 Setting'!$Q$15),$H194-$G194,IF($G194>='관리자 Setting'!$Q$15,0,0))))))","v":"00:00:00"},{"$f":"IF(OR(G194=\"\",H194=\"\"),\"\",H194-G194-SUM(I194:J194))","v":""},{"$f":"IFERROR(VLOOKUP($F194,'관리자 Setting'!$P$18:$Q$33,2,0)/24,\"\")","v":""}]
[{"$f":"$C195&$D195","v":""},{"$f":"$C195&$E195","v":""},{"$f":"IFERROR(DATE(LEFT('In-Put'!$B195,4),MID('In-Put'!$B195,5,2),RIGHT('In-Put'!$B195,2)),\"\")","v":""},{"$f":"IF($C195=\"\",\"\",COUNTIFS($C$2:$C$401,C195)-COUNTIFS($C$2:C195,C195))","v":""},{"$f":"IF($C195=\"\",\"\",COUNTIFS('관리자 Setting'!$P$18:$P$33,'설정_In-Put'!$F195))","v":""},{"$f":"'In-Put'!G195","v":0},{"$f":"IFERROR(IF('In-Put'!D195*1=0,\"\",'In-Put'!D195*1),\"\")","v":""},{"$f":"IFERROR(IF('In-Put'!E195*1=0,\"\",IF('In-Put'!E195*1<G195,'In-Put'!E195*1+1,'In-Put'!E195*1)),\"\")","v":""},{"$f":"IF(OR($H195<'관리자 Setting'!$P$14,$G195>='관리자 Setting'!$Q$14),0,IF(AND($G195<'관리자 Setting'!$P$14,$H195<'관리자 Setting'!$Q$14),$H195-'관리자 Setting'!$P$14,IF(AND($G195<'관리자 Setting'!$P$14,$H195>='관리자 Setting'!$Q$14),'관리자 Setting'!$R$14,IF(AND($G195>='관리자 Setting'!$P$14,$H195>='관리자 Setting'!$Q$14),'관리자 Setting'!$Q$14-$G195,IF(AND($G195>='관리자 Setting'!$P$14,$H195<'관리자 Setting'!$Q$14),$H195-$G195,IF($G195>='관리자 Setting'!$Q$14,0,0))))))","v":"00:00:00"},{"$f":"IF(OR($H195<'관리자 Setting'!$P$15,$G195>='관리자 Setting'!$Q$15),0,IF(AND($G195<'관리자 Setting'!$P$15,$H195<'관리자 Setting'!$Q$15),$H195-'관리자 Setting'!$P$15,IF(AND($G195<'관리자 Setting'!$P$15,$H195>='관리자 Setting'!$Q$15),'관리자 Setting'!$R$15,IF(AND($G195>='관리자 Setting'!$P$15,$H195>='관리자 Setting'!$Q$15),'관리자 Setting'!$Q$15-$G195,IF(AND($G195>='관리자 Setting'!$P$15,$H195<'관리자 Setting'!$Q$15),$H195-$G195,IF($G195>='관리자 Setting'!$Q$15,0,0))))))","v":"00:00:00"},"",{"$f":"IFERROR(VLOOKUP($F195,'관리자 Setting'!$P$18:$Q$33,2,0)/24,\"\")","v":""}]
["","",{"$f":"IFERROR(DATE(LEFT('In-Put'!$B196,4),MID('In-Put'!$B196,5,2),RIGHT('In-Put'!$B196,2)),\"\")","v":""},{"$f":"IF($C196=\"\",\"\",COUNTIFS($C$2:$C$401,C196)-COUNTIFS($C$2:C196,C196))","v":""},{"$f":"IF($C196=\"\",\"\",COUNTIFS('관리자 Setting'!$P$18:$P$33,'설정_In-Put'!$F196))","v":""},{"$f":"'In-Put'!G196","v":0},{"$f":"IFERROR(IF('In-Put'!D196*1=0,\"\",'In-Put'!D196*1),\"\")","v":""},{"$f":"IFERROR(IF('In-Put'!E196*1=0,\"\",IF('In-Put'!E196*1<G196,'In-Put'!E196*1+1,'In-Put'!E196*1)),\"\")","v":""},{"$f":"IF(OR($H196<'관리자 Setting'!$P$14,$G196>='관리자 Setting'!$Q$14),0,IF(AND($G196<'관리자 Setting'!$P$14,$H196<'관리자 Setting'!$Q$14),$H196-'관리자 Setting'!$P$14,IF(AND($G196<'관리자 Setting'!$P$14,$H196>='관리자 Setting'!$Q$14),'관리자 Setting'!$R$14,IF(AND($G196>='관리자 Setting'!$P$14,$H196>='관리자 Setting'!$Q$14),'관리자 Setting'!$Q$14-$G196,IF(AND($G196>='관리자 Setting'!$P$14,$H196<'관리자 Setting'!$Q$14),$H196-$G196,IF($G196>='관리자 Setting'!$Q$14,0,0))))))","v":"00:00:00"},{"$f":"IF(OR($H196<'관리자 Setting'!$P$15,$G196>='관리자 Setting'!$Q$15),0,IF(AND($G196<'관리자 Setting'!$P$15,$H196<'관리자 Setting'!$Q$15),$H196-'관리자 Setting'!$P$15,IF(AND($G196<'관리자 Setting'!$P$15,$H196>='관리자 Setting'!$Q$15),'관리자 Setting'!$R$15,IF(AND($G196>='관리자 Setting'!$P$15,$H196>='관리자 Setting'!$Q$15),'관리자 Setting'!$Q$15-$G196,IF(AND($G196>='관리자 Setting'!$P$15,$H196<'관리자 Setting'!$Q$15),$H196-$G196,IF($G196>='관리자 Setting'!$Q$15,0,0))))))","v":"00:00:00"},"",{"$f":"IFERROR(VLOOKUP($F196,'관리자 Setting'!$P$18:$Q$33,2,0)/24,\"\")","v":""}]
["","",{"$f":"IFERROR(DATE(LEFT('In-Put'!$B197,4),MID('In-Put'!$B197,5,2),RIGHT('In-Put'!$B197,2)),\"\")","v":""},{"$f":"IF($C197=\"\",\"\",COUNTIFS($C$2:$C$401,C197)-COUNTIFS($C$2:C197,C197))","v":""},{"$f":"IF($C197=\"\",\"\",COUNTIFS('관리자 Setting'!$P$18:$P$33,'설정_In-Put'!$F197))","v":""},{"$f":"'In-Put'!G197","v":0},{"$f":"IFERROR(IF('In-Put'!D197*1=0,\"\",'In-Put'!D197*1),\"\")","v":""},{"$f":"IFERROR(IF('In-Put'!E197*1=0,\"\",IF('In-Put'!E197*1<G197,'In-Put'!E197*1+1,'In-Put'!E197*1)),\"\")","v":""},{"$f":"IF(OR($H197<'관리자 Setting'!$P$14,$G197>='관리자 Setting'!$Q$14),0,IF(AND($G197<'관리자 Setting'!$P$14,$H197<'관리자 Setting'!$Q$14),$H197-'관리자 Setting'!$P$14,IF(AND($G197<'관리자 Setting'!$P$14,$H197>='관리자 Setting'!$Q$14),'관리자 Setting'!$R$14,IF(AND($G197>='관리자 Setting'!$P$14,$H197>='관리자 Setting'!$Q$14),'관리자 Setting'!$Q$14-$G197,IF(AND($G197>='관리자 Setting'!$P$14,$H197<'관리자 Setting'!$Q$14),$H197-$G197,IF($G197>='관리자 Setting'!$Q$14,0,0))))))","v":"00:00:00"},{"$f":"IF(OR($H197<'관리자 Setting'!$P$15,$G197>='관리자 Setting'!$Q$15),0,IF(AND($G197<'관리자 Setting'!$P$15,$H197<'관리자 Setting'!$Q$15),$H197-'관리자 Setting'!$P$15,IF(AND($G197<'관리자 Setting'!$P$15,$H197>='관리자 Setting'!$Q$15),'관리자 Setting'!$R$15,IF(AND($G197>='관리자 Setting'!$P$15,$H197>='관리자 Setting'!$Q$15),'관리자 Setting'!$Q$15-$G197,IF(AND($G197>='관리자 Setting'!$P$15,$H197<'관리자 Setting'!$Q$15),$H197-$G197,IF($G197>='관리자 Setting'!$Q$15,0,0))))))","v":"00:00:00"},"",{"$f":"IFERROR(VLOOKUP($F197,'관리자 Setting'!$P$18:$Q$33,2,0)/24,\"\")","v":""}]
["","",{"$f":"IFERROR(DATE(LEFT('In-Put'!$B198,4),MID('In-Put'!$B198,5,2),RIGHT('In-Put'!$B198,2)),\"\")","v":""},{"$f":"IF($C198=\"\",\"\",COUNTIFS($C$2:$C$401,C198)-COUNTIFS($C$2:C198,C198))","v":""},{"$f":"IF($C198=\"\",\"\",COUNTIFS('관리자 Setting'!$P$18:$P$33,'설정_In-Put'!$F198))","v":""},{"$f":"'In-Put'!G198","v":0},{"$f":"IFERROR(IF('In-Put'!D198*1=0,\"\",'In-Put'!D198*1),\"\")","v":""},{"$f":"IFERROR(IF('In-Put'!E198*1=0,\"\",IF('In-Put'!E198*1<G198,'In-Put'!E198*1+1,'In-Put'!E198*1)),\"\")","v":""},{"$f":"IF(OR($H198<'관리자 Setting'!$P$14,$G198>='관리자 Setting'!$Q$14),0,IF(AND($G198<'관리자 Setting'!$P$14,$H198<'관리자 Setting'!$Q$14),$H198-'관리자 Setting'!$P$14,IF(AND($G198<'관리자 Setting'!$P$14,$H198>='관리자 Setting'!$Q$14),'관리자 Setting'!$R$14,IF(AND($G198>='관리자 Setting'!$P$14,$H198>='관리자 Setting'!$Q$14),'관리자 Setting'!$Q$14-$G198,IF(AND($G198>='관리자 Setting'!$P$14,$H198<'관리자 Setting'!$Q$14),$H198-$G198,IF($G198>='관리자 Setting'!$Q$14,0,0))))))","v":"00:00:00"},{"$f":"IF(OR($H198<'관리자 Setting'!$P$15,$G198>='관리자 Setting'!$Q$15),0,IF(AND($G198<'관리자 Setting'!$P$15,$H198<'관리자 Setting'!$Q$15),$H198-'관리자 Setting'!$P$15,IF(AND($G198<'관리자 Setting'!$P$15,$H198>='관리자 Setting'!$Q$15),'관리자 Setting'!$R$15,IF(AND($G198>='관리자 Setting'!$P$15,$H198>='관리자 Setting'!$Q$15),'관리자 Setting'!$Q$15-$G198,IF(AND($G198>='관리자 Setting'!$P$15,$H198<'관리자 Setting'!$Q$15),$H198-$G198,IF($G198>='관리자 Setting'!$Q$15,0,0))))))","v":"00:00:00"},"",{"$f":"IFERROR(VLOOKUP($F198,'관리자 Setting'!$P$18:$Q$33,2,0)/24,\"\")","v":""}]
["","",{"$f":"IFERROR(DATE(LEFT('In-Put'!$B199,4),MID('In-Put'!$B199,5,2),RIGHT('In-Put'!$B199,2)),\"\")","v":""},{"$f":"IF($C199=\"\",\"\",COUNTIFS($C$2:$C$401,C199)-COUNTIFS($C$2:C199,C199))","v":""},{"$f":"IF($C199=\"\",\"\",COUNTIFS('관리자 Setting'!$P$18:$P$33,'설정_In-Put'!$F199))","v":""},{"$f":"'In-Put'!G199","v":0},{"$f":"IFERROR(IF('In-Put'!D199*1=0,\"\",'In-Put'!D199*1),\"\")","v":""},{"$f":"IFERROR(IF('In-Put'!E199*1=0,\"\",IF('In-Put'!E199*1<G199,'In-Put'!E199*1+1,'In-Put'!E199*1)),\"\")","v":""},{"$f":"IF(OR($H199<'관리자 Setting'!$P$14,$G199>='관리자 Setting'!$Q$14),0,IF(AND($G199<'관리자 Setting'!$P$14,$H199<'관리자 Setting'!$Q$14),$H199-'관리자 Setting'!$P$14,IF(AND($G199<'관리자 Setting'!$P$14,$H199>='관리자 Setting'!$Q$14),'관리자 Setting'!$R$14,IF(AND($G199>='관리자 Setting'!$P$14,$H199>='관리자 Setting'!$Q$14),'관리자 Setting'!$Q$14-$G199,IF(AND($G199>='관리자 Setting'!$P$14,$H199<'관리자 Setting'!$Q$14),$H199-$G199,IF($G199>='관리자 Setting'!$Q$14,0,0))))))","v":"00:00:00"},{"$f":"IF(OR($H199<'관리자 Setting'!$P$15,$G199>='관리자 Setting'!$Q$15),0,IF(AND($G199<'관리자 Setting'!$P$15,$H199<'관리자 Setting'!$Q$15),$H199-'관리자 Setting'!$P$15,IF(AND($G199<'관리자 Setting'!$P$15,$H199>='관리자 Setting'!$Q$15),'관리자 Setting'!$R$15,IF(AND($G199>='관리자 Setting'!$P$15,$H199>='관리자 Setting'!$Q$15),'관리자 Setting'!$Q$15-$G199,IF(AND($G199>='관리자 Setting'!$P$15,$H199<'관리자 Setting'!$Q$15),$H199-$G199,IF($G199>='관리자 Setting'!$Q$15,0,0))))))","v":"00:00:00"},"",{"$f":"IFERROR(VLOOKUP($F199,'관리자 Setting'!$P$18:$Q$33,2,0)/24,\"\")","v":""}]
["","",{"$f":"IFERROR(DATE(LEFT('In-Put'!$B200,4),MID('In-Put'!$B200,5,2),RIGHT('In-Put'!$B200,2)),\"\")","v":""},{"$f":"IF($C200=\"\",\"\",COUNTIFS($C$2:$C$401,C200)-COUNTIFS($C$2:C200,C200))","v":""},{"$f":"IF($C200=\"\",\"\",COUNTIFS('관리자 Setting'!$P$18:$P$33,'설정_In-Put'!$F200))","v":""},{"$f":"'In-Put'!G200","v":0},{"$f":"IFERROR(IF('In-Put'!D200*1=0,\"\",'In-Put'!D200*1),\"\")","v":""},{"$f":"IFERROR(IF('In-Put'!E200*1=0,\"\",IF('In-Put'!E200*1<G200,'In-Put'!E200*1+1,'In-Put'!E200*1)),\"\")","v":""},{"$f":"IF(OR($H200<'관리자 Setting'!$P$14,$G200>='관리자 Setting'!$Q$14),0,IF(AND($G200<'관리자 Setting'!$P$14,$H200<'관리자 Setting'!$Q$14),$H200-'관리자 Setting'!$P$14,IF(AND($G200<'관리자 Setting'!$P$14,$H200>='관리자 Setting'!$Q$14),'관리자 Setting'!$R$14,IF(AND($G200>='관리자 Setting'!$P$14,$H200>='관리자 Setting'!$Q$14),'관리자 Setting'!$Q$14-$G200,IF(AND($G200>='관리자 Setting'!$P$14,$H200<'관리자 Setting'!$Q$14),$H200-$G200,IF($G200>='관리자 Setting'!$Q$14,0,0))))))","v":"00:00:00"},{"$f":"IF(OR($H200<'관리자 Setting'!$P$15,$G200>='관리자 Setting'!$Q$15),0,IF(AND($G200<'관리자 Setting'!$P$15,$H200<'관리자 Setting'!$Q$15),$H200-'관리자 Setting'!$P$15,IF(AND($G200<'관리자 Setting'!$P$15,$H200>='관리자 Setting'!$Q$15),'관리자 Setting'!$R$15,IF(AND($G200>='관리자 Setting'!$P$15,$H200>='관리자 Setting'!$Q$15),'관리자 Setting'!$Q$15-$G200,IF(AND($G200>='관리자 Setting'!$P$15,$H200<'관리자 Setting'!$Q$15),$H200-$G200,IF($G200>='관리자 Setting'!$Q$15,0,0))))))","v":"00:00:00"},"",{"$f":"IFERROR(VLOOKUP($F200,'관리자 Setting'!$P$18:$Q$33,2,0)/24,\"\")","v":""}]
["","",{"$f":"IFERROR(DATE(LEFT('In-Put'!$B201,4),MID('In-Put'!$B201,5,2),RIGHT('In-Put'!$B201,2)),\"\")","v":""},{"$f":"IF($C201=\"\",\"\",COUNTIFS($C$2:$C$401,C201)-COUNTIFS($C$2:C201,C201))","v":""},{"$f":"IF($C201=\"\",\"\",COUNTIFS('관리자 Setting'!$P$18:$P$33,'설정_In-Put'!$F201))","v":""},{"$f":"'In-Put'!G201","v":0},{"$f":"IFERROR(IF('In-Put'!D201*1=0,\"\",'In-Put'!D201*1),\"\")","v":""},{"$f":"IFERROR(IF('In-Put'!E201*1=0,\"\",IF('In-Put'!E201*1<G201,'In-Put'!E201*1+1,'In-Put'!E201*1)),\"\")","v":""},{"$f":"IF(OR($H201<'관리자 Setting'!$P$14,$G201>='관리자 Setting'!$Q$14),0,IF(AND($G201<'관리자 Setting'!$P$14,$H201<'관리자 Setting'!$Q$14),$H201-'관리자 Setting'!$P$14,IF(AND($G201<'관리자 Setting'!$P$14,$H201>='관리자 Setting'!$Q$14),'관리자 Setting'!$R$14,IF(AND($G201>='관리자 Setting'!$P$14,$H201>='관리자 Setting'!$Q$14),'관리자 Setting'!$Q$14-$G201,IF(AND($G201>='관리자 Setting'!$P$14,$H201<'관리자 Setting'!$Q$14),$H201-$G201,IF($G201>='관리자 Setting'!$Q$14,0,0))))))","v":"00:00:00"},{"$f":"IF(OR($H201<'관리자 Setting'!$P$15,$G201>='관리자 Setting'!$Q$15),0,IF(AND($G201<'관리자 Setting'!$P$15,$H201<'관리자 Setting'!$Q$15),$H201-'관리자 Setting'!$P$15,IF(AND($G201<'관리자 Setting'!$P$15,$H201>='관리자 Setting'!$Q$15),'관리자 Setting'!$R$15,IF(AND($G201>='관리자 Setting'!$P$15,$H201>='관리자 Setting'!$Q$15),'관리자 Setting'!$Q$15-$G201,IF(AND($G201>='관리자 Setting'!$P$15,$H201<'관리자 Setting'!$Q$15),$H201-$G201,IF($G201>='관리자 Setting'!$Q$15,0,0))))))","v":"00:00:00"},"",{"$f":"IFERROR(VLOOKUP($F201,'관리자 Setting'!$P$18:$Q$33,2,0)/24,\"\")","v":""}]
["","",{"$f":"IFERROR(DATE(LEFT('In-Put'!$B202,4),MID('In-Put'!$B202,5,2),RIGHT('In-Put'!$B202,2)),\"\")","v":""},{"$f":"IF($C202=\"\",\"\",COUNTIFS($C$2:$C$401,C202)-COUNTIFS($C$2:C202,C202))","v":""},{"$f":"IF($C202=\"\",\"\",COUNTIFS('관리자 Setting'!$P$18:$P$33,'설정_In-Put'!$F202))","v":""},{"$f":"'In-Put'!G202","v":0},{"$f":"IFERROR(IF('In-Put'!D202*1=0,\"\",'In-Put'!D202*1),\"\")","v":""},{"$f":"IFERROR(IF('In-Put'!E202*1=0,\"\",IF('In-Put'!E202*1<G202,'In-Put'!E202*1+1,'In-Put'!E202*1)),\"\")","v":""},{"$f":"IF(OR($H202<'관리자 Setting'!$P$14,$G202>='관리자 Setting'!$Q$14),0,IF(AND($G202<'관리자 Setting'!$P$14,$H202<'관리자 Setting'!$Q$14),$H202-'관리자 Setting'!$P$14,IF(AND($G202<'관리자 Setting'!$P$14,$H202>='관리자 Setting'!$Q$14),'관리자 Setting'!$R$14,IF(AND($G202>='관리자 Setting'!$P$14,$H202>='관리자 Setting'!$Q$14),'관리자 Setting'!$Q$14-$G202,IF(AND($G202>='관리자 Setting'!$P$14,$H202<'관리자 Setting'!$Q$14),$H202-$G202,IF($G202>='관리자 Setting'!$Q$14,0,0))))))","v":"00:00:00"},{"$f":"IF(OR($H202<'관리자 Setting'!$P$15,$G202>='관리자 Setting'!$Q$15),0,IF(AND($G202<'관리자 Setting'!$P$15,$H202<'관리자 Setting'!$Q$15),$H202-'관리자 Setting'!$P$15,IF(AND($G202<'관리자 Setting'!$P$15,$H202>='관리자 Setting'!$Q$15),'관리자 Setting'!$R$15,IF(AND($G202>='관리자 Setting'!$P$15,$H202>='관리자 Setting'!$Q$15),'관리자 Setting'!$Q$15-$G202,IF(AND($G202>='관리자 Setting'!$P$15,$H202<'관리자 Setting'!$Q$15),$H202-$G202,IF($G202>='관리자 Setting'!$Q$15,0,0))))))","v":"00:00:00"},"",{"$f":"IFERROR(VLOOKUP($F202,'관리자 Setting'!$P$18:$Q$33,2,0)/24,\"\")","v":""}]
["","",{"$f":"IFERROR(DATE(LEFT('In-Put'!$B203,4),MID('In-Put'!$B203,5,2),RIGHT('In-Put'!$B203,2)),\"\")","v":""},{"$f":"IF($C203=\"\",\"\",COUNTIFS($C$2:$C$401,C203)-COUNTIFS($C$2:C203,C203))","v":""},{"$f":"IF($C203=\"\",\"\",COUNTIFS('관리자 Setting'!$P$18:$P$33,'설정_In-Put'!$F203))","v":""},{"$f":"'In-Put'!G203","v":0},{"$f":"IFERROR(IF('In-Put'!D203*1=0,\"\",'In-Put'!D203*1),\"\")","v":""},{"$f":"IFERROR(IF('In-Put'!E203*1=0,\"\",IF('In-Put'!E203*1<G203,'In-Put'!E203*1+1,'In-Put'!E203*1)),\"\")","v":""},{"$f":"IF(OR($H203<'관리자 Setting'!$P$14,$G203>='관리자 Setting'!$Q$14),0,IF(AND($G203<'관리자 Setting'!$P$14,$H203<'관리자 Setting'!$Q$14),$H203-'관리자 Setting'!$P$14,IF(AND($G203<'관리자 Setting'!$P$14,$H203>='관리자 Setting'!$Q$14),'관리자 Setting'!$R$14,IF(AND($G203>='관리자 Setting'!$P$14,$H203>='관리자 Setting'!$Q$14),'관리자 Setting'!$Q$14-$G203,IF(AND($G203>='관리자 Setting'!$P$14,$H203<'관리자 Setting'!$Q$14),$H203-$G203,IF($G203>='관리자 Setting'!$Q$14,0,0))))))","v":"00:00:00"},{"$f":"IF(OR($H203<'관리자 Setting'!$P$15,$G203>='관리자 Setting'!$Q$15),0,IF(AND($G203<'관리자 Setting'!$P$15,$H203<'관리자 Setting'!$Q$15),$H203-'관리자 Setting'!$P$15,IF(AND($G203<'관리자 Setting'!$P$15,$H203>='관리자 Setting'!$Q$15),'관리자 Setting'!$R$15,IF(AND($G203>='관리자 Setting'!$P$15,$H203>='관리자 Setting'!$Q$15),'관리자 Setting'!$Q$15-$G203,IF(AND($G203>='관리자 Setting'!$P$15,$H203<'관리자 Setting'!$Q$15),$H203-$G203,IF($G203>='관리자 Setting'!$Q$15,0,0))))))","v":"00:00:00"},"",{"$f":"IFERROR(VLOOKUP($F203,'관리자 Setting'!$P$18:$Q$33,2,0)/24,\"\")","v":""}]
["","",{"$f":"IFERROR(DATE(LEFT('In-Put'!$B204,4),MID('In-Put'!$B204,5,2),RIGHT('In-Put'!$B204,2)),\"\")","v":""},{"$f":"IF($C204=\"\",\"\",COUNTIFS($C$2:$C$401,C204)-COUNTIFS($C$2:C204,C204))","v":""},{"$f":"IF($C204=\"\",\"\",COUNTIFS('관리자 Setting'!$P$18:$P$33,'설정_In-Put'!$F204))","v":""},{"$f":"'In-Put'!G204","v":0},{"$f":"IFERROR(IF('In-Put'!D204*1=0,\"\",'In-Put'!D204*1),\"\")","v":""},{"$f":"IFERROR(IF('In-Put'!E204*1=0,\"\",IF('In-Put'!E204*1<G204,'In-Put'!E204*1+1,'In-Put'!E204*1)),\"\")","v":""},{"$f":"IF(OR($H204<'관리자 Setting'!$P$14,$G204>='관리자 Setting'!$Q$14),0,IF(AND($G204<'관리자 Setting'!$P$14,$H204<'관리자 Setting'!$Q$14),$H204-'관리자 Setting'!$P$14,IF(AND($G204<'관리자 Setting'!$P$14,$H204>='관리자 Setting'!$Q$14),'관리자 Setting'!$R$14,IF(AND($G204>='관리자 Setting'!$P$14,$H204>='관리자 Setting'!$Q$14),'관리자 Setting'!$Q$14-$G204,IF(AND($G204>='관리자 Setting'!$P$14,$H204<'관리자 Setting'!$Q$14),$H204-$G204,IF($G204>='관리자 Setting'!$Q$14,0,0))))))","v":"00:00:00"},{"$f":"IF(OR($H204<'관리자 Setting'!$P$15,$G204>='관리자 Setting'!$Q$15),0,IF(AND($G204<'관리자 Setting'!$P$15,$H204<'관리자 Setting'!$Q$15),$H204-'관리자 Setting'!$P$15,IF(AND($G204<'관리자 Setting'!$P$15,$H204>='관리자 Setting'!$Q$15),'관리자 Setting'!$R$15,IF(AND($G204>='관리자 Setting'!$P$15,$H204>='관리자 Setting'!$Q$15),'관리자 Setting'!$Q$15-$G204,IF(AND($G204>='관리자 Setting'!$P$15,$H204<'관리자 Setting'!$Q$15),$H204-$G204,IF($G204>='관리자 Setting'!$Q$15,0,0))))))","v":"00:00:00"},"",{"$f":"IFERROR(VLOOKUP($F204,'관리자 Setting'!$P$18:$Q$33,2,0)/24,\"\")","v":""}]
["","",{"$f":"IFERROR(DATE(LEFT('In-Put'!$B205,4),MID('In-Put'!$B205,5,2),RIGHT('In-Put'!$B205,2)),\"\")","v":""},{"$f":"IF($C205=\"\",\"\",COUNTIFS($C$2:$C$401,C205)-COUNTIFS($C$2:C205,C205))","v":""},{"$f":"IF($C205=\"\",\"\",COUNTIFS('관리자 Setting'!$P$18:$P$33,'설정_In-Put'!$F205))","v":""},{"$f":"'In-Put'!G205","v":0},{"$f":"IFERROR(IF('In-Put'!D205*1=0,\"\",'In-Put'!D205*1),\"\")","v":""},{"$f":"IFERROR(IF('In-Put'!E205*1=0,\"\",IF('In-Put'!E205*1<G205,'In-Put'!E205*1+1,'In-Put'!E205*1)),\"\")","v":""},{"$f":"IF(OR($H205<'관리자 Setting'!$P$14,$G205>='관리자 Setting'!$Q$14),0,IF(AND($G205<'관리자 Setting'!$P$14,$H205<'관리자 Setting'!$Q$14),$H205-'관리자 Setting'!$P$14,IF(AND($G205<'관리자 Setting'!$P$14,$H205>='관리자 Setting'!$Q$14),'관리자 Setting'!$R$14,IF(AND($G205>='관리자 Setting'!$P$14,$H205>='관리자 Setting'!$Q$14),'관리자 Setting'!$Q$14-$G205,IF(AND($G205>='관리자 Setting'!$P$14,$H205<'관리자 Setting'!$Q$14),$H205-$G205,IF($G205>='관리자 Setting'!$Q$14,0,0))))))","v":"00:00:00"},{"$f":"IF(OR($H205<'관리자 Setting'!$P$15,$G205>='관리자 Setting'!$Q$15),0,IF(AND($G205<'관리자 Setting'!$P$15,$H205<'관리자 Setting'!$Q$15),$H205-'관리자 Setting'!$P$15,IF(AND($G205<'관리자 Setting'!$P$15,$H205>='관리자 Setting'!$Q$15),'관리자 Setting'!$R$15,IF(AND($G205>='관리자 Setting'!$P$15,$H205>='관리자 Setting'!$Q$15),'관리자 Setting'!$Q$15-$G205,IF(AND($G205>='관리자 Setting'!$P$15,$H205<'관리자 Setting'!$Q$15),$H205-$G205,IF($G205>='관리자 Setting'!$Q$15,0,0))))))","v":"00:00:00"},"",{"$f":"IFERROR(VLOOKUP($F205,'관리자 Setting'!$P$18:$Q$33,2,0)/24,\"\")","v":""}]
["","",{"$f":"IFERROR(DATE(LEFT('In-Put'!$B206,4),MID('In-Put'!$B206,5,2),RIGHT('In-Put'!$B206,2)),\"\")","v":""},{"$f":"IF($C206=\"\",\"\",COUNTIFS($C$2:$C$401,C206)-COUNTIFS($C$2:C206,C206))","v":""},{"$f":"IF($C206=\"\",\"\",COUNTIFS('관리자 Setting'!$P$18:$P$33,'설정_In-Put'!$F206))","v":""},{"$f":"'In-Put'!G206","v":0},{"$f":"IFERROR(IF('In-Put'!D206*1=0,\"\",'In-Put'!D206*1),\"\")","v":""},{"$f":"IFERROR(IF('In-Put'!E206*1=0,\"\",IF('In-Put'!E206*1<G206,'In-Put'!E206*1+1,'In-Put'!E206*1)),\"\")","v":""},{"$f":"IF(OR($H206<'관리자 Setting'!$P$14,$G206>='관리자 Setting'!$Q$14),0,IF(AND($G206<'관리자 Setting'!$P$14,$H206<'관리자 Setting'!$Q$14),$H206-'관리자 Setting'!$P$14,IF(AND($G206<'관리자 Setting'!$P$14,$H206>='관리자 Setting'!$Q$14),'관리자 Setting'!$R$14,IF(AND($G206>='관리자 Setting'!$P$14,$H206>='관리자 Setting'!$Q$14),'관리자 Setting'!$Q$14-$G206,IF(AND($G206>='관리자 Setting'!$P$14,$H206<'관리자 Setting'!$Q$14),$H206-$G206,IF($G206>='관리자 Setting'!$Q$14,0,0))))))","v":"00:00:00"},{"$f":"IF(OR($H206<'관리자 Setting'!$P$15,$G206>='관리자 Setting'!$Q$15),0,IF(AND($G206<'관리자 Setting'!$P$15,$H206<'관리자 Setting'!$Q$15),$H206-'관리자 Setting'!$P$15,IF(AND($G206<'관리자 Setting'!$P$15,$H206>='관리자 Setting'!$Q$15),'관리자 Setting'!$R$15,IF(AND($G206>='관리자 Setting'!$P$15,$H206>='관리자 Setting'!$Q$15),'관리자 Setting'!$Q$15-$G206,IF(AND($G206>='관리자 Setting'!$P$15,$H206<'관리자 Setting'!$Q$15),$H206-$G206,IF($G206>='관리자 Setting'!$Q$15,0,0))))))","v":"00:00:00"},"",{"$f":"IFERROR(VLOOKUP($F206,'관리자 Setting'!$P$18:$Q$33,2,0)/24,\"\")","v":""}]
["","",{"$f":"IFERROR(DATE(LEFT('In-Put'!$B207,4),MID('In-Put'!$B207,5,2),RIGHT('In-Put'!$B207,2)),\"\")","v":""},{"$f":"IF($C207=\"\",\"\",COUNTIFS($C$2:$C$401,C207)-COUNTIFS($C$2:C207,C207))","v":""},{"$f":"IF($C207=\"\",\"\",COUNTIFS('관리자 Setting'!$P$18:$P$33,'설정_In-Put'!$F207))","v":""},{"$f":"'In-Put'!G207","v":0},{"$f":"IFERROR(IF('In-Put'!D207*1=0,\"\",'In-Put'!D207*1),\"\")","v":""},{"$f":"IFERROR(IF('In-Put'!E207*1=0,\"\",IF('In-Put'!E207*1<G207,'In-Put'!E207*1+1,'In-Put'!E207*1)),\"\")","v":""},{"$f":"IF(OR($H207<'관리자 Setting'!$P$14,$G207>='관리자 Setting'!$Q$14),0,IF(AND($G207<'관리자 Setting'!$P$14,$H207<'관리자 Setting'!$Q$14),$H207-'관리자 Setting'!$P$14,IF(AND($G207<'관리자 Setting'!$P$14,$H207>='관리자 Setting'!$Q$14),'관리자 Setting'!$R$14,IF(AND($G207>='관리자 Setting'!$P$14,$H207>='관리자 Setting'!$Q$14),'관리자 Setting'!$Q$14-$G207,IF(AND($G207>='관리자 Setting'!$P$14,$H207<'관리자 Setting'!$Q$14),$H207-$G207,IF($G207>='관리자 Setting'!$Q$14,0,0))))))","v":"00:00:00"},{"$f":"IF(OR($H207<'관리자 Setting'!$P$15,$G207>='관리자 Setting'!$Q$15),0,IF(AND($G207<'관리자 Setting'!$P$15,$H207<'관리자 Setting'!$Q$15),$H207-'관리자 Setting'!$P$15,IF(AND($G207<'관리자 Setting'!$P$15,$H207>='관리자 Setting'!$Q$15),'관리자 Setting'!$R$15,IF(AND($G207>='관리자 Setting'!$P$15,$H207>='관리자 Setting'!$Q$15),'관리자 Setting'!$Q$15-$G207,IF(AND($G207>='관리자 Setting'!$P$15,$H207<'관리자 Setting'!$Q$15),$H207-$G207,IF($G207>='관리자 Setting'!$Q$15,0,0))))))","v":"00:00:00"},"",{"$f":"IFERROR(VLOOKUP($F207,'관리자 Setting'!$P$18:$Q$33,2,0)/24,\"\")","v":""}]
["","",{"$f":"IFERROR(DATE(LEFT('In-Put'!$B208,4),MID('In-Put'!$B208,5,2),RIGHT('In-Put'!$B208,2)),\"\")","v":""},{"$f":"IF($C208=\"\",\"\",COUNTIFS($C$2:$C$401,C208)-COUNTIFS($C$2:C208,C208))","v":""},{"$f":"IF($C208=\"\",\"\",COUNTIFS('관리자 Setting'!$P$18:$P$33,'설정_In-Put'!$F208))","v":""},{"$f":"'In-Put'!G208","v":0},{"$f":"IFERROR(IF('In-Put'!D208*1=0,\"\",'In-Put'!D208*1),\"\")","v":""},{"$f":"IFERROR(IF('In-Put'!E208*1=0,\"\",IF('In-Put'!E208*1<G208,'In-Put'!E208*1+1,'In-Put'!E208*1)),\"\")","v":""},{"$f":"IF(OR($H208<'관리자 Setting'!$P$14,$G208>='관리자 Setting'!$Q$14),0,IF(AND($G208<'관리자 Setting'!$P$14,$H208<'관리자 Setting'!$Q$14),$H208-'관리자 Setting'!$P$14,IF(AND($G208<'관리자 Setting'!$P$14,$H208>='관리자 Setting'!$Q$14),'관리자 Setting'!$R$14,IF(AND($G208>='관리자 Setting'!$P$14,$H208>='관리자 Setting'!$Q$14),'관리자 Setting'!$Q$14-$G208,IF(AND($G208>='관리자 Setting'!$P$14,$H208<'관리자 Setting'!$Q$14),$H208-$G208,IF($G208>='관리자 Setting'!$Q$14,0,0))))))","v":"00:00:00"},{"$f":"IF(OR($H208<'관리자 Setting'!$P$15,$G208>='관리자 Setting'!$Q$15),0,IF(AND($G208<'관리자 Setting'!$P$15,$H208<'관리자 Setting'!$Q$15),$H208-'관리자 Setting'!$P$15,IF(AND($G208<'관리자 Setting'!$P$15,$H208>='관리자 Setting'!$Q$15),'관리자 Setting'!$R$15,IF(AND($G208>='관리자 Setting'!$P$15,$H208>='관리자 Setting'!$Q$15),'관리자 Setting'!$Q$15-$G208,IF(AND($G208>='관리자 Setting'!$P$15,$H208<'관리자 Setting'!$Q$15),$H208-$G208,IF($G208>='관리자 Setting'!$Q$15,0,0))))))","v":"00:00:00"},"",{"$f":"IFERROR(VLOOKUP($F208,'관리자 Setting'!$P$18:$Q$33,2,0)/24,\"\")","v":""}]
["","",{"$f":"IFERROR(DATE(LEFT('In-Put'!$B209,4),MID('In-Put'!$B209,5,2),RIGHT('In-Put'!$B209,2)),\"\")","v":""},{"$f":"IF($C209=\"\",\"\",COUNTIFS($C$2:$C$401,C209)-COUNTIFS($C$2:C209,C209))","v":""},{"$f":"IF($C209=\"\",\"\",COUNTIFS('관리자 Setting'!$P$18:$P$33,'설정_In-Put'!$F209))","v":""},{"$f":"'In-Put'!G209","v":0},{"$f":"IFERROR(IF('In-Put'!D209*1=0,\"\",'In-Put'!D209*1),\"\")","v":""},{"$f":"IFERROR(IF('In-Put'!E209*1=0,\"\",IF('In-Put'!E209*1<G209,'In-Put'!E209*1+1,'In-Put'!E209*1)),\"\")","v":""},{"$f":"IF(OR($H209<'관리자 Setting'!$P$14,$G209>='관리자 Setting'!$Q$14),0,IF(AND($G209<'관리자 Setting'!$P$14,$H209<'관리자 Setting'!$Q$14),$H209-'관리자 Setting'!$P$14,IF(AND($G209<'관리자 Setting'!$P$14,$H209>='관리자 Setting'!$Q$14),'관리자 Setting'!$R$14,IF(AND($G209>='관리자 Setting'!$P$14,$H209>='관리자 Setting'!$Q$14),'관리자 Setting'!$Q$14-$G209,IF(AND($G209>='관리자 Setting'!$P$14,$H209<'관리자 Setting'!$Q$14),$H209-$G209,IF($G209>='관리자 Setting'!$Q$14,0,0))))))","v":"00:00:00"},{"$f":"IF(OR($H209<'관리자 Setting'!$P$15,$G209>='관리자 Setting'!$Q$15),0,IF(AND($G209<'관리자 Setting'!$P$15,$H209<'관리자 Setting'!$Q$15),$H209-'관리자 Setting'!$P$15,IF(AND($G209<'관리자 Setting'!$P$15,$H209>='관리자 Setting'!$Q$15),'관리자 Setting'!$R$15,IF(AND($G209>='관리자 Setting'!$P$15,$H209>='관리자 Setting'!$Q$15),'관리자 Setting'!$Q$15-$G209,IF(AND($G209>='관리자 Setting'!$P$15,$H209<'관리자 Setting'!$Q$15),$H209-$G209,IF($G209>='관리자 Setting'!$Q$15,0,0))))))","v":"00:00:00"},"",{"$f":"IFERROR(VLOOKUP($F209,'관리자 Setting'!$P$18:$Q$33,2,0)/24,\"\")","v":""}]
["","",{"$f":"IFERROR(DATE(LEFT('In-Put'!$B210,4),MID('In-Put'!$B210,5,2),RIGHT('In-Put'!$B210,2)),\"\")","v":""},{"$f":"IF($C210=\"\",\"\",COUNTIFS($C$2:$C$401,C210)-COUNTIFS($C$2:C210,C210))","v":""},{"$f":"IF($C210=\"\",\"\",COUNTIFS('관리자 Setting'!$P$18:$P$33,'설정_In-Put'!$F210))","v":""},{"$f":"'In-Put'!G210","v":0},{"$f":"IFERROR(IF('In-Put'!D210*1=0,\"\",'In-Put'!D210*1),\"\")","v":""},{"$f":"IFERROR(IF('In-Put'!E210*1=0,\"\",IF('In-Put'!E210*1<G210,'In-Put'!E210*1+1,'In-Put'!E210*1)),\"\")","v":""},{"$f":"IF(OR($H210<'관리자 Setting'!$P$14,$G210>='관리자 Setting'!$Q$14),0,IF(AND($G210<'관리자 Setting'!$P$14,$H210<'관리자 Setting'!$Q$14),$H210-'관리자 Setting'!$P$14,IF(AND($G210<'관리자 Setting'!$P$14,$H210>='관리자 Setting'!$Q$14),'관리자 Setting'!$R$14,IF(AND($G210>='관리자 Setting'!$P$14,$H210>='관리자 Setting'!$Q$14),'관리자 Setting'!$Q$14-$G210,IF(AND($G210>='관리자 Setting'!$P$14,$H210<'관리자 Setting'!$Q$14),$H210-$G210,IF($G210>='관리자 Setting'!$Q$14,0,0))))))","v":"00:00:00"},{"$f":"IF(OR($H210<'관리자 Setting'!$P$15,$G210>='관리자 Setting'!$Q$15),0,IF(AND($G210<'관리자 Setting'!$P$15,$H210<'관리자 Setting'!$Q$15),$H210-'관리자 Setting'!$P$15,IF(AND($G210<'관리자 Setting'!$P$15,$H210>='관리자 Setting'!$Q$15),'관리자 Setting'!$R$15,IF(AND($G210>='관리자 Setting'!$P$15,$H210>='관리자 Setting'!$Q$15),'관리자 Setting'!$Q$15-$G210,IF(AND($G210>='관리자 Setting'!$P$15,$H210<'관리자 Setting'!$Q$15),$H210-$G210,IF($G210>='관리자 Setting'!$Q$15,0,0))))))","v":"00:00:00"},"",{"$f":"IFERROR(VLOOKUP($F210,'관리자 Setting'!$P$18:$Q$33,2,0)/24,\"\")","v":""}]
["","",{"$f":"IFERROR(DATE(LEFT('In-Put'!$B211,4),MID('In-Put'!$B211,5,2),RIGHT('In-Put'!$B211,2)),\"\")","v":""},{"$f":"IF($C211=\"\",\"\",COUNTIFS($C$2:$C$401,C211)-COUNTIFS($C$2:C211,C211))","v":""},{"$f":"IF($C211=\"\",\"\",COUNTIFS('관리자 Setting'!$P$18:$P$33,'설정_In-Put'!$F211))","v":""},{"$f":"'In-Put'!G211","v":0},{"$f":"IFERROR(IF('In-Put'!D211*1=0,\"\",'In-Put'!D211*1),\"\")","v":""},{"$f":"IFERROR(IF('In-Put'!E211*1=0,\"\",IF('In-Put'!E211*1<G211,'In-Put'!E211*1+1,'In-Put'!E211*1)),\"\")","v":""},{"$f":"IF(OR($H211<'관리자 Setting'!$P$14,$G211>='관리자 Setting'!$Q$14),0,IF(AND($G211<'관리자 Setting'!$P$14,$H211<'관리자 Setting'!$Q$14),$H211-'관리자 Setting'!$P$14,IF(AND($G211<'관리자 Setting'!$P$14,$H211>='관리자 Setting'!$Q$14),'관리자 Setting'!$R$14,IF(AND($G211>='관리자 Setting'!$P$14,$H211>='관리자 Setting'!$Q$14),'관리자 Setting'!$Q$14-$G211,IF(AND($G211>='관리자 Setting'!$P$14,$H211<'관리자 Setting'!$Q$14),$H211-$G211,IF($G211>='관리자 Setting'!$Q$14,0,0))))))","v":"00:00:00"},{"$f":"IF(OR($H211<'관리자 Setting'!$P$15,$G211>='관리자 Setting'!$Q$15),0,IF(AND($G211<'관리자 Setting'!$P$15,$H211<'관리자 Setting'!$Q$15),$H211-'관리자 Setting'!$P$15,IF(AND($G211<'관리자 Setting'!$P$15,$H211>='관리자 Setting'!$Q$15),'관리자 Setting'!$R$15,IF(AND($G211>='관리자 Setting'!$P$15,$H211>='관리자 Setting'!$Q$15),'관리자 Setting'!$Q$15-$G211,IF(AND($G211>='관리자 Setting'!$P$15,$H211<'관리자 Setting'!$Q$15),$H211-$G211,IF($G211>='관리자 Setting'!$Q$15,0,0))))))","v":"00:00:00"},"",{"$f":"IFERROR(VLOOKUP($F211,'관리자 Setting'!$P$18:$Q$33,2,0)/24,\"\")","v":""}]
["","",{"$f":"IFERROR(DATE(LEFT('In-Put'!$B212,4),MID('In-Put'!$B212,5,2),RIGHT('In-Put'!$B212,2)),\"\")","v":""},{"$f":"IF($C212=\"\",\"\",COUNTIFS($C$2:$C$401,C212)-COUNTIFS($C$2:C212,C212))","v":""},{"$f":"IF($C212=\"\",\"\",COUNTIFS('관리자 Setting'!$P$18:$P$33,'설정_In-Put'!$F212))","v":""},{"$f":"'In-Put'!G212","v":0},{"$f":"IFERROR(IF('In-Put'!D212*1=0,\"\",'In-Put'!D212*1),\"\")","v":""},{"$f":"IFERROR(IF('In-Put'!E212*1=0,\"\",IF('In-Put'!E212*1<G212,'In-Put'!E212*1+1,'In-Put'!E212*1)),\"\")","v":""},{"$f":"IF(OR($H212<'관리자 Setting'!$P$14,$G212>='관리자 Setting'!$Q$14),0,IF(AND($G212<'관리자 Setting'!$P$14,$H212<'관리자 Setting'!$Q$14),$H212-'관리자 Setting'!$P$14,IF(AND($G212<'관리자 Setting'!$P$14,$H212>='관리자 Setting'!$Q$14),'관리자 Setting'!$R$14,IF(AND($G212>='관리자 Setting'!$P$14,$H212>='관리자 Setting'!$Q$14),'관리자 Setting'!$Q$14-$G212,IF(AND($G212>='관리자 Setting'!$P$14,$H212<'관리자 Setting'!$Q$14),$H212-$G212,IF($G212>='관리자 Setting'!$Q$14,0,0))))))","v":"00:00:00"},{"$f":"IF(OR($H212<'관리자 Setting'!$P$15,$G212>='관리자 Setting'!$Q$15),0,IF(AND($G212<'관리자 Setting'!$P$15,$H212<'관리자 Setting'!$Q$15),$H212-'관리자 Setting'!$P$15,IF(AND($G212<'관리자 Setting'!$P$15,$H212>='관리자 Setting'!$Q$15),'관리자 Setting'!$R$15,IF(AND($G212>='관리자 Setting'!$P$15,$H212>='관리자 Setting'!$Q$15),'관리자 Setting'!$Q$15-$G212,IF(AND($G212>='관리자 Setting'!$P$15,$H212<'관리자 Setting'!$Q$15),$H212-$G212,IF($G212>='관리자 Setting'!$Q$15,0,0))))))","v":"00:00:00"},"",{"$f":"IFERROR(VLOOKUP($F212,'관리자 Setting'!$P$18:$Q$33,2,0)/24,\"\")","v":""}]
["","",{"$f":"IFERROR(DATE(LEFT('In-Put'!$B213,4),MID('In-Put'!$B213,5,2),RIGHT('In-Put'!$B213,2)),\"\")","v":""},{"$f":"IF($C213=\"\",\"\",COUNTIFS($C$2:$C$401,C213)-COUNTIFS($C$2:C213,C213))","v":""},{"$f":"IF($C213=\"\",\"\",COUNTIFS('관리자 Setting'!$P$18:$P$33,'설정_In-Put'!$F213))","v":""},{"$f":"'In-Put'!G213","v":0},{"$f":"IFERROR(IF('In-Put'!D213*1=0,\"\",'In-Put'!D213*1),\"\")","v":""},{"$f":"IFERROR(IF('In-Put'!E213*1=0,\"\",IF('In-Put'!E213*1<G213,'In-Put'!E213*1+1,'In-Put'!E213*1)),\"\")","v":""},{"$f":"IF(OR($H213<'관리자 Setting'!$P$14,$G213>='관리자 Setting'!$Q$14),0,IF(AND($G213<'관리자 Setting'!$P$14,$H213<'관리자 Setting'!$Q$14),$H213-'관리자 Setting'!$P$14,IF(AND($G213<'관리자 Setting'!$P$14,$H213>='관리자 Setting'!$Q$14),'관리자 Setting'!$R$14,IF(AND($G213>='관리자 Setting'!$P$14,$H213>='관리자 Setting'!$Q$14),'관리자 Setting'!$Q$14-$G213,IF(AND($G213>='관리자 Setting'!$P$14,$H213<'관리자 Setting'!$Q$14),$H213-$G213,IF($G213>='관리자 Setting'!$Q$14,0,0))))))","v":"00:00:00"},{"$f":"IF(OR($H213<'관리자 Setting'!$P$15,$G213>='관리자 Setting'!$Q$15),0,IF(AND($G213<'관리자 Setting'!$P$15,$H213<'관리자 Setting'!$Q$15),$H213-'관리자 Setting'!$P$15,IF(AND($G213<'관리자 Setting'!$P$15,$H213>='관리자 Setting'!$Q$15),'관리자 Setting'!$R$15,IF(AND($G213>='관리자 Setting'!$P$15,$H213>='관리자 Setting'!$Q$15),'관리자 Setting'!$Q$15-$G213,IF(AND($G213>='관리자 Setting'!$P$15,$H213<'관리자 Setting'!$Q$15),$H213-$G213,IF($G213>='관리자 Setting'!$Q$15,0,0))))))","v":"00:00:00"},"",{"$f":"IFERROR(VLOOKUP($F213,'관리자 Setting'!$P$18:$Q$33,2,0)/24,\"\")","v":""}]
["","",{"$f":"IFERROR(DATE(LEFT('In-Put'!$B214,4),MID('In-Put'!$B214,5,2),RIGHT('In-Put'!$B214,2)),\"\")","v":""},{"$f":"IF($C214=\"\",\"\",COUNTIFS($C$2:$C$401,C214)-COUNTIFS($C$2:C214,C214))","v":""},{"$f":"IF($C214=\"\",\"\",COUNTIFS('관리자 Setting'!$P$18:$P$33,'설정_In-Put'!$F214))","v":""},{"$f":"'In-Put'!G214","v":0},{"$f":"IFERROR(IF('In-Put'!D214*1=0,\"\",'In-Put'!D214*1),\"\")","v":""},{"$f":"IFERROR(IF('In-Put'!E214*1=0,\"\",IF('In-Put'!E214*1<G214,'In-Put'!E214*1+1,'In-Put'!E214*1)),\"\")","v":""},{"$f":"IF(OR($H214<'관리자 Setting'!$P$14,$G214>='관리자 Setting'!$Q$14),0,IF(AND($G214<'관리자 Setting'!$P$14,$H214<'관리자 Setting'!$Q$14),$H214-'관리자 Setting'!$P$14,IF(AND($G214<'관리자 Setting'!$P$14,$H214>='관리자 Setting'!$Q$14),'관리자 Setting'!$R$14,IF(AND($G214>='관리자 Setting'!$P$14,$H214>='관리자 Setting'!$Q$14),'관리자 Setting'!$Q$14-$G214,IF(AND($G214>='관리자 Setting'!$P$14,$H214<'관리자 Setting'!$Q$14),$H214-$G214,IF($G214>='관리자 Setting'!$Q$14,0,0))))))","v":"00:00:00"},{"$f":"IF(OR($H214<'관리자 Setting'!$P$15,$G214>='관리자 Setting'!$Q$15),0,IF(AND($G214<'관리자 Setting'!$P$15,$H214<'관리자 Setting'!$Q$15),$H214-'관리자 Setting'!$P$15,IF(AND($G214<'관리자 Setting'!$P$15,$H214>='관리자 Setting'!$Q$15),'관리자 Setting'!$R$15,IF(AND($G214>='관리자 Setting'!$P$15,$H214>='관리자 Setting'!$Q$15),'관리자 Setting'!$Q$15-$G214,IF(AND($G214>='관리자 Setting'!$P$15,$H214<'관리자 Setting'!$Q$15),$H214-$G214,IF($G214>='관리자 Setting'!$Q$15,0,0))))))","v":"00:00:00"},"",{"$f":"IFERROR(VLOOKUP($F214,'관리자 Setting'!$P$18:$Q$33,2,0)/24,\"\")","v":""}]
["","",{"$f":"IFERROR(DATE(LEFT('In-Put'!$B215,4),MID('In-Put'!$B215,5,2),RIGHT('In-Put'!$B215,2)),\"\")","v":""},{"$f":"IF($C215=\"\",\"\",COUNTIFS($C$2:$C$401,C215)-COUNTIFS($C$2:C215,C215))","v":""},{"$f":"IF($C215=\"\",\"\",COUNTIFS('관리자 Setting'!$P$18:$P$33,'설정_In-Put'!$F215))","v":""},{"$f":"'In-Put'!G215","v":0},{"$f":"IFERROR(IF('In-Put'!D215*1=0,\"\",'In-Put'!D215*1),\"\")","v":""},{"$f":"IFERROR(IF('In-Put'!E215*1=0,\"\",IF('In-Put'!E215*1<G215,'In-Put'!E215*1+1,'In-Put'!E215*1)),\"\")","v":""},{"$f":"IF(OR($H215<'관리자 Setting'!$P$14,$G215>='관리자 Setting'!$Q$14),0,IF(AND($G215<'관리자 Setting'!$P$14,$H215<'관리자 Setting'!$Q$14),$H215-'관리자 Setting'!$P$14,IF(AND($G215<'관리자 Setting'!$P$14,$H215>='관리자 Setting'!$Q$14),'관리자 Setting'!$R$14,IF(AND($G215>='관리자 Setting'!$P$14,$H215>='관리자 Setting'!$Q$14),'관리자 Setting'!$Q$14-$G215,IF(AND($G215>='관리자 Setting'!$P$14,$H215<'관리자 Setting'!$Q$14),$H215-$G215,IF($G215>='관리자 Setting'!$Q$14,0,0))))))","v":"00:00:00"},{"$f":"IF(OR($H215<'관리자 Setting'!$P$15,$G215>='관리자 Setting'!$Q$15),0,IF(AND($G215<'관리자 Setting'!$P$15,$H215<'관리자 Setting'!$Q$15),$H215-'관리자 Setting'!$P$15,IF(AND($G215<'관리자 Setting'!$P$15,$H215>='관리자 Setting'!$Q$15),'관리자 Setting'!$R$15,IF(AND($G215>='관리자 Setting'!$P$15,$H215>='관리자 Setting'!$Q$15),'관리자 Setting'!$Q$15-$G215,IF(AND($G215>='관리자 Setting'!$P$15,$H215<'관리자 Setting'!$Q$15),$H215-$G215,IF($G215>='관리자 Setting'!$Q$15,0,0))))))","v":"00:00:00"},"",{"$f":"IFERROR(VLOOKUP($F215,'관리자 Setting'!$P$18:$Q$33,2,0)/24,\"\")","v":""}]
["","",{"$f":"IFERROR(DATE(LEFT('In-Put'!$B216,4),MID('In-Put'!$B216,5,2),RIGHT('In-Put'!$B216,2)),\"\")","v":""},{"$f":"IF($C216=\"\",\"\",COUNTIFS($C$2:$C$401,C216)-COUNTIFS($C$2:C216,C216))","v":""},{"$f":"IF($C216=\"\",\"\",COUNTIFS('관리자 Setting'!$P$18:$P$33,'설정_In-Put'!$F216))","v":""},{"$f":"'In-Put'!G216","v":0},{"$f":"IFERROR(IF('In-Put'!D216*1=0,\"\",'In-Put'!D216*1),\"\")","v":""},{"$f":"IFERROR(IF('In-Put'!E216*1=0,\"\",IF('In-Put'!E216*1<G216,'In-Put'!E216*1+1,'In-Put'!E216*1)),\"\")","v":""},{"$f":"IF(OR($H216<'관리자 Setting'!$P$14,$G216>='관리자 Setting'!$Q$14),0,IF(AND($G216<'관리자 Setting'!$P$14,$H216<'관리자 Setting'!$Q$14),$H216-'관리자 Setting'!$P$14,IF(AND($G216<'관리자 Setting'!$P$14,$H216>='관리자 Setting'!$Q$14),'관리자 Setting'!$R$14,IF(AND($G216>='관리자 Setting'!$P$14,$H216>='관리자 Setting'!$Q$14),'관리자 Setting'!$Q$14-$G216,IF(AND($G216>='관리자 Setting'!$P$14,$H216<'관리자 Setting'!$Q$14),$H216-$G216,IF($G216>='관리자 Setting'!$Q$14,0,0))))))","v":"00:00:00"},{"$f":"IF(OR($H216<'관리자 Setting'!$P$15,$G216>='관리자 Setting'!$Q$15),0,IF(AND($G216<'관리자 Setting'!$P$15,$H216<'관리자 Setting'!$Q$15),$H216-'관리자 Setting'!$P$15,IF(AND($G216<'관리자 Setting'!$P$15,$H216>='관리자 Setting'!$Q$15),'관리자 Setting'!$R$15,IF(AND($G216>='관리자 Setting'!$P$15,$H216>='관리자 Setting'!$Q$15),'관리자 Setting'!$Q$15-$G216,IF(AND($G216>='관리자 Setting'!$P$15,$H216<'관리자 Setting'!$Q$15),$H216-$G216,IF($G216>='관리자 Setting'!$Q$15,0,0))))))","v":"00:00:00"},"",{"$f":"IFERROR(VLOOKUP($F216,'관리자 Setting'!$P$18:$Q$33,2,0)/24,\"\")","v":""}]
["","",{"$f":"IFERROR(DATE(LEFT('In-Put'!$B217,4),MID('In-Put'!$B217,5,2),RIGHT('In-Put'!$B217,2)),\"\")","v":""},{"$f":"IF($C217=\"\",\"\",COUNTIFS($C$2:$C$401,C217)-COUNTIFS($C$2:C217,C217))","v":""},{"$f":"IF($C217=\"\",\"\",COUNTIFS('관리자 Setting'!$P$18:$P$33,'설정_In-Put'!$F217))","v":""},{"$f":"'In-Put'!G217","v":0},{"$f":"IFERROR(IF('In-Put'!D217*1=0,\"\",'In-Put'!D217*1),\"\")","v":""},{"$f":"IFERROR(IF('In-Put'!E217*1=0,\"\",IF('In-Put'!E217*1<G217,'In-Put'!E217*1+1,'In-Put'!E217*1)),\"\")","v":""},{"$f":"IF(OR($H217<'관리자 Setting'!$P$14,$G217>='관리자 Setting'!$Q$14),0,IF(AND($G217<'관리자 Setting'!$P$14,$H217<'관리자 Setting'!$Q$14),$H217-'관리자 Setting'!$P$14,IF(AND($G217<'관리자 Setting'!$P$14,$H217>='관리자 Setting'!$Q$14),'관리자 Setting'!$R$14,IF(AND($G217>='관리자 Setting'!$P$14,$H217>='관리자 Setting'!$Q$14),'관리자 Setting'!$Q$14-$G217,IF(AND($G217>='관리자 Setting'!$P$14,$H217<'관리자 Setting'!$Q$14),$H217-$G217,IF($G217>='관리자 Setting'!$Q$14,0,0))))))","v":"00:00:00"},{"$f":"IF(OR($H217<'관리자 Setting'!$P$15,$G217>='관리자 Setting'!$Q$15),0,IF(AND($G217<'관리자 Setting'!$P$15,$H217<'관리자 Setting'!$Q$15),$H217-'관리자 Setting'!$P$15,IF(AND($G217<'관리자 Setting'!$P$15,$H217>='관리자 Setting'!$Q$15),'관리자 Setting'!$R$15,IF(AND($G217>='관리자 Setting'!$P$15,$H217>='관리자 Setting'!$Q$15),'관리자 Setting'!$Q$15-$G217,IF(AND($G217>='관리자 Setting'!$P$15,$H217<'관리자 Setting'!$Q$15),$H217-$G217,IF($G217>='관리자 Setting'!$Q$15,0,0))))))","v":"00:00:00"},"",{"$f":"IFERROR(VLOOKUP($F217,'관리자 Setting'!$P$18:$Q$33,2,0)/24,\"\")","v":""}]
["","",{"$f":"IFERROR(DATE(LEFT('In-Put'!$B218,4),MID('In-Put'!$B218,5,2),RIGHT('In-Put'!$B218,2)),\"\")","v":""},{"$f":"IF($C218=\"\",\"\",COUNTIFS($C$2:$C$401,C218)-COUNTIFS($C$2:C218,C218))","v":""},{"$f":"IF($C218=\"\",\"\",COUNTIFS('관리자 Setting'!$P$18:$P$33,'설정_In-Put'!$F218))","v":""},{"$f":"'In-Put'!G218","v":0},{"$f":"IFERROR(IF('In-Put'!D218*1=0,\"\",'In-Put'!D218*1),\"\")","v":""},{"$f":"IFERROR(IF('In-Put'!E218*1=0,\"\",IF('In-Put'!E218*1<G218,'In-Put'!E218*1+1,'In-Put'!E218*1)),\"\")","v":""},{"$f":"IF(OR($H218<'관리자 Setting'!$P$14,$G218>='관리자 Setting'!$Q$14),0,IF(AND($G218<'관리자 Setting'!$P$14,$H218<'관리자 Setting'!$Q$14),$H218-'관리자 Setting'!$P$14,IF(AND($G218<'관리자 Setting'!$P$14,$H218>='관리자 Setting'!$Q$14),'관리자 Setting'!$R$14,IF(AND($G218>='관리자 Setting'!$P$14,$H218>='관리자 Setting'!$Q$14),'관리자 Setting'!$Q$14-$G218,IF(AND($G218>='관리자 Setting'!$P$14,$H218<'관리자 Setting'!$Q$14),$H218-$G218,IF($G218>='관리자 Setting'!$Q$14,0,0))))))","v":"00:00:00"},{"$f":"IF(OR($H218<'관리자 Setting'!$P$15,$G218>='관리자 Setting'!$Q$15),0,IF(AND($G218<'관리자 Setting'!$P$15,$H218<'관리자 Setting'!$Q$15),$H218-'관리자 Setting'!$P$15,IF(AND($G218<'관리자 Setting'!$P$15,$H218>='관리자 Setting'!$Q$15),'관리자 Setting'!$R$15,IF(AND($G218>='관리자 Setting'!$P$15,$H218>='관리자 Setting'!$Q$15),'관리자 Setting'!$Q$15-$G218,IF(AND($G218>='관리자 Setting'!$P$15,$H218<'관리자 Setting'!$Q$15),$H218-$G218,IF($G218>='관리자 Setting'!$Q$15,0,0))))))","v":"00:00:00"},"",{"$f":"IFERROR(VLOOKUP($F218,'관리자 Setting'!$P$18:$Q$33,2,0)/24,\"\")","v":""}]
["","",{"$f":"IFERROR(DATE(LEFT('In-Put'!$B219,4),MID('In-Put'!$B219,5,2),RIGHT('In-Put'!$B219,2)),\"\")","v":""},{"$f":"IF($C219=\"\",\"\",COUNTIFS($C$2:$C$401,C219)-COUNTIFS($C$2:C219,C219))","v":""},{"$f":"IF($C219=\"\",\"\",COUNTIFS('관리자 Setting'!$P$18:$P$33,'설정_In-Put'!$F219))","v":""},{"$f":"'In-Put'!G219","v":0},{"$f":"IFERROR(IF('In-Put'!D219*1=0,\"\",'In-Put'!D219*1),\"\")","v":""},{"$f":"IFERROR(IF('In-Put'!E219*1=0,\"\",IF('In-Put'!E219*1<G219,'In-Put'!E219*1+1,'In-Put'!E219*1)),\"\")","v":""},{"$f":"IF(OR($H219<'관리자 Setting'!$P$14,$G219>='관리자 Setting'!$Q$14),0,IF(AND($G219<'관리자 Setting'!$P$14,$H219<'관리자 Setting'!$Q$14),$H219-'관리자 Setting'!$P$14,IF(AND($G219<'관리자 Setting'!$P$14,$H219>='관리자 Setting'!$Q$14),'관리자 Setting'!$R$14,IF(AND($G219>='관리자 Setting'!$P$14,$H219>='관리자 Setting'!$Q$14),'관리자 Setting'!$Q$14-$G219,IF(AND($G219>='관리자 Setting'!$P$14,$H219<'관리자 Setting'!$Q$14),$H219-$G219,IF($G219>='관리자 Setting'!$Q$14,0,0))))))","v":"00:00:00"},{"$f":"IF(OR($H219<'관리자 Setting'!$P$15,$G219>='관리자 Setting'!$Q$15),0,IF(AND($G219<'관리자 Setting'!$P$15,$H219<'관리자 Setting'!$Q$15),$H219-'관리자 Setting'!$P$15,IF(AND($G219<'관리자 Setting'!$P$15,$H219>='관리자 Setting'!$Q$15),'관리자 Setting'!$R$15,IF(AND($G219>='관리자 Setting'!$P$15,$H219>='관리자 Setting'!$Q$15),'관리자 Setting'!$Q$15-$G219,IF(AND($G219>='관리자 Setting'!$P$15,$H219<'관리자 Setting'!$Q$15),$H219-$G219,IF($G219>='관리자 Setting'!$Q$15,0,0))))))","v":"00:00:00"},"",{"$f":"IFERROR(VLOOKUP($F219,'관리자 Setting'!$P$18:$Q$33,2,0)/24,\"\")","v":""}]
["","",{"$f":"IFERROR(DATE(LEFT('In-Put'!$B220,4),MID('In-Put'!$B220,5,2),RIGHT('In-Put'!$B220,2)),\"\")","v":""},{"$f":"IF($C220=\"\",\"\",COUNTIFS($C$2:$C$401,C220)-COUNTIFS($C$2:C220,C220))","v":""},{"$f":"IF($C220=\"\",\"\",COUNTIFS('관리자 Setting'!$P$18:$P$33,'설정_In-Put'!$F220))","v":""},{"$f":"'In-Put'!G220","v":0},{"$f":"IFERROR(IF('In-Put'!D220*1=0,\"\",'In-Put'!D220*1),\"\")","v":""},{"$f":"IFERROR(IF('In-Put'!E220*1=0,\"\",IF('In-Put'!E220*1<G220,'In-Put'!E220*1+1,'In-Put'!E220*1)),\"\")","v":""},{"$f":"IF(OR($H220<'관리자 Setting'!$P$14,$G220>='관리자 Setting'!$Q$14),0,IF(AND($G220<'관리자 Setting'!$P$14,$H220<'관리자 Setting'!$Q$14),$H220-'관리자 Setting'!$P$14,IF(AND($G220<'관리자 Setting'!$P$14,$H220>='관리자 Setting'!$Q$14),'관리자 Setting'!$R$14,IF(AND($G220>='관리자 Setting'!$P$14,$H220>='관리자 Setting'!$Q$14),'관리자 Setting'!$Q$14-$G220,IF(AND($G220>='관리자 Setting'!$P$14,$H220<'관리자 Setting'!$Q$14),$H220-$G220,IF($G220>='관리자 Setting'!$Q$14,0,0))))))","v":"00:00:00"},{"$f":"IF(OR($H220<'관리자 Setting'!$P$15,$G220>='관리자 Setting'!$Q$15),0,IF(AND($G220<'관리자 Setting'!$P$15,$H220<'관리자 Setting'!$Q$15),$H220-'관리자 Setting'!$P$15,IF(AND($G220<'관리자 Setting'!$P$15,$H220>='관리자 Setting'!$Q$15),'관리자 Setting'!$R$15,IF(AND($G220>='관리자 Setting'!$P$15,$H220>='관리자 Setting'!$Q$15),'관리자 Setting'!$Q$15-$G220,IF(AND($G220>='관리자 Setting'!$P$15,$H220<'관리자 Setting'!$Q$15),$H220-$G220,IF($G220>='관리자 Setting'!$Q$15,0,0))))))","v":"00:00:00"},"",{"$f":"IFERROR(VLOOKUP($F220,'관리자 Setting'!$P$18:$Q$33,2,0)/24,\"\")","v":""}]
["","",{"$f":"IFERROR(DATE(LEFT('In-Put'!$B221,4),MID('In-Put'!$B221,5,2),RIGHT('In-Put'!$B221,2)),\"\")","v":""},{"$f":"IF($C221=\"\",\"\",COUNTIFS($C$2:$C$401,C221)-COUNTIFS($C$2:C221,C221))","v":""},{"$f":"IF($C221=\"\",\"\",COUNTIFS('관리자 Setting'!$P$18:$P$33,'설정_In-Put'!$F221))","v":""},{"$f":"'In-Put'!G221","v":0},{"$f":"IFERROR(IF('In-Put'!D221*1=0,\"\",'In-Put'!D221*1),\"\")","v":""},{"$f":"IFERROR(IF('In-Put'!E221*1=0,\"\",IF('In-Put'!E221*1<G221,'In-Put'!E221*1+1,'In-Put'!E221*1)),\"\")","v":""},{"$f":"IF(OR($H221<'관리자 Setting'!$P$14,$G221>='관리자 Setting'!$Q$14),0,IF(AND($G221<'관리자 Setting'!$P$14,$H221<'관리자 Setting'!$Q$14),$H221-'관리자 Setting'!$P$14,IF(AND($G221<'관리자 Setting'!$P$14,$H221>='관리자 Setting'!$Q$14),'관리자 Setting'!$R$14,IF(AND($G221>='관리자 Setting'!$P$14,$H221>='관리자 Setting'!$Q$14),'관리자 Setting'!$Q$14-$G221,IF(AND($G221>='관리자 Setting'!$P$14,$H221<'관리자 Setting'!$Q$14),$H221-$G221,IF($G221>='관리자 Setting'!$Q$14,0,0))))))","v":"00:00:00"},{"$f":"IF(OR($H221<'관리자 Setting'!$P$15,$G221>='관리자 Setting'!$Q$15),0,IF(AND($G221<'관리자 Setting'!$P$15,$H221<'관리자 Setting'!$Q$15),$H221-'관리자 Setting'!$P$15,IF(AND($G221<'관리자 Setting'!$P$15,$H221>='관리자 Setting'!$Q$15),'관리자 Setting'!$R$15,IF(AND($G221>='관리자 Setting'!$P$15,$H221>='관리자 Setting'!$Q$15),'관리자 Setting'!$Q$15-$G221,IF(AND($G221>='관리자 Setting'!$P$15,$H221<'관리자 Setting'!$Q$15),$H221-$G221,IF($G221>='관리자 Setting'!$Q$15,0,0))))))","v":"00:00:00"},"",{"$f":"IFERROR(VLOOKUP($F221,'관리자 Setting'!$P$18:$Q$33,2,0)/24,\"\")","v":""}]
["","",{"$f":"IFERROR(DATE(LEFT('In-Put'!$B222,4),MID('In-Put'!$B222,5,2),RIGHT('In-Put'!$B222,2)),\"\")","v":""},{"$f":"IF($C222=\"\",\"\",COUNTIFS($C$2:$C$401,C222)-COUNTIFS($C$2:C222,C222))","v":""},{"$f":"IF($C222=\"\",\"\",COUNTIFS('관리자 Setting'!$P$18:$P$33,'설정_In-Put'!$F222))","v":""},{"$f":"'In-Put'!G222","v":0},{"$f":"IFERROR(IF('In-Put'!D222*1=0,\"\",'In-Put'!D222*1),\"\")","v":""},{"$f":"IFERROR(IF('In-Put'!E222*1=0,\"\",IF('In-Put'!E222*1<G222,'In-Put'!E222*1+1,'In-Put'!E222*1)),\"\")","v":""},{"$f":"IF(OR($H222<'관리자 Setting'!$P$14,$G222>='관리자 Setting'!$Q$14),0,IF(AND($G222<'관리자 Setting'!$P$14,$H222<'관리자 Setting'!$Q$14),$H222-'관리자 Setting'!$P$14,IF(AND($G222<'관리자 Setting'!$P$14,$H222>='관리자 Setting'!$Q$14),'관리자 Setting'!$R$14,IF(AND($G222>='관리자 Setting'!$P$14,$H222>='관리자 Setting'!$Q$14),'관리자 Setting'!$Q$14-$G222,IF(AND($G222>='관리자 Setting'!$P$14,$H222<'관리자 Setting'!$Q$14),$H222-$G222,IF($G222>='관리자 Setting'!$Q$14,0,0))))))","v":"00:00:00"},{"$f":"IF(OR($H222<'관리자 Setting'!$P$15,$G222>='관리자 Setting'!$Q$15),0,IF(AND($G222<'관리자 Setting'!$P$15,$H222<'관리자 Setting'!$Q$15),$H222-'관리자 Setting'!$P$15,IF(AND($G222<'관리자 Setting'!$P$15,$H222>='관리자 Setting'!$Q$15),'관리자 Setting'!$R$15,IF(AND($G222>='관리자 Setting'!$P$15,$H222>='관리자 Setting'!$Q$15),'관리자 Setting'!$Q$15-$G222,IF(AND($G222>='관리자 Setting'!$P$15,$H222<'관리자 Setting'!$Q$15),$H222-$G222,IF($G222>='관리자 Setting'!$Q$15,0,0))))))","v":"00:00:00"},"",{"$f":"IFERROR(VLOOKUP($F222,'관리자 Setting'!$P$18:$Q$33,2,0)/24,\"\")","v":""}]
["","",{"$f":"IFERROR(DATE(LEFT('In-Put'!$B223,4),MID('In-Put'!$B223,5,2),RIGHT('In-Put'!$B223,2)),\"\")","v":""},{"$f":"IF($C223=\"\",\"\",COUNTIFS($C$2:$C$401,C223)-COUNTIFS($C$2:C223,C223))","v":""},{"$f":"IF($C223=\"\",\"\",COUNTIFS('관리자 Setting'!$P$18:$P$33,'설정_In-Put'!$F223))","v":""},{"$f":"'In-Put'!G223","v":0},{"$f":"IFERROR(IF('In-Put'!D223*1=0,\"\",'In-Put'!D223*1),\"\")","v":""},{"$f":"IFERROR(IF('In-Put'!E223*1=0,\"\",IF('In-Put'!E223*1<G223,'In-Put'!E223*1+1,'In-Put'!E223*1)),\"\")","v":""},{"$f":"IF(OR($H223<'관리자 Setting'!$P$14,$G223>='관리자 Setting'!$Q$14),0,IF(AND($G223<'관리자 Setting'!$P$14,$H223<'관리자 Setting'!$Q$14),$H223-'관리자 Setting'!$P$14,IF(AND($G223<'관리자 Setting'!$P$14,$H223>='관리자 Setting'!$Q$14),'관리자 Setting'!$R$14,IF(AND($G223>='관리자 Setting'!$P$14,$H223>='관리자 Setting'!$Q$14),'관리자 Setting'!$Q$14-$G223,IF(AND($G223>='관리자 Setting'!$P$14,$H223<'관리자 Setting'!$Q$14),$H223-$G223,IF($G223>='관리자 Setting'!$Q$14,0,0))))))","v":"00:00:00"},{"$f":"IF(OR($H223<'관리자 Setting'!$P$15,$G223>='관리자 Setting'!$Q$15),0,IF(AND($G223<'관리자 Setting'!$P$15,$H223<'관리자 Setting'!$Q$15),$H223-'관리자 Setting'!$P$15,IF(AND($G223<'관리자 Setting'!$P$15,$H223>='관리자 Setting'!$Q$15),'관리자 Setting'!$R$15,IF(AND($G223>='관리자 Setting'!$P$15,$H223>='관리자 Setting'!$Q$15),'관리자 Setting'!$Q$15-$G223,IF(AND($G223>='관리자 Setting'!$P$15,$H223<'관리자 Setting'!$Q$15),$H223-$G223,IF($G223>='관리자 Setting'!$Q$15,0,0))))))","v":"00:00:00"},"",{"$f":"IFERROR(VLOOKUP($F223,'관리자 Setting'!$P$18:$Q$33,2,0)/24,\"\")","v":""}]
["","",{"$f":"IFERROR(DATE(LEFT('In-Put'!$B224,4),MID('In-Put'!$B224,5,2),RIGHT('In-Put'!$B224,2)),\"\")","v":""},{"$f":"IF($C224=\"\",\"\",COUNTIFS($C$2:$C$401,C224)-COUNTIFS($C$2:C224,C224))","v":""},{"$f":"IF($C224=\"\",\"\",COUNTIFS('관리자 Setting'!$P$18:$P$33,'설정_In-Put'!$F224))","v":""},{"$f":"'In-Put'!G224","v":0},{"$f":"IFERROR(IF('In-Put'!D224*1=0,\"\",'In-Put'!D224*1),\"\")","v":""},{"$f":"IFERROR(IF('In-Put'!E224*1=0,\"\",IF('In-Put'!E224*1<G224,'In-Put'!E224*1+1,'In-Put'!E224*1)),\"\")","v":""},{"$f":"IF(OR($H224<'관리자 Setting'!$P$14,$G224>='관리자 Setting'!$Q$14),0,IF(AND($G224<'관리자 Setting'!$P$14,$H224<'관리자 Setting'!$Q$14),$H224-'관리자 Setting'!$P$14,IF(AND($G224<'관리자 Setting'!$P$14,$H224>='관리자 Setting'!$Q$14),'관리자 Setting'!$R$14,IF(AND($G224>='관리자 Setting'!$P$14,$H224>='관리자 Setting'!$Q$14),'관리자 Setting'!$Q$14-$G224,IF(AND($G224>='관리자 Setting'!$P$14,$H224<'관리자 Setting'!$Q$14),$H224-$G224,IF($G224>='관리자 Setting'!$Q$14,0,0))))))","v":"00:00:00"},{"$f":"IF(OR($H224<'관리자 Setting'!$P$15,$G224>='관리자 Setting'!$Q$15),0,IF(AND($G224<'관리자 Setting'!$P$15,$H224<'관리자 Setting'!$Q$15),$H224-'관리자 Setting'!$P$15,IF(AND($G224<'관리자 Setting'!$P$15,$H224>='관리자 Setting'!$Q$15),'관리자 Setting'!$R$15,IF(AND($G224>='관리자 Setting'!$P$15,$H224>='관리자 Setting'!$Q$15),'관리자 Setting'!$Q$15-$G224,IF(AND($G224>='관리자 Setting'!$P$15,$H224<'관리자 Setting'!$Q$15),$H224-$G224,IF($G224>='관리자 Setting'!$Q$15,0,0))))))","v":"00:00:00"},"",{"$f":"IFERROR(VLOOKUP($F224,'관리자 Setting'!$P$18:$Q$33,2,0)/24,\"\")","v":""}]
["","",{"$f":"IFERROR(DATE(LEFT('In-Put'!$B225,4),MID('In-Put'!$B225,5,2),RIGHT('In-Put'!$B225,2)),\"\")","v":""},{"$f":"IF($C225=\"\",\"\",COUNTIFS($C$2:$C$401,C225)-COUNTIFS($C$2:C225,C225))","v":""},{"$f":"IF($C225=\"\",\"\",COUNTIFS('관리자 Setting'!$P$18:$P$33,'설정_In-Put'!$F225))","v":""},{"$f":"'In-Put'!G225","v":0},{"$f":"IFERROR(IF('In-Put'!D225*1=0,\"\",'In-Put'!D225*1),\"\")","v":""},{"$f":"IFERROR(IF('In-Put'!E225*1=0,\"\",IF('In-Put'!E225*1<G225,'In-Put'!E225*1+1,'In-Put'!E225*1)),\"\")","v":""},{"$f":"IF(OR($H225<'관리자 Setting'!$P$14,$G225>='관리자 Setting'!$Q$14),0,IF(AND($G225<'관리자 Setting'!$P$14,$H225<'관리자 Setting'!$Q$14),$H225-'관리자 Setting'!$P$14,IF(AND($G225<'관리자 Setting'!$P$14,$H225>='관리자 Setting'!$Q$14),'관리자 Setting'!$R$14,IF(AND($G225>='관리자 Setting'!$P$14,$H225>='관리자 Setting'!$Q$14),'관리자 Setting'!$Q$14-$G225,IF(AND($G225>='관리자 Setting'!$P$14,$H225<'관리자 Setting'!$Q$14),$H225-$G225,IF($G225>='관리자 Setting'!$Q$14,0,0))))))","v":"00:00:00"},{"$f":"IF(OR($H225<'관리자 Setting'!$P$15,$G225>='관리자 Setting'!$Q$15),0,IF(AND($G225<'관리자 Setting'!$P$15,$H225<'관리자 Setting'!$Q$15),$H225-'관리자 Setting'!$P$15,IF(AND($G225<'관리자 Setting'!$P$15,$H225>='관리자 Setting'!$Q$15),'관리자 Setting'!$R$15,IF(AND($G225>='관리자 Setting'!$P$15,$H225>='관리자 Setting'!$Q$15),'관리자 Setting'!$Q$15-$G225,IF(AND($G225>='관리자 Setting'!$P$15,$H225<'관리자 Setting'!$Q$15),$H225-$G225,IF($G225>='관리자 Setting'!$Q$15,0,0))))))","v":"00:00:00"},"",{"$f":"IFERROR(VLOOKUP($F225,'관리자 Setting'!$P$18:$Q$33,2,0)/24,\"\")","v":""}]
["","",{"$f":"IFERROR(DATE(LEFT('In-Put'!$B226,4),MID('In-Put'!$B226,5,2),RIGHT('In-Put'!$B226,2)),\"\")","v":""},{"$f":"IF($C226=\"\",\"\",COUNTIFS($C$2:$C$401,C226)-COUNTIFS($C$2:C226,C226))","v":""},{"$f":"IF($C226=\"\",\"\",COUNTIFS('관리자 Setting'!$P$18:$P$33,'설정_In-Put'!$F226))","v":""},{"$f":"'In-Put'!G226","v":0},{"$f":"IFERROR(IF('In-Put'!D226*1=0,\"\",'In-Put'!D226*1),\"\")","v":""},{"$f":"IFERROR(IF('In-Put'!E226*1=0,\"\",IF('In-Put'!E226*1<G226,'In-Put'!E226*1+1,'In-Put'!E226*1)),\"\")","v":""},{"$f":"IF(OR($H226<'관리자 Setting'!$P$14,$G226>='관리자 Setting'!$Q$14),0,IF(AND($G226<'관리자 Setting'!$P$14,$H226<'관리자 Setting'!$Q$14),$H226-'관리자 Setting'!$P$14,IF(AND($G226<'관리자 Setting'!$P$14,$H226>='관리자 Setting'!$Q$14),'관리자 Setting'!$R$14,IF(AND($G226>='관리자 Setting'!$P$14,$H226>='관리자 Setting'!$Q$14),'관리자 Setting'!$Q$14-$G226,IF(AND($G226>='관리자 Setting'!$P$14,$H226<'관리자 Setting'!$Q$14),$H226-$G226,IF($G226>='관리자 Setting'!$Q$14,0,0))))))","v":"00:00:00"},{"$f":"IF(OR($H226<'관리자 Setting'!$P$15,$G226>='관리자 Setting'!$Q$15),0,IF(AND($G226<'관리자 Setting'!$P$15,$H226<'관리자 Setting'!$Q$15),$H226-'관리자 Setting'!$P$15,IF(AND($G226<'관리자 Setting'!$P$15,$H226>='관리자 Setting'!$Q$15),'관리자 Setting'!$R$15,IF(AND($G226>='관리자 Setting'!$P$15,$H226>='관리자 Setting'!$Q$15),'관리자 Setting'!$Q$15-$G226,IF(AND($G226>='관리자 Setting'!$P$15,$H226<'관리자 Setting'!$Q$15),$H226-$G226,IF($G226>='관리자 Setting'!$Q$15,0,0))))))","v":"00:00:00"},"",{"$f":"IFERROR(VLOOKUP($F226,'관리자 Setting'!$P$18:$Q$33,2,0)/24,\"\")","v":""}]
["","",{"$f":"IFERROR(DATE(LEFT('In-Put'!$B227,4),MID('In-Put'!$B227,5,2),RIGHT('In-Put'!$B227,2)),\"\")","v":""},{"$f":"IF($C227=\"\",\"\",COUNTIFS($C$2:$C$401,C227)-COUNTIFS($C$2:C227,C227))","v":""},{"$f":"IF($C227=\"\",\"\",COUNTIFS('관리자 Setting'!$P$18:$P$33,'설정_In-Put'!$F227))","v":""},{"$f":"'In-Put'!G227","v":0},{"$f":"IFERROR(IF('In-Put'!D227*1=0,\"\",'In-Put'!D227*1),\"\")","v":""},{"$f":"IFERROR(IF('In-Put'!E227*1=0,\"\",IF('In-Put'!E227*1<G227,'In-Put'!E227*1+1,'In-Put'!E227*1)),\"\")","v":""},{"$f":"IF(OR($H227<'관리자 Setting'!$P$14,$G227>='관리자 Setting'!$Q$14),0,IF(AND($G227<'관리자 Setting'!$P$14,$H227<'관리자 Setting'!$Q$14),$H227-'관리자 Setting'!$P$14,IF(AND($G227<'관리자 Setting'!$P$14,$H227>='관리자 Setting'!$Q$14),'관리자 Setting'!$R$14,IF(AND($G227>='관리자 Setting'!$P$14,$H227>='관리자 Setting'!$Q$14),'관리자 Setting'!$Q$14-$G227,IF(AND($G227>='관리자 Setting'!$P$14,$H227<'관리자 Setting'!$Q$14),$H227-$G227,IF($G227>='관리자 Setting'!$Q$14,0,0))))))","v":"00:00:00"},{"$f":"IF(OR($H227<'관리자 Setting'!$P$15,$G227>='관리자 Setting'!$Q$15),0,IF(AND($G227<'관리자 Setting'!$P$15,$H227<'관리자 Setting'!$Q$15),$H227-'관리자 Setting'!$P$15,IF(AND($G227<'관리자 Setting'!$P$15,$H227>='관리자 Setting'!$Q$15),'관리자 Setting'!$R$15,IF(AND($G227>='관리자 Setting'!$P$15,$H227>='관리자 Setting'!$Q$15),'관리자 Setting'!$Q$15-$G227,IF(AND($G227>='관리자 Setting'!$P$15,$H227<'관리자 Setting'!$Q$15),$H227-$G227,IF($G227>='관리자 Setting'!$Q$15,0,0))))))","v":"00:00:00"},"",{"$f":"IFERROR(VLOOKUP($F227,'관리자 Setting'!$P$18:$Q$33,2,0)/24,\"\")","v":""}]
["","",{"$f":"IFERROR(DATE(LEFT('In-Put'!$B228,4),MID('In-Put'!$B228,5,2),RIGHT('In-Put'!$B228,2)),\"\")","v":""},{"$f":"IF($C228=\"\",\"\",COUNTIFS($C$2:$C$401,C228)-COUNTIFS($C$2:C228,C228))","v":""},{"$f":"IF($C228=\"\",\"\",COUNTIFS('관리자 Setting'!$P$18:$P$33,'설정_In-Put'!$F228))","v":""},{"$f":"'In-Put'!G228","v":0},{"$f":"IFERROR(IF('In-Put'!D228*1=0,\"\",'In-Put'!D228*1),\"\")","v":""},{"$f":"IFERROR(IF('In-Put'!E228*1=0,\"\",IF('In-Put'!E228*1<G228,'In-Put'!E228*1+1,'In-Put'!E228*1)),\"\")","v":""},{"$f":"IF(OR($H228<'관리자 Setting'!$P$14,$G228>='관리자 Setting'!$Q$14),0,IF(AND($G228<'관리자 Setting'!$P$14,$H228<'관리자 Setting'!$Q$14),$H228-'관리자 Setting'!$P$14,IF(AND($G228<'관리자 Setting'!$P$14,$H228>='관리자 Setting'!$Q$14),'관리자 Setting'!$R$14,IF(AND($G228>='관리자 Setting'!$P$14,$H228>='관리자 Setting'!$Q$14),'관리자 Setting'!$Q$14-$G228,IF(AND($G228>='관리자 Setting'!$P$14,$H228<'관리자 Setting'!$Q$14),$H228-$G228,IF($G228>='관리자 Setting'!$Q$14,0,0))))))","v":"00:00:00"},{"$f":"IF(OR($H228<'관리자 Setting'!$P$15,$G228>='관리자 Setting'!$Q$15),0,IF(AND($G228<'관리자 Setting'!$P$15,$H228<'관리자 Setting'!$Q$15),$H228-'관리자 Setting'!$P$15,IF(AND($G228<'관리자 Setting'!$P$15,$H228>='관리자 Setting'!$Q$15),'관리자 Setting'!$R$15,IF(AND($G228>='관리자 Setting'!$P$15,$H228>='관리자 Setting'!$Q$15),'관리자 Setting'!$Q$15-$G228,IF(AND($G228>='관리자 Setting'!$P$15,$H228<'관리자 Setting'!$Q$15),$H228-$G228,IF($G228>='관리자 Setting'!$Q$15,0,0))))))","v":"00:00:00"},"",{"$f":"IFERROR(VLOOKUP($F228,'관리자 Setting'!$P$18:$Q$33,2,0)/24,\"\")","v":""}]
["","",{"$f":"IFERROR(DATE(LEFT('In-Put'!$B229,4),MID('In-Put'!$B229,5,2),RIGHT('In-Put'!$B229,2)),\"\")","v":""},{"$f":"IF($C229=\"\",\"\",COUNTIFS($C$2:$C$401,C229)-COUNTIFS($C$2:C229,C229))","v":""},{"$f":"IF($C229=\"\",\"\",COUNTIFS('관리자 Setting'!$P$18:$P$33,'설정_In-Put'!$F229))","v":""},{"$f":"'In-Put'!G229","v":0},{"$f":"IFERROR(IF('In-Put'!D229*1=0,\"\",'In-Put'!D229*1),\"\")","v":""},{"$f":"IFERROR(IF('In-Put'!E229*1=0,\"\",IF('In-Put'!E229*1<G229,'In-Put'!E229*1+1,'In-Put'!E229*1)),\"\")","v":""},{"$f":"IF(OR($H229<'관리자 Setting'!$P$14,$G229>='관리자 Setting'!$Q$14),0,IF(AND($G229<'관리자 Setting'!$P$14,$H229<'관리자 Setting'!$Q$14),$H229-'관리자 Setting'!$P$14,IF(AND($G229<'관리자 Setting'!$P$14,$H229>='관리자 Setting'!$Q$14),'관리자 Setting'!$R$14,IF(AND($G229>='관리자 Setting'!$P$14,$H229>='관리자 Setting'!$Q$14),'관리자 Setting'!$Q$14-$G229,IF(AND($G229>='관리자 Setting'!$P$14,$H229<'관리자 Setting'!$Q$14),$H229-$G229,IF($G229>='관리자 Setting'!$Q$14,0,0))))))","v":"00:00:00"},{"$f":"IF(OR($H229<'관리자 Setting'!$P$15,$G229>='관리자 Setting'!$Q$15),0,IF(AND($G229<'관리자 Setting'!$P$15,$H229<'관리자 Setting'!$Q$15),$H229-'관리자 Setting'!$P$15,IF(AND($G229<'관리자 Setting'!$P$15,$H229>='관리자 Setting'!$Q$15),'관리자 Setting'!$R$15,IF(AND($G229>='관리자 Setting'!$P$15,$H229>='관리자 Setting'!$Q$15),'관리자 Setting'!$Q$15-$G229,IF(AND($G229>='관리자 Setting'!$P$15,$H229<'관리자 Setting'!$Q$15),$H229-$G229,IF($G229>='관리자 Setting'!$Q$15,0,0))))))","v":"00:00:00"},"",{"$f":"IFERROR(VLOOKUP($F229,'관리자 Setting'!$P$18:$Q$33,2,0)/24,\"\")","v":""}]
["","",{"$f":"IFERROR(DATE(LEFT('In-Put'!$B230,4),MID('In-Put'!$B230,5,2),RIGHT('In-Put'!$B230,2)),\"\")","v":""},{"$f":"IF($C230=\"\",\"\",COUNTIFS($C$2:$C$401,C230)-COUNTIFS($C$2:C230,C230))","v":""},{"$f":"IF($C230=\"\",\"\",COUNTIFS('관리자 Setting'!$P$18:$P$33,'설정_In-Put'!$F230))","v":""},{"$f":"'In-Put'!G230","v":0},{"$f":"IFERROR(IF('In-Put'!D230*1=0,\"\",'In-Put'!D230*1),\"\")","v":""},{"$f":"IFERROR(IF('In-Put'!E230*1=0,\"\",IF('In-Put'!E230*1<G230,'In-Put'!E230*1+1,'In-Put'!E230*1)),\"\")","v":""},{"$f":"IF(OR($H230<'관리자 Setting'!$P$14,$G230>='관리자 Setting'!$Q$14),0,IF(AND($G230<'관리자 Setting'!$P$14,$H230<'관리자 Setting'!$Q$14),$H230-'관리자 Setting'!$P$14,IF(AND($G230<'관리자 Setting'!$P$14,$H230>='관리자 Setting'!$Q$14),'관리자 Setting'!$R$14,IF(AND($G230>='관리자 Setting'!$P$14,$H230>='관리자 Setting'!$Q$14),'관리자 Setting'!$Q$14-$G230,IF(AND($G230>='관리자 Setting'!$P$14,$H230<'관리자 Setting'!$Q$14),$H230-$G230,IF($G230>='관리자 Setting'!$Q$14,0,0))))))","v":"00:00:00"},{"$f":"IF(OR($H230<'관리자 Setting'!$P$15,$G230>='관리자 Setting'!$Q$15),0,IF(AND($G230<'관리자 Setting'!$P$15,$H230<'관리자 Setting'!$Q$15),$H230-'관리자 Setting'!$P$15,IF(AND($G230<'관리자 Setting'!$P$15,$H230>='관리자 Setting'!$Q$15),'관리자 Setting'!$R$15,IF(AND($G230>='관리자 Setting'!$P$15,$H230>='관리자 Setting'!$Q$15),'관리자 Setting'!$Q$15-$G230,IF(AND($G230>='관리자 Setting'!$P$15,$H230<'관리자 Setting'!$Q$15),$H230-$G230,IF($G230>='관리자 Setting'!$Q$15,0,0))))))","v":"00:00:00"},"",{"$f":"IFERROR(VLOOKUP($F230,'관리자 Setting'!$P$18:$Q$33,2,0)/24,\"\")","v":""}]
["","",{"$f":"IFERROR(DATE(LEFT('In-Put'!$B231,4),MID('In-Put'!$B231,5,2),RIGHT('In-Put'!$B231,2)),\"\")","v":""},{"$f":"IF($C231=\"\",\"\",COUNTIFS($C$2:$C$401,C231)-COUNTIFS($C$2:C231,C231))","v":""},{"$f":"IF($C231=\"\",\"\",COUNTIFS('관리자 Setting'!$P$18:$P$33,'설정_In-Put'!$F231))","v":""},{"$f":"'In-Put'!G231","v":0},{"$f":"IFERROR(IF('In-Put'!D231*1=0,\"\",'In-Put'!D231*1),\"\")","v":""},{"$f":"IFERROR(IF('In-Put'!E231*1=0,\"\",IF('In-Put'!E231*1<G231,'In-Put'!E231*1+1,'In-Put'!E231*1)),\"\")","v":""},{"$f":"IF(OR($H231<'관리자 Setting'!$P$14,$G231>='관리자 Setting'!$Q$14),0,IF(AND($G231<'관리자 Setting'!$P$14,$H231<'관리자 Setting'!$Q$14),$H231-'관리자 Setting'!$P$14,IF(AND($G231<'관리자 Setting'!$P$14,$H231>='관리자 Setting'!$Q$14),'관리자 Setting'!$R$14,IF(AND($G231>='관리자 Setting'!$P$14,$H231>='관리자 Setting'!$Q$14),'관리자 Setting'!$Q$14-$G231,IF(AND($G231>='관리자 Setting'!$P$14,$H231<'관리자 Setting'!$Q$14),$H231-$G231,IF($G231>='관리자 Setting'!$Q$14,0,0))))))","v":"00:00:00"},{"$f":"IF(OR($H231<'관리자 Setting'!$P$15,$G231>='관리자 Setting'!$Q$15),0,IF(AND($G231<'관리자 Setting'!$P$15,$H231<'관리자 Setting'!$Q$15),$H231-'관리자 Setting'!$P$15,IF(AND($G231<'관리자 Setting'!$P$15,$H231>='관리자 Setting'!$Q$15),'관리자 Setting'!$R$15,IF(AND($G231>='관리자 Setting'!$P$15,$H231>='관리자 Setting'!$Q$15),'관리자 Setting'!$Q$15-$G231,IF(AND($G231>='관리자 Setting'!$P$15,$H231<'관리자 Setting'!$Q$15),$H231-$G231,IF($G231>='관리자 Setting'!$Q$15,0,0))))))","v":"00:00:00"},"",{"$f":"IFERROR(VLOOKUP($F231,'관리자 Setting'!$P$18:$Q$33,2,0)/24,\"\")","v":""}]
["","",{"$f":"IFERROR(DATE(LEFT('In-Put'!$B232,4),MID('In-Put'!$B232,5,2),RIGHT('In-Put'!$B232,2)),\"\")","v":""},{"$f":"IF($C232=\"\",\"\",COUNTIFS($C$2:$C$401,C232)-COUNTIFS($C$2:C232,C232))","v":""},{"$f":"IF($C232=\"\",\"\",COUNTIFS('관리자 Setting'!$P$18:$P$33,'설정_In-Put'!$F232))","v":""},{"$f":"'In-Put'!G232","v":0},{"$f":"IFERROR(IF('In-Put'!D232*1=0,\"\",'In-Put'!D232*1),\"\")","v":""},{"$f":"IFERROR(IF('In-Put'!E232*1=0,\"\",IF('In-Put'!E232*1<G232,'In-Put'!E232*1+1,'In-Put'!E232*1)),\"\")","v":""},{"$f":"IF(OR($H232<'관리자 Setting'!$P$14,$G232>='관리자 Setting'!$Q$14),0,IF(AND($G232<'관리자 Setting'!$P$14,$H232<'관리자 Setting'!$Q$14),$H232-'관리자 Setting'!$P$14,IF(AND($G232<'관리자 Setting'!$P$14,$H232>='관리자 Setting'!$Q$14),'관리자 Setting'!$R$14,IF(AND($G232>='관리자 Setting'!$P$14,$H232>='관리자 Setting'!$Q$14),'관리자 Setting'!$Q$14-$G232,IF(AND($G232>='관리자 Setting'!$P$14,$H232<'관리자 Setting'!$Q$14),$H232-$G232,IF($G232>='관리자 Setting'!$Q$14,0,0))))))","v":"00:00:00"},{"$f":"IF(OR($H232<'관리자 Setting'!$P$15,$G232>='관리자 Setting'!$Q$15),0,IF(AND($G232<'관리자 Setting'!$P$15,$H232<'관리자 Setting'!$Q$15),$H232-'관리자 Setting'!$P$15,IF(AND($G232<'관리자 Setting'!$P$15,$H232>='관리자 Setting'!$Q$15),'관리자 Setting'!$R$15,IF(AND($G232>='관리자 Setting'!$P$15,$H232>='관리자 Setting'!$Q$15),'관리자 Setting'!$Q$15-$G232,IF(AND($G232>='관리자 Setting'!$P$15,$H232<'관리자 Setting'!$Q$15),$H232-$G232,IF($G232>='관리자 Setting'!$Q$15,0,0))))))","v":"00:00:00"},"",{"$f":"IFERROR(VLOOKUP($F232,'관리자 Setting'!$P$18:$Q$33,2,0)/24,\"\")","v":""}]
["","",{"$f":"IFERROR(DATE(LEFT('In-Put'!$B233,4),MID('In-Put'!$B233,5,2),RIGHT('In-Put'!$B233,2)),\"\")","v":""},{"$f":"IF($C233=\"\",\"\",COUNTIFS($C$2:$C$401,C233)-COUNTIFS($C$2:C233,C233))","v":""},{"$f":"IF($C233=\"\",\"\",COUNTIFS('관리자 Setting'!$P$18:$P$33,'설정_In-Put'!$F233))","v":""},{"$f":"'In-Put'!G233","v":0},{"$f":"IFERROR(IF('In-Put'!D233*1=0,\"\",'In-Put'!D233*1),\"\")","v":""},{"$f":"IFERROR(IF('In-Put'!E233*1=0,\"\",IF('In-Put'!E233*1<G233,'In-Put'!E233*1+1,'In-Put'!E233*1)),\"\")","v":""},{"$f":"IF(OR($H233<'관리자 Setting'!$P$14,$G233>='관리자 Setting'!$Q$14),0,IF(AND($G233<'관리자 Setting'!$P$14,$H233<'관리자 Setting'!$Q$14),$H233-'관리자 Setting'!$P$14,IF(AND($G233<'관리자 Setting'!$P$14,$H233>='관리자 Setting'!$Q$14),'관리자 Setting'!$R$14,IF(AND($G233>='관리자 Setting'!$P$14,$H233>='관리자 Setting'!$Q$14),'관리자 Setting'!$Q$14-$G233,IF(AND($G233>='관리자 Setting'!$P$14,$H233<'관리자 Setting'!$Q$14),$H233-$G233,IF($G233>='관리자 Setting'!$Q$14,0,0))))))","v":"00:00:00"},{"$f":"IF(OR($H233<'관리자 Setting'!$P$15,$G233>='관리자 Setting'!$Q$15),0,IF(AND($G233<'관리자 Setting'!$P$15,$H233<'관리자 Setting'!$Q$15),$H233-'관리자 Setting'!$P$15,IF(AND($G233<'관리자 Setting'!$P$15,$H233>='관리자 Setting'!$Q$15),'관리자 Setting'!$R$15,IF(AND($G233>='관리자 Setting'!$P$15,$H233>='관리자 Setting'!$Q$15),'관리자 Setting'!$Q$15-$G233,IF(AND($G233>='관리자 Setting'!$P$15,$H233<'관리자 Setting'!$Q$15),$H233-$G233,IF($G233>='관리자 Setting'!$Q$15,0,0))))))","v":"00:00:00"},"",{"$f":"IFERROR(VLOOKUP($F233,'관리자 Setting'!$P$18:$Q$33,2,0)/24,\"\")","v":""}]
["","",{"$f":"IFERROR(DATE(LEFT('In-Put'!$B234,4),MID('In-Put'!$B234,5,2),RIGHT('In-Put'!$B234,2)),\"\")","v":""},{"$f":"IF($C234=\"\",\"\",COUNTIFS($C$2:$C$401,C234)-COUNTIFS($C$2:C234,C234))","v":""},{"$f":"IF($C234=\"\",\"\",COUNTIFS('관리자 Setting'!$P$18:$P$33,'설정_In-Put'!$F234))","v":""},{"$f":"'In-Put'!G234","v":0},{"$f":"IFERROR(IF('In-Put'!D234*1=0,\"\",'In-Put'!D234*1),\"\")","v":""},{"$f":"IFERROR(IF('In-Put'!E234*1=0,\"\",IF('In-Put'!E234*1<G234,'In-Put'!E234*1+1,'In-Put'!E234*1)),\"\")","v":""},{"$f":"IF(OR($H234<'관리자 Setting'!$P$14,$G234>='관리자 Setting'!$Q$14),0,IF(AND($G234<'관리자 Setting'!$P$14,$H234<'관리자 Setting'!$Q$14),$H234-'관리자 Setting'!$P$14,IF(AND($G234<'관리자 Setting'!$P$14,$H234>='관리자 Setting'!$Q$14),'관리자 Setting'!$R$14,IF(AND($G234>='관리자 Setting'!$P$14,$H234>='관리자 Setting'!$Q$14),'관리자 Setting'!$Q$14-$G234,IF(AND($G234>='관리자 Setting'!$P$14,$H234<'관리자 Setting'!$Q$14),$H234-$G234,IF($G234>='관리자 Setting'!$Q$14,0,0))))))","v":"00:00:00"},{"$f":"IF(OR($H234<'관리자 Setting'!$P$15,$G234>='관리자 Setting'!$Q$15),0,IF(AND($G234<'관리자 Setting'!$P$15,$H234<'관리자 Setting'!$Q$15),$H234-'관리자 Setting'!$P$15,IF(AND($G234<'관리자 Setting'!$P$15,$H234>='관리자 Setting'!$Q$15),'관리자 Setting'!$R$15,IF(AND($G234>='관리자 Setting'!$P$15,$H234>='관리자 Setting'!$Q$15),'관리자 Setting'!$Q$15-$G234,IF(AND($G234>='관리자 Setting'!$P$15,$H234<'관리자 Setting'!$Q$15),$H234-$G234,IF($G234>='관리자 Setting'!$Q$15,0,0))))))","v":"00:00:00"},"",{"$f":"IFERROR(VLOOKUP($F234,'관리자 Setting'!$P$18:$Q$33,2,0)/24,\"\")","v":""}]
["","",{"$f":"IFERROR(DATE(LEFT('In-Put'!$B235,4),MID('In-Put'!$B235,5,2),RIGHT('In-Put'!$B235,2)),\"\")","v":""},{"$f":"IF($C235=\"\",\"\",COUNTIFS($C$2:$C$401,C235)-COUNTIFS($C$2:C235,C235))","v":""},{"$f":"IF($C235=\"\",\"\",COUNTIFS('관리자 Setting'!$P$18:$P$33,'설정_In-Put'!$F235))","v":""},{"$f":"'In-Put'!G235","v":0},{"$f":"IFERROR(IF('In-Put'!D235*1=0,\"\",'In-Put'!D235*1),\"\")","v":""},{"$f":"IFERROR(IF('In-Put'!E235*1=0,\"\",IF('In-Put'!E235*1<G235,'In-Put'!E235*1+1,'In-Put'!E235*1)),\"\")","v":""},{"$f":"IF(OR($H235<'관리자 Setting'!$P$14,$G235>='관리자 Setting'!$Q$14),0,IF(AND($G235<'관리자 Setting'!$P$14,$H235<'관리자 Setting'!$Q$14),$H235-'관리자 Setting'!$P$14,IF(AND($G235<'관리자 Setting'!$P$14,$H235>='관리자 Setting'!$Q$14),'관리자 Setting'!$R$14,IF(AND($G235>='관리자 Setting'!$P$14,$H235>='관리자 Setting'!$Q$14),'관리자 Setting'!$Q$14-$G235,IF(AND($G235>='관리자 Setting'!$P$14,$H235<'관리자 Setting'!$Q$14),$H235-$G235,IF($G235>='관리자 Setting'!$Q$14,0,0))))))","v":"00:00:00"},{"$f":"IF(OR($H235<'관리자 Setting'!$P$15,$G235>='관리자 Setting'!$Q$15),0,IF(AND($G235<'관리자 Setting'!$P$15,$H235<'관리자 Setting'!$Q$15),$H235-'관리자 Setting'!$P$15,IF(AND($G235<'관리자 Setting'!$P$15,$H235>='관리자 Setting'!$Q$15),'관리자 Setting'!$R$15,IF(AND($G235>='관리자 Setting'!$P$15,$H235>='관리자 Setting'!$Q$15),'관리자 Setting'!$Q$15-$G235,IF(AND($G235>='관리자 Setting'!$P$15,$H235<'관리자 Setting'!$Q$15),$H235-$G235,IF($G235>='관리자 Setting'!$Q$15,0,0))))))","v":"00:00:00"},"",{"$f":"IFERROR(VLOOKUP($F235,'관리자 Setting'!$P$18:$Q$33,2,0)/24,\"\")","v":""}]
["","",{"$f":"IFERROR(DATE(LEFT('In-Put'!$B236,4),MID('In-Put'!$B236,5,2),RIGHT('In-Put'!$B236,2)),\"\")","v":""},{"$f":"IF($C236=\"\",\"\",COUNTIFS($C$2:$C$401,C236)-COUNTIFS($C$2:C236,C236))","v":""},{"$f":"IF($C236=\"\",\"\",COUNTIFS('관리자 Setting'!$P$18:$P$33,'설정_In-Put'!$F236))","v":""},{"$f":"'In-Put'!G236","v":0},{"$f":"IFERROR(IF('In-Put'!D236*1=0,\"\",'In-Put'!D236*1),\"\")","v":""},{"$f":"IFERROR(IF('In-Put'!E236*1=0,\"\",IF('In-Put'!E236*1<G236,'In-Put'!E236*1+1,'In-Put'!E236*1)),\"\")","v":""},{"$f":"IF(OR($H236<'관리자 Setting'!$P$14,$G236>='관리자 Setting'!$Q$14),0,IF(AND($G236<'관리자 Setting'!$P$14,$H236<'관리자 Setting'!$Q$14),$H236-'관리자 Setting'!$P$14,IF(AND($G236<'관리자 Setting'!$P$14,$H236>='관리자 Setting'!$Q$14),'관리자 Setting'!$R$14,IF(AND($G236>='관리자 Setting'!$P$14,$H236>='관리자 Setting'!$Q$14),'관리자 Setting'!$Q$14-$G236,IF(AND($G236>='관리자 Setting'!$P$14,$H236<'관리자 Setting'!$Q$14),$H236-$G236,IF($G236>='관리자 Setting'!$Q$14,0,0))))))","v":"00:00:00"},{"$f":"IF(OR($H236<'관리자 Setting'!$P$15,$G236>='관리자 Setting'!$Q$15),0,IF(AND($G236<'관리자 Setting'!$P$15,$H236<'관리자 Setting'!$Q$15),$H236-'관리자 Setting'!$P$15,IF(AND($G236<'관리자 Setting'!$P$15,$H236>='관리자 Setting'!$Q$15),'관리자 Setting'!$R$15,IF(AND($G236>='관리자 Setting'!$P$15,$H236>='관리자 Setting'!$Q$15),'관리자 Setting'!$Q$15-$G236,IF(AND($G236>='관리자 Setting'!$P$15,$H236<'관리자 Setting'!$Q$15),$H236-$G236,IF($G236>='관리자 Setting'!$Q$15,0,0))))))","v":"00:00:00"},"",{"$f":"IFERROR(VLOOKUP($F236,'관리자 Setting'!$P$18:$Q$33,2,0)/24,\"\")","v":""}]
["","",{"$f":"IFERROR(DATE(LEFT('In-Put'!$B237,4),MID('In-Put'!$B237,5,2),RIGHT('In-Put'!$B237,2)),\"\")","v":""},{"$f":"IF($C237=\"\",\"\",COUNTIFS($C$2:$C$401,C237)-COUNTIFS($C$2:C237,C237))","v":""},{"$f":"IF($C237=\"\",\"\",COUNTIFS('관리자 Setting'!$P$18:$P$33,'설정_In-Put'!$F237))","v":""},{"$f":"'In-Put'!G237","v":0},{"$f":"IFERROR(IF('In-Put'!D237*1=0,\"\",'In-Put'!D237*1),\"\")","v":""},{"$f":"IFERROR(IF('In-Put'!E237*1=0,\"\",IF('In-Put'!E237*1<G237,'In-Put'!E237*1+1,'In-Put'!E237*1)),\"\")","v":""},{"$f":"IF(OR($H237<'관리자 Setting'!$P$14,$G237>='관리자 Setting'!$Q$14),0,IF(AND($G237<'관리자 Setting'!$P$14,$H237<'관리자 Setting'!$Q$14),$H237-'관리자 Setting'!$P$14,IF(AND($G237<'관리자 Setting'!$P$14,$H237>='관리자 Setting'!$Q$14),'관리자 Setting'!$R$14,IF(AND($G237>='관리자 Setting'!$P$14,$H237>='관리자 Setting'!$Q$14),'관리자 Setting'!$Q$14-$G237,IF(AND($G237>='관리자 Setting'!$P$14,$H237<'관리자 Setting'!$Q$14),$H237-$G237,IF($G237>='관리자 Setting'!$Q$14,0,0))))))","v":"00:00:00"},{"$f":"IF(OR($H237<'관리자 Setting'!$P$15,$G237>='관리자 Setting'!$Q$15),0,IF(AND($G237<'관리자 Setting'!$P$15,$H237<'관리자 Setting'!$Q$15),$H237-'관리자 Setting'!$P$15,IF(AND($G237<'관리자 Setting'!$P$15,$H237>='관리자 Setting'!$Q$15),'관리자 Setting'!$R$15,IF(AND($G237>='관리자 Setting'!$P$15,$H237>='관리자 Setting'!$Q$15),'관리자 Setting'!$Q$15-$G237,IF(AND($G237>='관리자 Setting'!$P$15,$H237<'관리자 Setting'!$Q$15),$H237-$G237,IF($G237>='관리자 Setting'!$Q$15,0,0))))))","v":"00:00:00"},"",{"$f":"IFERROR(VLOOKUP($F237,'관리자 Setting'!$P$18:$Q$33,2,0)/24,\"\")","v":""}]
["","",{"$f":"IFERROR(DATE(LEFT('In-Put'!$B238,4),MID('In-Put'!$B238,5,2),RIGHT('In-Put'!$B238,2)),\"\")","v":""},{"$f":"IF($C238=\"\",\"\",COUNTIFS($C$2:$C$401,C238)-COUNTIFS($C$2:C238,C238))","v":""},{"$f":"IF($C238=\"\",\"\",COUNTIFS('관리자 Setting'!$P$18:$P$33,'설정_In-Put'!$F238))","v":""},{"$f":"'In-Put'!G238","v":0},{"$f":"IFERROR(IF('In-Put'!D238*1=0,\"\",'In-Put'!D238*1),\"\")","v":""},{"$f":"IFERROR(IF('In-Put'!E238*1=0,\"\",IF('In-Put'!E238*1<G238,'In-Put'!E238*1+1,'In-Put'!E238*1)),\"\")","v":""},{"$f":"IF(OR($H238<'관리자 Setting'!$P$14,$G238>='관리자 Setting'!$Q$14),0,IF(AND($G238<'관리자 Setting'!$P$14,$H238<'관리자 Setting'!$Q$14),$H238-'관리자 Setting'!$P$14,IF(AND($G238<'관리자 Setting'!$P$14,$H238>='관리자 Setting'!$Q$14),'관리자 Setting'!$R$14,IF(AND($G238>='관리자 Setting'!$P$14,$H238>='관리자 Setting'!$Q$14),'관리자 Setting'!$Q$14-$G238,IF(AND($G238>='관리자 Setting'!$P$14,$H238<'관리자 Setting'!$Q$14),$H238-$G238,IF($G238>='관리자 Setting'!$Q$14,0,0))))))","v":"00:00:00"},{"$f":"IF(OR($H238<'관리자 Setting'!$P$15,$G238>='관리자 Setting'!$Q$15),0,IF(AND($G238<'관리자 Setting'!$P$15,$H238<'관리자 Setting'!$Q$15),$H238-'관리자 Setting'!$P$15,IF(AND($G238<'관리자 Setting'!$P$15,$H238>='관리자 Setting'!$Q$15),'관리자 Setting'!$R$15,IF(AND($G238>='관리자 Setting'!$P$15,$H238>='관리자 Setting'!$Q$15),'관리자 Setting'!$Q$15-$G238,IF(AND($G238>='관리자 Setting'!$P$15,$H238<'관리자 Setting'!$Q$15),$H238-$G238,IF($G238>='관리자 Setting'!$Q$15,0,0))))))","v":"00:00:00"},"",{"$f":"IFERROR(VLOOKUP($F238,'관리자 Setting'!$P$18:$Q$33,2,0)/24,\"\")","v":""}]
["","",{"$f":"IFERROR(DATE(LEFT('In-Put'!$B239,4),MID('In-Put'!$B239,5,2),RIGHT('In-Put'!$B239,2)),\"\")","v":""},{"$f":"IF($C239=\"\",\"\",COUNTIFS($C$2:$C$401,C239)-COUNTIFS($C$2:C239,C239))","v":""},{"$f":"IF($C239=\"\",\"\",COUNTIFS('관리자 Setting'!$P$18:$P$33,'설정_In-Put'!$F239))","v":""},{"$f":"'In-Put'!G239","v":0},{"$f":"IFERROR(IF('In-Put'!D239*1=0,\"\",'In-Put'!D239*1),\"\")","v":""},{"$f":"IFERROR(IF('In-Put'!E239*1=0,\"\",IF('In-Put'!E239*1<G239,'In-Put'!E239*1+1,'In-Put'!E239*1)),\"\")","v":""},{"$f":"IF(OR($H239<'관리자 Setting'!$P$14,$G239>='관리자 Setting'!$Q$14),0,IF(AND($G239<'관리자 Setting'!$P$14,$H239<'관리자 Setting'!$Q$14),$H239-'관리자 Setting'!$P$14,IF(AND($G239<'관리자 Setting'!$P$14,$H239>='관리자 Setting'!$Q$14),'관리자 Setting'!$R$14,IF(AND($G239>='관리자 Setting'!$P$14,$H239>='관리자 Setting'!$Q$14),'관리자 Setting'!$Q$14-$G239,IF(AND($G239>='관리자 Setting'!$P$14,$H239<'관리자 Setting'!$Q$14),$H239-$G239,IF($G239>='관리자 Setting'!$Q$14,0,0))))))","v":"00:00:00"},{"$f":"IF(OR($H239<'관리자 Setting'!$P$15,$G239>='관리자 Setting'!$Q$15),0,IF(AND($G239<'관리자 Setting'!$P$15,$H239<'관리자 Setting'!$Q$15),$H239-'관리자 Setting'!$P$15,IF(AND($G239<'관리자 Setting'!$P$15,$H239>='관리자 Setting'!$Q$15),'관리자 Setting'!$R$15,IF(AND($G239>='관리자 Setting'!$P$15,$H239>='관리자 Setting'!$Q$15),'관리자 Setting'!$Q$15-$G239,IF(AND($G239>='관리자 Setting'!$P$15,$H239<'관리자 Setting'!$Q$15),$H239-$G239,IF($G239>='관리자 Setting'!$Q$15,0,0))))))","v":"00:00:00"},"",{"$f":"IFERROR(VLOOKUP($F239,'관리자 Setting'!$P$18:$Q$33,2,0)/24,\"\")","v":""}]
["","",{"$f":"IFERROR(DATE(LEFT('In-Put'!$B240,4),MID('In-Put'!$B240,5,2),RIGHT('In-Put'!$B240,2)),\"\")","v":""},{"$f":"IF($C240=\"\",\"\",COUNTIFS($C$2:$C$401,C240)-COUNTIFS($C$2:C240,C240))","v":""},{"$f":"IF($C240=\"\",\"\",COUNTIFS('관리자 Setting'!$P$18:$P$33,'설정_In-Put'!$F240))","v":""},{"$f":"'In-Put'!G240","v":0},{"$f":"IFERROR(IF('In-Put'!D240*1=0,\"\",'In-Put'!D240*1),\"\")","v":""},{"$f":"IFERROR(IF('In-Put'!E240*1=0,\"\",IF('In-Put'!E240*1<G240,'In-Put'!E240*1+1,'In-Put'!E240*1)),\"\")","v":""},{"$f":"IF(OR($H240<'관리자 Setting'!$P$14,$G240>='관리자 Setting'!$Q$14),0,IF(AND($G240<'관리자 Setting'!$P$14,$H240<'관리자 Setting'!$Q$14),$H240-'관리자 Setting'!$P$14,IF(AND($G240<'관리자 Setting'!$P$14,$H240>='관리자 Setting'!$Q$14),'관리자 Setting'!$R$14,IF(AND($G240>='관리자 Setting'!$P$14,$H240>='관리자 Setting'!$Q$14),'관리자 Setting'!$Q$14-$G240,IF(AND($G240>='관리자 Setting'!$P$14,$H240<'관리자 Setting'!$Q$14),$H240-$G240,IF($G240>='관리자 Setting'!$Q$14,0,0))))))","v":"00:00:00"},{"$f":"IF(OR($H240<'관리자 Setting'!$P$15,$G240>='관리자 Setting'!$Q$15),0,IF(AND($G240<'관리자 Setting'!$P$15,$H240<'관리자 Setting'!$Q$15),$H240-'관리자 Setting'!$P$15,IF(AND($G240<'관리자 Setting'!$P$15,$H240>='관리자 Setting'!$Q$15),'관리자 Setting'!$R$15,IF(AND($G240>='관리자 Setting'!$P$15,$H240>='관리자 Setting'!$Q$15),'관리자 Setting'!$Q$15-$G240,IF(AND($G240>='관리자 Setting'!$P$15,$H240<'관리자 Setting'!$Q$15),$H240-$G240,IF($G240>='관리자 Setting'!$Q$15,0,0))))))","v":"00:00:00"},"",{"$f":"IFERROR(VLOOKUP($F240,'관리자 Setting'!$P$18:$Q$33,2,0)/24,\"\")","v":""}]
["","",{"$f":"IFERROR(DATE(LEFT('In-Put'!$B241,4),MID('In-Put'!$B241,5,2),RIGHT('In-Put'!$B241,2)),\"\")","v":""},{"$f":"IF($C241=\"\",\"\",COUNTIFS($C$2:$C$401,C241)-COUNTIFS($C$2:C241,C241))","v":""},{"$f":"IF($C241=\"\",\"\",COUNTIFS('관리자 Setting'!$P$18:$P$33,'설정_In-Put'!$F241))","v":""},{"$f":"'In-Put'!G241","v":0},{"$f":"IFERROR(IF('In-Put'!D241*1=0,\"\",'In-Put'!D241*1),\"\")","v":""},{"$f":"IFERROR(IF('In-Put'!E241*1=0,\"\",IF('In-Put'!E241*1<G241,'In-Put'!E241*1+1,'In-Put'!E241*1)),\"\")","v":""},{"$f":"IF(OR($H241<'관리자 Setting'!$P$14,$G241>='관리자 Setting'!$Q$14),0,IF(AND($G241<'관리자 Setting'!$P$14,$H241<'관리자 Setting'!$Q$14),$H241-'관리자 Setting'!$P$14,IF(AND($G241<'관리자 Setting'!$P$14,$H241>='관리자 Setting'!$Q$14),'관리자 Setting'!$R$14,IF(AND($G241>='관리자 Setting'!$P$14,$H241>='관리자 Setting'!$Q$14),'관리자 Setting'!$Q$14-$G241,IF(AND($G241>='관리자 Setting'!$P$14,$H241<'관리자 Setting'!$Q$14),$H241-$G241,IF($G241>='관리자 Setting'!$Q$14,0,0))))))","v":"00:00:00"},{"$f":"IF(OR($H241<'관리자 Setting'!$P$15,$G241>='관리자 Setting'!$Q$15),0,IF(AND($G241<'관리자 Setting'!$P$15,$H241<'관리자 Setting'!$Q$15),$H241-'관리자 Setting'!$P$15,IF(AND($G241<'관리자 Setting'!$P$15,$H241>='관리자 Setting'!$Q$15),'관리자 Setting'!$R$15,IF(AND($G241>='관리자 Setting'!$P$15,$H241>='관리자 Setting'!$Q$15),'관리자 Setting'!$Q$15-$G241,IF(AND($G241>='관리자 Setting'!$P$15,$H241<'관리자 Setting'!$Q$15),$H241-$G241,IF($G241>='관리자 Setting'!$Q$15,0,0))))))","v":"00:00:00"},"",{"$f":"IFERROR(VLOOKUP($F241,'관리자 Setting'!$P$18:$Q$33,2,0)/24,\"\")","v":""}]
["","",{"$f":"IFERROR(DATE(LEFT('In-Put'!$B242,4),MID('In-Put'!$B242,5,2),RIGHT('In-Put'!$B242,2)),\"\")","v":""},{"$f":"IF($C242=\"\",\"\",COUNTIFS($C$2:$C$401,C242)-COUNTIFS($C$2:C242,C242))","v":""},{"$f":"IF($C242=\"\",\"\",COUNTIFS('관리자 Setting'!$P$18:$P$33,'설정_In-Put'!$F242))","v":""},{"$f":"'In-Put'!G242","v":0},{"$f":"IFERROR(IF('In-Put'!D242*1=0,\"\",'In-Put'!D242*1),\"\")","v":""},{"$f":"IFERROR(IF('In-Put'!E242*1=0,\"\",IF('In-Put'!E242*1<G242,'In-Put'!E242*1+1,'In-Put'!E242*1)),\"\")","v":""},{"$f":"IF(OR($H242<'관리자 Setting'!$P$14,$G242>='관리자 Setting'!$Q$14),0,IF(AND($G242<'관리자 Setting'!$P$14,$H242<'관리자 Setting'!$Q$14),$H242-'관리자 Setting'!$P$14,IF(AND($G242<'관리자 Setting'!$P$14,$H242>='관리자 Setting'!$Q$14),'관리자 Setting'!$R$14,IF(AND($G242>='관리자 Setting'!$P$14,$H242>='관리자 Setting'!$Q$14),'관리자 Setting'!$Q$14-$G242,IF(AND($G242>='관리자 Setting'!$P$14,$H242<'관리자 Setting'!$Q$14),$H242-$G242,IF($G242>='관리자 Setting'!$Q$14,0,0))))))","v":"00:00:00"},{"$f":"IF(OR($H242<'관리자 Setting'!$P$15,$G242>='관리자 Setting'!$Q$15),0,IF(AND($G242<'관리자 Setting'!$P$15,$H242<'관리자 Setting'!$Q$15),$H242-'관리자 Setting'!$P$15,IF(AND($G242<'관리자 Setting'!$P$15,$H242>='관리자 Setting'!$Q$15),'관리자 Setting'!$R$15,IF(AND($G242>='관리자 Setting'!$P$15,$H242>='관리자 Setting'!$Q$15),'관리자 Setting'!$Q$15-$G242,IF(AND($G242>='관리자 Setting'!$P$15,$H242<'관리자 Setting'!$Q$15),$H242-$G242,IF($G242>='관리자 Setting'!$Q$15,0,0))))))","v":"00:00:00"},"",{"$f":"IFERROR(VLOOKUP($F242,'관리자 Setting'!$P$18:$Q$33,2,0)/24,\"\")","v":""}]
["","",{"$f":"IFERROR(DATE(LEFT('In-Put'!$B243,4),MID('In-Put'!$B243,5,2),RIGHT('In-Put'!$B243,2)),\"\")","v":""},{"$f":"IF($C243=\"\",\"\",COUNTIFS($C$2:$C$401,C243)-COUNTIFS($C$2:C243,C243))","v":""},{"$f":"IF($C243=\"\",\"\",COUNTIFS('관리자 Setting'!$P$18:$P$33,'설정_In-Put'!$F243))","v":""},{"$f":"'In-Put'!G243","v":0},{"$f":"IFERROR(IF('In-Put'!D243*1=0,\"\",'In-Put'!D243*1),\"\")","v":""},{"$f":"IFERROR(IF('In-Put'!E243*1=0,\"\",IF('In-Put'!E243*1<G243,'In-Put'!E243*1+1,'In-Put'!E243*1)),\"\")","v":""},{"$f":"IF(OR($H243<'관리자 Setting'!$P$14,$G243>='관리자 Setting'!$Q$14),0,IF(AND($G243<'관리자 Setting'!$P$14,$H243<'관리자 Setting'!$Q$14),$H243-'관리자 Setting'!$P$14,IF(AND($G243<'관리자 Setting'!$P$14,$H243>='관리자 Setting'!$Q$14),'관리자 Setting'!$R$14,IF(AND($G243>='관리자 Setting'!$P$14,$H243>='관리자 Setting'!$Q$14),'관리자 Setting'!$Q$14-$G243,IF(AND($G243>='관리자 Setting'!$P$14,$H243<'관리자 Setting'!$Q$14),$H243-$G243,IF($G243>='관리자 Setting'!$Q$14,0,0))))))","v":"00:00:00"},{"$f":"IF(OR($H243<'관리자 Setting'!$P$15,$G243>='관리자 Setting'!$Q$15),0,IF(AND($G243<'관리자 Setting'!$P$15,$H243<'관리자 Setting'!$Q$15),$H243-'관리자 Setting'!$P$15,IF(AND($G243<'관리자 Setting'!$P$15,$H243>='관리자 Setting'!$Q$15),'관리자 Setting'!$R$15,IF(AND($G243>='관리자 Setting'!$P$15,$H243>='관리자 Setting'!$Q$15),'관리자 Setting'!$Q$15-$G243,IF(AND($G243>='관리자 Setting'!$P$15,$H243<'관리자 Setting'!$Q$15),$H243-$G243,IF($G243>='관리자 Setting'!$Q$15,0,0))))))","v":"00:00:00"},"",{"$f":"IFERROR(VLOOKUP($F243,'관리자 Setting'!$P$18:$Q$33,2,0)/24,\"\")","v":""}]
["","",{"$f":"IFERROR(DATE(LEFT('In-Put'!$B244,4),MID('In-Put'!$B244,5,2),RIGHT('In-Put'!$B244,2)),\"\")","v":""},{"$f":"IF($C244=\"\",\"\",COUNTIFS($C$2:$C$401,C244)-COUNTIFS($C$2:C244,C244))","v":""},{"$f":"IF($C244=\"\",\"\",COUNTIFS('관리자 Setting'!$P$18:$P$33,'설정_In-Put'!$F244))","v":""},{"$f":"'In-Put'!G244","v":0},{"$f":"IFERROR(IF('In-Put'!D244*1=0,\"\",'In-Put'!D244*1),\"\")","v":""},{"$f":"IFERROR(IF('In-Put'!E244*1=0,\"\",IF('In-Put'!E244*1<G244,'In-Put'!E244*1+1,'In-Put'!E244*1)),\"\")","v":""},{"$f":"IF(OR($H244<'관리자 Setting'!$P$14,$G244>='관리자 Setting'!$Q$14),0,IF(AND($G244<'관리자 Setting'!$P$14,$H244<'관리자 Setting'!$Q$14),$H244-'관리자 Setting'!$P$14,IF(AND($G244<'관리자 Setting'!$P$14,$H244>='관리자 Setting'!$Q$14),'관리자 Setting'!$R$14,IF(AND($G244>='관리자 Setting'!$P$14,$H244>='관리자 Setting'!$Q$14),'관리자 Setting'!$Q$14-$G244,IF(AND($G244>='관리자 Setting'!$P$14,$H244<'관리자 Setting'!$Q$14),$H244-$G244,IF($G244>='관리자 Setting'!$Q$14,0,0))))))","v":"00:00:00"},{"$f":"IF(OR($H244<'관리자 Setting'!$P$15,$G244>='관리자 Setting'!$Q$15),0,IF(AND($G244<'관리자 Setting'!$P$15,$H244<'관리자 Setting'!$Q$15),$H244-'관리자 Setting'!$P$15,IF(AND($G244<'관리자 Setting'!$P$15,$H244>='관리자 Setting'!$Q$15),'관리자 Setting'!$R$15,IF(AND($G244>='관리자 Setting'!$P$15,$H244>='관리자 Setting'!$Q$15),'관리자 Setting'!$Q$15-$G244,IF(AND($G244>='관리자 Setting'!$P$15,$H244<'관리자 Setting'!$Q$15),$H244-$G244,IF($G244>='관리자 Setting'!$Q$15,0,0))))))","v":"00:00:00"},"",{"$f":"IFERROR(VLOOKUP($F244,'관리자 Setting'!$P$18:$Q$33,2,0)/24,\"\")","v":""}]
["","",{"$f":"IFERROR(DATE(LEFT('In-Put'!$B245,4),MID('In-Put'!$B245,5,2),RIGHT('In-Put'!$B245,2)),\"\")","v":""},{"$f":"IF($C245=\"\",\"\",COUNTIFS($C$2:$C$401,C245)-COUNTIFS($C$2:C245,C245))","v":""},{"$f":"IF($C245=\"\",\"\",COUNTIFS('관리자 Setting'!$P$18:$P$33,'설정_In-Put'!$F245))","v":""},{"$f":"'In-Put'!G245","v":0},{"$f":"IFERROR(IF('In-Put'!D245*1=0,\"\",'In-Put'!D245*1),\"\")","v":""},{"$f":"IFERROR(IF('In-Put'!E245*1=0,\"\",IF('In-Put'!E245*1<G245,'In-Put'!E245*1+1,'In-Put'!E245*1)),\"\")","v":""},{"$f":"IF(OR($H245<'관리자 Setting'!$P$14,$G245>='관리자 Setting'!$Q$14),0,IF(AND($G245<'관리자 Setting'!$P$14,$H245<'관리자 Setting'!$Q$14),$H245-'관리자 Setting'!$P$14,IF(AND($G245<'관리자 Setting'!$P$14,$H245>='관리자 Setting'!$Q$14),'관리자 Setting'!$R$14,IF(AND($G245>='관리자 Setting'!$P$14,$H245>='관리자 Setting'!$Q$14),'관리자 Setting'!$Q$14-$G245,IF(AND($G245>='관리자 Setting'!$P$14,$H245<'관리자 Setting'!$Q$14),$H245-$G245,IF($G245>='관리자 Setting'!$Q$14,0,0))))))","v":"00:00:00"},{"$f":"IF(OR($H245<'관리자 Setting'!$P$15,$G245>='관리자 Setting'!$Q$15),0,IF(AND($G245<'관리자 Setting'!$P$15,$H245<'관리자 Setting'!$Q$15),$H245-'관리자 Setting'!$P$15,IF(AND($G245<'관리자 Setting'!$P$15,$H245>='관리자 Setting'!$Q$15),'관리자 Setting'!$R$15,IF(AND($G245>='관리자 Setting'!$P$15,$H245>='관리자 Setting'!$Q$15),'관리자 Setting'!$Q$15-$G245,IF(AND($G245>='관리자 Setting'!$P$15,$H245<'관리자 Setting'!$Q$15),$H245-$G245,IF($G245>='관리자 Setting'!$Q$15,0,0))))))","v":"00:00:00"},"",{"$f":"IFERROR(VLOOKUP($F245,'관리자 Setting'!$P$18:$Q$33,2,0)/24,\"\")","v":""}]
["","",{"$f":"IFERROR(DATE(LEFT('In-Put'!$B246,4),MID('In-Put'!$B246,5,2),RIGHT('In-Put'!$B246,2)),\"\")","v":""},{"$f":"IF($C246=\"\",\"\",COUNTIFS($C$2:$C$401,C246)-COUNTIFS($C$2:C246,C246))","v":""},{"$f":"IF($C246=\"\",\"\",COUNTIFS('관리자 Setting'!$P$18:$P$33,'설정_In-Put'!$F246))","v":""},{"$f":"'In-Put'!G246","v":0},{"$f":"IFERROR(IF('In-Put'!D246*1=0,\"\",'In-Put'!D246*1),\"\")","v":""},{"$f":"IFERROR(IF('In-Put'!E246*1=0,\"\",IF('In-Put'!E246*1<G246,'In-Put'!E246*1+1,'In-Put'!E246*1)),\"\")","v":""},{"$f":"IF(OR($H246<'관리자 Setting'!$P$14,$G246>='관리자 Setting'!$Q$14),0,IF(AND($G246<'관리자 Setting'!$P$14,$H246<'관리자 Setting'!$Q$14),$H246-'관리자 Setting'!$P$14,IF(AND($G246<'관리자 Setting'!$P$14,$H246>='관리자 Setting'!$Q$14),'관리자 Setting'!$R$14,IF(AND($G246>='관리자 Setting'!$P$14,$H246>='관리자 Setting'!$Q$14),'관리자 Setting'!$Q$14-$G246,IF(AND($G246>='관리자 Setting'!$P$14,$H246<'관리자 Setting'!$Q$14),$H246-$G246,IF($G246>='관리자 Setting'!$Q$14,0,0))))))","v":"00:00:00"},{"$f":"IF(OR($H246<'관리자 Setting'!$P$15,$G246>='관리자 Setting'!$Q$15),0,IF(AND($G246<'관리자 Setting'!$P$15,$H246<'관리자 Setting'!$Q$15),$H246-'관리자 Setting'!$P$15,IF(AND($G246<'관리자 Setting'!$P$15,$H246>='관리자 Setting'!$Q$15),'관리자 Setting'!$R$15,IF(AND($G246>='관리자 Setting'!$P$15,$H246>='관리자 Setting'!$Q$15),'관리자 Setting'!$Q$15-$G246,IF(AND($G246>='관리자 Setting'!$P$15,$H246<'관리자 Setting'!$Q$15),$H246-$G246,IF($G246>='관리자 Setting'!$Q$15,0,0))))))","v":"00:00:00"},"",{"$f":"IFERROR(VLOOKUP($F246,'관리자 Setting'!$P$18:$Q$33,2,0)/24,\"\")","v":""}]
["","",{"$f":"IFERROR(DATE(LEFT('In-Put'!$B247,4),MID('In-Put'!$B247,5,2),RIGHT('In-Put'!$B247,2)),\"\")","v":""},{"$f":"IF($C247=\"\",\"\",COUNTIFS($C$2:$C$401,C247)-COUNTIFS($C$2:C247,C247))","v":""},{"$f":"IF($C247=\"\",\"\",COUNTIFS('관리자 Setting'!$P$18:$P$33,'설정_In-Put'!$F247))","v":""},{"$f":"'In-Put'!G247","v":0},{"$f":"IFERROR(IF('In-Put'!D247*1=0,\"\",'In-Put'!D247*1),\"\")","v":""},{"$f":"IFERROR(IF('In-Put'!E247*1=0,\"\",IF('In-Put'!E247*1<G247,'In-Put'!E247*1+1,'In-Put'!E247*1)),\"\")","v":""},{"$f":"IF(OR($H247<'관리자 Setting'!$P$14,$G247>='관리자 Setting'!$Q$14),0,IF(AND($G247<'관리자 Setting'!$P$14,$H247<'관리자 Setting'!$Q$14),$H247-'관리자 Setting'!$P$14,IF(AND($G247<'관리자 Setting'!$P$14,$H247>='관리자 Setting'!$Q$14),'관리자 Setting'!$R$14,IF(AND($G247>='관리자 Setting'!$P$14,$H247>='관리자 Setting'!$Q$14),'관리자 Setting'!$Q$14-$G247,IF(AND($G247>='관리자 Setting'!$P$14,$H247<'관리자 Setting'!$Q$14),$H247-$G247,IF($G247>='관리자 Setting'!$Q$14,0,0))))))","v":"00:00:00"},{"$f":"IF(OR($H247<'관리자 Setting'!$P$15,$G247>='관리자 Setting'!$Q$15),0,IF(AND($G247<'관리자 Setting'!$P$15,$H247<'관리자 Setting'!$Q$15),$H247-'관리자 Setting'!$P$15,IF(AND($G247<'관리자 Setting'!$P$15,$H247>='관리자 Setting'!$Q$15),'관리자 Setting'!$R$15,IF(AND($G247>='관리자 Setting'!$P$15,$H247>='관리자 Setting'!$Q$15),'관리자 Setting'!$Q$15-$G247,IF(AND($G247>='관리자 Setting'!$P$15,$H247<'관리자 Setting'!$Q$15),$H247-$G247,IF($G247>='관리자 Setting'!$Q$15,0,0))))))","v":"00:00:00"},"",{"$f":"IFERROR(VLOOKUP($F247,'관리자 Setting'!$P$18:$Q$33,2,0)/24,\"\")","v":""}]
["","",{"$f":"IFERROR(DATE(LEFT('In-Put'!$B248,4),MID('In-Put'!$B248,5,2),RIGHT('In-Put'!$B248,2)),\"\")","v":""},{"$f":"IF($C248=\"\",\"\",COUNTIFS($C$2:$C$401,C248)-COUNTIFS($C$2:C248,C248))","v":""},{"$f":"IF($C248=\"\",\"\",COUNTIFS('관리자 Setting'!$P$18:$P$33,'설정_In-Put'!$F248))","v":""},{"$f":"'In-Put'!G248","v":0},{"$f":"IFERROR(IF('In-Put'!D248*1=0,\"\",'In-Put'!D248*1),\"\")","v":""},{"$f":"IFERROR(IF('In-Put'!E248*1=0,\"\",IF('In-Put'!E248*1<G248,'In-Put'!E248*1+1,'In-Put'!E248*1)),\"\")","v":""},{"$f":"IF(OR($H248<'관리자 Setting'!$P$14,$G248>='관리자 Setting'!$Q$14),0,IF(AND($G248<'관리자 Setting'!$P$14,$H248<'관리자 Setting'!$Q$14),$H248-'관리자 Setting'!$P$14,IF(AND($G248<'관리자 Setting'!$P$14,$H248>='관리자 Setting'!$Q$14),'관리자 Setting'!$R$14,IF(AND($G248>='관리자 Setting'!$P$14,$H248>='관리자 Setting'!$Q$14),'관리자 Setting'!$Q$14-$G248,IF(AND($G248>='관리자 Setting'!$P$14,$H248<'관리자 Setting'!$Q$14),$H248-$G248,IF($G248>='관리자 Setting'!$Q$14,0,0))))))","v":"00:00:00"},{"$f":"IF(OR($H248<'관리자 Setting'!$P$15,$G248>='관리자 Setting'!$Q$15),0,IF(AND($G248<'관리자 Setting'!$P$15,$H248<'관리자 Setting'!$Q$15),$H248-'관리자 Setting'!$P$15,IF(AND($G248<'관리자 Setting'!$P$15,$H248>='관리자 Setting'!$Q$15),'관리자 Setting'!$R$15,IF(AND($G248>='관리자 Setting'!$P$15,$H248>='관리자 Setting'!$Q$15),'관리자 Setting'!$Q$15-$G248,IF(AND($G248>='관리자 Setting'!$P$15,$H248<'관리자 Setting'!$Q$15),$H248-$G248,IF($G248>='관리자 Setting'!$Q$15,0,0))))))","v":"00:00:00"},"",{"$f":"IFERROR(VLOOKUP($F248,'관리자 Setting'!$P$18:$Q$33,2,0)/24,\"\")","v":""}]
["","",{"$f":"IFERROR(DATE(LEFT('In-Put'!$B249,4),MID('In-Put'!$B249,5,2),RIGHT('In-Put'!$B249,2)),\"\")","v":""},{"$f":"IF($C249=\"\",\"\",COUNTIFS($C$2:$C$401,C249)-COUNTIFS($C$2:C249,C249))","v":""},{"$f":"IF($C249=\"\",\"\",COUNTIFS('관리자 Setting'!$P$18:$P$33,'설정_In-Put'!$F249))","v":""},{"$f":"'In-Put'!G249","v":0},{"$f":"IFERROR(IF('In-Put'!D249*1=0,\"\",'In-Put'!D249*1),\"\")","v":""},{"$f":"IFERROR(IF('In-Put'!E249*1=0,\"\",IF('In-Put'!E249*1<G249,'In-Put'!E249*1+1,'In-Put'!E249*1)),\"\")","v":""},{"$f":"IF(OR($H249<'관리자 Setting'!$P$14,$G249>='관리자 Setting'!$Q$14),0,IF(AND($G249<'관리자 Setting'!$P$14,$H249<'관리자 Setting'!$Q$14),$H249-'관리자 Setting'!$P$14,IF(AND($G249<'관리자 Setting'!$P$14,$H249>='관리자 Setting'!$Q$14),'관리자 Setting'!$R$14,IF(AND($G249>='관리자 Setting'!$P$14,$H249>='관리자 Setting'!$Q$14),'관리자 Setting'!$Q$14-$G249,IF(AND($G249>='관리자 Setting'!$P$14,$H249<'관리자 Setting'!$Q$14),$H249-$G249,IF($G249>='관리자 Setting'!$Q$14,0,0))))))","v":"00:00:00"},{"$f":"IF(OR($H249<'관리자 Setting'!$P$15,$G249>='관리자 Setting'!$Q$15),0,IF(AND($G249<'관리자 Setting'!$P$15,$H249<'관리자 Setting'!$Q$15),$H249-'관리자 Setting'!$P$15,IF(AND($G249<'관리자 Setting'!$P$15,$H249>='관리자 Setting'!$Q$15),'관리자 Setting'!$R$15,IF(AND($G249>='관리자 Setting'!$P$15,$H249>='관리자 Setting'!$Q$15),'관리자 Setting'!$Q$15-$G249,IF(AND($G249>='관리자 Setting'!$P$15,$H249<'관리자 Setting'!$Q$15),$H249-$G249,IF($G249>='관리자 Setting'!$Q$15,0,0))))))","v":"00:00:00"},"",{"$f":"IFERROR(VLOOKUP($F249,'관리자 Setting'!$P$18:$Q$33,2,0)/24,\"\")","v":""}]
["","",{"$f":"IFERROR(DATE(LEFT('In-Put'!$B250,4),MID('In-Put'!$B250,5,2),RIGHT('In-Put'!$B250,2)),\"\")","v":""},{"$f":"IF($C250=\"\",\"\",COUNTIFS($C$2:$C$401,C250)-COUNTIFS($C$2:C250,C250))","v":""},{"$f":"IF($C250=\"\",\"\",COUNTIFS('관리자 Setting'!$P$18:$P$33,'설정_In-Put'!$F250))","v":""},{"$f":"'In-Put'!G250","v":0},{"$f":"IFERROR(IF('In-Put'!D250*1=0,\"\",'In-Put'!D250*1),\"\")","v":""},{"$f":"IFERROR(IF('In-Put'!E250*1=0,\"\",IF('In-Put'!E250*1<G250,'In-Put'!E250*1+1,'In-Put'!E250*1)),\"\")","v":""},{"$f":"IF(OR($H250<'관리자 Setting'!$P$14,$G250>='관리자 Setting'!$Q$14),0,IF(AND($G250<'관리자 Setting'!$P$14,$H250<'관리자 Setting'!$Q$14),$H250-'관리자 Setting'!$P$14,IF(AND($G250<'관리자 Setting'!$P$14,$H250>='관리자 Setting'!$Q$14),'관리자 Setting'!$R$14,IF(AND($G250>='관리자 Setting'!$P$14,$H250>='관리자 Setting'!$Q$14),'관리자 Setting'!$Q$14-$G250,IF(AND($G250>='관리자 Setting'!$P$14,$H250<'관리자 Setting'!$Q$14),$H250-$G250,IF($G250>='관리자 Setting'!$Q$14,0,0))))))","v":"00:00:00"},{"$f":"IF(OR($H250<'관리자 Setting'!$P$15,$G250>='관리자 Setting'!$Q$15),0,IF(AND($G250<'관리자 Setting'!$P$15,$H250<'관리자 Setting'!$Q$15),$H250-'관리자 Setting'!$P$15,IF(AND($G250<'관리자 Setting'!$P$15,$H250>='관리자 Setting'!$Q$15),'관리자 Setting'!$R$15,IF(AND($G250>='관리자 Setting'!$P$15,$H250>='관리자 Setting'!$Q$15),'관리자 Setting'!$Q$15-$G250,IF(AND($G250>='관리자 Setting'!$P$15,$H250<'관리자 Setting'!$Q$15),$H250-$G250,IF($G250>='관리자 Setting'!$Q$15,0,0))))))","v":"00:00:00"},"",{"$f":"IFERROR(VLOOKUP($F250,'관리자 Setting'!$P$18:$Q$33,2,0)/24,\"\")","v":""}]
["","",{"$f":"IFERROR(DATE(LEFT('In-Put'!$B251,4),MID('In-Put'!$B251,5,2),RIGHT('In-Put'!$B251,2)),\"\")","v":""},{"$f":"IF($C251=\"\",\"\",COUNTIFS($C$2:$C$401,C251)-COUNTIFS($C$2:C251,C251))","v":""},{"$f":"IF($C251=\"\",\"\",COUNTIFS('관리자 Setting'!$P$18:$P$33,'설정_In-Put'!$F251))","v":""},{"$f":"'In-Put'!G251","v":0},{"$f":"IFERROR(IF('In-Put'!D251*1=0,\"\",'In-Put'!D251*1),\"\")","v":""},{"$f":"IFERROR(IF('In-Put'!E251*1=0,\"\",IF('In-Put'!E251*1<G251,'In-Put'!E251*1+1,'In-Put'!E251*1)),\"\")","v":""},{"$f":"IF(OR($H251<'관리자 Setting'!$P$14,$G251>='관리자 Setting'!$Q$14),0,IF(AND($G251<'관리자 Setting'!$P$14,$H251<'관리자 Setting'!$Q$14),$H251-'관리자 Setting'!$P$14,IF(AND($G251<'관리자 Setting'!$P$14,$H251>='관리자 Setting'!$Q$14),'관리자 Setting'!$R$14,IF(AND($G251>='관리자 Setting'!$P$14,$H251>='관리자 Setting'!$Q$14),'관리자 Setting'!$Q$14-$G251,IF(AND($G251>='관리자 Setting'!$P$14,$H251<'관리자 Setting'!$Q$14),$H251-$G251,IF($G251>='관리자 Setting'!$Q$14,0,0))))))","v":"00:00:00"},{"$f":"IF(OR($H251<'관리자 Setting'!$P$15,$G251>='관리자 Setting'!$Q$15),0,IF(AND($G251<'관리자 Setting'!$P$15,$H251<'관리자 Setting'!$Q$15),$H251-'관리자 Setting'!$P$15,IF(AND($G251<'관리자 Setting'!$P$15,$H251>='관리자 Setting'!$Q$15),'관리자 Setting'!$R$15,IF(AND($G251>='관리자 Setting'!$P$15,$H251>='관리자 Setting'!$Q$15),'관리자 Setting'!$Q$15-$G251,IF(AND($G251>='관리자 Setting'!$P$15,$H251<'관리자 Setting'!$Q$15),$H251-$G251,IF($G251>='관리자 Setting'!$Q$15,0,0))))))","v":"00:00:00"},"",{"$f":"IFERROR(VLOOKUP($F251,'관리자 Setting'!$P$18:$Q$33,2,0)/24,\"\")","v":""}]
["","",{"$f":"IFERROR(DATE(LEFT('In-Put'!$B252,4),MID('In-Put'!$B252,5,2),RIGHT('In-Put'!$B252,2)),\"\")","v":""},{"$f":"IF($C252=\"\",\"\",COUNTIFS($C$2:$C$401,C252)-COUNTIFS($C$2:C252,C252))","v":""},{"$f":"IF($C252=\"\",\"\",COUNTIFS('관리자 Setting'!$P$18:$P$33,'설정_In-Put'!$F252))","v":""},{"$f":"'In-Put'!G252","v":0},{"$f":"IFERROR(IF('In-Put'!D252*1=0,\"\",'In-Put'!D252*1),\"\")","v":""},{"$f":"IFERROR(IF('In-Put'!E252*1=0,\"\",IF('In-Put'!E252*1<G252,'In-Put'!E252*1+1,'In-Put'!E252*1)),\"\")","v":""},{"$f":"IF(OR($H252<'관리자 Setting'!$P$14,$G252>='관리자 Setting'!$Q$14),0,IF(AND($G252<'관리자 Setting'!$P$14,$H252<'관리자 Setting'!$Q$14),$H252-'관리자 Setting'!$P$14,IF(AND($G252<'관리자 Setting'!$P$14,$H252>='관리자 Setting'!$Q$14),'관리자 Setting'!$R$14,IF(AND($G252>='관리자 Setting'!$P$14,$H252>='관리자 Setting'!$Q$14),'관리자 Setting'!$Q$14-$G252,IF(AND($G252>='관리자 Setting'!$P$14,$H252<'관리자 Setting'!$Q$14),$H252-$G252,IF($G252>='관리자 Setting'!$Q$14,0,0))))))","v":"00:00:00"},{"$f":"IF(OR($H252<'관리자 Setting'!$P$15,$G252>='관리자 Setting'!$Q$15),0,IF(AND($G252<'관리자 Setting'!$P$15,$H252<'관리자 Setting'!$Q$15),$H252-'관리자 Setting'!$P$15,IF(AND($G252<'관리자 Setting'!$P$15,$H252>='관리자 Setting'!$Q$15),'관리자 Setting'!$R$15,IF(AND($G252>='관리자 Setting'!$P$15,$H252>='관리자 Setting'!$Q$15),'관리자 Setting'!$Q$15-$G252,IF(AND($G252>='관리자 Setting'!$P$15,$H252<'관리자 Setting'!$Q$15),$H252-$G252,IF($G252>='관리자 Setting'!$Q$15,0,0))))))","v":"00:00:00"},"",{"$f":"IFERROR(VLOOKUP($F252,'관리자 Setting'!$P$18:$Q$33,2,0)/24,\"\")","v":""}]
["","",{"$f":"IFERROR(DATE(LEFT('In-Put'!$B253,4),MID('In-Put'!$B253,5,2),RIGHT('In-Put'!$B253,2)),\"\")","v":""},{"$f":"IF($C253=\"\",\"\",COUNTIFS($C$2:$C$401,C253)-COUNTIFS($C$2:C253,C253))","v":""},{"$f":"IF($C253=\"\",\"\",COUNTIFS('관리자 Setting'!$P$18:$P$33,'설정_In-Put'!$F253))","v":""},{"$f":"'In-Put'!G253","v":0},{"$f":"IFERROR(IF('In-Put'!D253*1=0,\"\",'In-Put'!D253*1),\"\")","v":""},{"$f":"IFERROR(IF('In-Put'!E253*1=0,\"\",IF('In-Put'!E253*1<G253,'In-Put'!E253*1+1,'In-Put'!E253*1)),\"\")","v":""},{"$f":"IF(OR($H253<'관리자 Setting'!$P$14,$G253>='관리자 Setting'!$Q$14),0,IF(AND($G253<'관리자 Setting'!$P$14,$H253<'관리자 Setting'!$Q$14),$H253-'관리자 Setting'!$P$14,IF(AND($G253<'관리자 Setting'!$P$14,$H253>='관리자 Setting'!$Q$14),'관리자 Setting'!$R$14,IF(AND($G253>='관리자 Setting'!$P$14,$H253>='관리자 Setting'!$Q$14),'관리자 Setting'!$Q$14-$G253,IF(AND($G253>='관리자 Setting'!$P$14,$H253<'관리자 Setting'!$Q$14),$H253-$G253,IF($G253>='관리자 Setting'!$Q$14,0,0))))))","v":"00:00:00"},{"$f":"IF(OR($H253<'관리자 Setting'!$P$15,$G253>='관리자 Setting'!$Q$15),0,IF(AND($G253<'관리자 Setting'!$P$15,$H253<'관리자 Setting'!$Q$15),$H253-'관리자 Setting'!$P$15,IF(AND($G253<'관리자 Setting'!$P$15,$H253>='관리자 Setting'!$Q$15),'관리자 Setting'!$R$15,IF(AND($G253>='관리자 Setting'!$P$15,$H253>='관리자 Setting'!$Q$15),'관리자 Setting'!$Q$15-$G253,IF(AND($G253>='관리자 Setting'!$P$15,$H253<'관리자 Setting'!$Q$15),$H253-$G253,IF($G253>='관리자 Setting'!$Q$15,0,0))))))","v":"00:00:00"},"",{"$f":"IFERROR(VLOOKUP($F253,'관리자 Setting'!$P$18:$Q$33,2,0)/24,\"\")","v":""}]
["","",{"$f":"IFERROR(DATE(LEFT('In-Put'!$B254,4),MID('In-Put'!$B254,5,2),RIGHT('In-Put'!$B254,2)),\"\")","v":""},{"$f":"IF($C254=\"\",\"\",COUNTIFS($C$2:$C$401,C254)-COUNTIFS($C$2:C254,C254))","v":""},{"$f":"IF($C254=\"\",\"\",COUNTIFS('관리자 Setting'!$P$18:$P$33,'설정_In-Put'!$F254))","v":""},{"$f":"'In-Put'!G254","v":0},{"$f":"IFERROR(IF('In-Put'!D254*1=0,\"\",'In-Put'!D254*1),\"\")","v":""},{"$f":"IFERROR(IF('In-Put'!E254*1=0,\"\",IF('In-Put'!E254*1<G254,'In-Put'!E254*1+1,'In-Put'!E254*1)),\"\")","v":""},{"$f":"IF(OR($H254<'관리자 Setting'!$P$14,$G254>='관리자 Setting'!$Q$14),0,IF(AND($G254<'관리자 Setting'!$P$14,$H254<'관리자 Setting'!$Q$14),$H254-'관리자 Setting'!$P$14,IF(AND($G254<'관리자 Setting'!$P$14,$H254>='관리자 Setting'!$Q$14),'관리자 Setting'!$R$14,IF(AND($G254>='관리자 Setting'!$P$14,$H254>='관리자 Setting'!$Q$14),'관리자 Setting'!$Q$14-$G254,IF(AND($G254>='관리자 Setting'!$P$14,$H254<'관리자 Setting'!$Q$14),$H254-$G254,IF($G254>='관리자 Setting'!$Q$14,0,0))))))","v":"00:00:00"},{"$f":"IF(OR($H254<'관리자 Setting'!$P$15,$G254>='관리자 Setting'!$Q$15),0,IF(AND($G254<'관리자 Setting'!$P$15,$H254<'관리자 Setting'!$Q$15),$H254-'관리자 Setting'!$P$15,IF(AND($G254<'관리자 Setting'!$P$15,$H254>='관리자 Setting'!$Q$15),'관리자 Setting'!$R$15,IF(AND($G254>='관리자 Setting'!$P$15,$H254>='관리자 Setting'!$Q$15),'관리자 Setting'!$Q$15-$G254,IF(AND($G254>='관리자 Setting'!$P$15,$H254<'관리자 Setting'!$Q$15),$H254-$G254,IF($G254>='관리자 Setting'!$Q$15,0,0))))))","v":"00:00:00"},"",{"$f":"IFERROR(VLOOKUP($F254,'관리자 Setting'!$P$18:$Q$33,2,0)/24,\"\")","v":""}]
["","",{"$f":"IFERROR(DATE(LEFT('In-Put'!$B255,4),MID('In-Put'!$B255,5,2),RIGHT('In-Put'!$B255,2)),\"\")","v":""},{"$f":"IF($C255=\"\",\"\",COUNTIFS($C$2:$C$401,C255)-COUNTIFS($C$2:C255,C255))","v":""},{"$f":"IF($C255=\"\",\"\",COUNTIFS('관리자 Setting'!$P$18:$P$33,'설정_In-Put'!$F255))","v":""},{"$f":"'In-Put'!G255","v":0},{"$f":"IFERROR(IF('In-Put'!D255*1=0,\"\",'In-Put'!D255*1),\"\")","v":""},{"$f":"IFERROR(IF('In-Put'!E255*1=0,\"\",IF('In-Put'!E255*1<G255,'In-Put'!E255*1+1,'In-Put'!E255*1)),\"\")","v":""},{"$f":"IF(OR($H255<'관리자 Setting'!$P$14,$G255>='관리자 Setting'!$Q$14),0,IF(AND($G255<'관리자 Setting'!$P$14,$H255<'관리자 Setting'!$Q$14),$H255-'관리자 Setting'!$P$14,IF(AND($G255<'관리자 Setting'!$P$14,$H255>='관리자 Setting'!$Q$14),'관리자 Setting'!$R$14,IF(AND($G255>='관리자 Setting'!$P$14,$H255>='관리자 Setting'!$Q$14),'관리자 Setting'!$Q$14-$G255,IF(AND($G255>='관리자 Setting'!$P$14,$H255<'관리자 Setting'!$Q$14),$H255-$G255,IF($G255>='관리자 Setting'!$Q$14,0,0))))))","v":"00:00:00"},{"$f":"IF(OR($H255<'관리자 Setting'!$P$15,$G255>='관리자 Setting'!$Q$15),0,IF(AND($G255<'관리자 Setting'!$P$15,$H255<'관리자 Setting'!$Q$15),$H255-'관리자 Setting'!$P$15,IF(AND($G255<'관리자 Setting'!$P$15,$H255>='관리자 Setting'!$Q$15),'관리자 Setting'!$R$15,IF(AND($G255>='관리자 Setting'!$P$15,$H255>='관리자 Setting'!$Q$15),'관리자 Setting'!$Q$15-$G255,IF(AND($G255>='관리자 Setting'!$P$15,$H255<'관리자 Setting'!$Q$15),$H255-$G255,IF($G255>='관리자 Setting'!$Q$15,0,0))))))","v":"00:00:00"},"",{"$f":"IFERROR(VLOOKUP($F255,'관리자 Setting'!$P$18:$Q$33,2,0)/24,\"\")","v":""}]
["","",{"$f":"IFERROR(DATE(LEFT('In-Put'!$B256,4),MID('In-Put'!$B256,5,2),RIGHT('In-Put'!$B256,2)),\"\")","v":""},{"$f":"IF($C256=\"\",\"\",COUNTIFS($C$2:$C$401,C256)-COUNTIFS($C$2:C256,C256))","v":""},{"$f":"IF($C256=\"\",\"\",COUNTIFS('관리자 Setting'!$P$18:$P$33,'설정_In-Put'!$F256))","v":""},{"$f":"'In-Put'!G256","v":0},{"$f":"IFERROR(IF('In-Put'!D256*1=0,\"\",'In-Put'!D256*1),\"\")","v":""},{"$f":"IFERROR(IF('In-Put'!E256*1=0,\"\",IF('In-Put'!E256*1<G256,'In-Put'!E256*1+1,'In-Put'!E256*1)),\"\")","v":""},{"$f":"IF(OR($H256<'관리자 Setting'!$P$14,$G256>='관리자 Setting'!$Q$14),0,IF(AND($G256<'관리자 Setting'!$P$14,$H256<'관리자 Setting'!$Q$14),$H256-'관리자 Setting'!$P$14,IF(AND($G256<'관리자 Setting'!$P$14,$H256>='관리자 Setting'!$Q$14),'관리자 Setting'!$R$14,IF(AND($G256>='관리자 Setting'!$P$14,$H256>='관리자 Setting'!$Q$14),'관리자 Setting'!$Q$14-$G256,IF(AND($G256>='관리자 Setting'!$P$14,$H256<'관리자 Setting'!$Q$14),$H256-$G256,IF($G256>='관리자 Setting'!$Q$14,0,0))))))","v":"00:00:00"},{"$f":"IF(OR($H256<'관리자 Setting'!$P$15,$G256>='관리자 Setting'!$Q$15),0,IF(AND($G256<'관리자 Setting'!$P$15,$H256<'관리자 Setting'!$Q$15),$H256-'관리자 Setting'!$P$15,IF(AND($G256<'관리자 Setting'!$P$15,$H256>='관리자 Setting'!$Q$15),'관리자 Setting'!$R$15,IF(AND($G256>='관리자 Setting'!$P$15,$H256>='관리자 Setting'!$Q$15),'관리자 Setting'!$Q$15-$G256,IF(AND($G256>='관리자 Setting'!$P$15,$H256<'관리자 Setting'!$Q$15),$H256-$G256,IF($G256>='관리자 Setting'!$Q$15,0,0))))))","v":"00:00:00"},"",{"$f":"IFERROR(VLOOKUP($F256,'관리자 Setting'!$P$18:$Q$33,2,0)/24,\"\")","v":""}]
["","",{"$f":"IFERROR(DATE(LEFT('In-Put'!$B257,4),MID('In-Put'!$B257,5,2),RIGHT('In-Put'!$B257,2)),\"\")","v":""},{"$f":"IF($C257=\"\",\"\",COUNTIFS($C$2:$C$401,C257)-COUNTIFS($C$2:C257,C257))","v":""},{"$f":"IF($C257=\"\",\"\",COUNTIFS('관리자 Setting'!$P$18:$P$33,'설정_In-Put'!$F257))","v":""},{"$f":"'In-Put'!G257","v":0},{"$f":"IFERROR(IF('In-Put'!D257*1=0,\"\",'In-Put'!D257*1),\"\")","v":""},{"$f":"IFERROR(IF('In-Put'!E257*1=0,\"\",IF('In-Put'!E257*1<G257,'In-Put'!E257*1+1,'In-Put'!E257*1)),\"\")","v":""},{"$f":"IF(OR($H257<'관리자 Setting'!$P$14,$G257>='관리자 Setting'!$Q$14),0,IF(AND($G257<'관리자 Setting'!$P$14,$H257<'관리자 Setting'!$Q$14),$H257-'관리자 Setting'!$P$14,IF(AND($G257<'관리자 Setting'!$P$14,$H257>='관리자 Setting'!$Q$14),'관리자 Setting'!$R$14,IF(AND($G257>='관리자 Setting'!$P$14,$H257>='관리자 Setting'!$Q$14),'관리자 Setting'!$Q$14-$G257,IF(AND($G257>='관리자 Setting'!$P$14,$H257<'관리자 Setting'!$Q$14),$H257-$G257,IF($G257>='관리자 Setting'!$Q$14,0,0))))))","v":"00:00:00"},{"$f":"IF(OR($H257<'관리자 Setting'!$P$15,$G257>='관리자 Setting'!$Q$15),0,IF(AND($G257<'관리자 Setting'!$P$15,$H257<'관리자 Setting'!$Q$15),$H257-'관리자 Setting'!$P$15,IF(AND($G257<'관리자 Setting'!$P$15,$H257>='관리자 Setting'!$Q$15),'관리자 Setting'!$R$15,IF(AND($G257>='관리자 Setting'!$P$15,$H257>='관리자 Setting'!$Q$15),'관리자 Setting'!$Q$15-$G257,IF(AND($G257>='관리자 Setting'!$P$15,$H257<'관리자 Setting'!$Q$15),$H257-$G257,IF($G257>='관리자 Setting'!$Q$15,0,0))))))","v":"00:00:00"},"",{"$f":"IFERROR(VLOOKUP($F257,'관리자 Setting'!$P$18:$Q$33,2,0)/24,\"\")","v":""}]
["","",{"$f":"IFERROR(DATE(LEFT('In-Put'!$B258,4),MID('In-Put'!$B258,5,2),RIGHT('In-Put'!$B258,2)),\"\")","v":""},{"$f":"IF($C258=\"\",\"\",COUNTIFS($C$2:$C$401,C258)-COUNTIFS($C$2:C258,C258))","v":""},{"$f":"IF($C258=\"\",\"\",COUNTIFS('관리자 Setting'!$P$18:$P$33,'설정_In-Put'!$F258))","v":""},{"$f":"'In-Put'!G258","v":0},{"$f":"IFERROR(IF('In-Put'!D258*1=0,\"\",'In-Put'!D258*1),\"\")","v":""},{"$f":"IFERROR(IF('In-Put'!E258*1=0,\"\",IF('In-Put'!E258*1<G258,'In-Put'!E258*1+1,'In-Put'!E258*1)),\"\")","v":""},{"$f":"IF(OR($H258<'관리자 Setting'!$P$14,$G258>='관리자 Setting'!$Q$14),0,IF(AND($G258<'관리자 Setting'!$P$14,$H258<'관리자 Setting'!$Q$14),$H258-'관리자 Setting'!$P$14,IF(AND($G258<'관리자 Setting'!$P$14,$H258>='관리자 Setting'!$Q$14),'관리자 Setting'!$R$14,IF(AND($G258>='관리자 Setting'!$P$14,$H258>='관리자 Setting'!$Q$14),'관리자 Setting'!$Q$14-$G258,IF(AND($G258>='관리자 Setting'!$P$14,$H258<'관리자 Setting'!$Q$14),$H258-$G258,IF($G258>='관리자 Setting'!$Q$14,0,0))))))","v":"00:00:00"},{"$f":"IF(OR($H258<'관리자 Setting'!$P$15,$G258>='관리자 Setting'!$Q$15),0,IF(AND($G258<'관리자 Setting'!$P$15,$H258<'관리자 Setting'!$Q$15),$H258-'관리자 Setting'!$P$15,IF(AND($G258<'관리자 Setting'!$P$15,$H258>='관리자 Setting'!$Q$15),'관리자 Setting'!$R$15,IF(AND($G258>='관리자 Setting'!$P$15,$H258>='관리자 Setting'!$Q$15),'관리자 Setting'!$Q$15-$G258,IF(AND($G258>='관리자 Setting'!$P$15,$H258<'관리자 Setting'!$Q$15),$H258-$G258,IF($G258>='관리자 Setting'!$Q$15,0,0))))))","v":"00:00:00"},{"$f":"IF(OR(G258=\"\",H258=\"\"),\"\",H258-G258-SUM(I258:J258))","v":""},{"$f":"IFERROR(VLOOKUP($F258,'관리자 Setting'!$P$18:$Q$33,2,0)/24,\"\")","v":""}]
[{"$f":"$C259&$D259","v":""},{"$f":"$C259&$E259","v":""},{"$f":"IFERROR(DATE(LEFT('In-Put'!$B259,4),MID('In-Put'!$B259,5,2),RIGHT('In-Put'!$B259,2)),\"\")","v":""},{"$f":"IF($C259=\"\",\"\",COUNTIFS($C$2:$C$401,C259)-COUNTIFS($C$2:C259,C259))","v":""},{"$f":"IF($C259=\"\",\"\",COUNTIFS('관리자 Setting'!$P$18:$P$33,'설정_In-Put'!$F259))","v":""},{"$f":"'In-Put'!G259","v":0},{"$f":"IFERROR(IF('In-Put'!D259*1=0,\"\",'In-Put'!D259*1),\"\")","v":""},{"$f":"IFERROR(IF('In-Put'!E259*1=0,\"\",IF('In-Put'!E259*1<G259,'In-Put'!E259*1+1,'In-Put'!E259*1)),\"\")","v":""},{"$f":"IF(OR($H259<'관리자 Setting'!$P$14,$G259>='관리자 Setting'!$Q$14),0,IF(AND($G259<'관리자 Setting'!$P$14,$H259<'관리자 Setting'!$Q$14),$H259-'관리자 Setting'!$P$14,IF(AND($G259<'관리자 Setting'!$P$14,$H259>='관리자 Setting'!$Q$14),'관리자 Setting'!$R$14,IF(AND($G259>='관리자 Setting'!$P$14,$H259>='관리자 Setting'!$Q$14),'관리자 Setting'!$Q$14-$G259,IF(AND($G259>='관리자 Setting'!$P$14,$H259<'관리자 Setting'!$Q$14),$H259-$G259,IF($G259>='관리자 Setting'!$Q$14,0,0))))))","v":"00:00:00"},{"$f":"IF(OR($H259<'관리자 Setting'!$P$15,$G259>='관리자 Setting'!$Q$15),0,IF(AND($G259<'관리자 Setting'!$P$15,$H259<'관리자 Setting'!$Q$15),$H259-'관리자 Setting'!$P$15,IF(AND($G259<'관리자 Setting'!$P$15,$H259>='관리자 Setting'!$Q$15),'관리자 Setting'!$R$15,IF(AND($G259>='관리자 Setting'!$P$15,$H259>='관리자 Setting'!$Q$15),'관리자 Setting'!$Q$15-$G259,IF(AND($G259>='관리자 Setting'!$P$15,$H259<'관리자 Setting'!$Q$15),$H259-$G259,IF($G259>='관리자 Setting'!$Q$15,0,0))))))","v":"00:00:00"},"",{"$f":"IFERROR(VLOOKUP($F259,'관리자 Setting'!$P$18:$Q$33,2,0)/24,\"\")","v":""}]
["","",{"$f":"IFERROR(DATE(LEFT('In-Put'!$B260,4),MID('In-Put'!$B260,5,2),RIGHT('In-Put'!$B260,2)),\"\")","v":""},{"$f":"IF($C260=\"\",\"\",COUNTIFS($C$2:$C$401,C260)-COUNTIFS($C$2:C260,C260))","v":""},{"$f":"IF($C260=\"\",\"\",COUNTIFS('관리자 Setting'!$P$18:$P$33,'설정_In-Put'!$F260))","v":""},{"$f":"'In-Put'!G260","v":0},{"$f":"IFERROR(IF('In-Put'!D260*1=0,\"\",'In-Put'!D260*1),\"\")","v":""},{"$f":"IFERROR(IF('In-Put'!E260*1=0,\"\",IF('In-Put'!E260*1<G260,'In-Put'!E260*1+1,'In-Put'!E260*1)),\"\")","v":""},{"$f":"IF(OR($H260<'관리자 Setting'!$P$14,$G260>='관리자 Setting'!$Q$14),0,IF(AND($G260<'관리자 Setting'!$P$14,$H260<'관리자 Setting'!$Q$14),$H260-'관리자 Setting'!$P$14,IF(AND($G260<'관리자 Setting'!$P$14,$H260>='관리자 Setting'!$Q$14),'관리자 Setting'!$R$14,IF(AND($G260>='관리자 Setting'!$P$14,$H260>='관리자 Setting'!$Q$14),'관리자 Setting'!$Q$14-$G260,IF(AND($G260>='관리자 Setting'!$P$14,$H260<'관리자 Setting'!$Q$14),$H260-$G260,IF($G260>='관리자 Setting'!$Q$14,0,0))))))","v":"00:00:00"},{"$f":"IF(OR($H260<'관리자 Setting'!$P$15,$G260>='관리자 Setting'!$Q$15),0,IF(AND($G260<'관리자 Setting'!$P$15,$H260<'관리자 Setting'!$Q$15),$H260-'관리자 Setting'!$P$15,IF(AND($G260<'관리자 Setting'!$P$15,$H260>='관리자 Setting'!$Q$15),'관리자 Setting'!$R$15,IF(AND($G260>='관리자 Setting'!$P$15,$H260>='관리자 Setting'!$Q$15),'관리자 Setting'!$Q$15-$G260,IF(AND($G260>='관리자 Setting'!$P$15,$H260<'관리자 Setting'!$Q$15),$H260-$G260,IF($G260>='관리자 Setting'!$Q$15,0,0))))))","v":"00:00:00"},"",{"$f":"IFERROR(VLOOKUP($F260,'관리자 Setting'!$P$18:$Q$33,2,0)/24,\"\")","v":""}]
["","",{"$f":"IFERROR(DATE(LEFT('In-Put'!$B261,4),MID('In-Put'!$B261,5,2),RIGHT('In-Put'!$B261,2)),\"\")","v":""},{"$f":"IF($C261=\"\",\"\",COUNTIFS($C$2:$C$401,C261)-COUNTIFS($C$2:C261,C261))","v":""},{"$f":"IF($C261=\"\",\"\",COUNTIFS('관리자 Setting'!$P$18:$P$33,'설정_In-Put'!$F261))","v":""},{"$f":"'In-Put'!G261","v":0},{"$f":"IFERROR(IF('In-Put'!D261*1=0,\"\",'In-Put'!D261*1),\"\")","v":""},{"$f":"IFERROR(IF('In-Put'!E261*1=0,\"\",IF('In-Put'!E261*1<G261,'In-Put'!E261*1+1,'In-Put'!E261*1)),\"\")","v":""},{"$f":"IF(OR($H261<'관리자 Setting'!$P$14,$G261>='관리자 Setting'!$Q$14),0,IF(AND($G261<'관리자 Setting'!$P$14,$H261<'관리자 Setting'!$Q$14),$H261-'관리자 Setting'!$P$14,IF(AND($G261<'관리자 Setting'!$P$14,$H261>='관리자 Setting'!$Q$14),'관리자 Setting'!$R$14,IF(AND($G261>='관리자 Setting'!$P$14,$H261>='관리자 Setting'!$Q$14),'관리자 Setting'!$Q$14-$G261,IF(AND($G261>='관리자 Setting'!$P$14,$H261<'관리자 Setting'!$Q$14),$H261-$G261,IF($G261>='관리자 Setting'!$Q$14,0,0))))))","v":"00:00:00"},{"$f":"IF(OR($H261<'관리자 Setting'!$P$15,$G261>='관리자 Setting'!$Q$15),0,IF(AND($G261<'관리자 Setting'!$P$15,$H261<'관리자 Setting'!$Q$15),$H261-'관리자 Setting'!$P$15,IF(AND($G261<'관리자 Setting'!$P$15,$H261>='관리자 Setting'!$Q$15),'관리자 Setting'!$R$15,IF(AND($G261>='관리자 Setting'!$P$15,$H261>='관리자 Setting'!$Q$15),'관리자 Setting'!$Q$15-$G261,IF(AND($G261>='관리자 Setting'!$P$15,$H261<'관리자 Setting'!$Q$15),$H261-$G261,IF($G261>='관리자 Setting'!$Q$15,0,0))))))","v":"00:00:00"},"",{"$f":"IFERROR(VLOOKUP($F261,'관리자 Setting'!$P$18:$Q$33,2,0)/24,\"\")","v":""}]
["","",{"$f":"IFERROR(DATE(LEFT('In-Put'!$B262,4),MID('In-Put'!$B262,5,2),RIGHT('In-Put'!$B262,2)),\"\")","v":""},{"$f":"IF($C262=\"\",\"\",COUNTIFS($C$2:$C$401,C262)-COUNTIFS($C$2:C262,C262))","v":""},{"$f":"IF($C262=\"\",\"\",COUNTIFS('관리자 Setting'!$P$18:$P$33,'설정_In-Put'!$F262))","v":""},{"$f":"'In-Put'!G262","v":0},{"$f":"IFERROR(IF('In-Put'!D262*1=0,\"\",'In-Put'!D262*1),\"\")","v":""},{"$f":"IFERROR(IF('In-Put'!E262*1=0,\"\",IF('In-Put'!E262*1<G262,'In-Put'!E262*1+1,'In-Put'!E262*1)),\"\")","v":""},{"$f":"IF(OR($H262<'관리자 Setting'!$P$14,$G262>='관리자 Setting'!$Q$14),0,IF(AND($G262<'관리자 Setting'!$P$14,$H262<'관리자 Setting'!$Q$14),$H262-'관리자 Setting'!$P$14,IF(AND($G262<'관리자 Setting'!$P$14,$H262>='관리자 Setting'!$Q$14),'관리자 Setting'!$R$14,IF(AND($G262>='관리자 Setting'!$P$14,$H262>='관리자 Setting'!$Q$14),'관리자 Setting'!$Q$14-$G262,IF(AND($G262>='관리자 Setting'!$P$14,$H262<'관리자 Setting'!$Q$14),$H262-$G262,IF($G262>='관리자 Setting'!$Q$14,0,0))))))","v":"00:00:00"},{"$f":"IF(OR($H262<'관리자 Setting'!$P$15,$G262>='관리자 Setting'!$Q$15),0,IF(AND($G262<'관리자 Setting'!$P$15,$H262<'관리자 Setting'!$Q$15),$H262-'관리자 Setting'!$P$15,IF(AND($G262<'관리자 Setting'!$P$15,$H262>='관리자 Setting'!$Q$15),'관리자 Setting'!$R$15,IF(AND($G262>='관리자 Setting'!$P$15,$H262>='관리자 Setting'!$Q$15),'관리자 Setting'!$Q$15-$G262,IF(AND($G262>='관리자 Setting'!$P$15,$H262<'관리자 Setting'!$Q$15),$H262-$G262,IF($G262>='관리자 Setting'!$Q$15,0,0))))))","v":"00:00:00"},"",{"$f":"IFERROR(VLOOKUP($F262,'관리자 Setting'!$P$18:$Q$33,2,0)/24,\"\")","v":""}]
["","",{"$f":"IFERROR(DATE(LEFT('In-Put'!$B263,4),MID('In-Put'!$B263,5,2),RIGHT('In-Put'!$B263,2)),\"\")","v":""},{"$f":"IF($C263=\"\",\"\",COUNTIFS($C$2:$C$401,C263)-COUNTIFS($C$2:C263,C263))","v":""},{"$f":"IF($C263=\"\",\"\",COUNTIFS('관리자 Setting'!$P$18:$P$33,'설정_In-Put'!$F263))","v":""},{"$f":"'In-Put'!G263","v":0},{"$f":"IFERROR(IF('In-Put'!D263*1=0,\"\",'In-Put'!D263*1),\"\")","v":""},{"$f":"IFERROR(IF('In-Put'!E263*1=0,\"\",IF('In-Put'!E263*1<G263,'In-Put'!E263*1+1,'In-Put'!E263*1)),\"\")","v":""},{"$f":"IF(OR($H263<'관리자 Setting'!$P$14,$G263>='관리자 Setting'!$Q$14),0,IF(AND($G263<'관리자 Setting'!$P$14,$H263<'관리자 Setting'!$Q$14),$H263-'관리자 Setting'!$P$14,IF(AND($G263<'관리자 Setting'!$P$14,$H263>='관리자 Setting'!$Q$14),'관리자 Setting'!$R$14,IF(AND($G263>='관리자 Setting'!$P$14,$H263>='관리자 Setting'!$Q$14),'관리자 Setting'!$Q$14-$G263,IF(AND($G263>='관리자 Setting'!$P$14,$H263<'관리자 Setting'!$Q$14),$H263-$G263,IF($G263>='관리자 Setting'!$Q$14,0,0))))))","v":"00:00:00"},{"$f":"IF(OR($H263<'관리자 Setting'!$P$15,$G263>='관리자 Setting'!$Q$15),0,IF(AND($G263<'관리자 Setting'!$P$15,$H263<'관리자 Setting'!$Q$15),$H263-'관리자 Setting'!$P$15,IF(AND($G263<'관리자 Setting'!$P$15,$H263>='관리자 Setting'!$Q$15),'관리자 Setting'!$R$15,IF(AND($G263>='관리자 Setting'!$P$15,$H263>='관리자 Setting'!$Q$15),'관리자 Setting'!$Q$15-$G263,IF(AND($G263>='관리자 Setting'!$P$15,$H263<'관리자 Setting'!$Q$15),$H263-$G263,IF($G263>='관리자 Setting'!$Q$15,0,0))))))","v":"00:00:00"},"",{"$f":"IFERROR(VLOOKUP($F263,'관리자 Setting'!$P$18:$Q$33,2,0)/24,\"\")","v":""}]
["","",{"$f":"IFERROR(DATE(LEFT('In-Put'!$B264,4),MID('In-Put'!$B264,5,2),RIGHT('In-Put'!$B264,2)),\"\")","v":""},{"$f":"IF($C264=\"\",\"\",COUNTIFS($C$2:$C$401,C264)-COUNTIFS($C$2:C264,C264))","v":""},{"$f":"IF($C264=\"\",\"\",COUNTIFS('관리자 Setting'!$P$18:$P$33,'설정_In-Put'!$F264))","v":""},{"$f":"'In-Put'!G264","v":0},{"$f":"IFERROR(IF('In-Put'!D264*1=0,\"\",'In-Put'!D264*1),\"\")","v":""},{"$f":"IFERROR(IF('In-Put'!E264*1=0,\"\",IF('In-Put'!E264*1<G264,'In-Put'!E264*1+1,'In-Put'!E264*1)),\"\")","v":""},{"$f":"IF(OR($H264<'관리자 Setting'!$P$14,$G264>='관리자 Setting'!$Q$14),0,IF(AND($G264<'관리자 Setting'!$P$14,$H264<'관리자 Setting'!$Q$14),$H264-'관리자 Setting'!$P$14,IF(AND($G264<'관리자 Setting'!$P$14,$H264>='관리자 Setting'!$Q$14),'관리자 Setting'!$R$14,IF(AND($G264>='관리자 Setting'!$P$14,$H264>='관리자 Setting'!$Q$14),'관리자 Setting'!$Q$14-$G264,IF(AND($G264>='관리자 Setting'!$P$14,$H264<'관리자 Setting'!$Q$14),$H264-$G264,IF($G264>='관리자 Setting'!$Q$14,0,0))))))","v":"00:00:00"},{"$f":"IF(OR($H264<'관리자 Setting'!$P$15,$G264>='관리자 Setting'!$Q$15),0,IF(AND($G264<'관리자 Setting'!$P$15,$H264<'관리자 Setting'!$Q$15),$H264-'관리자 Setting'!$P$15,IF(AND($G264<'관리자 Setting'!$P$15,$H264>='관리자 Setting'!$Q$15),'관리자 Setting'!$R$15,IF(AND($G264>='관리자 Setting'!$P$15,$H264>='관리자 Setting'!$Q$15),'관리자 Setting'!$Q$15-$G264,IF(AND($G264>='관리자 Setting'!$P$15,$H264<'관리자 Setting'!$Q$15),$H264-$G264,IF($G264>='관리자 Setting'!$Q$15,0,0))))))","v":"00:00:00"},"",{"$f":"IFERROR(VLOOKUP($F264,'관리자 Setting'!$P$18:$Q$33,2,0)/24,\"\")","v":""}]
["","",{"$f":"IFERROR(DATE(LEFT('In-Put'!$B265,4),MID('In-Put'!$B265,5,2),RIGHT('In-Put'!$B265,2)),\"\")","v":""},{"$f":"IF($C265=\"\",\"\",COUNTIFS($C$2:$C$401,C265)-COUNTIFS($C$2:C265,C265))","v":""},{"$f":"IF($C265=\"\",\"\",COUNTIFS('관리자 Setting'!$P$18:$P$33,'설정_In-Put'!$F265))","v":""},{"$f":"'In-Put'!G265","v":0},{"$f":"IFERROR(IF('In-Put'!D265*1=0,\"\",'In-Put'!D265*1),\"\")","v":""},{"$f":"IFERROR(IF('In-Put'!E265*1=0,\"\",IF('In-Put'!E265*1<G265,'In-Put'!E265*1+1,'In-Put'!E265*1)),\"\")","v":""},{"$f":"IF(OR($H265<'관리자 Setting'!$P$14,$G265>='관리자 Setting'!$Q$14),0,IF(AND($G265<'관리자 Setting'!$P$14,$H265<'관리자 Setting'!$Q$14),$H265-'관리자 Setting'!$P$14,IF(AND($G265<'관리자 Setting'!$P$14,$H265>='관리자 Setting'!$Q$14),'관리자 Setting'!$R$14,IF(AND($G265>='관리자 Setting'!$P$14,$H265>='관리자 Setting'!$Q$14),'관리자 Setting'!$Q$14-$G265,IF(AND($G265>='관리자 Setting'!$P$14,$H265<'관리자 Setting'!$Q$14),$H265-$G265,IF($G265>='관리자 Setting'!$Q$14,0,0))))))","v":"00:00:00"},{"$f":"IF(OR($H265<'관리자 Setting'!$P$15,$G265>='관리자 Setting'!$Q$15),0,IF(AND($G265<'관리자 Setting'!$P$15,$H265<'관리자 Setting'!$Q$15),$H265-'관리자 Setting'!$P$15,IF(AND($G265<'관리자 Setting'!$P$15,$H265>='관리자 Setting'!$Q$15),'관리자 Setting'!$R$15,IF(AND($G265>='관리자 Setting'!$P$15,$H265>='관리자 Setting'!$Q$15),'관리자 Setting'!$Q$15-$G265,IF(AND($G265>='관리자 Setting'!$P$15,$H265<'관리자 Setting'!$Q$15),$H265-$G265,IF($G265>='관리자 Setting'!$Q$15,0,0))))))","v":"00:00:00"},"",{"$f":"IFERROR(VLOOKUP($F265,'관리자 Setting'!$P$18:$Q$33,2,0)/24,\"\")","v":""}]
["","",{"$f":"IFERROR(DATE(LEFT('In-Put'!$B266,4),MID('In-Put'!$B266,5,2),RIGHT('In-Put'!$B266,2)),\"\")","v":""},{"$f":"IF($C266=\"\",\"\",COUNTIFS($C$2:$C$401,C266)-COUNTIFS($C$2:C266,C266))","v":""},{"$f":"IF($C266=\"\",\"\",COUNTIFS('관리자 Setting'!$P$18:$P$33,'설정_In-Put'!$F266))","v":""},{"$f":"'In-Put'!G266","v":0},{"$f":"IFERROR(IF('In-Put'!D266*1=0,\"\",'In-Put'!D266*1),\"\")","v":""},{"$f":"IFERROR(IF('In-Put'!E266*1=0,\"\",IF('In-Put'!E266*1<G266,'In-Put'!E266*1+1,'In-Put'!E266*1)),\"\")","v":""},{"$f":"IF(OR($H266<'관리자 Setting'!$P$14,$G266>='관리자 Setting'!$Q$14),0,IF(AND($G266<'관리자 Setting'!$P$14,$H266<'관리자 Setting'!$Q$14),$H266-'관리자 Setting'!$P$14,IF(AND($G266<'관리자 Setting'!$P$14,$H266>='관리자 Setting'!$Q$14),'관리자 Setting'!$R$14,IF(AND($G266>='관리자 Setting'!$P$14,$H266>='관리자 Setting'!$Q$14),'관리자 Setting'!$Q$14-$G266,IF(AND($G266>='관리자 Setting'!$P$14,$H266<'관리자 Setting'!$Q$14),$H266-$G266,IF($G266>='관리자 Setting'!$Q$14,0,0))))))","v":"00:00:00"},{"$f":"IF(OR($H266<'관리자 Setting'!$P$15,$G266>='관리자 Setting'!$Q$15),0,IF(AND($G266<'관리자 Setting'!$P$15,$H266<'관리자 Setting'!$Q$15),$H266-'관리자 Setting'!$P$15,IF(AND($G266<'관리자 Setting'!$P$15,$H266>='관리자 Setting'!$Q$15),'관리자 Setting'!$R$15,IF(AND($G266>='관리자 Setting'!$P$15,$H266>='관리자 Setting'!$Q$15),'관리자 Setting'!$Q$15-$G266,IF(AND($G266>='관리자 Setting'!$P$15,$H266<'관리자 Setting'!$Q$15),$H266-$G266,IF($G266>='관리자 Setting'!$Q$15,0,0))))))","v":"00:00:00"},"",{"$f":"IFERROR(VLOOKUP($F266,'관리자 Setting'!$P$18:$Q$33,2,0)/24,\"\")","v":""}]
["","",{"$f":"IFERROR(DATE(LEFT('In-Put'!$B267,4),MID('In-Put'!$B267,5,2),RIGHT('In-Put'!$B267,2)),\"\")","v":""},{"$f":"IF($C267=\"\",\"\",COUNTIFS($C$2:$C$401,C267)-COUNTIFS($C$2:C267,C267))","v":""},{"$f":"IF($C267=\"\",\"\",COUNTIFS('관리자 Setting'!$P$18:$P$33,'설정_In-Put'!$F267))","v":""},{"$f":"'In-Put'!G267","v":0},{"$f":"IFERROR(IF('In-Put'!D267*1=0,\"\",'In-Put'!D267*1),\"\")","v":""},{"$f":"IFERROR(IF('In-Put'!E267*1=0,\"\",IF('In-Put'!E267*1<G267,'In-Put'!E267*1+1,'In-Put'!E267*1)),\"\")","v":""},{"$f":"IF(OR($H267<'관리자 Setting'!$P$14,$G267>='관리자 Setting'!$Q$14),0,IF(AND($G267<'관리자 Setting'!$P$14,$H267<'관리자 Setting'!$Q$14),$H267-'관리자 Setting'!$P$14,IF(AND($G267<'관리자 Setting'!$P$14,$H267>='관리자 Setting'!$Q$14),'관리자 Setting'!$R$14,IF(AND($G267>='관리자 Setting'!$P$14,$H267>='관리자 Setting'!$Q$14),'관리자 Setting'!$Q$14-$G267,IF(AND($G267>='관리자 Setting'!$P$14,$H267<'관리자 Setting'!$Q$14),$H267-$G267,IF($G267>='관리자 Setting'!$Q$14,0,0))))))","v":"00:00:00"},{"$f":"IF(OR($H267<'관리자 Setting'!$P$15,$G267>='관리자 Setting'!$Q$15),0,IF(AND($G267<'관리자 Setting'!$P$15,$H267<'관리자 Setting'!$Q$15),$H267-'관리자 Setting'!$P$15,IF(AND($G267<'관리자 Setting'!$P$15,$H267>='관리자 Setting'!$Q$15),'관리자 Setting'!$R$15,IF(AND($G267>='관리자 Setting'!$P$15,$H267>='관리자 Setting'!$Q$15),'관리자 Setting'!$Q$15-$G267,IF(AND($G267>='관리자 Setting'!$P$15,$H267<'관리자 Setting'!$Q$15),$H267-$G267,IF($G267>='관리자 Setting'!$Q$15,0,0))))))","v":"00:00:00"},"",{"$f":"IFERROR(VLOOKUP($F267,'관리자 Setting'!$P$18:$Q$33,2,0)/24,\"\")","v":""}]
["","",{"$f":"IFERROR(DATE(LEFT('In-Put'!$B268,4),MID('In-Put'!$B268,5,2),RIGHT('In-Put'!$B268,2)),\"\")","v":""},{"$f":"IF($C268=\"\",\"\",COUNTIFS($C$2:$C$401,C268)-COUNTIFS($C$2:C268,C268))","v":""},{"$f":"IF($C268=\"\",\"\",COUNTIFS('관리자 Setting'!$P$18:$P$33,'설정_In-Put'!$F268))","v":""},{"$f":"'In-Put'!G268","v":0},{"$f":"IFERROR(IF('In-Put'!D268*1=0,\"\",'In-Put'!D268*1),\"\")","v":""},{"$f":"IFERROR(IF('In-Put'!E268*1=0,\"\",IF('In-Put'!E268*1<G268,'In-Put'!E268*1+1,'In-Put'!E268*1)),\"\")","v":""},{"$f":"IF(OR($H268<'관리자 Setting'!$P$14,$G268>='관리자 Setting'!$Q$14),0,IF(AND($G268<'관리자 Setting'!$P$14,$H268<'관리자 Setting'!$Q$14),$H268-'관리자 Setting'!$P$14,IF(AND($G268<'관리자 Setting'!$P$14,$H268>='관리자 Setting'!$Q$14),'관리자 Setting'!$R$14,IF(AND($G268>='관리자 Setting'!$P$14,$H268>='관리자 Setting'!$Q$14),'관리자 Setting'!$Q$14-$G268,IF(AND($G268>='관리자 Setting'!$P$14,$H268<'관리자 Setting'!$Q$14),$H268-$G268,IF($G268>='관리자 Setting'!$Q$14,0,0))))))","v":"00:00:00"},{"$f":"IF(OR($H268<'관리자 Setting'!$P$15,$G268>='관리자 Setting'!$Q$15),0,IF(AND($G268<'관리자 Setting'!$P$15,$H268<'관리자 Setting'!$Q$15),$H268-'관리자 Setting'!$P$15,IF(AND($G268<'관리자 Setting'!$P$15,$H268>='관리자 Setting'!$Q$15),'관리자 Setting'!$R$15,IF(AND($G268>='관리자 Setting'!$P$15,$H268>='관리자 Setting'!$Q$15),'관리자 Setting'!$Q$15-$G268,IF(AND($G268>='관리자 Setting'!$P$15,$H268<'관리자 Setting'!$Q$15),$H268-$G268,IF($G268>='관리자 Setting'!$Q$15,0,0))))))","v":"00:00:00"},"",{"$f":"IFERROR(VLOOKUP($F268,'관리자 Setting'!$P$18:$Q$33,2,0)/24,\"\")","v":""}]
["","",{"$f":"IFERROR(DATE(LEFT('In-Put'!$B269,4),MID('In-Put'!$B269,5,2),RIGHT('In-Put'!$B269,2)),\"\")","v":""},{"$f":"IF($C269=\"\",\"\",COUNTIFS($C$2:$C$401,C269)-COUNTIFS($C$2:C269,C269))","v":""},{"$f":"IF($C269=\"\",\"\",COUNTIFS('관리자 Setting'!$P$18:$P$33,'설정_In-Put'!$F269))","v":""},{"$f":"'In-Put'!G269","v":0},{"$f":"IFERROR(IF('In-Put'!D269*1=0,\"\",'In-Put'!D269*1),\"\")","v":""},{"$f":"IFERROR(IF('In-Put'!E269*1=0,\"\",IF('In-Put'!E269*1<G269,'In-Put'!E269*1+1,'In-Put'!E269*1)),\"\")","v":""},{"$f":"IF(OR($H269<'관리자 Setting'!$P$14,$G269>='관리자 Setting'!$Q$14),0,IF(AND($G269<'관리자 Setting'!$P$14,$H269<'관리자 Setting'!$Q$14),$H269-'관리자 Setting'!$P$14,IF(AND($G269<'관리자 Setting'!$P$14,$H269>='관리자 Setting'!$Q$14),'관리자 Setting'!$R$14,IF(AND($G269>='관리자 Setting'!$P$14,$H269>='관리자 Setting'!$Q$14),'관리자 Setting'!$Q$14-$G269,IF(AND($G269>='관리자 Setting'!$P$14,$H269<'관리자 Setting'!$Q$14),$H269-$G269,IF($G269>='관리자 Setting'!$Q$14,0,0))))))","v":"00:00:00"},{"$f":"IF(OR($H269<'관리자 Setting'!$P$15,$G269>='관리자 Setting'!$Q$15),0,IF(AND($G269<'관리자 Setting'!$P$15,$H269<'관리자 Setting'!$Q$15),$H269-'관리자 Setting'!$P$15,IF(AND($G269<'관리자 Setting'!$P$15,$H269>='관리자 Setting'!$Q$15),'관리자 Setting'!$R$15,IF(AND($G269>='관리자 Setting'!$P$15,$H269>='관리자 Setting'!$Q$15),'관리자 Setting'!$Q$15-$G269,IF(AND($G269>='관리자 Setting'!$P$15,$H269<'관리자 Setting'!$Q$15),$H269-$G269,IF($G269>='관리자 Setting'!$Q$15,0,0))))))","v":"00:00:00"},"",{"$f":"IFERROR(VLOOKUP($F269,'관리자 Setting'!$P$18:$Q$33,2,0)/24,\"\")","v":""}]
["","",{"$f":"IFERROR(DATE(LEFT('In-Put'!$B270,4),MID('In-Put'!$B270,5,2),RIGHT('In-Put'!$B270,2)),\"\")","v":""},{"$f":"IF($C270=\"\",\"\",COUNTIFS($C$2:$C$401,C270)-COUNTIFS($C$2:C270,C270))","v":""},{"$f":"IF($C270=\"\",\"\",COUNTIFS('관리자 Setting'!$P$18:$P$33,'설정_In-Put'!$F270))","v":""},{"$f":"'In-Put'!G270","v":0},{"$f":"IFERROR(IF('In-Put'!D270*1=0,\"\",'In-Put'!D270*1),\"\")","v":""},{"$f":"IFERROR(IF('In-Put'!E270*1=0,\"\",IF('In-Put'!E270*1<G270,'In-Put'!E270*1+1,'In-Put'!E270*1)),\"\")","v":""},{"$f":"IF(OR($H270<'관리자 Setting'!$P$14,$G270>='관리자 Setting'!$Q$14),0,IF(AND($G270<'관리자 Setting'!$P$14,$H270<'관리자 Setting'!$Q$14),$H270-'관리자 Setting'!$P$14,IF(AND($G270<'관리자 Setting'!$P$14,$H270>='관리자 Setting'!$Q$14),'관리자 Setting'!$R$14,IF(AND($G270>='관리자 Setting'!$P$14,$H270>='관리자 Setting'!$Q$14),'관리자 Setting'!$Q$14-$G270,IF(AND($G270>='관리자 Setting'!$P$14,$H270<'관리자 Setting'!$Q$14),$H270-$G270,IF($G270>='관리자 Setting'!$Q$14,0,0))))))","v":"00:00:00"},{"$f":"IF(OR($H270<'관리자 Setting'!$P$15,$G270>='관리자 Setting'!$Q$15),0,IF(AND($G270<'관리자 Setting'!$P$15,$H270<'관리자 Setting'!$Q$15),$H270-'관리자 Setting'!$P$15,IF(AND($G270<'관리자 Setting'!$P$15,$H270>='관리자 Setting'!$Q$15),'관리자 Setting'!$R$15,IF(AND($G270>='관리자 Setting'!$P$15,$H270>='관리자 Setting'!$Q$15),'관리자 Setting'!$Q$15-$G270,IF(AND($G270>='관리자 Setting'!$P$15,$H270<'관리자 Setting'!$Q$15),$H270-$G270,IF($G270>='관리자 Setting'!$Q$15,0,0))))))","v":"00:00:00"},"",{"$f":"IFERROR(VLOOKUP($F270,'관리자 Setting'!$P$18:$Q$33,2,0)/24,\"\")","v":""}]
["","",{"$f":"IFERROR(DATE(LEFT('In-Put'!$B271,4),MID('In-Put'!$B271,5,2),RIGHT('In-Put'!$B271,2)),\"\")","v":""},{"$f":"IF($C271=\"\",\"\",COUNTIFS($C$2:$C$401,C271)-COUNTIFS($C$2:C271,C271))","v":""},{"$f":"IF($C271=\"\",\"\",COUNTIFS('관리자 Setting'!$P$18:$P$33,'설정_In-Put'!$F271))","v":""},{"$f":"'In-Put'!G271","v":0},{"$f":"IFERROR(IF('In-Put'!D271*1=0,\"\",'In-Put'!D271*1),\"\")","v":""},{"$f":"IFERROR(IF('In-Put'!E271*1=0,\"\",IF('In-Put'!E271*1<G271,'In-Put'!E271*1+1,'In-Put'!E271*1)),\"\")","v":""},{"$f":"IF(OR($H271<'관리자 Setting'!$P$14,$G271>='관리자 Setting'!$Q$14),0,IF(AND($G271<'관리자 Setting'!$P$14,$H271<'관리자 Setting'!$Q$14),$H271-'관리자 Setting'!$P$14,IF(AND($G271<'관리자 Setting'!$P$14,$H271>='관리자 Setting'!$Q$14),'관리자 Setting'!$R$14,IF(AND($G271>='관리자 Setting'!$P$14,$H271>='관리자 Setting'!$Q$14),'관리자 Setting'!$Q$14-$G271,IF(AND($G271>='관리자 Setting'!$P$14,$H271<'관리자 Setting'!$Q$14),$H271-$G271,IF($G271>='관리자 Setting'!$Q$14,0,0))))))","v":"00:00:00"},{"$f":"IF(OR($H271<'관리자 Setting'!$P$15,$G271>='관리자 Setting'!$Q$15),0,IF(AND($G271<'관리자 Setting'!$P$15,$H271<'관리자 Setting'!$Q$15),$H271-'관리자 Setting'!$P$15,IF(AND($G271<'관리자 Setting'!$P$15,$H271>='관리자 Setting'!$Q$15),'관리자 Setting'!$R$15,IF(AND($G271>='관리자 Setting'!$P$15,$H271>='관리자 Setting'!$Q$15),'관리자 Setting'!$Q$15-$G271,IF(AND($G271>='관리자 Setting'!$P$15,$H271<'관리자 Setting'!$Q$15),$H271-$G271,IF($G271>='관리자 Setting'!$Q$15,0,0))))))","v":"00:00:00"},"",{"$f":"IFERROR(VLOOKUP($F271,'관리자 Setting'!$P$18:$Q$33,2,0)/24,\"\")","v":""}]
["","",{"$f":"IFERROR(DATE(LEFT('In-Put'!$B272,4),MID('In-Put'!$B272,5,2),RIGHT('In-Put'!$B272,2)),\"\")","v":""},{"$f":"IF($C272=\"\",\"\",COUNTIFS($C$2:$C$401,C272)-COUNTIFS($C$2:C272,C272))","v":""},{"$f":"IF($C272=\"\",\"\",COUNTIFS('관리자 Setting'!$P$18:$P$33,'설정_In-Put'!$F272))","v":""},{"$f":"'In-Put'!G272","v":0},{"$f":"IFERROR(IF('In-Put'!D272*1=0,\"\",'In-Put'!D272*1),\"\")","v":""},{"$f":"IFERROR(IF('In-Put'!E272*1=0,\"\",IF('In-Put'!E272*1<G272,'In-Put'!E272*1+1,'In-Put'!E272*1)),\"\")","v":""},{"$f":"IF(OR($H272<'관리자 Setting'!$P$14,$G272>='관리자 Setting'!$Q$14),0,IF(AND($G272<'관리자 Setting'!$P$14,$H272<'관리자 Setting'!$Q$14),$H272-'관리자 Setting'!$P$14,IF(AND($G272<'관리자 Setting'!$P$14,$H272>='관리자 Setting'!$Q$14),'관리자 Setting'!$R$14,IF(AND($G272>='관리자 Setting'!$P$14,$H272>='관리자 Setting'!$Q$14),'관리자 Setting'!$Q$14-$G272,IF(AND($G272>='관리자 Setting'!$P$14,$H272<'관리자 Setting'!$Q$14),$H272-$G272,IF($G272>='관리자 Setting'!$Q$14,0,0))))))","v":"00:00:00"},{"$f":"IF(OR($H272<'관리자 Setting'!$P$15,$G272>='관리자 Setting'!$Q$15),0,IF(AND($G272<'관리자 Setting'!$P$15,$H272<'관리자 Setting'!$Q$15),$H272-'관리자 Setting'!$P$15,IF(AND($G272<'관리자 Setting'!$P$15,$H272>='관리자 Setting'!$Q$15),'관리자 Setting'!$R$15,IF(AND($G272>='관리자 Setting'!$P$15,$H272>='관리자 Setting'!$Q$15),'관리자 Setting'!$Q$15-$G272,IF(AND($G272>='관리자 Setting'!$P$15,$H272<'관리자 Setting'!$Q$15),$H272-$G272,IF($G272>='관리자 Setting'!$Q$15,0,0))))))","v":"00:00:00"},"",{"$f":"IFERROR(VLOOKUP($F272,'관리자 Setting'!$P$18:$Q$33,2,0)/24,\"\")","v":""}]
["","",{"$f":"IFERROR(DATE(LEFT('In-Put'!$B273,4),MID('In-Put'!$B273,5,2),RIGHT('In-Put'!$B273,2)),\"\")","v":""},{"$f":"IF($C273=\"\",\"\",COUNTIFS($C$2:$C$401,C273)-COUNTIFS($C$2:C273,C273))","v":""},{"$f":"IF($C273=\"\",\"\",COUNTIFS('관리자 Setting'!$P$18:$P$33,'설정_In-Put'!$F273))","v":""},{"$f":"'In-Put'!G273","v":0},{"$f":"IFERROR(IF('In-Put'!D273*1=0,\"\",'In-Put'!D273*1),\"\")","v":""},{"$f":"IFERROR(IF('In-Put'!E273*1=0,\"\",IF('In-Put'!E273*1<G273,'In-Put'!E273*1+1,'In-Put'!E273*1)),\"\")","v":""},{"$f":"IF(OR($H273<'관리자 Setting'!$P$14,$G273>='관리자 Setting'!$Q$14),0,IF(AND($G273<'관리자 Setting'!$P$14,$H273<'관리자 Setting'!$Q$14),$H273-'관리자 Setting'!$P$14,IF(AND($G273<'관리자 Setting'!$P$14,$H273>='관리자 Setting'!$Q$14),'관리자 Setting'!$R$14,IF(AND($G273>='관리자 Setting'!$P$14,$H273>='관리자 Setting'!$Q$14),'관리자 Setting'!$Q$14-$G273,IF(AND($G273>='관리자 Setting'!$P$14,$H273<'관리자 Setting'!$Q$14),$H273-$G273,IF($G273>='관리자 Setting'!$Q$14,0,0))))))","v":"00:00:00"},{"$f":"IF(OR($H273<'관리자 Setting'!$P$15,$G273>='관리자 Setting'!$Q$15),0,IF(AND($G273<'관리자 Setting'!$P$15,$H273<'관리자 Setting'!$Q$15),$H273-'관리자 Setting'!$P$15,IF(AND($G273<'관리자 Setting'!$P$15,$H273>='관리자 Setting'!$Q$15),'관리자 Setting'!$R$15,IF(AND($G273>='관리자 Setting'!$P$15,$H273>='관리자 Setting'!$Q$15),'관리자 Setting'!$Q$15-$G273,IF(AND($G273>='관리자 Setting'!$P$15,$H273<'관리자 Setting'!$Q$15),$H273-$G273,IF($G273>='관리자 Setting'!$Q$15,0,0))))))","v":"00:00:00"},"",{"$f":"IFERROR(VLOOKUP($F273,'관리자 Setting'!$P$18:$Q$33,2,0)/24,\"\")","v":""}]
["","",{"$f":"IFERROR(DATE(LEFT('In-Put'!$B274,4),MID('In-Put'!$B274,5,2),RIGHT('In-Put'!$B274,2)),\"\")","v":""},{"$f":"IF($C274=\"\",\"\",COUNTIFS($C$2:$C$401,C274)-COUNTIFS($C$2:C274,C274))","v":""},{"$f":"IF($C274=\"\",\"\",COUNTIFS('관리자 Setting'!$P$18:$P$33,'설정_In-Put'!$F274))","v":""},{"$f":"'In-Put'!G274","v":0},{"$f":"IFERROR(IF('In-Put'!D274*1=0,\"\",'In-Put'!D274*1),\"\")","v":""},{"$f":"IFERROR(IF('In-Put'!E274*1=0,\"\",IF('In-Put'!E274*1<G274,'In-Put'!E274*1+1,'In-Put'!E274*1)),\"\")","v":""},{"$f":"IF(OR($H274<'관리자 Setting'!$P$14,$G274>='관리자 Setting'!$Q$14),0,IF(AND($G274<'관리자 Setting'!$P$14,$H274<'관리자 Setting'!$Q$14),$H274-'관리자 Setting'!$P$14,IF(AND($G274<'관리자 Setting'!$P$14,$H274>='관리자 Setting'!$Q$14),'관리자 Setting'!$R$14,IF(AND($G274>='관리자 Setting'!$P$14,$H274>='관리자 Setting'!$Q$14),'관리자 Setting'!$Q$14-$G274,IF(AND($G274>='관리자 Setting'!$P$14,$H274<'관리자 Setting'!$Q$14),$H274-$G274,IF($G274>='관리자 Setting'!$Q$14,0,0))))))","v":"00:00:00"},{"$f":"IF(OR($H274<'관리자 Setting'!$P$15,$G274>='관리자 Setting'!$Q$15),0,IF(AND($G274<'관리자 Setting'!$P$15,$H274<'관리자 Setting'!$Q$15),$H274-'관리자 Setting'!$P$15,IF(AND($G274<'관리자 Setting'!$P$15,$H274>='관리자 Setting'!$Q$15),'관리자 Setting'!$R$15,IF(AND($G274>='관리자 Setting'!$P$15,$H274>='관리자 Setting'!$Q$15),'관리자 Setting'!$Q$15-$G274,IF(AND($G274>='관리자 Setting'!$P$15,$H274<'관리자 Setting'!$Q$15),$H274-$G274,IF($G274>='관리자 Setting'!$Q$15,0,0))))))","v":"00:00:00"},"",{"$f":"IFERROR(VLOOKUP($F274,'관리자 Setting'!$P$18:$Q$33,2,0)/24,\"\")","v":""}]
["","",{"$f":"IFERROR(DATE(LEFT('In-Put'!$B275,4),MID('In-Put'!$B275,5,2),RIGHT('In-Put'!$B275,2)),\"\")","v":""},{"$f":"IF($C275=\"\",\"\",COUNTIFS($C$2:$C$401,C275)-COUNTIFS($C$2:C275,C275))","v":""},{"$f":"IF($C275=\"\",\"\",COUNTIFS('관리자 Setting'!$P$18:$P$33,'설정_In-Put'!$F275))","v":""},{"$f":"'In-Put'!G275","v":0},{"$f":"IFERROR(IF('In-Put'!D275*1=0,\"\",'In-Put'!D275*1),\"\")","v":""},{"$f":"IFERROR(IF('In-Put'!E275*1=0,\"\",IF('In-Put'!E275*1<G275,'In-Put'!E275*1+1,'In-Put'!E275*1)),\"\")","v":""},{"$f":"IF(OR($H275<'관리자 Setting'!$P$14,$G275>='관리자 Setting'!$Q$14),0,IF(AND($G275<'관리자 Setting'!$P$14,$H275<'관리자 Setting'!$Q$14),$H275-'관리자 Setting'!$P$14,IF(AND($G275<'관리자 Setting'!$P$14,$H275>='관리자 Setting'!$Q$14),'관리자 Setting'!$R$14,IF(AND($G275>='관리자 Setting'!$P$14,$H275>='관리자 Setting'!$Q$14),'관리자 Setting'!$Q$14-$G275,IF(AND($G275>='관리자 Setting'!$P$14,$H275<'관리자 Setting'!$Q$14),$H275-$G275,IF($G275>='관리자 Setting'!$Q$14,0,0))))))","v":"00:00:00"},{"$f":"IF(OR($H275<'관리자 Setting'!$P$15,$G275>='관리자 Setting'!$Q$15),0,IF(AND($G275<'관리자 Setting'!$P$15,$H275<'관리자 Setting'!$Q$15),$H275-'관리자 Setting'!$P$15,IF(AND($G275<'관리자 Setting'!$P$15,$H275>='관리자 Setting'!$Q$15),'관리자 Setting'!$R$15,IF(AND($G275>='관리자 Setting'!$P$15,$H275>='관리자 Setting'!$Q$15),'관리자 Setting'!$Q$15-$G275,IF(AND($G275>='관리자 Setting'!$P$15,$H275<'관리자 Setting'!$Q$15),$H275-$G275,IF($G275>='관리자 Setting'!$Q$15,0,0))))))","v":"00:00:00"},"",{"$f":"IFERROR(VLOOKUP($F275,'관리자 Setting'!$P$18:$Q$33,2,0)/24,\"\")","v":""}]
["","",{"$f":"IFERROR(DATE(LEFT('In-Put'!$B276,4),MID('In-Put'!$B276,5,2),RIGHT('In-Put'!$B276,2)),\"\")","v":""},{"$f":"IF($C276=\"\",\"\",COUNTIFS($C$2:$C$401,C276)-COUNTIFS($C$2:C276,C276))","v":""},{"$f":"IF($C276=\"\",\"\",COUNTIFS('관리자 Setting'!$P$18:$P$33,'설정_In-Put'!$F276))","v":""},{"$f":"'In-Put'!G276","v":0},{"$f":"IFERROR(IF('In-Put'!D276*1=0,\"\",'In-Put'!D276*1),\"\")","v":""},{"$f":"IFERROR(IF('In-Put'!E276*1=0,\"\",IF('In-Put'!E276*1<G276,'In-Put'!E276*1+1,'In-Put'!E276*1)),\"\")","v":""},{"$f":"IF(OR($H276<'관리자 Setting'!$P$14,$G276>='관리자 Setting'!$Q$14),0,IF(AND($G276<'관리자 Setting'!$P$14,$H276<'관리자 Setting'!$Q$14),$H276-'관리자 Setting'!$P$14,IF(AND($G276<'관리자 Setting'!$P$14,$H276>='관리자 Setting'!$Q$14),'관리자 Setting'!$R$14,IF(AND($G276>='관리자 Setting'!$P$14,$H276>='관리자 Setting'!$Q$14),'관리자 Setting'!$Q$14-$G276,IF(AND($G276>='관리자 Setting'!$P$14,$H276<'관리자 Setting'!$Q$14),$H276-$G276,IF($G276>='관리자 Setting'!$Q$14,0,0))))))","v":"00:00:00"},{"$f":"IF(OR($H276<'관리자 Setting'!$P$15,$G276>='관리자 Setting'!$Q$15),0,IF(AND($G276<'관리자 Setting'!$P$15,$H276<'관리자 Setting'!$Q$15),$H276-'관리자 Setting'!$P$15,IF(AND($G276<'관리자 Setting'!$P$15,$H276>='관리자 Setting'!$Q$15),'관리자 Setting'!$R$15,IF(AND($G276>='관리자 Setting'!$P$15,$H276>='관리자 Setting'!$Q$15),'관리자 Setting'!$Q$15-$G276,IF(AND($G276>='관리자 Setting'!$P$15,$H276<'관리자 Setting'!$Q$15),$H276-$G276,IF($G276>='관리자 Setting'!$Q$15,0,0))))))","v":"00:00:00"},"",{"$f":"IFERROR(VLOOKUP($F276,'관리자 Setting'!$P$18:$Q$33,2,0)/24,\"\")","v":""}]
["","",{"$f":"IFERROR(DATE(LEFT('In-Put'!$B277,4),MID('In-Put'!$B277,5,2),RIGHT('In-Put'!$B277,2)),\"\")","v":""},{"$f":"IF($C277=\"\",\"\",COUNTIFS($C$2:$C$401,C277)-COUNTIFS($C$2:C277,C277))","v":""},{"$f":"IF($C277=\"\",\"\",COUNTIFS('관리자 Setting'!$P$18:$P$33,'설정_In-Put'!$F277))","v":""},{"$f":"'In-Put'!G277","v":0},{"$f":"IFERROR(IF('In-Put'!D277*1=0,\"\",'In-Put'!D277*1),\"\")","v":""},{"$f":"IFERROR(IF('In-Put'!E277*1=0,\"\",IF('In-Put'!E277*1<G277,'In-Put'!E277*1+1,'In-Put'!E277*1)),\"\")","v":""},{"$f":"IF(OR($H277<'관리자 Setting'!$P$14,$G277>='관리자 Setting'!$Q$14),0,IF(AND($G277<'관리자 Setting'!$P$14,$H277<'관리자 Setting'!$Q$14),$H277-'관리자 Setting'!$P$14,IF(AND($G277<'관리자 Setting'!$P$14,$H277>='관리자 Setting'!$Q$14),'관리자 Setting'!$R$14,IF(AND($G277>='관리자 Setting'!$P$14,$H277>='관리자 Setting'!$Q$14),'관리자 Setting'!$Q$14-$G277,IF(AND($G277>='관리자 Setting'!$P$14,$H277<'관리자 Setting'!$Q$14),$H277-$G277,IF($G277>='관리자 Setting'!$Q$14,0,0))))))","v":"00:00:00"},{"$f":"IF(OR($H277<'관리자 Setting'!$P$15,$G277>='관리자 Setting'!$Q$15),0,IF(AND($G277<'관리자 Setting'!$P$15,$H277<'관리자 Setting'!$Q$15),$H277-'관리자 Setting'!$P$15,IF(AND($G277<'관리자 Setting'!$P$15,$H277>='관리자 Setting'!$Q$15),'관리자 Setting'!$R$15,IF(AND($G277>='관리자 Setting'!$P$15,$H277>='관리자 Setting'!$Q$15),'관리자 Setting'!$Q$15-$G277,IF(AND($G277>='관리자 Setting'!$P$15,$H277<'관리자 Setting'!$Q$15),$H277-$G277,IF($G277>='관리자 Setting'!$Q$15,0,0))))))","v":"00:00:00"},"",{"$f":"IFERROR(VLOOKUP($F277,'관리자 Setting'!$P$18:$Q$33,2,0)/24,\"\")","v":""}]
["","",{"$f":"IFERROR(DATE(LEFT('In-Put'!$B278,4),MID('In-Put'!$B278,5,2),RIGHT('In-Put'!$B278,2)),\"\")","v":""},{"$f":"IF($C278=\"\",\"\",COUNTIFS($C$2:$C$401,C278)-COUNTIFS($C$2:C278,C278))","v":""},{"$f":"IF($C278=\"\",\"\",COUNTIFS('관리자 Setting'!$P$18:$P$33,'설정_In-Put'!$F278))","v":""},{"$f":"'In-Put'!G278","v":0},{"$f":"IFERROR(IF('In-Put'!D278*1=0,\"\",'In-Put'!D278*1),\"\")","v":""},{"$f":"IFERROR(IF('In-Put'!E278*1=0,\"\",IF('In-Put'!E278*1<G278,'In-Put'!E278*1+1,'In-Put'!E278*1)),\"\")","v":""},{"$f":"IF(OR($H278<'관리자 Setting'!$P$14,$G278>='관리자 Setting'!$Q$14),0,IF(AND($G278<'관리자 Setting'!$P$14,$H278<'관리자 Setting'!$Q$14),$H278-'관리자 Setting'!$P$14,IF(AND($G278<'관리자 Setting'!$P$14,$H278>='관리자 Setting'!$Q$14),'관리자 Setting'!$R$14,IF(AND($G278>='관리자 Setting'!$P$14,$H278>='관리자 Setting'!$Q$14),'관리자 Setting'!$Q$14-$G278,IF(AND($G278>='관리자 Setting'!$P$14,$H278<'관리자 Setting'!$Q$14),$H278-$G278,IF($G278>='관리자 Setting'!$Q$14,0,0))))))","v":"00:00:00"},{"$f":"IF(OR($H278<'관리자 Setting'!$P$15,$G278>='관리자 Setting'!$Q$15),0,IF(AND($G278<'관리자 Setting'!$P$15,$H278<'관리자 Setting'!$Q$15),$H278-'관리자 Setting'!$P$15,IF(AND($G278<'관리자 Setting'!$P$15,$H278>='관리자 Setting'!$Q$15),'관리자 Setting'!$R$15,IF(AND($G278>='관리자 Setting'!$P$15,$H278>='관리자 Setting'!$Q$15),'관리자 Setting'!$Q$15-$G278,IF(AND($G278>='관리자 Setting'!$P$15,$H278<'관리자 Setting'!$Q$15),$H278-$G278,IF($G278>='관리자 Setting'!$Q$15,0,0))))))","v":"00:00:00"},"",{"$f":"IFERROR(VLOOKUP($F278,'관리자 Setting'!$P$18:$Q$33,2,0)/24,\"\")","v":""}]
["","",{"$f":"IFERROR(DATE(LEFT('In-Put'!$B279,4),MID('In-Put'!$B279,5,2),RIGHT('In-Put'!$B279,2)),\"\")","v":""},{"$f":"IF($C279=\"\",\"\",COUNTIFS($C$2:$C$401,C279)-COUNTIFS($C$2:C279,C279))","v":""},{"$f":"IF($C279=\"\",\"\",COUNTIFS('관리자 Setting'!$P$18:$P$33,'설정_In-Put'!$F279))","v":""},{"$f":"'In-Put'!G279","v":0},{"$f":"IFERROR(IF('In-Put'!D279*1=0,\"\",'In-Put'!D279*1),\"\")","v":""},{"$f":"IFERROR(IF('In-Put'!E279*1=0,\"\",IF('In-Put'!E279*1<G279,'In-Put'!E279*1+1,'In-Put'!E279*1)),\"\")","v":""},{"$f":"IF(OR($H279<'관리자 Setting'!$P$14,$G279>='관리자 Setting'!$Q$14),0,IF(AND($G279<'관리자 Setting'!$P$14,$H279<'관리자 Setting'!$Q$14),$H279-'관리자 Setting'!$P$14,IF(AND($G279<'관리자 Setting'!$P$14,$H279>='관리자 Setting'!$Q$14),'관리자 Setting'!$R$14,IF(AND($G279>='관리자 Setting'!$P$14,$H279>='관리자 Setting'!$Q$14),'관리자 Setting'!$Q$14-$G279,IF(AND($G279>='관리자 Setting'!$P$14,$H279<'관리자 Setting'!$Q$14),$H279-$G279,IF($G279>='관리자 Setting'!$Q$14,0,0))))))","v":"00:00:00"},{"$f":"IF(OR($H279<'관리자 Setting'!$P$15,$G279>='관리자 Setting'!$Q$15),0,IF(AND($G279<'관리자 Setting'!$P$15,$H279<'관리자 Setting'!$Q$15),$H279-'관리자 Setting'!$P$15,IF(AND($G279<'관리자 Setting'!$P$15,$H279>='관리자 Setting'!$Q$15),'관리자 Setting'!$R$15,IF(AND($G279>='관리자 Setting'!$P$15,$H279>='관리자 Setting'!$Q$15),'관리자 Setting'!$Q$15-$G279,IF(AND($G279>='관리자 Setting'!$P$15,$H279<'관리자 Setting'!$Q$15),$H279-$G279,IF($G279>='관리자 Setting'!$Q$15,0,0))))))","v":"00:00:00"},"",{"$f":"IFERROR(VLOOKUP($F279,'관리자 Setting'!$P$18:$Q$33,2,0)/24,\"\")","v":""}]
["","",{"$f":"IFERROR(DATE(LEFT('In-Put'!$B280,4),MID('In-Put'!$B280,5,2),RIGHT('In-Put'!$B280,2)),\"\")","v":""},{"$f":"IF($C280=\"\",\"\",COUNTIFS($C$2:$C$401,C280)-COUNTIFS($C$2:C280,C280))","v":""},{"$f":"IF($C280=\"\",\"\",COUNTIFS('관리자 Setting'!$P$18:$P$33,'설정_In-Put'!$F280))","v":""},{"$f":"'In-Put'!G280","v":0},{"$f":"IFERROR(IF('In-Put'!D280*1=0,\"\",'In-Put'!D280*1),\"\")","v":""},{"$f":"IFERROR(IF('In-Put'!E280*1=0,\"\",IF('In-Put'!E280*1<G280,'In-Put'!E280*1+1,'In-Put'!E280*1)),\"\")","v":""},{"$f":"IF(OR($H280<'관리자 Setting'!$P$14,$G280>='관리자 Setting'!$Q$14),0,IF(AND($G280<'관리자 Setting'!$P$14,$H280<'관리자 Setting'!$Q$14),$H280-'관리자 Setting'!$P$14,IF(AND($G280<'관리자 Setting'!$P$14,$H280>='관리자 Setting'!$Q$14),'관리자 Setting'!$R$14,IF(AND($G280>='관리자 Setting'!$P$14,$H280>='관리자 Setting'!$Q$14),'관리자 Setting'!$Q$14-$G280,IF(AND($G280>='관리자 Setting'!$P$14,$H280<'관리자 Setting'!$Q$14),$H280-$G280,IF($G280>='관리자 Setting'!$Q$14,0,0))))))","v":"00:00:00"},{"$f":"IF(OR($H280<'관리자 Setting'!$P$15,$G280>='관리자 Setting'!$Q$15),0,IF(AND($G280<'관리자 Setting'!$P$15,$H280<'관리자 Setting'!$Q$15),$H280-'관리자 Setting'!$P$15,IF(AND($G280<'관리자 Setting'!$P$15,$H280>='관리자 Setting'!$Q$15),'관리자 Setting'!$R$15,IF(AND($G280>='관리자 Setting'!$P$15,$H280>='관리자 Setting'!$Q$15),'관리자 Setting'!$Q$15-$G280,IF(AND($G280>='관리자 Setting'!$P$15,$H280<'관리자 Setting'!$Q$15),$H280-$G280,IF($G280>='관리자 Setting'!$Q$15,0,0))))))","v":"00:00:00"},"",{"$f":"IFERROR(VLOOKUP($F280,'관리자 Setting'!$P$18:$Q$33,2,0)/24,\"\")","v":""}]
["","",{"$f":"IFERROR(DATE(LEFT('In-Put'!$B281,4),MID('In-Put'!$B281,5,2),RIGHT('In-Put'!$B281,2)),\"\")","v":""},{"$f":"IF($C281=\"\",\"\",COUNTIFS($C$2:$C$401,C281)-COUNTIFS($C$2:C281,C281))","v":""},{"$f":"IF($C281=\"\",\"\",COUNTIFS('관리자 Setting'!$P$18:$P$33,'설정_In-Put'!$F281))","v":""},{"$f":"'In-Put'!G281","v":0},{"$f":"IFERROR(IF('In-Put'!D281*1=0,\"\",'In-Put'!D281*1),\"\")","v":""},{"$f":"IFERROR(IF('In-Put'!E281*1=0,\"\",IF('In-Put'!E281*1<G281,'In-Put'!E281*1+1,'In-Put'!E281*1)),\"\")","v":""},{"$f":"IF(OR($H281<'관리자 Setting'!$P$14,$G281>='관리자 Setting'!$Q$14),0,IF(AND($G281<'관리자 Setting'!$P$14,$H281<'관리자 Setting'!$Q$14),$H281-'관리자 Setting'!$P$14,IF(AND($G281<'관리자 Setting'!$P$14,$H281>='관리자 Setting'!$Q$14),'관리자 Setting'!$R$14,IF(AND($G281>='관리자 Setting'!$P$14,$H281>='관리자 Setting'!$Q$14),'관리자 Setting'!$Q$14-$G281,IF(AND($G281>='관리자 Setting'!$P$14,$H281<'관리자 Setting'!$Q$14),$H281-$G281,IF($G281>='관리자 Setting'!$Q$14,0,0))))))","v":"00:00:00"},{"$f":"IF(OR($H281<'관리자 Setting'!$P$15,$G281>='관리자 Setting'!$Q$15),0,IF(AND($G281<'관리자 Setting'!$P$15,$H281<'관리자 Setting'!$Q$15),$H281-'관리자 Setting'!$P$15,IF(AND($G281<'관리자 Setting'!$P$15,$H281>='관리자 Setting'!$Q$15),'관리자 Setting'!$R$15,IF(AND($G281>='관리자 Setting'!$P$15,$H281>='관리자 Setting'!$Q$15),'관리자 Setting'!$Q$15-$G281,IF(AND($G281>='관리자 Setting'!$P$15,$H281<'관리자 Setting'!$Q$15),$H281-$G281,IF($G281>='관리자 Setting'!$Q$15,0,0))))))","v":"00:00:00"},"",{"$f":"IFERROR(VLOOKUP($F281,'관리자 Setting'!$P$18:$Q$33,2,0)/24,\"\")","v":""}]
["","",{"$f":"IFERROR(DATE(LEFT('In-Put'!$B282,4),MID('In-Put'!$B282,5,2),RIGHT('In-Put'!$B282,2)),\"\")","v":""},{"$f":"IF($C282=\"\",\"\",COUNTIFS($C$2:$C$401,C282)-COUNTIFS($C$2:C282,C282))","v":""},{"$f":"IF($C282=\"\",\"\",COUNTIFS('관리자 Setting'!$P$18:$P$33,'설정_In-Put'!$F282))","v":""},{"$f":"'In-Put'!G282","v":0},{"$f":"IFERROR(IF('In-Put'!D282*1=0,\"\",'In-Put'!D282*1),\"\")","v":""},{"$f":"IFERROR(IF('In-Put'!E282*1=0,\"\",IF('In-Put'!E282*1<G282,'In-Put'!E282*1+1,'In-Put'!E282*1)),\"\")","v":""},{"$f":"IF(OR($H282<'관리자 Setting'!$P$14,$G282>='관리자 Setting'!$Q$14),0,IF(AND($G282<'관리자 Setting'!$P$14,$H282<'관리자 Setting'!$Q$14),$H282-'관리자 Setting'!$P$14,IF(AND($G282<'관리자 Setting'!$P$14,$H282>='관리자 Setting'!$Q$14),'관리자 Setting'!$R$14,IF(AND($G282>='관리자 Setting'!$P$14,$H282>='관리자 Setting'!$Q$14),'관리자 Setting'!$Q$14-$G282,IF(AND($G282>='관리자 Setting'!$P$14,$H282<'관리자 Setting'!$Q$14),$H282-$G282,IF($G282>='관리자 Setting'!$Q$14,0,0))))))","v":"00:00:00"},{"$f":"IF(OR($H282<'관리자 Setting'!$P$15,$G282>='관리자 Setting'!$Q$15),0,IF(AND($G282<'관리자 Setting'!$P$15,$H282<'관리자 Setting'!$Q$15),$H282-'관리자 Setting'!$P$15,IF(AND($G282<'관리자 Setting'!$P$15,$H282>='관리자 Setting'!$Q$15),'관리자 Setting'!$R$15,IF(AND($G282>='관리자 Setting'!$P$15,$H282>='관리자 Setting'!$Q$15),'관리자 Setting'!$Q$15-$G282,IF(AND($G282>='관리자 Setting'!$P$15,$H282<'관리자 Setting'!$Q$15),$H282-$G282,IF($G282>='관리자 Setting'!$Q$15,0,0))))))","v":"00:00:00"},"",{"$f":"IFERROR(VLOOKUP($F282,'관리자 Setting'!$P$18:$Q$33,2,0)/24,\"\")","v":""}]
["","",{"$f":"IFERROR(DATE(LEFT('In-Put'!$B283,4),MID('In-Put'!$B283,5,2),RIGHT('In-Put'!$B283,2)),\"\")","v":""},{"$f":"IF($C283=\"\",\"\",COUNTIFS($C$2:$C$401,C283)-COUNTIFS($C$2:C283,C283))","v":""},{"$f":"IF($C283=\"\",\"\",COUNTIFS('관리자 Setting'!$P$18:$P$33,'설정_In-Put'!$F283))","v":""},{"$f":"'In-Put'!G283","v":0},{"$f":"IFERROR(IF('In-Put'!D283*1=0,\"\",'In-Put'!D283*1),\"\")","v":""},{"$f":"IFERROR(IF('In-Put'!E283*1=0,\"\",IF('In-Put'!E283*1<G283,'In-Put'!E283*1+1,'In-Put'!E283*1)),\"\")","v":""},{"$f":"IF(OR($H283<'관리자 Setting'!$P$14,$G283>='관리자 Setting'!$Q$14),0,IF(AND($G283<'관리자 Setting'!$P$14,$H283<'관리자 Setting'!$Q$14),$H283-'관리자 Setting'!$P$14,IF(AND($G283<'관리자 Setting'!$P$14,$H283>='관리자 Setting'!$Q$14),'관리자 Setting'!$R$14,IF(AND($G283>='관리자 Setting'!$P$14,$H283>='관리자 Setting'!$Q$14),'관리자 Setting'!$Q$14-$G283,IF(AND($G283>='관리자 Setting'!$P$14,$H283<'관리자 Setting'!$Q$14),$H283-$G283,IF($G283>='관리자 Setting'!$Q$14,0,0))))))","v":"00:00:00"},{"$f":"IF(OR($H283<'관리자 Setting'!$P$15,$G283>='관리자 Setting'!$Q$15),0,IF(AND($G283<'관리자 Setting'!$P$15,$H283<'관리자 Setting'!$Q$15),$H283-'관리자 Setting'!$P$15,IF(AND($G283<'관리자 Setting'!$P$15,$H283>='관리자 Setting'!$Q$15),'관리자 Setting'!$R$15,IF(AND($G283>='관리자 Setting'!$P$15,$H283>='관리자 Setting'!$Q$15),'관리자 Setting'!$Q$15-$G283,IF(AND($G283>='관리자 Setting'!$P$15,$H283<'관리자 Setting'!$Q$15),$H283-$G283,IF($G283>='관리자 Setting'!$Q$15,0,0))))))","v":"00:00:00"},"",{"$f":"IFERROR(VLOOKUP($F283,'관리자 Setting'!$P$18:$Q$33,2,0)/24,\"\")","v":""}]
["","",{"$f":"IFERROR(DATE(LEFT('In-Put'!$B284,4),MID('In-Put'!$B284,5,2),RIGHT('In-Put'!$B284,2)),\"\")","v":""},{"$f":"IF($C284=\"\",\"\",COUNTIFS($C$2:$C$401,C284)-COUNTIFS($C$2:C284,C284))","v":""},{"$f":"IF($C284=\"\",\"\",COUNTIFS('관리자 Setting'!$P$18:$P$33,'설정_In-Put'!$F284))","v":""},{"$f":"'In-Put'!G284","v":0},{"$f":"IFERROR(IF('In-Put'!D284*1=0,\"\",'In-Put'!D284*1),\"\")","v":""},{"$f":"IFERROR(IF('In-Put'!E284*1=0,\"\",IF('In-Put'!E284*1<G284,'In-Put'!E284*1+1,'In-Put'!E284*1)),\"\")","v":""},{"$f":"IF(OR($H284<'관리자 Setting'!$P$14,$G284>='관리자 Setting'!$Q$14),0,IF(AND($G284<'관리자 Setting'!$P$14,$H284<'관리자 Setting'!$Q$14),$H284-'관리자 Setting'!$P$14,IF(AND($G284<'관리자 Setting'!$P$14,$H284>='관리자 Setting'!$Q$14),'관리자 Setting'!$R$14,IF(AND($G284>='관리자 Setting'!$P$14,$H284>='관리자 Setting'!$Q$14),'관리자 Setting'!$Q$14-$G284,IF(AND($G284>='관리자 Setting'!$P$14,$H284<'관리자 Setting'!$Q$14),$H284-$G284,IF($G284>='관리자 Setting'!$Q$14,0,0))))))","v":"00:00:00"},{"$f":"IF(OR($H284<'관리자 Setting'!$P$15,$G284>='관리자 Setting'!$Q$15),0,IF(AND($G284<'관리자 Setting'!$P$15,$H284<'관리자 Setting'!$Q$15),$H284-'관리자 Setting'!$P$15,IF(AND($G284<'관리자 Setting'!$P$15,$H284>='관리자 Setting'!$Q$15),'관리자 Setting'!$R$15,IF(AND($G284>='관리자 Setting'!$P$15,$H284>='관리자 Setting'!$Q$15),'관리자 Setting'!$Q$15-$G284,IF(AND($G284>='관리자 Setting'!$P$15,$H284<'관리자 Setting'!$Q$15),$H284-$G284,IF($G284>='관리자 Setting'!$Q$15,0,0))))))","v":"00:00:00"},"",{"$f":"IFERROR(VLOOKUP($F284,'관리자 Setting'!$P$18:$Q$33,2,0)/24,\"\")","v":""}]
["","",{"$f":"IFERROR(DATE(LEFT('In-Put'!$B285,4),MID('In-Put'!$B285,5,2),RIGHT('In-Put'!$B285,2)),\"\")","v":""},{"$f":"IF($C285=\"\",\"\",COUNTIFS($C$2:$C$401,C285)-COUNTIFS($C$2:C285,C285))","v":""},{"$f":"IF($C285=\"\",\"\",COUNTIFS('관리자 Setting'!$P$18:$P$33,'설정_In-Put'!$F285))","v":""},{"$f":"'In-Put'!G285","v":0},{"$f":"IFERROR(IF('In-Put'!D285*1=0,\"\",'In-Put'!D285*1),\"\")","v":""},{"$f":"IFERROR(IF('In-Put'!E285*1=0,\"\",IF('In-Put'!E285*1<G285,'In-Put'!E285*1+1,'In-Put'!E285*1)),\"\")","v":""},{"$f":"IF(OR($H285<'관리자 Setting'!$P$14,$G285>='관리자 Setting'!$Q$14),0,IF(AND($G285<'관리자 Setting'!$P$14,$H285<'관리자 Setting'!$Q$14),$H285-'관리자 Setting'!$P$14,IF(AND($G285<'관리자 Setting'!$P$14,$H285>='관리자 Setting'!$Q$14),'관리자 Setting'!$R$14,IF(AND($G285>='관리자 Setting'!$P$14,$H285>='관리자 Setting'!$Q$14),'관리자 Setting'!$Q$14-$G285,IF(AND($G285>='관리자 Setting'!$P$14,$H285<'관리자 Setting'!$Q$14),$H285-$G285,IF($G285>='관리자 Setting'!$Q$14,0,0))))))","v":"00:00:00"},{"$f":"IF(OR($H285<'관리자 Setting'!$P$15,$G285>='관리자 Setting'!$Q$15),0,IF(AND($G285<'관리자 Setting'!$P$15,$H285<'관리자 Setting'!$Q$15),$H285-'관리자 Setting'!$P$15,IF(AND($G285<'관리자 Setting'!$P$15,$H285>='관리자 Setting'!$Q$15),'관리자 Setting'!$R$15,IF(AND($G285>='관리자 Setting'!$P$15,$H285>='관리자 Setting'!$Q$15),'관리자 Setting'!$Q$15-$G285,IF(AND($G285>='관리자 Setting'!$P$15,$H285<'관리자 Setting'!$Q$15),$H285-$G285,IF($G285>='관리자 Setting'!$Q$15,0,0))))))","v":"00:00:00"},"",{"$f":"IFERROR(VLOOKUP($F285,'관리자 Setting'!$P$18:$Q$33,2,0)/24,\"\")","v":""}]
["","",{"$f":"IFERROR(DATE(LEFT('In-Put'!$B286,4),MID('In-Put'!$B286,5,2),RIGHT('In-Put'!$B286,2)),\"\")","v":""},{"$f":"IF($C286=\"\",\"\",COUNTIFS($C$2:$C$401,C286)-COUNTIFS($C$2:C286,C286))","v":""},{"$f":"IF($C286=\"\",\"\",COUNTIFS('관리자 Setting'!$P$18:$P$33,'설정_In-Put'!$F286))","v":""},{"$f":"'In-Put'!G286","v":0},{"$f":"IFERROR(IF('In-Put'!D286*1=0,\"\",'In-Put'!D286*1),\"\")","v":""},{"$f":"IFERROR(IF('In-Put'!E286*1=0,\"\",IF('In-Put'!E286*1<G286,'In-Put'!E286*1+1,'In-Put'!E286*1)),\"\")","v":""},{"$f":"IF(OR($H286<'관리자 Setting'!$P$14,$G286>='관리자 Setting'!$Q$14),0,IF(AND($G286<'관리자 Setting'!$P$14,$H286<'관리자 Setting'!$Q$14),$H286-'관리자 Setting'!$P$14,IF(AND($G286<'관리자 Setting'!$P$14,$H286>='관리자 Setting'!$Q$14),'관리자 Setting'!$R$14,IF(AND($G286>='관리자 Setting'!$P$14,$H286>='관리자 Setting'!$Q$14),'관리자 Setting'!$Q$14-$G286,IF(AND($G286>='관리자 Setting'!$P$14,$H286<'관리자 Setting'!$Q$14),$H286-$G286,IF($G286>='관리자 Setting'!$Q$14,0,0))))))","v":"00:00:00"},{"$f":"IF(OR($H286<'관리자 Setting'!$P$15,$G286>='관리자 Setting'!$Q$15),0,IF(AND($G286<'관리자 Setting'!$P$15,$H286<'관리자 Setting'!$Q$15),$H286-'관리자 Setting'!$P$15,IF(AND($G286<'관리자 Setting'!$P$15,$H286>='관리자 Setting'!$Q$15),'관리자 Setting'!$R$15,IF(AND($G286>='관리자 Setting'!$P$15,$H286>='관리자 Setting'!$Q$15),'관리자 Setting'!$Q$15-$G286,IF(AND($G286>='관리자 Setting'!$P$15,$H286<'관리자 Setting'!$Q$15),$H286-$G286,IF($G286>='관리자 Setting'!$Q$15,0,0))))))","v":"00:00:00"},"",{"$f":"IFERROR(VLOOKUP($F286,'관리자 Setting'!$P$18:$Q$33,2,0)/24,\"\")","v":""}]
["","",{"$f":"IFERROR(DATE(LEFT('In-Put'!$B287,4),MID('In-Put'!$B287,5,2),RIGHT('In-Put'!$B287,2)),\"\")","v":""},{"$f":"IF($C287=\"\",\"\",COUNTIFS($C$2:$C$401,C287)-COUNTIFS($C$2:C287,C287))","v":""},{"$f":"IF($C287=\"\",\"\",COUNTIFS('관리자 Setting'!$P$18:$P$33,'설정_In-Put'!$F287))","v":""},{"$f":"'In-Put'!G287","v":0},{"$f":"IFERROR(IF('In-Put'!D287*1=0,\"\",'In-Put'!D287*1),\"\")","v":""},{"$f":"IFERROR(IF('In-Put'!E287*1=0,\"\",IF('In-Put'!E287*1<G287,'In-Put'!E287*1+1,'In-Put'!E287*1)),\"\")","v":""},{"$f":"IF(OR($H287<'관리자 Setting'!$P$14,$G287>='관리자 Setting'!$Q$14),0,IF(AND($G287<'관리자 Setting'!$P$14,$H287<'관리자 Setting'!$Q$14),$H287-'관리자 Setting'!$P$14,IF(AND($G287<'관리자 Setting'!$P$14,$H287>='관리자 Setting'!$Q$14),'관리자 Setting'!$R$14,IF(AND($G287>='관리자 Setting'!$P$14,$H287>='관리자 Setting'!$Q$14),'관리자 Setting'!$Q$14-$G287,IF(AND($G287>='관리자 Setting'!$P$14,$H287<'관리자 Setting'!$Q$14),$H287-$G287,IF($G287>='관리자 Setting'!$Q$14,0,0))))))","v":"00:00:00"},{"$f":"IF(OR($H287<'관리자 Setting'!$P$15,$G287>='관리자 Setting'!$Q$15),0,IF(AND($G287<'관리자 Setting'!$P$15,$H287<'관리자 Setting'!$Q$15),$H287-'관리자 Setting'!$P$15,IF(AND($G287<'관리자 Setting'!$P$15,$H287>='관리자 Setting'!$Q$15),'관리자 Setting'!$R$15,IF(AND($G287>='관리자 Setting'!$P$15,$H287>='관리자 Setting'!$Q$15),'관리자 Setting'!$Q$15-$G287,IF(AND($G287>='관리자 Setting'!$P$15,$H287<'관리자 Setting'!$Q$15),$H287-$G287,IF($G287>='관리자 Setting'!$Q$15,0,0))))))","v":"00:00:00"},"",{"$f":"IFERROR(VLOOKUP($F287,'관리자 Setting'!$P$18:$Q$33,2,0)/24,\"\")","v":""}]
["","",{"$f":"IFERROR(DATE(LEFT('In-Put'!$B288,4),MID('In-Put'!$B288,5,2),RIGHT('In-Put'!$B288,2)),\"\")","v":""},{"$f":"IF($C288=\"\",\"\",COUNTIFS($C$2:$C$401,C288)-COUNTIFS($C$2:C288,C288))","v":""},{"$f":"IF($C288=\"\",\"\",COUNTIFS('관리자 Setting'!$P$18:$P$33,'설정_In-Put'!$F288))","v":""},{"$f":"'In-Put'!G288","v":0},{"$f":"IFERROR(IF('In-Put'!D288*1=0,\"\",'In-Put'!D288*1),\"\")","v":""},{"$f":"IFERROR(IF('In-Put'!E288*1=0,\"\",IF('In-Put'!E288*1<G288,'In-Put'!E288*1+1,'In-Put'!E288*1)),\"\")","v":""},{"$f":"IF(OR($H288<'관리자 Setting'!$P$14,$G288>='관리자 Setting'!$Q$14),0,IF(AND($G288<'관리자 Setting'!$P$14,$H288<'관리자 Setting'!$Q$14),$H288-'관리자 Setting'!$P$14,IF(AND($G288<'관리자 Setting'!$P$14,$H288>='관리자 Setting'!$Q$14),'관리자 Setting'!$R$14,IF(AND($G288>='관리자 Setting'!$P$14,$H288>='관리자 Setting'!$Q$14),'관리자 Setting'!$Q$14-$G288,IF(AND($G288>='관리자 Setting'!$P$14,$H288<'관리자 Setting'!$Q$14),$H288-$G288,IF($G288>='관리자 Setting'!$Q$14,0,0))))))","v":"00:00:00"},{"$f":"IF(OR($H288<'관리자 Setting'!$P$15,$G288>='관리자 Setting'!$Q$15),0,IF(AND($G288<'관리자 Setting'!$P$15,$H288<'관리자 Setting'!$Q$15),$H288-'관리자 Setting'!$P$15,IF(AND($G288<'관리자 Setting'!$P$15,$H288>='관리자 Setting'!$Q$15),'관리자 Setting'!$R$15,IF(AND($G288>='관리자 Setting'!$P$15,$H288>='관리자 Setting'!$Q$15),'관리자 Setting'!$Q$15-$G288,IF(AND($G288>='관리자 Setting'!$P$15,$H288<'관리자 Setting'!$Q$15),$H288-$G288,IF($G288>='관리자 Setting'!$Q$15,0,0))))))","v":"00:00:00"},"",{"$f":"IFERROR(VLOOKUP($F288,'관리자 Setting'!$P$18:$Q$33,2,0)/24,\"\")","v":""}]
["","",{"$f":"IFERROR(DATE(LEFT('In-Put'!$B289,4),MID('In-Put'!$B289,5,2),RIGHT('In-Put'!$B289,2)),\"\")","v":""},{"$f":"IF($C289=\"\",\"\",COUNTIFS($C$2:$C$401,C289)-COUNTIFS($C$2:C289,C289))","v":""},{"$f":"IF($C289=\"\",\"\",COUNTIFS('관리자 Setting'!$P$18:$P$33,'설정_In-Put'!$F289))","v":""},{"$f":"'In-Put'!G289","v":0},{"$f":"IFERROR(IF('In-Put'!D289*1=0,\"\",'In-Put'!D289*1),\"\")","v":""},{"$f":"IFERROR(IF('In-Put'!E289*1=0,\"\",IF('In-Put'!E289*1<G289,'In-Put'!E289*1+1,'In-Put'!E289*1)),\"\")","v":""},{"$f":"IF(OR($H289<'관리자 Setting'!$P$14,$G289>='관리자 Setting'!$Q$14),0,IF(AND($G289<'관리자 Setting'!$P$14,$H289<'관리자 Setting'!$Q$14),$H289-'관리자 Setting'!$P$14,IF(AND($G289<'관리자 Setting'!$P$14,$H289>='관리자 Setting'!$Q$14),'관리자 Setting'!$R$14,IF(AND($G289>='관리자 Setting'!$P$14,$H289>='관리자 Setting'!$Q$14),'관리자 Setting'!$Q$14-$G289,IF(AND($G289>='관리자 Setting'!$P$14,$H289<'관리자 Setting'!$Q$14),$H289-$G289,IF($G289>='관리자 Setting'!$Q$14,0,0))))))","v":"00:00:00"},{"$f":"IF(OR($H289<'관리자 Setting'!$P$15,$G289>='관리자 Setting'!$Q$15),0,IF(AND($G289<'관리자 Setting'!$P$15,$H289<'관리자 Setting'!$Q$15),$H289-'관리자 Setting'!$P$15,IF(AND($G289<'관리자 Setting'!$P$15,$H289>='관리자 Setting'!$Q$15),'관리자 Setting'!$R$15,IF(AND($G289>='관리자 Setting'!$P$15,$H289>='관리자 Setting'!$Q$15),'관리자 Setting'!$Q$15-$G289,IF(AND($G289>='관리자 Setting'!$P$15,$H289<'관리자 Setting'!$Q$15),$H289-$G289,IF($G289>='관리자 Setting'!$Q$15,0,0))))))","v":"00:00:00"},"",{"$f":"IFERROR(VLOOKUP($F289,'관리자 Setting'!$P$18:$Q$33,2,0)/24,\"\")","v":""}]
["","",{"$f":"IFERROR(DATE(LEFT('In-Put'!$B290,4),MID('In-Put'!$B290,5,2),RIGHT('In-Put'!$B290,2)),\"\")","v":""},{"$f":"IF($C290=\"\",\"\",COUNTIFS($C$2:$C$401,C290)-COUNTIFS($C$2:C290,C290))","v":""},{"$f":"IF($C290=\"\",\"\",COUNTIFS('관리자 Setting'!$P$18:$P$33,'설정_In-Put'!$F290))","v":""},{"$f":"'In-Put'!G290","v":0},{"$f":"IFERROR(IF('In-Put'!D290*1=0,\"\",'In-Put'!D290*1),\"\")","v":""},{"$f":"IFERROR(IF('In-Put'!E290*1=0,\"\",IF('In-Put'!E290*1<G290,'In-Put'!E290*1+1,'In-Put'!E290*1)),\"\")","v":""},{"$f":"IF(OR($H290<'관리자 Setting'!$P$14,$G290>='관리자 Setting'!$Q$14),0,IF(AND($G290<'관리자 Setting'!$P$14,$H290<'관리자 Setting'!$Q$14),$H290-'관리자 Setting'!$P$14,IF(AND($G290<'관리자 Setting'!$P$14,$H290>='관리자 Setting'!$Q$14),'관리자 Setting'!$R$14,IF(AND($G290>='관리자 Setting'!$P$14,$H290>='관리자 Setting'!$Q$14),'관리자 Setting'!$Q$14-$G290,IF(AND($G290>='관리자 Setting'!$P$14,$H290<'관리자 Setting'!$Q$14),$H290-$G290,IF($G290>='관리자 Setting'!$Q$14,0,0))))))","v":"00:00:00"},{"$f":"IF(OR($H290<'관리자 Setting'!$P$15,$G290>='관리자 Setting'!$Q$15),0,IF(AND($G290<'관리자 Setting'!$P$15,$H290<'관리자 Setting'!$Q$15),$H290-'관리자 Setting'!$P$15,IF(AND($G290<'관리자 Setting'!$P$15,$H290>='관리자 Setting'!$Q$15),'관리자 Setting'!$R$15,IF(AND($G290>='관리자 Setting'!$P$15,$H290>='관리자 Setting'!$Q$15),'관리자 Setting'!$Q$15-$G290,IF(AND($G290>='관리자 Setting'!$P$15,$H290<'관리자 Setting'!$Q$15),$H290-$G290,IF($G290>='관리자 Setting'!$Q$15,0,0))))))","v":"00:00:00"},"",{"$f":"IFERROR(VLOOKUP($F290,'관리자 Setting'!$P$18:$Q$33,2,0)/24,\"\")","v":""}]
["","",{"$f":"IFERROR(DATE(LEFT('In-Put'!$B291,4),MID('In-Put'!$B291,5,2),RIGHT('In-Put'!$B291,2)),\"\")","v":""},{"$f":"IF($C291=\"\",\"\",COUNTIFS($C$2:$C$401,C291)-COUNTIFS($C$2:C291,C291))","v":""},{"$f":"IF($C291=\"\",\"\",COUNTIFS('관리자 Setting'!$P$18:$P$33,'설정_In-Put'!$F291))","v":""},{"$f":"'In-Put'!G291","v":0},{"$f":"IFERROR(IF('In-Put'!D291*1=0,\"\",'In-Put'!D291*1),\"\")","v":""},{"$f":"IFERROR(IF('In-Put'!E291*1=0,\"\",IF('In-Put'!E291*1<G291,'In-Put'!E291*1+1,'In-Put'!E291*1)),\"\")","v":""},{"$f":"IF(OR($H291<'관리자 Setting'!$P$14,$G291>='관리자 Setting'!$Q$14),0,IF(AND($G291<'관리자 Setting'!$P$14,$H291<'관리자 Setting'!$Q$14),$H291-'관리자 Setting'!$P$14,IF(AND($G291<'관리자 Setting'!$P$14,$H291>='관리자 Setting'!$Q$14),'관리자 Setting'!$R$14,IF(AND($G291>='관리자 Setting'!$P$14,$H291>='관리자 Setting'!$Q$14),'관리자 Setting'!$Q$14-$G291,IF(AND($G291>='관리자 Setting'!$P$14,$H291<'관리자 Setting'!$Q$14),$H291-$G291,IF($G291>='관리자 Setting'!$Q$14,0,0))))))","v":"00:00:00"},{"$f":"IF(OR($H291<'관리자 Setting'!$P$15,$G291>='관리자 Setting'!$Q$15),0,IF(AND($G291<'관리자 Setting'!$P$15,$H291<'관리자 Setting'!$Q$15),$H291-'관리자 Setting'!$P$15,IF(AND($G291<'관리자 Setting'!$P$15,$H291>='관리자 Setting'!$Q$15),'관리자 Setting'!$R$15,IF(AND($G291>='관리자 Setting'!$P$15,$H291>='관리자 Setting'!$Q$15),'관리자 Setting'!$Q$15-$G291,IF(AND($G291>='관리자 Setting'!$P$15,$H291<'관리자 Setting'!$Q$15),$H291-$G291,IF($G291>='관리자 Setting'!$Q$15,0,0))))))","v":"00:00:00"},"",{"$f":"IFERROR(VLOOKUP($F291,'관리자 Setting'!$P$18:$Q$33,2,0)/24,\"\")","v":""}]
["","",{"$f":"IFERROR(DATE(LEFT('In-Put'!$B292,4),MID('In-Put'!$B292,5,2),RIGHT('In-Put'!$B292,2)),\"\")","v":""},{"$f":"IF($C292=\"\",\"\",COUNTIFS($C$2:$C$401,C292)-COUNTIFS($C$2:C292,C292))","v":""},{"$f":"IF($C292=\"\",\"\",COUNTIFS('관리자 Setting'!$P$18:$P$33,'설정_In-Put'!$F292))","v":""},{"$f":"'In-Put'!G292","v":0},{"$f":"IFERROR(IF('In-Put'!D292*1=0,\"\",'In-Put'!D292*1),\"\")","v":""},{"$f":"IFERROR(IF('In-Put'!E292*1=0,\"\",IF('In-Put'!E292*1<G292,'In-Put'!E292*1+1,'In-Put'!E292*1)),\"\")","v":""},{"$f":"IF(OR($H292<'관리자 Setting'!$P$14,$G292>='관리자 Setting'!$Q$14),0,IF(AND($G292<'관리자 Setting'!$P$14,$H292<'관리자 Setting'!$Q$14),$H292-'관리자 Setting'!$P$14,IF(AND($G292<'관리자 Setting'!$P$14,$H292>='관리자 Setting'!$Q$14),'관리자 Setting'!$R$14,IF(AND($G292>='관리자 Setting'!$P$14,$H292>='관리자 Setting'!$Q$14),'관리자 Setting'!$Q$14-$G292,IF(AND($G292>='관리자 Setting'!$P$14,$H292<'관리자 Setting'!$Q$14),$H292-$G292,IF($G292>='관리자 Setting'!$Q$14,0,0))))))","v":"00:00:00"},{"$f":"IF(OR($H292<'관리자 Setting'!$P$15,$G292>='관리자 Setting'!$Q$15),0,IF(AND($G292<'관리자 Setting'!$P$15,$H292<'관리자 Setting'!$Q$15),$H292-'관리자 Setting'!$P$15,IF(AND($G292<'관리자 Setting'!$P$15,$H292>='관리자 Setting'!$Q$15),'관리자 Setting'!$R$15,IF(AND($G292>='관리자 Setting'!$P$15,$H292>='관리자 Setting'!$Q$15),'관리자 Setting'!$Q$15-$G292,IF(AND($G292>='관리자 Setting'!$P$15,$H292<'관리자 Setting'!$Q$15),$H292-$G292,IF($G292>='관리자 Setting'!$Q$15,0,0))))))","v":"00:00:00"},"",{"$f":"IFERROR(VLOOKUP($F292,'관리자 Setting'!$P$18:$Q$33,2,0)/24,\"\")","v":""}]
["","",{"$f":"IFERROR(DATE(LEFT('In-Put'!$B293,4),MID('In-Put'!$B293,5,2),RIGHT('In-Put'!$B293,2)),\"\")","v":""},{"$f":"IF($C293=\"\",\"\",COUNTIFS($C$2:$C$401,C293)-COUNTIFS($C$2:C293,C293))","v":""},{"$f":"IF($C293=\"\",\"\",COUNTIFS('관리자 Setting'!$P$18:$P$33,'설정_In-Put'!$F293))","v":""},{"$f":"'In-Put'!G293","v":0},{"$f":"IFERROR(IF('In-Put'!D293*1=0,\"\",'In-Put'!D293*1),\"\")","v":""},{"$f":"IFERROR(IF('In-Put'!E293*1=0,\"\",IF('In-Put'!E293*1<G293,'In-Put'!E293*1+1,'In-Put'!E293*1)),\"\")","v":""},{"$f":"IF(OR($H293<'관리자 Setting'!$P$14,$G293>='관리자 Setting'!$Q$14),0,IF(AND($G293<'관리자 Setting'!$P$14,$H293<'관리자 Setting'!$Q$14),$H293-'관리자 Setting'!$P$14,IF(AND($G293<'관리자 Setting'!$P$14,$H293>='관리자 Setting'!$Q$14),'관리자 Setting'!$R$14,IF(AND($G293>='관리자 Setting'!$P$14,$H293>='관리자 Setting'!$Q$14),'관리자 Setting'!$Q$14-$G293,IF(AND($G293>='관리자 Setting'!$P$14,$H293<'관리자 Setting'!$Q$14),$H293-$G293,IF($G293>='관리자 Setting'!$Q$14,0,0))))))","v":"00:00:00"},{"$f":"IF(OR($H293<'관리자 Setting'!$P$15,$G293>='관리자 Setting'!$Q$15),0,IF(AND($G293<'관리자 Setting'!$P$15,$H293<'관리자 Setting'!$Q$15),$H293-'관리자 Setting'!$P$15,IF(AND($G293<'관리자 Setting'!$P$15,$H293>='관리자 Setting'!$Q$15),'관리자 Setting'!$R$15,IF(AND($G293>='관리자 Setting'!$P$15,$H293>='관리자 Setting'!$Q$15),'관리자 Setting'!$Q$15-$G293,IF(AND($G293>='관리자 Setting'!$P$15,$H293<'관리자 Setting'!$Q$15),$H293-$G293,IF($G293>='관리자 Setting'!$Q$15,0,0))))))","v":"00:00:00"},"",{"$f":"IFERROR(VLOOKUP($F293,'관리자 Setting'!$P$18:$Q$33,2,0)/24,\"\")","v":""}]
["","",{"$f":"IFERROR(DATE(LEFT('In-Put'!$B294,4),MID('In-Put'!$B294,5,2),RIGHT('In-Put'!$B294,2)),\"\")","v":""},{"$f":"IF($C294=\"\",\"\",COUNTIFS($C$2:$C$401,C294)-COUNTIFS($C$2:C294,C294))","v":""},{"$f":"IF($C294=\"\",\"\",COUNTIFS('관리자 Setting'!$P$18:$P$33,'설정_In-Put'!$F294))","v":""},{"$f":"'In-Put'!G294","v":0},{"$f":"IFERROR(IF('In-Put'!D294*1=0,\"\",'In-Put'!D294*1),\"\")","v":""},{"$f":"IFERROR(IF('In-Put'!E294*1=0,\"\",IF('In-Put'!E294*1<G294,'In-Put'!E294*1+1,'In-Put'!E294*1)),\"\")","v":""},{"$f":"IF(OR($H294<'관리자 Setting'!$P$14,$G294>='관리자 Setting'!$Q$14),0,IF(AND($G294<'관리자 Setting'!$P$14,$H294<'관리자 Setting'!$Q$14),$H294-'관리자 Setting'!$P$14,IF(AND($G294<'관리자 Setting'!$P$14,$H294>='관리자 Setting'!$Q$14),'관리자 Setting'!$R$14,IF(AND($G294>='관리자 Setting'!$P$14,$H294>='관리자 Setting'!$Q$14),'관리자 Setting'!$Q$14-$G294,IF(AND($G294>='관리자 Setting'!$P$14,$H294<'관리자 Setting'!$Q$14),$H294-$G294,IF($G294>='관리자 Setting'!$Q$14,0,0))))))","v":"00:00:00"},{"$f":"IF(OR($H294<'관리자 Setting'!$P$15,$G294>='관리자 Setting'!$Q$15),0,IF(AND($G294<'관리자 Setting'!$P$15,$H294<'관리자 Setting'!$Q$15),$H294-'관리자 Setting'!$P$15,IF(AND($G294<'관리자 Setting'!$P$15,$H294>='관리자 Setting'!$Q$15),'관리자 Setting'!$R$15,IF(AND($G294>='관리자 Setting'!$P$15,$H294>='관리자 Setting'!$Q$15),'관리자 Setting'!$Q$15-$G294,IF(AND($G294>='관리자 Setting'!$P$15,$H294<'관리자 Setting'!$Q$15),$H294-$G294,IF($G294>='관리자 Setting'!$Q$15,0,0))))))","v":"00:00:00"},"",{"$f":"IFERROR(VLOOKUP($F294,'관리자 Setting'!$P$18:$Q$33,2,0)/24,\"\")","v":""}]
["","",{"$f":"IFERROR(DATE(LEFT('In-Put'!$B295,4),MID('In-Put'!$B295,5,2),RIGHT('In-Put'!$B295,2)),\"\")","v":""},{"$f":"IF($C295=\"\",\"\",COUNTIFS($C$2:$C$401,C295)-COUNTIFS($C$2:C295,C295))","v":""},{"$f":"IF($C295=\"\",\"\",COUNTIFS('관리자 Setting'!$P$18:$P$33,'설정_In-Put'!$F295))","v":""},{"$f":"'In-Put'!G295","v":0},{"$f":"IFERROR(IF('In-Put'!D295*1=0,\"\",'In-Put'!D295*1),\"\")","v":""},{"$f":"IFERROR(IF('In-Put'!E295*1=0,\"\",IF('In-Put'!E295*1<G295,'In-Put'!E295*1+1,'In-Put'!E295*1)),\"\")","v":""},{"$f":"IF(OR($H295<'관리자 Setting'!$P$14,$G295>='관리자 Setting'!$Q$14),0,IF(AND($G295<'관리자 Setting'!$P$14,$H295<'관리자 Setting'!$Q$14),$H295-'관리자 Setting'!$P$14,IF(AND($G295<'관리자 Setting'!$P$14,$H295>='관리자 Setting'!$Q$14),'관리자 Setting'!$R$14,IF(AND($G295>='관리자 Setting'!$P$14,$H295>='관리자 Setting'!$Q$14),'관리자 Setting'!$Q$14-$G295,IF(AND($G295>='관리자 Setting'!$P$14,$H295<'관리자 Setting'!$Q$14),$H295-$G295,IF($G295>='관리자 Setting'!$Q$14,0,0))))))","v":"00:00:00"},{"$f":"IF(OR($H295<'관리자 Setting'!$P$15,$G295>='관리자 Setting'!$Q$15),0,IF(AND($G295<'관리자 Setting'!$P$15,$H295<'관리자 Setting'!$Q$15),$H295-'관리자 Setting'!$P$15,IF(AND($G295<'관리자 Setting'!$P$15,$H295>='관리자 Setting'!$Q$15),'관리자 Setting'!$R$15,IF(AND($G295>='관리자 Setting'!$P$15,$H295>='관리자 Setting'!$Q$15),'관리자 Setting'!$Q$15-$G295,IF(AND($G295>='관리자 Setting'!$P$15,$H295<'관리자 Setting'!$Q$15),$H295-$G295,IF($G295>='관리자 Setting'!$Q$15,0,0))))))","v":"00:00:00"},"",{"$f":"IFERROR(VLOOKUP($F295,'관리자 Setting'!$P$18:$Q$33,2,0)/24,\"\")","v":""}]
["","",{"$f":"IFERROR(DATE(LEFT('In-Put'!$B296,4),MID('In-Put'!$B296,5,2),RIGHT('In-Put'!$B296,2)),\"\")","v":""},{"$f":"IF($C296=\"\",\"\",COUNTIFS($C$2:$C$401,C296)-COUNTIFS($C$2:C296,C296))","v":""},{"$f":"IF($C296=\"\",\"\",COUNTIFS('관리자 Setting'!$P$18:$P$33,'설정_In-Put'!$F296))","v":""},{"$f":"'In-Put'!G296","v":0},{"$f":"IFERROR(IF('In-Put'!D296*1=0,\"\",'In-Put'!D296*1),\"\")","v":""},{"$f":"IFERROR(IF('In-Put'!E296*1=0,\"\",IF('In-Put'!E296*1<G296,'In-Put'!E296*1+1,'In-Put'!E296*1)),\"\")","v":""},{"$f":"IF(OR($H296<'관리자 Setting'!$P$14,$G296>='관리자 Setting'!$Q$14),0,IF(AND($G296<'관리자 Setting'!$P$14,$H296<'관리자 Setting'!$Q$14),$H296-'관리자 Setting'!$P$14,IF(AND($G296<'관리자 Setting'!$P$14,$H296>='관리자 Setting'!$Q$14),'관리자 Setting'!$R$14,IF(AND($G296>='관리자 Setting'!$P$14,$H296>='관리자 Setting'!$Q$14),'관리자 Setting'!$Q$14-$G296,IF(AND($G296>='관리자 Setting'!$P$14,$H296<'관리자 Setting'!$Q$14),$H296-$G296,IF($G296>='관리자 Setting'!$Q$14,0,0))))))","v":"00:00:00"},{"$f":"IF(OR($H296<'관리자 Setting'!$P$15,$G296>='관리자 Setting'!$Q$15),0,IF(AND($G296<'관리자 Setting'!$P$15,$H296<'관리자 Setting'!$Q$15),$H296-'관리자 Setting'!$P$15,IF(AND($G296<'관리자 Setting'!$P$15,$H296>='관리자 Setting'!$Q$15),'관리자 Setting'!$R$15,IF(AND($G296>='관리자 Setting'!$P$15,$H296>='관리자 Setting'!$Q$15),'관리자 Setting'!$Q$15-$G296,IF(AND($G296>='관리자 Setting'!$P$15,$H296<'관리자 Setting'!$Q$15),$H296-$G296,IF($G296>='관리자 Setting'!$Q$15,0,0))))))","v":"00:00:00"},"",{"$f":"IFERROR(VLOOKUP($F296,'관리자 Setting'!$P$18:$Q$33,2,0)/24,\"\")","v":""}]
["","",{"$f":"IFERROR(DATE(LEFT('In-Put'!$B297,4),MID('In-Put'!$B297,5,2),RIGHT('In-Put'!$B297,2)),\"\")","v":""},{"$f":"IF($C297=\"\",\"\",COUNTIFS($C$2:$C$401,C297)-COUNTIFS($C$2:C297,C297))","v":""},{"$f":"IF($C297=\"\",\"\",COUNTIFS('관리자 Setting'!$P$18:$P$33,'설정_In-Put'!$F297))","v":""},{"$f":"'In-Put'!G297","v":0},{"$f":"IFERROR(IF('In-Put'!D297*1=0,\"\",'In-Put'!D297*1),\"\")","v":""},{"$f":"IFERROR(IF('In-Put'!E297*1=0,\"\",IF('In-Put'!E297*1<G297,'In-Put'!E297*1+1,'In-Put'!E297*1)),\"\")","v":""},{"$f":"IF(OR($H297<'관리자 Setting'!$P$14,$G297>='관리자 Setting'!$Q$14),0,IF(AND($G297<'관리자 Setting'!$P$14,$H297<'관리자 Setting'!$Q$14),$H297-'관리자 Setting'!$P$14,IF(AND($G297<'관리자 Setting'!$P$14,$H297>='관리자 Setting'!$Q$14),'관리자 Setting'!$R$14,IF(AND($G297>='관리자 Setting'!$P$14,$H297>='관리자 Setting'!$Q$14),'관리자 Setting'!$Q$14-$G297,IF(AND($G297>='관리자 Setting'!$P$14,$H297<'관리자 Setting'!$Q$14),$H297-$G297,IF($G297>='관리자 Setting'!$Q$14,0,0))))))","v":"00:00:00"},{"$f":"IF(OR($H297<'관리자 Setting'!$P$15,$G297>='관리자 Setting'!$Q$15),0,IF(AND($G297<'관리자 Setting'!$P$15,$H297<'관리자 Setting'!$Q$15),$H297-'관리자 Setting'!$P$15,IF(AND($G297<'관리자 Setting'!$P$15,$H297>='관리자 Setting'!$Q$15),'관리자 Setting'!$R$15,IF(AND($G297>='관리자 Setting'!$P$15,$H297>='관리자 Setting'!$Q$15),'관리자 Setting'!$Q$15-$G297,IF(AND($G297>='관리자 Setting'!$P$15,$H297<'관리자 Setting'!$Q$15),$H297-$G297,IF($G297>='관리자 Setting'!$Q$15,0,0))))))","v":"00:00:00"},"",{"$f":"IFERROR(VLOOKUP($F297,'관리자 Setting'!$P$18:$Q$33,2,0)/24,\"\")","v":""}]
["","",{"$f":"IFERROR(DATE(LEFT('In-Put'!$B298,4),MID('In-Put'!$B298,5,2),RIGHT('In-Put'!$B298,2)),\"\")","v":""},{"$f":"IF($C298=\"\",\"\",COUNTIFS($C$2:$C$401,C298)-COUNTIFS($C$2:C298,C298))","v":""},{"$f":"IF($C298=\"\",\"\",COUNTIFS('관리자 Setting'!$P$18:$P$33,'설정_In-Put'!$F298))","v":""},{"$f":"'In-Put'!G298","v":0},{"$f":"IFERROR(IF('In-Put'!D298*1=0,\"\",'In-Put'!D298*1),\"\")","v":""},{"$f":"IFERROR(IF('In-Put'!E298*1=0,\"\",IF('In-Put'!E298*1<G298,'In-Put'!E298*1+1,'In-Put'!E298*1)),\"\")","v":""},{"$f":"IF(OR($H298<'관리자 Setting'!$P$14,$G298>='관리자 Setting'!$Q$14),0,IF(AND($G298<'관리자 Setting'!$P$14,$H298<'관리자 Setting'!$Q$14),$H298-'관리자 Setting'!$P$14,IF(AND($G298<'관리자 Setting'!$P$14,$H298>='관리자 Setting'!$Q$14),'관리자 Setting'!$R$14,IF(AND($G298>='관리자 Setting'!$P$14,$H298>='관리자 Setting'!$Q$14),'관리자 Setting'!$Q$14-$G298,IF(AND($G298>='관리자 Setting'!$P$14,$H298<'관리자 Setting'!$Q$14),$H298-$G298,IF($G298>='관리자 Setting'!$Q$14,0,0))))))","v":"00:00:00"},{"$f":"IF(OR($H298<'관리자 Setting'!$P$15,$G298>='관리자 Setting'!$Q$15),0,IF(AND($G298<'관리자 Setting'!$P$15,$H298<'관리자 Setting'!$Q$15),$H298-'관리자 Setting'!$P$15,IF(AND($G298<'관리자 Setting'!$P$15,$H298>='관리자 Setting'!$Q$15),'관리자 Setting'!$R$15,IF(AND($G298>='관리자 Setting'!$P$15,$H298>='관리자 Setting'!$Q$15),'관리자 Setting'!$Q$15-$G298,IF(AND($G298>='관리자 Setting'!$P$15,$H298<'관리자 Setting'!$Q$15),$H298-$G298,IF($G298>='관리자 Setting'!$Q$15,0,0))))))","v":"00:00:00"},"",{"$f":"IFERROR(VLOOKUP($F298,'관리자 Setting'!$P$18:$Q$33,2,0)/24,\"\")","v":""}]
["","",{"$f":"IFERROR(DATE(LEFT('In-Put'!$B299,4),MID('In-Put'!$B299,5,2),RIGHT('In-Put'!$B299,2)),\"\")","v":""},{"$f":"IF($C299=\"\",\"\",COUNTIFS($C$2:$C$401,C299)-COUNTIFS($C$2:C299,C299))","v":""},{"$f":"IF($C299=\"\",\"\",COUNTIFS('관리자 Setting'!$P$18:$P$33,'설정_In-Put'!$F299))","v":""},{"$f":"'In-Put'!G299","v":0},{"$f":"IFERROR(IF('In-Put'!D299*1=0,\"\",'In-Put'!D299*1),\"\")","v":""},{"$f":"IFERROR(IF('In-Put'!E299*1=0,\"\",IF('In-Put'!E299*1<G299,'In-Put'!E299*1+1,'In-Put'!E299*1)),\"\")","v":""},{"$f":"IF(OR($H299<'관리자 Setting'!$P$14,$G299>='관리자 Setting'!$Q$14),0,IF(AND($G299<'관리자 Setting'!$P$14,$H299<'관리자 Setting'!$Q$14),$H299-'관리자 Setting'!$P$14,IF(AND($G299<'관리자 Setting'!$P$14,$H299>='관리자 Setting'!$Q$14),'관리자 Setting'!$R$14,IF(AND($G299>='관리자 Setting'!$P$14,$H299>='관리자 Setting'!$Q$14),'관리자 Setting'!$Q$14-$G299,IF(AND($G299>='관리자 Setting'!$P$14,$H299<'관리자 Setting'!$Q$14),$H299-$G299,IF($G299>='관리자 Setting'!$Q$14,0,0))))))","v":"00:00:00"},{"$f":"IF(OR($H299<'관리자 Setting'!$P$15,$G299>='관리자 Setting'!$Q$15),0,IF(AND($G299<'관리자 Setting'!$P$15,$H299<'관리자 Setting'!$Q$15),$H299-'관리자 Setting'!$P$15,IF(AND($G299<'관리자 Setting'!$P$15,$H299>='관리자 Setting'!$Q$15),'관리자 Setting'!$R$15,IF(AND($G299>='관리자 Setting'!$P$15,$H299>='관리자 Setting'!$Q$15),'관리자 Setting'!$Q$15-$G299,IF(AND($G299>='관리자 Setting'!$P$15,$H299<'관리자 Setting'!$Q$15),$H299-$G299,IF($G299>='관리자 Setting'!$Q$15,0,0))))))","v":"00:00:00"},"",{"$f":"IFERROR(VLOOKUP($F299,'관리자 Setting'!$P$18:$Q$33,2,0)/24,\"\")","v":""}]
["","",{"$f":"IFERROR(DATE(LEFT('In-Put'!$B300,4),MID('In-Put'!$B300,5,2),RIGHT('In-Put'!$B300,2)),\"\")","v":""},{"$f":"IF($C300=\"\",\"\",COUNTIFS($C$2:$C$401,C300)-COUNTIFS($C$2:C300,C300))","v":""},{"$f":"IF($C300=\"\",\"\",COUNTIFS('관리자 Setting'!$P$18:$P$33,'설정_In-Put'!$F300))","v":""},{"$f":"'In-Put'!G300","v":0},{"$f":"IFERROR(IF('In-Put'!D300*1=0,\"\",'In-Put'!D300*1),\"\")","v":""},{"$f":"IFERROR(IF('In-Put'!E300*1=0,\"\",IF('In-Put'!E300*1<G300,'In-Put'!E300*1+1,'In-Put'!E300*1)),\"\")","v":""},{"$f":"IF(OR($H300<'관리자 Setting'!$P$14,$G300>='관리자 Setting'!$Q$14),0,IF(AND($G300<'관리자 Setting'!$P$14,$H300<'관리자 Setting'!$Q$14),$H300-'관리자 Setting'!$P$14,IF(AND($G300<'관리자 Setting'!$P$14,$H300>='관리자 Setting'!$Q$14),'관리자 Setting'!$R$14,IF(AND($G300>='관리자 Setting'!$P$14,$H300>='관리자 Setting'!$Q$14),'관리자 Setting'!$Q$14-$G300,IF(AND($G300>='관리자 Setting'!$P$14,$H300<'관리자 Setting'!$Q$14),$H300-$G300,IF($G300>='관리자 Setting'!$Q$14,0,0))))))","v":"00:00:00"},{"$f":"IF(OR($H300<'관리자 Setting'!$P$15,$G300>='관리자 Setting'!$Q$15),0,IF(AND($G300<'관리자 Setting'!$P$15,$H300<'관리자 Setting'!$Q$15),$H300-'관리자 Setting'!$P$15,IF(AND($G300<'관리자 Setting'!$P$15,$H300>='관리자 Setting'!$Q$15),'관리자 Setting'!$R$15,IF(AND($G300>='관리자 Setting'!$P$15,$H300>='관리자 Setting'!$Q$15),'관리자 Setting'!$Q$15-$G300,IF(AND($G300>='관리자 Setting'!$P$15,$H300<'관리자 Setting'!$Q$15),$H300-$G300,IF($G300>='관리자 Setting'!$Q$15,0,0))))))","v":"00:00:00"},"",{"$f":"IFERROR(VLOOKUP($F300,'관리자 Setting'!$P$18:$Q$33,2,0)/24,\"\")","v":""}]
["","",{"$f":"IFERROR(DATE(LEFT('In-Put'!$B301,4),MID('In-Put'!$B301,5,2),RIGHT('In-Put'!$B301,2)),\"\")","v":""},{"$f":"IF($C301=\"\",\"\",COUNTIFS($C$2:$C$401,C301)-COUNTIFS($C$2:C301,C301))","v":""},{"$f":"IF($C301=\"\",\"\",COUNTIFS('관리자 Setting'!$P$18:$P$33,'설정_In-Put'!$F301))","v":""},{"$f":"'In-Put'!G301","v":0},{"$f":"IFERROR(IF('In-Put'!D301*1=0,\"\",'In-Put'!D301*1),\"\")","v":""},{"$f":"IFERROR(IF('In-Put'!E301*1=0,\"\",IF('In-Put'!E301*1<G301,'In-Put'!E301*1+1,'In-Put'!E301*1)),\"\")","v":""},{"$f":"IF(OR($H301<'관리자 Setting'!$P$14,$G301>='관리자 Setting'!$Q$14),0,IF(AND($G301<'관리자 Setting'!$P$14,$H301<'관리자 Setting'!$Q$14),$H301-'관리자 Setting'!$P$14,IF(AND($G301<'관리자 Setting'!$P$14,$H301>='관리자 Setting'!$Q$14),'관리자 Setting'!$R$14,IF(AND($G301>='관리자 Setting'!$P$14,$H301>='관리자 Setting'!$Q$14),'관리자 Setting'!$Q$14-$G301,IF(AND($G301>='관리자 Setting'!$P$14,$H301<'관리자 Setting'!$Q$14),$H301-$G301,IF($G301>='관리자 Setting'!$Q$14,0,0))))))","v":"00:00:00"},{"$f":"IF(OR($H301<'관리자 Setting'!$P$15,$G301>='관리자 Setting'!$Q$15),0,IF(AND($G301<'관리자 Setting'!$P$15,$H301<'관리자 Setting'!$Q$15),$H301-'관리자 Setting'!$P$15,IF(AND($G301<'관리자 Setting'!$P$15,$H301>='관리자 Setting'!$Q$15),'관리자 Setting'!$R$15,IF(AND($G301>='관리자 Setting'!$P$15,$H301>='관리자 Setting'!$Q$15),'관리자 Setting'!$Q$15-$G301,IF(AND($G301>='관리자 Setting'!$P$15,$H301<'관리자 Setting'!$Q$15),$H301-$G301,IF($G301>='관리자 Setting'!$Q$15,0,0))))))","v":"00:00:00"},"",{"$f":"IFERROR(VLOOKUP($F301,'관리자 Setting'!$P$18:$Q$33,2,0)/24,\"\")","v":""}]
["","",{"$f":"IFERROR(DATE(LEFT('In-Put'!$B302,4),MID('In-Put'!$B302,5,2),RIGHT('In-Put'!$B302,2)),\"\")","v":""},{"$f":"IF($C302=\"\",\"\",COUNTIFS($C$2:$C$401,C302)-COUNTIFS($C$2:C302,C302))","v":""},{"$f":"IF($C302=\"\",\"\",COUNTIFS('관리자 Setting'!$P$18:$P$33,'설정_In-Put'!$F302))","v":""},{"$f":"'In-Put'!G302","v":0},{"$f":"IFERROR(IF('In-Put'!D302*1=0,\"\",'In-Put'!D302*1),\"\")","v":""},{"$f":"IFERROR(IF('In-Put'!E302*1=0,\"\",IF('In-Put'!E302*1<G302,'In-Put'!E302*1+1,'In-Put'!E302*1)),\"\")","v":""},{"$f":"IF(OR($H302<'관리자 Setting'!$P$14,$G302>='관리자 Setting'!$Q$14),0,IF(AND($G302<'관리자 Setting'!$P$14,$H302<'관리자 Setting'!$Q$14),$H302-'관리자 Setting'!$P$14,IF(AND($G302<'관리자 Setting'!$P$14,$H302>='관리자 Setting'!$Q$14),'관리자 Setting'!$R$14,IF(AND($G302>='관리자 Setting'!$P$14,$H302>='관리자 Setting'!$Q$14),'관리자 Setting'!$Q$14-$G302,IF(AND($G302>='관리자 Setting'!$P$14,$H302<'관리자 Setting'!$Q$14),$H302-$G302,IF($G302>='관리자 Setting'!$Q$14,0,0))))))","v":"00:00:00"},{"$f":"IF(OR($H302<'관리자 Setting'!$P$15,$G302>='관리자 Setting'!$Q$15),0,IF(AND($G302<'관리자 Setting'!$P$15,$H302<'관리자 Setting'!$Q$15),$H302-'관리자 Setting'!$P$15,IF(AND($G302<'관리자 Setting'!$P$15,$H302>='관리자 Setting'!$Q$15),'관리자 Setting'!$R$15,IF(AND($G302>='관리자 Setting'!$P$15,$H302>='관리자 Setting'!$Q$15),'관리자 Setting'!$Q$15-$G302,IF(AND($G302>='관리자 Setting'!$P$15,$H302<'관리자 Setting'!$Q$15),$H302-$G302,IF($G302>='관리자 Setting'!$Q$15,0,0))))))","v":"00:00:00"},"",{"$f":"IFERROR(VLOOKUP($F302,'관리자 Setting'!$P$18:$Q$33,2,0)/24,\"\")","v":""}]
["","",{"$f":"IFERROR(DATE(LEFT('In-Put'!$B303,4),MID('In-Put'!$B303,5,2),RIGHT('In-Put'!$B303,2)),\"\")","v":""},{"$f":"IF($C303=\"\",\"\",COUNTIFS($C$2:$C$401,C303)-COUNTIFS($C$2:C303,C303))","v":""},{"$f":"IF($C303=\"\",\"\",COUNTIFS('관리자 Setting'!$P$18:$P$33,'설정_In-Put'!$F303))","v":""},{"$f":"'In-Put'!G303","v":0},{"$f":"IFERROR(IF('In-Put'!D303*1=0,\"\",'In-Put'!D303*1),\"\")","v":""},{"$f":"IFERROR(IF('In-Put'!E303*1=0,\"\",IF('In-Put'!E303*1<G303,'In-Put'!E303*1+1,'In-Put'!E303*1)),\"\")","v":""},{"$f":"IF(OR($H303<'관리자 Setting'!$P$14,$G303>='관리자 Setting'!$Q$14),0,IF(AND($G303<'관리자 Setting'!$P$14,$H303<'관리자 Setting'!$Q$14),$H303-'관리자 Setting'!$P$14,IF(AND($G303<'관리자 Setting'!$P$14,$H303>='관리자 Setting'!$Q$14),'관리자 Setting'!$R$14,IF(AND($G303>='관리자 Setting'!$P$14,$H303>='관리자 Setting'!$Q$14),'관리자 Setting'!$Q$14-$G303,IF(AND($G303>='관리자 Setting'!$P$14,$H303<'관리자 Setting'!$Q$14),$H303-$G303,IF($G303>='관리자 Setting'!$Q$14,0,0))))))","v":"00:00:00"},{"$f":"IF(OR($H303<'관리자 Setting'!$P$15,$G303>='관리자 Setting'!$Q$15),0,IF(AND($G303<'관리자 Setting'!$P$15,$H303<'관리자 Setting'!$Q$15),$H303-'관리자 Setting'!$P$15,IF(AND($G303<'관리자 Setting'!$P$15,$H303>='관리자 Setting'!$Q$15),'관리자 Setting'!$R$15,IF(AND($G303>='관리자 Setting'!$P$15,$H303>='관리자 Setting'!$Q$15),'관리자 Setting'!$Q$15-$G303,IF(AND($G303>='관리자 Setting'!$P$15,$H303<'관리자 Setting'!$Q$15),$H303-$G303,IF($G303>='관리자 Setting'!$Q$15,0,0))))))","v":"00:00:00"},"",{"$f":"IFERROR(VLOOKUP($F303,'관리자 Setting'!$P$18:$Q$33,2,0)/24,\"\")","v":""}]
["","",{"$f":"IFERROR(DATE(LEFT('In-Put'!$B304,4),MID('In-Put'!$B304,5,2),RIGHT('In-Put'!$B304,2)),\"\")","v":""},{"$f":"IF($C304=\"\",\"\",COUNTIFS($C$2:$C$401,C304)-COUNTIFS($C$2:C304,C304))","v":""},{"$f":"IF($C304=\"\",\"\",COUNTIFS('관리자 Setting'!$P$18:$P$33,'설정_In-Put'!$F304))","v":""},{"$f":"'In-Put'!G304","v":0},{"$f":"IFERROR(IF('In-Put'!D304*1=0,\"\",'In-Put'!D304*1),\"\")","v":""},{"$f":"IFERROR(IF('In-Put'!E304*1=0,\"\",IF('In-Put'!E304*1<G304,'In-Put'!E304*1+1,'In-Put'!E304*1)),\"\")","v":""},{"$f":"IF(OR($H304<'관리자 Setting'!$P$14,$G304>='관리자 Setting'!$Q$14),0,IF(AND($G304<'관리자 Setting'!$P$14,$H304<'관리자 Setting'!$Q$14),$H304-'관리자 Setting'!$P$14,IF(AND($G304<'관리자 Setting'!$P$14,$H304>='관리자 Setting'!$Q$14),'관리자 Setting'!$R$14,IF(AND($G304>='관리자 Setting'!$P$14,$H304>='관리자 Setting'!$Q$14),'관리자 Setting'!$Q$14-$G304,IF(AND($G304>='관리자 Setting'!$P$14,$H304<'관리자 Setting'!$Q$14),$H304-$G304,IF($G304>='관리자 Setting'!$Q$14,0,0))))))","v":"00:00:00"},{"$f":"IF(OR($H304<'관리자 Setting'!$P$15,$G304>='관리자 Setting'!$Q$15),0,IF(AND($G304<'관리자 Setting'!$P$15,$H304<'관리자 Setting'!$Q$15),$H304-'관리자 Setting'!$P$15,IF(AND($G304<'관리자 Setting'!$P$15,$H304>='관리자 Setting'!$Q$15),'관리자 Setting'!$R$15,IF(AND($G304>='관리자 Setting'!$P$15,$H304>='관리자 Setting'!$Q$15),'관리자 Setting'!$Q$15-$G304,IF(AND($G304>='관리자 Setting'!$P$15,$H304<'관리자 Setting'!$Q$15),$H304-$G304,IF($G304>='관리자 Setting'!$Q$15,0,0))))))","v":"00:00:00"},"",{"$f":"IFERROR(VLOOKUP($F304,'관리자 Setting'!$P$18:$Q$33,2,0)/24,\"\")","v":""}]
["","",{"$f":"IFERROR(DATE(LEFT('In-Put'!$B305,4),MID('In-Put'!$B305,5,2),RIGHT('In-Put'!$B305,2)),\"\")","v":""},{"$f":"IF($C305=\"\",\"\",COUNTIFS($C$2:$C$401,C305)-COUNTIFS($C$2:C305,C305))","v":""},{"$f":"IF($C305=\"\",\"\",COUNTIFS('관리자 Setting'!$P$18:$P$33,'설정_In-Put'!$F305))","v":""},{"$f":"'In-Put'!G305","v":0},{"$f":"IFERROR(IF('In-Put'!D305*1=0,\"\",'In-Put'!D305*1),\"\")","v":""},{"$f":"IFERROR(IF('In-Put'!E305*1=0,\"\",IF('In-Put'!E305*1<G305,'In-Put'!E305*1+1,'In-Put'!E305*1)),\"\")","v":""},{"$f":"IF(OR($H305<'관리자 Setting'!$P$14,$G305>='관리자 Setting'!$Q$14),0,IF(AND($G305<'관리자 Setting'!$P$14,$H305<'관리자 Setting'!$Q$14),$H305-'관리자 Setting'!$P$14,IF(AND($G305<'관리자 Setting'!$P$14,$H305>='관리자 Setting'!$Q$14),'관리자 Setting'!$R$14,IF(AND($G305>='관리자 Setting'!$P$14,$H305>='관리자 Setting'!$Q$14),'관리자 Setting'!$Q$14-$G305,IF(AND($G305>='관리자 Setting'!$P$14,$H305<'관리자 Setting'!$Q$14),$H305-$G305,IF($G305>='관리자 Setting'!$Q$14,0,0))))))","v":"00:00:00"},{"$f":"IF(OR($H305<'관리자 Setting'!$P$15,$G305>='관리자 Setting'!$Q$15),0,IF(AND($G305<'관리자 Setting'!$P$15,$H305<'관리자 Setting'!$Q$15),$H305-'관리자 Setting'!$P$15,IF(AND($G305<'관리자 Setting'!$P$15,$H305>='관리자 Setting'!$Q$15),'관리자 Setting'!$R$15,IF(AND($G305>='관리자 Setting'!$P$15,$H305>='관리자 Setting'!$Q$15),'관리자 Setting'!$Q$15-$G305,IF(AND($G305>='관리자 Setting'!$P$15,$H305<'관리자 Setting'!$Q$15),$H305-$G305,IF($G305>='관리자 Setting'!$Q$15,0,0))))))","v":"00:00:00"},"",{"$f":"IFERROR(VLOOKUP($F305,'관리자 Setting'!$P$18:$Q$33,2,0)/24,\"\")","v":""}]
["","",{"$f":"IFERROR(DATE(LEFT('In-Put'!$B306,4),MID('In-Put'!$B306,5,2),RIGHT('In-Put'!$B306,2)),\"\")","v":""},{"$f":"IF($C306=\"\",\"\",COUNTIFS($C$2:$C$401,C306)-COUNTIFS($C$2:C306,C306))","v":""},{"$f":"IF($C306=\"\",\"\",COUNTIFS('관리자 Setting'!$P$18:$P$33,'설정_In-Put'!$F306))","v":""},{"$f":"'In-Put'!G306","v":0},{"$f":"IFERROR(IF('In-Put'!D306*1=0,\"\",'In-Put'!D306*1),\"\")","v":""},{"$f":"IFERROR(IF('In-Put'!E306*1=0,\"\",IF('In-Put'!E306*1<G306,'In-Put'!E306*1+1,'In-Put'!E306*1)),\"\")","v":""},{"$f":"IF(OR($H306<'관리자 Setting'!$P$14,$G306>='관리자 Setting'!$Q$14),0,IF(AND($G306<'관리자 Setting'!$P$14,$H306<'관리자 Setting'!$Q$14),$H306-'관리자 Setting'!$P$14,IF(AND($G306<'관리자 Setting'!$P$14,$H306>='관리자 Setting'!$Q$14),'관리자 Setting'!$R$14,IF(AND($G306>='관리자 Setting'!$P$14,$H306>='관리자 Setting'!$Q$14),'관리자 Setting'!$Q$14-$G306,IF(AND($G306>='관리자 Setting'!$P$14,$H306<'관리자 Setting'!$Q$14),$H306-$G306,IF($G306>='관리자 Setting'!$Q$14,0,0))))))","v":"00:00:00"},{"$f":"IF(OR($H306<'관리자 Setting'!$P$15,$G306>='관리자 Setting'!$Q$15),0,IF(AND($G306<'관리자 Setting'!$P$15,$H306<'관리자 Setting'!$Q$15),$H306-'관리자 Setting'!$P$15,IF(AND($G306<'관리자 Setting'!$P$15,$H306>='관리자 Setting'!$Q$15),'관리자 Setting'!$R$15,IF(AND($G306>='관리자 Setting'!$P$15,$H306>='관리자 Setting'!$Q$15),'관리자 Setting'!$Q$15-$G306,IF(AND($G306>='관리자 Setting'!$P$15,$H306<'관리자 Setting'!$Q$15),$H306-$G306,IF($G306>='관리자 Setting'!$Q$15,0,0))))))","v":"00:00:00"},"",{"$f":"IFERROR(VLOOKUP($F306,'관리자 Setting'!$P$18:$Q$33,2,0)/24,\"\")","v":""}]
["","",{"$f":"IFERROR(DATE(LEFT('In-Put'!$B307,4),MID('In-Put'!$B307,5,2),RIGHT('In-Put'!$B307,2)),\"\")","v":""},{"$f":"IF($C307=\"\",\"\",COUNTIFS($C$2:$C$401,C307)-COUNTIFS($C$2:C307,C307))","v":""},{"$f":"IF($C307=\"\",\"\",COUNTIFS('관리자 Setting'!$P$18:$P$33,'설정_In-Put'!$F307))","v":""},{"$f":"'In-Put'!G307","v":0},{"$f":"IFERROR(IF('In-Put'!D307*1=0,\"\",'In-Put'!D307*1),\"\")","v":""},{"$f":"IFERROR(IF('In-Put'!E307*1=0,\"\",IF('In-Put'!E307*1<G307,'In-Put'!E307*1+1,'In-Put'!E307*1)),\"\")","v":""},{"$f":"IF(OR($H307<'관리자 Setting'!$P$14,$G307>='관리자 Setting'!$Q$14),0,IF(AND($G307<'관리자 Setting'!$P$14,$H307<'관리자 Setting'!$Q$14),$H307-'관리자 Setting'!$P$14,IF(AND($G307<'관리자 Setting'!$P$14,$H307>='관리자 Setting'!$Q$14),'관리자 Setting'!$R$14,IF(AND($G307>='관리자 Setting'!$P$14,$H307>='관리자 Setting'!$Q$14),'관리자 Setting'!$Q$14-$G307,IF(AND($G307>='관리자 Setting'!$P$14,$H307<'관리자 Setting'!$Q$14),$H307-$G307,IF($G307>='관리자 Setting'!$Q$14,0,0))))))","v":"00:00:00"},{"$f":"IF(OR($H307<'관리자 Setting'!$P$15,$G307>='관리자 Setting'!$Q$15),0,IF(AND($G307<'관리자 Setting'!$P$15,$H307<'관리자 Setting'!$Q$15),$H307-'관리자 Setting'!$P$15,IF(AND($G307<'관리자 Setting'!$P$15,$H307>='관리자 Setting'!$Q$15),'관리자 Setting'!$R$15,IF(AND($G307>='관리자 Setting'!$P$15,$H307>='관리자 Setting'!$Q$15),'관리자 Setting'!$Q$15-$G307,IF(AND($G307>='관리자 Setting'!$P$15,$H307<'관리자 Setting'!$Q$15),$H307-$G307,IF($G307>='관리자 Setting'!$Q$15,0,0))))))","v":"00:00:00"},"",{"$f":"IFERROR(VLOOKUP($F307,'관리자 Setting'!$P$18:$Q$33,2,0)/24,\"\")","v":""}]
["","",{"$f":"IFERROR(DATE(LEFT('In-Put'!$B308,4),MID('In-Put'!$B308,5,2),RIGHT('In-Put'!$B308,2)),\"\")","v":""},{"$f":"IF($C308=\"\",\"\",COUNTIFS($C$2:$C$401,C308)-COUNTIFS($C$2:C308,C308))","v":""},{"$f":"IF($C308=\"\",\"\",COUNTIFS('관리자 Setting'!$P$18:$P$33,'설정_In-Put'!$F308))","v":""},{"$f":"'In-Put'!G308","v":0},{"$f":"IFERROR(IF('In-Put'!D308*1=0,\"\",'In-Put'!D308*1),\"\")","v":""},{"$f":"IFERROR(IF('In-Put'!E308*1=0,\"\",IF('In-Put'!E308*1<G308,'In-Put'!E308*1+1,'In-Put'!E308*1)),\"\")","v":""},{"$f":"IF(OR($H308<'관리자 Setting'!$P$14,$G308>='관리자 Setting'!$Q$14),0,IF(AND($G308<'관리자 Setting'!$P$14,$H308<'관리자 Setting'!$Q$14),$H308-'관리자 Setting'!$P$14,IF(AND($G308<'관리자 Setting'!$P$14,$H308>='관리자 Setting'!$Q$14),'관리자 Setting'!$R$14,IF(AND($G308>='관리자 Setting'!$P$14,$H308>='관리자 Setting'!$Q$14),'관리자 Setting'!$Q$14-$G308,IF(AND($G308>='관리자 Setting'!$P$14,$H308<'관리자 Setting'!$Q$14),$H308-$G308,IF($G308>='관리자 Setting'!$Q$14,0,0))))))","v":"00:00:00"},{"$f":"IF(OR($H308<'관리자 Setting'!$P$15,$G308>='관리자 Setting'!$Q$15),0,IF(AND($G308<'관리자 Setting'!$P$15,$H308<'관리자 Setting'!$Q$15),$H308-'관리자 Setting'!$P$15,IF(AND($G308<'관리자 Setting'!$P$15,$H308>='관리자 Setting'!$Q$15),'관리자 Setting'!$R$15,IF(AND($G308>='관리자 Setting'!$P$15,$H308>='관리자 Setting'!$Q$15),'관리자 Setting'!$Q$15-$G308,IF(AND($G308>='관리자 Setting'!$P$15,$H308<'관리자 Setting'!$Q$15),$H308-$G308,IF($G308>='관리자 Setting'!$Q$15,0,0))))))","v":"00:00:00"},"",{"$f":"IFERROR(VLOOKUP($F308,'관리자 Setting'!$P$18:$Q$33,2,0)/24,\"\")","v":""}]
["","",{"$f":"IFERROR(DATE(LEFT('In-Put'!$B309,4),MID('In-Put'!$B309,5,2),RIGHT('In-Put'!$B309,2)),\"\")","v":""},{"$f":"IF($C309=\"\",\"\",COUNTIFS($C$2:$C$401,C309)-COUNTIFS($C$2:C309,C309))","v":""},{"$f":"IF($C309=\"\",\"\",COUNTIFS('관리자 Setting'!$P$18:$P$33,'설정_In-Put'!$F309))","v":""},{"$f":"'In-Put'!G309","v":0},{"$f":"IFERROR(IF('In-Put'!D309*1=0,\"\",'In-Put'!D309*1),\"\")","v":""},{"$f":"IFERROR(IF('In-Put'!E309*1=0,\"\",IF('In-Put'!E309*1<G309,'In-Put'!E309*1+1,'In-Put'!E309*1)),\"\")","v":""},{"$f":"IF(OR($H309<'관리자 Setting'!$P$14,$G309>='관리자 Setting'!$Q$14),0,IF(AND($G309<'관리자 Setting'!$P$14,$H309<'관리자 Setting'!$Q$14),$H309-'관리자 Setting'!$P$14,IF(AND($G309<'관리자 Setting'!$P$14,$H309>='관리자 Setting'!$Q$14),'관리자 Setting'!$R$14,IF(AND($G309>='관리자 Setting'!$P$14,$H309>='관리자 Setting'!$Q$14),'관리자 Setting'!$Q$14-$G309,IF(AND($G309>='관리자 Setting'!$P$14,$H309<'관리자 Setting'!$Q$14),$H309-$G309,IF($G309>='관리자 Setting'!$Q$14,0,0))))))","v":"00:00:00"},{"$f":"IF(OR($H309<'관리자 Setting'!$P$15,$G309>='관리자 Setting'!$Q$15),0,IF(AND($G309<'관리자 Setting'!$P$15,$H309<'관리자 Setting'!$Q$15),$H309-'관리자 Setting'!$P$15,IF(AND($G309<'관리자 Setting'!$P$15,$H309>='관리자 Setting'!$Q$15),'관리자 Setting'!$R$15,IF(AND($G309>='관리자 Setting'!$P$15,$H309>='관리자 Setting'!$Q$15),'관리자 Setting'!$Q$15-$G309,IF(AND($G309>='관리자 Setting'!$P$15,$H309<'관리자 Setting'!$Q$15),$H309-$G309,IF($G309>='관리자 Setting'!$Q$15,0,0))))))","v":"00:00:00"},"",{"$f":"IFERROR(VLOOKUP($F309,'관리자 Setting'!$P$18:$Q$33,2,0)/24,\"\")","v":""}]
["","",{"$f":"IFERROR(DATE(LEFT('In-Put'!$B310,4),MID('In-Put'!$B310,5,2),RIGHT('In-Put'!$B310,2)),\"\")","v":""},{"$f":"IF($C310=\"\",\"\",COUNTIFS($C$2:$C$401,C310)-COUNTIFS($C$2:C310,C310))","v":""},{"$f":"IF($C310=\"\",\"\",COUNTIFS('관리자 Setting'!$P$18:$P$33,'설정_In-Put'!$F310))","v":""},{"$f":"'In-Put'!G310","v":0},{"$f":"IFERROR(IF('In-Put'!D310*1=0,\"\",'In-Put'!D310*1),\"\")","v":""},{"$f":"IFERROR(IF('In-Put'!E310*1=0,\"\",IF('In-Put'!E310*1<G310,'In-Put'!E310*1+1,'In-Put'!E310*1)),\"\")","v":""},{"$f":"IF(OR($H310<'관리자 Setting'!$P$14,$G310>='관리자 Setting'!$Q$14),0,IF(AND($G310<'관리자 Setting'!$P$14,$H310<'관리자 Setting'!$Q$14),$H310-'관리자 Setting'!$P$14,IF(AND($G310<'관리자 Setting'!$P$14,$H310>='관리자 Setting'!$Q$14),'관리자 Setting'!$R$14,IF(AND($G310>='관리자 Setting'!$P$14,$H310>='관리자 Setting'!$Q$14),'관리자 Setting'!$Q$14-$G310,IF(AND($G310>='관리자 Setting'!$P$14,$H310<'관리자 Setting'!$Q$14),$H310-$G310,IF($G310>='관리자 Setting'!$Q$14,0,0))))))","v":"00:00:00"},{"$f":"IF(OR($H310<'관리자 Setting'!$P$15,$G310>='관리자 Setting'!$Q$15),0,IF(AND($G310<'관리자 Setting'!$P$15,$H310<'관리자 Setting'!$Q$15),$H310-'관리자 Setting'!$P$15,IF(AND($G310<'관리자 Setting'!$P$15,$H310>='관리자 Setting'!$Q$15),'관리자 Setting'!$R$15,IF(AND($G310>='관리자 Setting'!$P$15,$H310>='관리자 Setting'!$Q$15),'관리자 Setting'!$Q$15-$G310,IF(AND($G310>='관리자 Setting'!$P$15,$H310<'관리자 Setting'!$Q$15),$H310-$G310,IF($G310>='관리자 Setting'!$Q$15,0,0))))))","v":"00:00:00"},"",{"$f":"IFERROR(VLOOKUP($F310,'관리자 Setting'!$P$18:$Q$33,2,0)/24,\"\")","v":""}]
["","",{"$f":"IFERROR(DATE(LEFT('In-Put'!$B311,4),MID('In-Put'!$B311,5,2),RIGHT('In-Put'!$B311,2)),\"\")","v":""},{"$f":"IF($C311=\"\",\"\",COUNTIFS($C$2:$C$401,C311)-COUNTIFS($C$2:C311,C311))","v":""},{"$f":"IF($C311=\"\",\"\",COUNTIFS('관리자 Setting'!$P$18:$P$33,'설정_In-Put'!$F311))","v":""},{"$f":"'In-Put'!G311","v":0},{"$f":"IFERROR(IF('In-Put'!D311*1=0,\"\",'In-Put'!D311*1),\"\")","v":""},{"$f":"IFERROR(IF('In-Put'!E311*1=0,\"\",IF('In-Put'!E311*1<G311,'In-Put'!E311*1+1,'In-Put'!E311*1)),\"\")","v":""},{"$f":"IF(OR($H311<'관리자 Setting'!$P$14,$G311>='관리자 Setting'!$Q$14),0,IF(AND($G311<'관리자 Setting'!$P$14,$H311<'관리자 Setting'!$Q$14),$H311-'관리자 Setting'!$P$14,IF(AND($G311<'관리자 Setting'!$P$14,$H311>='관리자 Setting'!$Q$14),'관리자 Setting'!$R$14,IF(AND($G311>='관리자 Setting'!$P$14,$H311>='관리자 Setting'!$Q$14),'관리자 Setting'!$Q$14-$G311,IF(AND($G311>='관리자 Setting'!$P$14,$H311<'관리자 Setting'!$Q$14),$H311-$G311,IF($G311>='관리자 Setting'!$Q$14,0,0))))))","v":"00:00:00"},{"$f":"IF(OR($H311<'관리자 Setting'!$P$15,$G311>='관리자 Setting'!$Q$15),0,IF(AND($G311<'관리자 Setting'!$P$15,$H311<'관리자 Setting'!$Q$15),$H311-'관리자 Setting'!$P$15,IF(AND($G311<'관리자 Setting'!$P$15,$H311>='관리자 Setting'!$Q$15),'관리자 Setting'!$R$15,IF(AND($G311>='관리자 Setting'!$P$15,$H311>='관리자 Setting'!$Q$15),'관리자 Setting'!$Q$15-$G311,IF(AND($G311>='관리자 Setting'!$P$15,$H311<'관리자 Setting'!$Q$15),$H311-$G311,IF($G311>='관리자 Setting'!$Q$15,0,0))))))","v":"00:00:00"},"",{"$f":"IFERROR(VLOOKUP($F311,'관리자 Setting'!$P$18:$Q$33,2,0)/24,\"\")","v":""}]
["","",{"$f":"IFERROR(DATE(LEFT('In-Put'!$B312,4),MID('In-Put'!$B312,5,2),RIGHT('In-Put'!$B312,2)),\"\")","v":""},{"$f":"IF($C312=\"\",\"\",COUNTIFS($C$2:$C$401,C312)-COUNTIFS($C$2:C312,C312))","v":""},{"$f":"IF($C312=\"\",\"\",COUNTIFS('관리자 Setting'!$P$18:$P$33,'설정_In-Put'!$F312))","v":""},{"$f":"'In-Put'!G312","v":0},{"$f":"IFERROR(IF('In-Put'!D312*1=0,\"\",'In-Put'!D312*1),\"\")","v":""},{"$f":"IFERROR(IF('In-Put'!E312*1=0,\"\",IF('In-Put'!E312*1<G312,'In-Put'!E312*1+1,'In-Put'!E312*1)),\"\")","v":""},{"$f":"IF(OR($H312<'관리자 Setting'!$P$14,$G312>='관리자 Setting'!$Q$14),0,IF(AND($G312<'관리자 Setting'!$P$14,$H312<'관리자 Setting'!$Q$14),$H312-'관리자 Setting'!$P$14,IF(AND($G312<'관리자 Setting'!$P$14,$H312>='관리자 Setting'!$Q$14),'관리자 Setting'!$R$14,IF(AND($G312>='관리자 Setting'!$P$14,$H312>='관리자 Setting'!$Q$14),'관리자 Setting'!$Q$14-$G312,IF(AND($G312>='관리자 Setting'!$P$14,$H312<'관리자 Setting'!$Q$14),$H312-$G312,IF($G312>='관리자 Setting'!$Q$14,0,0))))))","v":"00:00:00"},{"$f":"IF(OR($H312<'관리자 Setting'!$P$15,$G312>='관리자 Setting'!$Q$15),0,IF(AND($G312<'관리자 Setting'!$P$15,$H312<'관리자 Setting'!$Q$15),$H312-'관리자 Setting'!$P$15,IF(AND($G312<'관리자 Setting'!$P$15,$H312>='관리자 Setting'!$Q$15),'관리자 Setting'!$R$15,IF(AND($G312>='관리자 Setting'!$P$15,$H312>='관리자 Setting'!$Q$15),'관리자 Setting'!$Q$15-$G312,IF(AND($G312>='관리자 Setting'!$P$15,$H312<'관리자 Setting'!$Q$15),$H312-$G312,IF($G312>='관리자 Setting'!$Q$15,0,0))))))","v":"00:00:00"},"",{"$f":"IFERROR(VLOOKUP($F312,'관리자 Setting'!$P$18:$Q$33,2,0)/24,\"\")","v":""}]
["","",{"$f":"IFERROR(DATE(LEFT('In-Put'!$B313,4),MID('In-Put'!$B313,5,2),RIGHT('In-Put'!$B313,2)),\"\")","v":""},{"$f":"IF($C313=\"\",\"\",COUNTIFS($C$2:$C$401,C313)-COUNTIFS($C$2:C313,C313))","v":""},{"$f":"IF($C313=\"\",\"\",COUNTIFS('관리자 Setting'!$P$18:$P$33,'설정_In-Put'!$F313))","v":""},{"$f":"'In-Put'!G313","v":0},{"$f":"IFERROR(IF('In-Put'!D313*1=0,\"\",'In-Put'!D313*1),\"\")","v":""},{"$f":"IFERROR(IF('In-Put'!E313*1=0,\"\",IF('In-Put'!E313*1<G313,'In-Put'!E313*1+1,'In-Put'!E313*1)),\"\")","v":""},{"$f":"IF(OR($H313<'관리자 Setting'!$P$14,$G313>='관리자 Setting'!$Q$14),0,IF(AND($G313<'관리자 Setting'!$P$14,$H313<'관리자 Setting'!$Q$14),$H313-'관리자 Setting'!$P$14,IF(AND($G313<'관리자 Setting'!$P$14,$H313>='관리자 Setting'!$Q$14),'관리자 Setting'!$R$14,IF(AND($G313>='관리자 Setting'!$P$14,$H313>='관리자 Setting'!$Q$14),'관리자 Setting'!$Q$14-$G313,IF(AND($G313>='관리자 Setting'!$P$14,$H313<'관리자 Setting'!$Q$14),$H313-$G313,IF($G313>='관리자 Setting'!$Q$14,0,0))))))","v":"00:00:00"},{"$f":"IF(OR($H313<'관리자 Setting'!$P$15,$G313>='관리자 Setting'!$Q$15),0,IF(AND($G313<'관리자 Setting'!$P$15,$H313<'관리자 Setting'!$Q$15),$H313-'관리자 Setting'!$P$15,IF(AND($G313<'관리자 Setting'!$P$15,$H313>='관리자 Setting'!$Q$15),'관리자 Setting'!$R$15,IF(AND($G313>='관리자 Setting'!$P$15,$H313>='관리자 Setting'!$Q$15),'관리자 Setting'!$Q$15-$G313,IF(AND($G313>='관리자 Setting'!$P$15,$H313<'관리자 Setting'!$Q$15),$H313-$G313,IF($G313>='관리자 Setting'!$Q$15,0,0))))))","v":"00:00:00"},"",{"$f":"IFERROR(VLOOKUP($F313,'관리자 Setting'!$P$18:$Q$33,2,0)/24,\"\")","v":""}]
["","",{"$f":"IFERROR(DATE(LEFT('In-Put'!$B314,4),MID('In-Put'!$B314,5,2),RIGHT('In-Put'!$B314,2)),\"\")","v":""},{"$f":"IF($C314=\"\",\"\",COUNTIFS($C$2:$C$401,C314)-COUNTIFS($C$2:C314,C314))","v":""},{"$f":"IF($C314=\"\",\"\",COUNTIFS('관리자 Setting'!$P$18:$P$33,'설정_In-Put'!$F314))","v":""},{"$f":"'In-Put'!G314","v":0},{"$f":"IFERROR(IF('In-Put'!D314*1=0,\"\",'In-Put'!D314*1),\"\")","v":""},{"$f":"IFERROR(IF('In-Put'!E314*1=0,\"\",IF('In-Put'!E314*1<G314,'In-Put'!E314*1+1,'In-Put'!E314*1)),\"\")","v":""},{"$f":"IF(OR($H314<'관리자 Setting'!$P$14,$G314>='관리자 Setting'!$Q$14),0,IF(AND($G314<'관리자 Setting'!$P$14,$H314<'관리자 Setting'!$Q$14),$H314-'관리자 Setting'!$P$14,IF(AND($G314<'관리자 Setting'!$P$14,$H314>='관리자 Setting'!$Q$14),'관리자 Setting'!$R$14,IF(AND($G314>='관리자 Setting'!$P$14,$H314>='관리자 Setting'!$Q$14),'관리자 Setting'!$Q$14-$G314,IF(AND($G314>='관리자 Setting'!$P$14,$H314<'관리자 Setting'!$Q$14),$H314-$G314,IF($G314>='관리자 Setting'!$Q$14,0,0))))))","v":"00:00:00"},{"$f":"IF(OR($H314<'관리자 Setting'!$P$15,$G314>='관리자 Setting'!$Q$15),0,IF(AND($G314<'관리자 Setting'!$P$15,$H314<'관리자 Setting'!$Q$15),$H314-'관리자 Setting'!$P$15,IF(AND($G314<'관리자 Setting'!$P$15,$H314>='관리자 Setting'!$Q$15),'관리자 Setting'!$R$15,IF(AND($G314>='관리자 Setting'!$P$15,$H314>='관리자 Setting'!$Q$15),'관리자 Setting'!$Q$15-$G314,IF(AND($G314>='관리자 Setting'!$P$15,$H314<'관리자 Setting'!$Q$15),$H314-$G314,IF($G314>='관리자 Setting'!$Q$15,0,0))))))","v":"00:00:00"},"",{"$f":"IFERROR(VLOOKUP($F314,'관리자 Setting'!$P$18:$Q$33,2,0)/24,\"\")","v":""}]
["","",{"$f":"IFERROR(DATE(LEFT('In-Put'!$B315,4),MID('In-Put'!$B315,5,2),RIGHT('In-Put'!$B315,2)),\"\")","v":""},{"$f":"IF($C315=\"\",\"\",COUNTIFS($C$2:$C$401,C315)-COUNTIFS($C$2:C315,C315))","v":""},{"$f":"IF($C315=\"\",\"\",COUNTIFS('관리자 Setting'!$P$18:$P$33,'설정_In-Put'!$F315))","v":""},{"$f":"'In-Put'!G315","v":0},{"$f":"IFERROR(IF('In-Put'!D315*1=0,\"\",'In-Put'!D315*1),\"\")","v":""},{"$f":"IFERROR(IF('In-Put'!E315*1=0,\"\",IF('In-Put'!E315*1<G315,'In-Put'!E315*1+1,'In-Put'!E315*1)),\"\")","v":""},{"$f":"IF(OR($H315<'관리자 Setting'!$P$14,$G315>='관리자 Setting'!$Q$14),0,IF(AND($G315<'관리자 Setting'!$P$14,$H315<'관리자 Setting'!$Q$14),$H315-'관리자 Setting'!$P$14,IF(AND($G315<'관리자 Setting'!$P$14,$H315>='관리자 Setting'!$Q$14),'관리자 Setting'!$R$14,IF(AND($G315>='관리자 Setting'!$P$14,$H315>='관리자 Setting'!$Q$14),'관리자 Setting'!$Q$14-$G315,IF(AND($G315>='관리자 Setting'!$P$14,$H315<'관리자 Setting'!$Q$14),$H315-$G315,IF($G315>='관리자 Setting'!$Q$14,0,0))))))","v":"00:00:00"},{"$f":"IF(OR($H315<'관리자 Setting'!$P$15,$G315>='관리자 Setting'!$Q$15),0,IF(AND($G315<'관리자 Setting'!$P$15,$H315<'관리자 Setting'!$Q$15),$H315-'관리자 Setting'!$P$15,IF(AND($G315<'관리자 Setting'!$P$15,$H315>='관리자 Setting'!$Q$15),'관리자 Setting'!$R$15,IF(AND($G315>='관리자 Setting'!$P$15,$H315>='관리자 Setting'!$Q$15),'관리자 Setting'!$Q$15-$G315,IF(AND($G315>='관리자 Setting'!$P$15,$H315<'관리자 Setting'!$Q$15),$H315-$G315,IF($G315>='관리자 Setting'!$Q$15,0,0))))))","v":"00:00:00"},"",{"$f":"IFERROR(VLOOKUP($F315,'관리자 Setting'!$P$18:$Q$33,2,0)/24,\"\")","v":""}]
["","",{"$f":"IFERROR(DATE(LEFT('In-Put'!$B316,4),MID('In-Put'!$B316,5,2),RIGHT('In-Put'!$B316,2)),\"\")","v":""},{"$f":"IF($C316=\"\",\"\",COUNTIFS($C$2:$C$401,C316)-COUNTIFS($C$2:C316,C316))","v":""},{"$f":"IF($C316=\"\",\"\",COUNTIFS('관리자 Setting'!$P$18:$P$33,'설정_In-Put'!$F316))","v":""},{"$f":"'In-Put'!G316","v":0},{"$f":"IFERROR(IF('In-Put'!D316*1=0,\"\",'In-Put'!D316*1),\"\")","v":""},{"$f":"IFERROR(IF('In-Put'!E316*1=0,\"\",IF('In-Put'!E316*1<G316,'In-Put'!E316*1+1,'In-Put'!E316*1)),\"\")","v":""},{"$f":"IF(OR($H316<'관리자 Setting'!$P$14,$G316>='관리자 Setting'!$Q$14),0,IF(AND($G316<'관리자 Setting'!$P$14,$H316<'관리자 Setting'!$Q$14),$H316-'관리자 Setting'!$P$14,IF(AND($G316<'관리자 Setting'!$P$14,$H316>='관리자 Setting'!$Q$14),'관리자 Setting'!$R$14,IF(AND($G316>='관리자 Setting'!$P$14,$H316>='관리자 Setting'!$Q$14),'관리자 Setting'!$Q$14-$G316,IF(AND($G316>='관리자 Setting'!$P$14,$H316<'관리자 Setting'!$Q$14),$H316-$G316,IF($G316>='관리자 Setting'!$Q$14,0,0))))))","v":"00:00:00"},{"$f":"IF(OR($H316<'관리자 Setting'!$P$15,$G316>='관리자 Setting'!$Q$15),0,IF(AND($G316<'관리자 Setting'!$P$15,$H316<'관리자 Setting'!$Q$15),$H316-'관리자 Setting'!$P$15,IF(AND($G316<'관리자 Setting'!$P$15,$H316>='관리자 Setting'!$Q$15),'관리자 Setting'!$R$15,IF(AND($G316>='관리자 Setting'!$P$15,$H316>='관리자 Setting'!$Q$15),'관리자 Setting'!$Q$15-$G316,IF(AND($G316>='관리자 Setting'!$P$15,$H316<'관리자 Setting'!$Q$15),$H316-$G316,IF($G316>='관리자 Setting'!$Q$15,0,0))))))","v":"00:00:00"},"",{"$f":"IFERROR(VLOOKUP($F316,'관리자 Setting'!$P$18:$Q$33,2,0)/24,\"\")","v":""}]
["","",{"$f":"IFERROR(DATE(LEFT('In-Put'!$B317,4),MID('In-Put'!$B317,5,2),RIGHT('In-Put'!$B317,2)),\"\")","v":""},{"$f":"IF($C317=\"\",\"\",COUNTIFS($C$2:$C$401,C317)-COUNTIFS($C$2:C317,C317))","v":""},{"$f":"IF($C317=\"\",\"\",COUNTIFS('관리자 Setting'!$P$18:$P$33,'설정_In-Put'!$F317))","v":""},{"$f":"'In-Put'!G317","v":0},{"$f":"IFERROR(IF('In-Put'!D317*1=0,\"\",'In-Put'!D317*1),\"\")","v":""},{"$f":"IFERROR(IF('In-Put'!E317*1=0,\"\",IF('In-Put'!E317*1<G317,'In-Put'!E317*1+1,'In-Put'!E317*1)),\"\")","v":""},{"$f":"IF(OR($H317<'관리자 Setting'!$P$14,$G317>='관리자 Setting'!$Q$14),0,IF(AND($G317<'관리자 Setting'!$P$14,$H317<'관리자 Setting'!$Q$14),$H317-'관리자 Setting'!$P$14,IF(AND($G317<'관리자 Setting'!$P$14,$H317>='관리자 Setting'!$Q$14),'관리자 Setting'!$R$14,IF(AND($G317>='관리자 Setting'!$P$14,$H317>='관리자 Setting'!$Q$14),'관리자 Setting'!$Q$14-$G317,IF(AND($G317>='관리자 Setting'!$P$14,$H317<'관리자 Setting'!$Q$14),$H317-$G317,IF($G317>='관리자 Setting'!$Q$14,0,0))))))","v":"00:00:00"},{"$f":"IF(OR($H317<'관리자 Setting'!$P$15,$G317>='관리자 Setting'!$Q$15),0,IF(AND($G317<'관리자 Setting'!$P$15,$H317<'관리자 Setting'!$Q$15),$H317-'관리자 Setting'!$P$15,IF(AND($G317<'관리자 Setting'!$P$15,$H317>='관리자 Setting'!$Q$15),'관리자 Setting'!$R$15,IF(AND($G317>='관리자 Setting'!$P$15,$H317>='관리자 Setting'!$Q$15),'관리자 Setting'!$Q$15-$G317,IF(AND($G317>='관리자 Setting'!$P$15,$H317<'관리자 Setting'!$Q$15),$H317-$G317,IF($G317>='관리자 Setting'!$Q$15,0,0))))))","v":"00:00:00"},"",{"$f":"IFERROR(VLOOKUP($F317,'관리자 Setting'!$P$18:$Q$33,2,0)/24,\"\")","v":""}]
["","",{"$f":"IFERROR(DATE(LEFT('In-Put'!$B318,4),MID('In-Put'!$B318,5,2),RIGHT('In-Put'!$B318,2)),\"\")","v":""},{"$f":"IF($C318=\"\",\"\",COUNTIFS($C$2:$C$401,C318)-COUNTIFS($C$2:C318,C318))","v":""},{"$f":"IF($C318=\"\",\"\",COUNTIFS('관리자 Setting'!$P$18:$P$33,'설정_In-Put'!$F318))","v":""},{"$f":"'In-Put'!G318","v":0},{"$f":"IFERROR(IF('In-Put'!D318*1=0,\"\",'In-Put'!D318*1),\"\")","v":""},{"$f":"IFERROR(IF('In-Put'!E318*1=0,\"\",IF('In-Put'!E318*1<G318,'In-Put'!E318*1+1,'In-Put'!E318*1)),\"\")","v":""},{"$f":"IF(OR($H318<'관리자 Setting'!$P$14,$G318>='관리자 Setting'!$Q$14),0,IF(AND($G318<'관리자 Setting'!$P$14,$H318<'관리자 Setting'!$Q$14),$H318-'관리자 Setting'!$P$14,IF(AND($G318<'관리자 Setting'!$P$14,$H318>='관리자 Setting'!$Q$14),'관리자 Setting'!$R$14,IF(AND($G318>='관리자 Setting'!$P$14,$H318>='관리자 Setting'!$Q$14),'관리자 Setting'!$Q$14-$G318,IF(AND($G318>='관리자 Setting'!$P$14,$H318<'관리자 Setting'!$Q$14),$H318-$G318,IF($G318>='관리자 Setting'!$Q$14,0,0))))))","v":"00:00:00"},{"$f":"IF(OR($H318<'관리자 Setting'!$P$15,$G318>='관리자 Setting'!$Q$15),0,IF(AND($G318<'관리자 Setting'!$P$15,$H318<'관리자 Setting'!$Q$15),$H318-'관리자 Setting'!$P$15,IF(AND($G318<'관리자 Setting'!$P$15,$H318>='관리자 Setting'!$Q$15),'관리자 Setting'!$R$15,IF(AND($G318>='관리자 Setting'!$P$15,$H318>='관리자 Setting'!$Q$15),'관리자 Setting'!$Q$15-$G318,IF(AND($G318>='관리자 Setting'!$P$15,$H318<'관리자 Setting'!$Q$15),$H318-$G318,IF($G318>='관리자 Setting'!$Q$15,0,0))))))","v":"00:00:00"},"",{"$f":"IFERROR(VLOOKUP($F318,'관리자 Setting'!$P$18:$Q$33,2,0)/24,\"\")","v":""}]
["","",{"$f":"IFERROR(DATE(LEFT('In-Put'!$B319,4),MID('In-Put'!$B319,5,2),RIGHT('In-Put'!$B319,2)),\"\")","v":""},{"$f":"IF($C319=\"\",\"\",COUNTIFS($C$2:$C$401,C319)-COUNTIFS($C$2:C319,C319))","v":""},{"$f":"IF($C319=\"\",\"\",COUNTIFS('관리자 Setting'!$P$18:$P$33,'설정_In-Put'!$F319))","v":""},{"$f":"'In-Put'!G319","v":0},{"$f":"IFERROR(IF('In-Put'!D319*1=0,\"\",'In-Put'!D319*1),\"\")","v":""},{"$f":"IFERROR(IF('In-Put'!E319*1=0,\"\",IF('In-Put'!E319*1<G319,'In-Put'!E319*1+1,'In-Put'!E319*1)),\"\")","v":""},{"$f":"IF(OR($H319<'관리자 Setting'!$P$14,$G319>='관리자 Setting'!$Q$14),0,IF(AND($G319<'관리자 Setting'!$P$14,$H319<'관리자 Setting'!$Q$14),$H319-'관리자 Setting'!$P$14,IF(AND($G319<'관리자 Setting'!$P$14,$H319>='관리자 Setting'!$Q$14),'관리자 Setting'!$R$14,IF(AND($G319>='관리자 Setting'!$P$14,$H319>='관리자 Setting'!$Q$14),'관리자 Setting'!$Q$14-$G319,IF(AND($G319>='관리자 Setting'!$P$14,$H319<'관리자 Setting'!$Q$14),$H319-$G319,IF($G319>='관리자 Setting'!$Q$14,0,0))))))","v":"00:00:00"},{"$f":"IF(OR($H319<'관리자 Setting'!$P$15,$G319>='관리자 Setting'!$Q$15),0,IF(AND($G319<'관리자 Setting'!$P$15,$H319<'관리자 Setting'!$Q$15),$H319-'관리자 Setting'!$P$15,IF(AND($G319<'관리자 Setting'!$P$15,$H319>='관리자 Setting'!$Q$15),'관리자 Setting'!$R$15,IF(AND($G319>='관리자 Setting'!$P$15,$H319>='관리자 Setting'!$Q$15),'관리자 Setting'!$Q$15-$G319,IF(AND($G319>='관리자 Setting'!$P$15,$H319<'관리자 Setting'!$Q$15),$H319-$G319,IF($G319>='관리자 Setting'!$Q$15,0,0))))))","v":"00:00:00"},"",{"$f":"IFERROR(VLOOKUP($F319,'관리자 Setting'!$P$18:$Q$33,2,0)/24,\"\")","v":""}]
["","",{"$f":"IFERROR(DATE(LEFT('In-Put'!$B320,4),MID('In-Put'!$B320,5,2),RIGHT('In-Put'!$B320,2)),\"\")","v":""},{"$f":"IF($C320=\"\",\"\",COUNTIFS($C$2:$C$401,C320)-COUNTIFS($C$2:C320,C320))","v":""},{"$f":"IF($C320=\"\",\"\",COUNTIFS('관리자 Setting'!$P$18:$P$33,'설정_In-Put'!$F320))","v":""},{"$f":"'In-Put'!G320","v":0},{"$f":"IFERROR(IF('In-Put'!D320*1=0,\"\",'In-Put'!D320*1),\"\")","v":""},{"$f":"IFERROR(IF('In-Put'!E320*1=0,\"\",IF('In-Put'!E320*1<G320,'In-Put'!E320*1+1,'In-Put'!E320*1)),\"\")","v":""},{"$f":"IF(OR($H320<'관리자 Setting'!$P$14,$G320>='관리자 Setting'!$Q$14),0,IF(AND($G320<'관리자 Setting'!$P$14,$H320<'관리자 Setting'!$Q$14),$H320-'관리자 Setting'!$P$14,IF(AND($G320<'관리자 Setting'!$P$14,$H320>='관리자 Setting'!$Q$14),'관리자 Setting'!$R$14,IF(AND($G320>='관리자 Setting'!$P$14,$H320>='관리자 Setting'!$Q$14),'관리자 Setting'!$Q$14-$G320,IF(AND($G320>='관리자 Setting'!$P$14,$H320<'관리자 Setting'!$Q$14),$H320-$G320,IF($G320>='관리자 Setting'!$Q$14,0,0))))))","v":"00:00:00"},{"$f":"IF(OR($H320<'관리자 Setting'!$P$15,$G320>='관리자 Setting'!$Q$15),0,IF(AND($G320<'관리자 Setting'!$P$15,$H320<'관리자 Setting'!$Q$15),$H320-'관리자 Setting'!$P$15,IF(AND($G320<'관리자 Setting'!$P$15,$H320>='관리자 Setting'!$Q$15),'관리자 Setting'!$R$15,IF(AND($G320>='관리자 Setting'!$P$15,$H320>='관리자 Setting'!$Q$15),'관리자 Setting'!$Q$15-$G320,IF(AND($G320>='관리자 Setting'!$P$15,$H320<'관리자 Setting'!$Q$15),$H320-$G320,IF($G320>='관리자 Setting'!$Q$15,0,0))))))","v":"00:00:00"},"",{"$f":"IFERROR(VLOOKUP($F320,'관리자 Setting'!$P$18:$Q$33,2,0)/24,\"\")","v":""}]
["","",{"$f":"IFERROR(DATE(LEFT('In-Put'!$B321,4),MID('In-Put'!$B321,5,2),RIGHT('In-Put'!$B321,2)),\"\")","v":""},{"$f":"IF($C321=\"\",\"\",COUNTIFS($C$2:$C$401,C321)-COUNTIFS($C$2:C321,C321))","v":""},{"$f":"IF($C321=\"\",\"\",COUNTIFS('관리자 Setting'!$P$18:$P$33,'설정_In-Put'!$F321))","v":""},{"$f":"'In-Put'!G321","v":0},{"$f":"IFERROR(IF('In-Put'!D321*1=0,\"\",'In-Put'!D321*1),\"\")","v":""},{"$f":"IFERROR(IF('In-Put'!E321*1=0,\"\",IF('In-Put'!E321*1<G321,'In-Put'!E321*1+1,'In-Put'!E321*1)),\"\")","v":""},{"$f":"IF(OR($H321<'관리자 Setting'!$P$14,$G321>='관리자 Setting'!$Q$14),0,IF(AND($G321<'관리자 Setting'!$P$14,$H321<'관리자 Setting'!$Q$14),$H321-'관리자 Setting'!$P$14,IF(AND($G321<'관리자 Setting'!$P$14,$H321>='관리자 Setting'!$Q$14),'관리자 Setting'!$R$14,IF(AND($G321>='관리자 Setting'!$P$14,$H321>='관리자 Setting'!$Q$14),'관리자 Setting'!$Q$14-$G321,IF(AND($G321>='관리자 Setting'!$P$14,$H321<'관리자 Setting'!$Q$14),$H321-$G321,IF($G321>='관리자 Setting'!$Q$14,0,0))))))","v":"00:00:00"},{"$f":"IF(OR($H321<'관리자 Setting'!$P$15,$G321>='관리자 Setting'!$Q$15),0,IF(AND($G321<'관리자 Setting'!$P$15,$H321<'관리자 Setting'!$Q$15),$H321-'관리자 Setting'!$P$15,IF(AND($G321<'관리자 Setting'!$P$15,$H321>='관리자 Setting'!$Q$15),'관리자 Setting'!$R$15,IF(AND($G321>='관리자 Setting'!$P$15,$H321>='관리자 Setting'!$Q$15),'관리자 Setting'!$Q$15-$G321,IF(AND($G321>='관리자 Setting'!$P$15,$H321<'관리자 Setting'!$Q$15),$H321-$G321,IF($G321>='관리자 Setting'!$Q$15,0,0))))))","v":"00:00:00"},"",{"$f":"IFERROR(VLOOKUP($F321,'관리자 Setting'!$P$18:$Q$33,2,0)/24,\"\")","v":""}]
["","",{"$f":"IFERROR(DATE(LEFT('In-Put'!$B322,4),MID('In-Put'!$B322,5,2),RIGHT('In-Put'!$B322,2)),\"\")","v":""},{"$f":"IF($C322=\"\",\"\",COUNTIFS($C$2:$C$401,C322)-COUNTIFS($C$2:C322,C322))","v":""},{"$f":"IF($C322=\"\",\"\",COUNTIFS('관리자 Setting'!$P$18:$P$33,'설정_In-Put'!$F322))","v":""},{"$f":"'In-Put'!G322","v":0},{"$f":"IFERROR(IF('In-Put'!D322*1=0,\"\",'In-Put'!D322*1),\"\")","v":""},{"$f":"IFERROR(IF('In-Put'!E322*1=0,\"\",IF('In-Put'!E322*1<G322,'In-Put'!E322*1+1,'In-Put'!E322*1)),\"\")","v":""},{"$f":"IF(OR($H322<'관리자 Setting'!$P$14,$G322>='관리자 Setting'!$Q$14),0,IF(AND($G322<'관리자 Setting'!$P$14,$H322<'관리자 Setting'!$Q$14),$H322-'관리자 Setting'!$P$14,IF(AND($G322<'관리자 Setting'!$P$14,$H322>='관리자 Setting'!$Q$14),'관리자 Setting'!$R$14,IF(AND($G322>='관리자 Setting'!$P$14,$H322>='관리자 Setting'!$Q$14),'관리자 Setting'!$Q$14-$G322,IF(AND($G322>='관리자 Setting'!$P$14,$H322<'관리자 Setting'!$Q$14),$H322-$G322,IF($G322>='관리자 Setting'!$Q$14,0,0))))))","v":"00:00:00"},{"$f":"IF(OR($H322<'관리자 Setting'!$P$15,$G322>='관리자 Setting'!$Q$15),0,IF(AND($G322<'관리자 Setting'!$P$15,$H322<'관리자 Setting'!$Q$15),$H322-'관리자 Setting'!$P$15,IF(AND($G322<'관리자 Setting'!$P$15,$H322>='관리자 Setting'!$Q$15),'관리자 Setting'!$R$15,IF(AND($G322>='관리자 Setting'!$P$15,$H322>='관리자 Setting'!$Q$15),'관리자 Setting'!$Q$15-$G322,IF(AND($G322>='관리자 Setting'!$P$15,$H322<'관리자 Setting'!$Q$15),$H322-$G322,IF($G322>='관리자 Setting'!$Q$15,0,0))))))","v":"00:00:00"},{"$f":"IF(OR(G322=\"\",H322=\"\"),\"\",H322-G322-SUM(I322:J322))","v":""},{"$f":"IFERROR(VLOOKUP($F322,'관리자 Setting'!$P$18:$Q$33,2,0)/24,\"\")","v":""}]
[{"$f":"$C323&$D323","v":""},{"$f":"$C323&$E323","v":""},{"$f":"IFERROR(DATE(LEFT('In-Put'!$B323,4),MID('In-Put'!$B323,5,2),RIGHT('In-Put'!$B323,2)),\"\")","v":""},{"$f":"IF($C323=\"\",\"\",COUNTIFS($C$2:$C$401,C323)-COUNTIFS($C$2:C323,C323))","v":""},{"$f":"IF($C323=\"\",\"\",COUNTIFS('관리자 Setting'!$P$18:$P$33,'설정_In-Put'!$F323))","v":""},{"$f":"'In-Put'!G323","v":0},{"$f":"IFERROR(IF('In-Put'!D323*1=0,\"\",'In-Put'!D323*1),\"\")","v":""},{"$f":"IFERROR(IF('In-Put'!E323*1=0,\"\",IF('In-Put'!E323*1<G323,'In-Put'!E323*1+1,'In-Put'!E323*1)),\"\")","v":""},{"$f":"IF(OR($H323<'관리자 Setting'!$P$14,$G323>='관리자 Setting'!$Q$14),0,IF(AND($G323<'관리자 Setting'!$P$14,$H323<'관리자 Setting'!$Q$14),$H323-'관리자 Setting'!$P$14,IF(AND($G323<'관리자 Setting'!$P$14,$H323>='관리자 Setting'!$Q$14),'관리자 Setting'!$R$14,IF(AND($G323>='관리자 Setting'!$P$14,$H323>='관리자 Setting'!$Q$14),'관리자 Setting'!$Q$14-$G323,IF(AND($G323>='관리자 Setting'!$P$14,$H323<'관리자 Setting'!$Q$14),$H323-$G323,IF($G323>='관리자 Setting'!$Q$14,0,0))))))","v":"00:00:00"},{"$f":"IF(OR($H323<'관리자 Setting'!$P$15,$G323>='관리자 Setting'!$Q$15),0,IF(AND($G323<'관리자 Setting'!$P$15,$H323<'관리자 Setting'!$Q$15),$H323-'관리자 Setting'!$P$15,IF(AND($G323<'관리자 Setting'!$P$15,$H323>='관리자 Setting'!$Q$15),'관리자 Setting'!$R$15,IF(AND($G323>='관리자 Setting'!$P$15,$H323>='관리자 Setting'!$Q$15),'관리자 Setting'!$Q$15-$G323,IF(AND($G323>='관리자 Setting'!$P$15,$H323<'관리자 Setting'!$Q$15),$H323-$G323,IF($G323>='관리자 Setting'!$Q$15,0,0))))))","v":"00:00:00"},"",{"$f":"IFERROR(VLOOKUP($F323,'관리자 Setting'!$P$18:$Q$33,2,0)/24,\"\")","v":""}]
["","",{"$f":"IFERROR(DATE(LEFT('In-Put'!$B324,4),MID('In-Put'!$B324,5,2),RIGHT('In-Put'!$B324,2)),\"\")","v":""},{"$f":"IF($C324=\"\",\"\",COUNTIFS($C$2:$C$401,C324)-COUNTIFS($C$2:C324,C324))","v":""},{"$f":"IF($C324=\"\",\"\",COUNTIFS('관리자 Setting'!$P$18:$P$33,'설정_In-Put'!$F324))","v":""},{"$f":"'In-Put'!G324","v":0},{"$f":"IFERROR(IF('In-Put'!D324*1=0,\"\",'In-Put'!D324*1),\"\")","v":""},{"$f":"IFERROR(IF('In-Put'!E324*1=0,\"\",IF('In-Put'!E324*1<G324,'In-Put'!E324*1+1,'In-Put'!E324*1)),\"\")","v":""},{"$f":"IF(OR($H324<'관리자 Setting'!$P$14,$G324>='관리자 Setting'!$Q$14),0,IF(AND($G324<'관리자 Setting'!$P$14,$H324<'관리자 Setting'!$Q$14),$H324-'관리자 Setting'!$P$14,IF(AND($G324<'관리자 Setting'!$P$14,$H324>='관리자 Setting'!$Q$14),'관리자 Setting'!$R$14,IF(AND($G324>='관리자 Setting'!$P$14,$H324>='관리자 Setting'!$Q$14),'관리자 Setting'!$Q$14-$G324,IF(AND($G324>='관리자 Setting'!$P$14,$H324<'관리자 Setting'!$Q$14),$H324-$G324,IF($G324>='관리자 Setting'!$Q$14,0,0))))))","v":"00:00:00"},{"$f":"IF(OR($H324<'관리자 Setting'!$P$15,$G324>='관리자 Setting'!$Q$15),0,IF(AND($G324<'관리자 Setting'!$P$15,$H324<'관리자 Setting'!$Q$15),$H324-'관리자 Setting'!$P$15,IF(AND($G324<'관리자 Setting'!$P$15,$H324>='관리자 Setting'!$Q$15),'관리자 Setting'!$R$15,IF(AND($G324>='관리자 Setting'!$P$15,$H324>='관리자 Setting'!$Q$15),'관리자 Setting'!$Q$15-$G324,IF(AND($G324>='관리자 Setting'!$P$15,$H324<'관리자 Setting'!$Q$15),$H324-$G324,IF($G324>='관리자 Setting'!$Q$15,0,0))))))","v":"00:00:00"},"",{"$f":"IFERROR(VLOOKUP($F324,'관리자 Setting'!$P$18:$Q$33,2,0)/24,\"\")","v":""}]
["","",{"$f":"IFERROR(DATE(LEFT('In-Put'!$B325,4),MID('In-Put'!$B325,5,2),RIGHT('In-Put'!$B325,2)),\"\")","v":""},{"$f":"IF($C325=\"\",\"\",COUNTIFS($C$2:$C$401,C325)-COUNTIFS($C$2:C325,C325))","v":""},{"$f":"IF($C325=\"\",\"\",COUNTIFS('관리자 Setting'!$P$18:$P$33,'설정_In-Put'!$F325))","v":""},{"$f":"'In-Put'!G325","v":0},{"$f":"IFERROR(IF('In-Put'!D325*1=0,\"\",'In-Put'!D325*1),\"\")","v":""},{"$f":"IFERROR(IF('In-Put'!E325*1=0,\"\",IF('In-Put'!E325*1<G325,'In-Put'!E325*1+1,'In-Put'!E325*1)),\"\")","v":""},{"$f":"IF(OR($H325<'관리자 Setting'!$P$14,$G325>='관리자 Setting'!$Q$14),0,IF(AND($G325<'관리자 Setting'!$P$14,$H325<'관리자 Setting'!$Q$14),$H325-'관리자 Setting'!$P$14,IF(AND($G325<'관리자 Setting'!$P$14,$H325>='관리자 Setting'!$Q$14),'관리자 Setting'!$R$14,IF(AND($G325>='관리자 Setting'!$P$14,$H325>='관리자 Setting'!$Q$14),'관리자 Setting'!$Q$14-$G325,IF(AND($G325>='관리자 Setting'!$P$14,$H325<'관리자 Setting'!$Q$14),$H325-$G325,IF($G325>='관리자 Setting'!$Q$14,0,0))))))","v":"00:00:00"},{"$f":"IF(OR($H325<'관리자 Setting'!$P$15,$G325>='관리자 Setting'!$Q$15),0,IF(AND($G325<'관리자 Setting'!$P$15,$H325<'관리자 Setting'!$Q$15),$H325-'관리자 Setting'!$P$15,IF(AND($G325<'관리자 Setting'!$P$15,$H325>='관리자 Setting'!$Q$15),'관리자 Setting'!$R$15,IF(AND($G325>='관리자 Setting'!$P$15,$H325>='관리자 Setting'!$Q$15),'관리자 Setting'!$Q$15-$G325,IF(AND($G325>='관리자 Setting'!$P$15,$H325<'관리자 Setting'!$Q$15),$H325-$G325,IF($G325>='관리자 Setting'!$Q$15,0,0))))))","v":"00:00:00"},"",{"$f":"IFERROR(VLOOKUP($F325,'관리자 Setting'!$P$18:$Q$33,2,0)/24,\"\")","v":""}]
["","",{"$f":"IFERROR(DATE(LEFT('In-Put'!$B326,4),MID('In-Put'!$B326,5,2),RIGHT('In-Put'!$B326,2)),\"\")","v":""},{"$f":"IF($C326=\"\",\"\",COUNTIFS($C$2:$C$401,C326)-COUNTIFS($C$2:C326,C326))","v":""},{"$f":"IF($C326=\"\",\"\",COUNTIFS('관리자 Setting'!$P$18:$P$33,'설정_In-Put'!$F326))","v":""},{"$f":"'In-Put'!G326","v":0},{"$f":"IFERROR(IF('In-Put'!D326*1=0,\"\",'In-Put'!D326*1),\"\")","v":""},{"$f":"IFERROR(IF('In-Put'!E326*1=0,\"\",IF('In-Put'!E326*1<G326,'In-Put'!E326*1+1,'In-Put'!E326*1)),\"\")","v":""},{"$f":"IF(OR($H326<'관리자 Setting'!$P$14,$G326>='관리자 Setting'!$Q$14),0,IF(AND($G326<'관리자 Setting'!$P$14,$H326<'관리자 Setting'!$Q$14),$H326-'관리자 Setting'!$P$14,IF(AND($G326<'관리자 Setting'!$P$14,$H326>='관리자 Setting'!$Q$14),'관리자 Setting'!$R$14,IF(AND($G326>='관리자 Setting'!$P$14,$H326>='관리자 Setting'!$Q$14),'관리자 Setting'!$Q$14-$G326,IF(AND($G326>='관리자 Setting'!$P$14,$H326<'관리자 Setting'!$Q$14),$H326-$G326,IF($G326>='관리자 Setting'!$Q$14,0,0))))))","v":"00:00:00"},{"$f":"IF(OR($H326<'관리자 Setting'!$P$15,$G326>='관리자 Setting'!$Q$15),0,IF(AND($G326<'관리자 Setting'!$P$15,$H326<'관리자 Setting'!$Q$15),$H326-'관리자 Setting'!$P$15,IF(AND($G326<'관리자 Setting'!$P$15,$H326>='관리자 Setting'!$Q$15),'관리자 Setting'!$R$15,IF(AND($G326>='관리자 Setting'!$P$15,$H326>='관리자 Setting'!$Q$15),'관리자 Setting'!$Q$15-$G326,IF(AND($G326>='관리자 Setting'!$P$15,$H326<'관리자 Setting'!$Q$15),$H326-$G326,IF($G326>='관리자 Setting'!$Q$15,0,0))))))","v":"00:00:00"},"",{"$f":"IFERROR(VLOOKUP($F326,'관리자 Setting'!$P$18:$Q$33,2,0)/24,\"\")","v":""}]
["","",{"$f":"IFERROR(DATE(LEFT('In-Put'!$B327,4),MID('In-Put'!$B327,5,2),RIGHT('In-Put'!$B327,2)),\"\")","v":""},{"$f":"IF($C327=\"\",\"\",COUNTIFS($C$2:$C$401,C327)-COUNTIFS($C$2:C327,C327))","v":""},{"$f":"IF($C327=\"\",\"\",COUNTIFS('관리자 Setting'!$P$18:$P$33,'설정_In-Put'!$F327))","v":""},{"$f":"'In-Put'!G327","v":0},{"$f":"IFERROR(IF('In-Put'!D327*1=0,\"\",'In-Put'!D327*1),\"\")","v":""},{"$f":"IFERROR(IF('In-Put'!E327*1=0,\"\",IF('In-Put'!E327*1<G327,'In-Put'!E327*1+1,'In-Put'!E327*1)),\"\")","v":""},{"$f":"IF(OR($H327<'관리자 Setting'!$P$14,$G327>='관리자 Setting'!$Q$14),0,IF(AND($G327<'관리자 Setting'!$P$14,$H327<'관리자 Setting'!$Q$14),$H327-'관리자 Setting'!$P$14,IF(AND($G327<'관리자 Setting'!$P$14,$H327>='관리자 Setting'!$Q$14),'관리자 Setting'!$R$14,IF(AND($G327>='관리자 Setting'!$P$14,$H327>='관리자 Setting'!$Q$14),'관리자 Setting'!$Q$14-$G327,IF(AND($G327>='관리자 Setting'!$P$14,$H327<'관리자 Setting'!$Q$14),$H327-$G327,IF($G327>='관리자 Setting'!$Q$14,0,0))))))","v":"00:00:00"},{"$f":"IF(OR($H327<'관리자 Setting'!$P$15,$G327>='관리자 Setting'!$Q$15),0,IF(AND($G327<'관리자 Setting'!$P$15,$H327<'관리자 Setting'!$Q$15),$H327-'관리자 Setting'!$P$15,IF(AND($G327<'관리자 Setting'!$P$15,$H327>='관리자 Setting'!$Q$15),'관리자 Setting'!$R$15,IF(AND($G327>='관리자 Setting'!$P$15,$H327>='관리자 Setting'!$Q$15),'관리자 Setting'!$Q$15-$G327,IF(AND($G327>='관리자 Setting'!$P$15,$H327<'관리자 Setting'!$Q$15),$H327-$G327,IF($G327>='관리자 Setting'!$Q$15,0,0))))))","v":"00:00:00"},"",{"$f":"IFERROR(VLOOKUP($F327,'관리자 Setting'!$P$18:$Q$33,2,0)/24,\"\")","v":""}]
["","",{"$f":"IFERROR(DATE(LEFT('In-Put'!$B328,4),MID('In-Put'!$B328,5,2),RIGHT('In-Put'!$B328,2)),\"\")","v":""},{"$f":"IF($C328=\"\",\"\",COUNTIFS($C$2:$C$401,C328)-COUNTIFS($C$2:C328,C328))","v":""},{"$f":"IF($C328=\"\",\"\",COUNTIFS('관리자 Setting'!$P$18:$P$33,'설정_In-Put'!$F328))","v":""},{"$f":"'In-Put'!G328","v":0},{"$f":"IFERROR(IF('In-Put'!D328*1=0,\"\",'In-Put'!D328*1),\"\")","v":""},{"$f":"IFERROR(IF('In-Put'!E328*1=0,\"\",IF('In-Put'!E328*1<G328,'In-Put'!E328*1+1,'In-Put'!E328*1)),\"\")","v":""},{"$f":"IF(OR($H328<'관리자 Setting'!$P$14,$G328>='관리자 Setting'!$Q$14),0,IF(AND($G328<'관리자 Setting'!$P$14,$H328<'관리자 Setting'!$Q$14),$H328-'관리자 Setting'!$P$14,IF(AND($G328<'관리자 Setting'!$P$14,$H328>='관리자 Setting'!$Q$14),'관리자 Setting'!$R$14,IF(AND($G328>='관리자 Setting'!$P$14,$H328>='관리자 Setting'!$Q$14),'관리자 Setting'!$Q$14-$G328,IF(AND($G328>='관리자 Setting'!$P$14,$H328<'관리자 Setting'!$Q$14),$H328-$G328,IF($G328>='관리자 Setting'!$Q$14,0,0))))))","v":"00:00:00"},{"$f":"IF(OR($H328<'관리자 Setting'!$P$15,$G328>='관리자 Setting'!$Q$15),0,IF(AND($G328<'관리자 Setting'!$P$15,$H328<'관리자 Setting'!$Q$15),$H328-'관리자 Setting'!$P$15,IF(AND($G328<'관리자 Setting'!$P$15,$H328>='관리자 Setting'!$Q$15),'관리자 Setting'!$R$15,IF(AND($G328>='관리자 Setting'!$P$15,$H328>='관리자 Setting'!$Q$15),'관리자 Setting'!$Q$15-$G328,IF(AND($G328>='관리자 Setting'!$P$15,$H328<'관리자 Setting'!$Q$15),$H328-$G328,IF($G328>='관리자 Setting'!$Q$15,0,0))))))","v":"00:00:00"},"",{"$f":"IFERROR(VLOOKUP($F328,'관리자 Setting'!$P$18:$Q$33,2,0)/24,\"\")","v":""}]
["","",{"$f":"IFERROR(DATE(LEFT('In-Put'!$B329,4),MID('In-Put'!$B329,5,2),RIGHT('In-Put'!$B329,2)),\"\")","v":""},{"$f":"IF($C329=\"\",\"\",COUNTIFS($C$2:$C$401,C329)-COUNTIFS($C$2:C329,C329))","v":""},{"$f":"IF($C329=\"\",\"\",COUNTIFS('관리자 Setting'!$P$18:$P$33,'설정_In-Put'!$F329))","v":""},{"$f":"'In-Put'!G329","v":0},{"$f":"IFERROR(IF('In-Put'!D329*1=0,\"\",'In-Put'!D329*1),\"\")","v":""},{"$f":"IFERROR(IF('In-Put'!E329*1=0,\"\",IF('In-Put'!E329*1<G329,'In-Put'!E329*1+1,'In-Put'!E329*1)),\"\")","v":""},{"$f":"IF(OR($H329<'관리자 Setting'!$P$14,$G329>='관리자 Setting'!$Q$14),0,IF(AND($G329<'관리자 Setting'!$P$14,$H329<'관리자 Setting'!$Q$14),$H329-'관리자 Setting'!$P$14,IF(AND($G329<'관리자 Setting'!$P$14,$H329>='관리자 Setting'!$Q$14),'관리자 Setting'!$R$14,IF(AND($G329>='관리자 Setting'!$P$14,$H329>='관리자 Setting'!$Q$14),'관리자 Setting'!$Q$14-$G329,IF(AND($G329>='관리자 Setting'!$P$14,$H329<'관리자 Setting'!$Q$14),$H329-$G329,IF($G329>='관리자 Setting'!$Q$14,0,0))))))","v":"00:00:00"},{"$f":"IF(OR($H329<'관리자 Setting'!$P$15,$G329>='관리자 Setting'!$Q$15),0,IF(AND($G329<'관리자 Setting'!$P$15,$H329<'관리자 Setting'!$Q$15),$H329-'관리자 Setting'!$P$15,IF(AND($G329<'관리자 Setting'!$P$15,$H329>='관리자 Setting'!$Q$15),'관리자 Setting'!$R$15,IF(AND($G329>='관리자 Setting'!$P$15,$H329>='관리자 Setting'!$Q$15),'관리자 Setting'!$Q$15-$G329,IF(AND($G329>='관리자 Setting'!$P$15,$H329<'관리자 Setting'!$Q$15),$H329-$G329,IF($G329>='관리자 Setting'!$Q$15,0,0))))))","v":"00:00:00"},"",{"$f":"IFERROR(VLOOKUP($F329,'관리자 Setting'!$P$18:$Q$33,2,0)/24,\"\")","v":""}]
["","",{"$f":"IFERROR(DATE(LEFT('In-Put'!$B330,4),MID('In-Put'!$B330,5,2),RIGHT('In-Put'!$B330,2)),\"\")","v":""},{"$f":"IF($C330=\"\",\"\",COUNTIFS($C$2:$C$401,C330)-COUNTIFS($C$2:C330,C330))","v":""},{"$f":"IF($C330=\"\",\"\",COUNTIFS('관리자 Setting'!$P$18:$P$33,'설정_In-Put'!$F330))","v":""},{"$f":"'In-Put'!G330","v":0},{"$f":"IFERROR(IF('In-Put'!D330*1=0,\"\",'In-Put'!D330*1),\"\")","v":""},{"$f":"IFERROR(IF('In-Put'!E330*1=0,\"\",IF('In-Put'!E330*1<G330,'In-Put'!E330*1+1,'In-Put'!E330*1)),\"\")","v":""},{"$f":"IF(OR($H330<'관리자 Setting'!$P$14,$G330>='관리자 Setting'!$Q$14),0,IF(AND($G330<'관리자 Setting'!$P$14,$H330<'관리자 Setting'!$Q$14),$H330-'관리자 Setting'!$P$14,IF(AND($G330<'관리자 Setting'!$P$14,$H330>='관리자 Setting'!$Q$14),'관리자 Setting'!$R$14,IF(AND($G330>='관리자 Setting'!$P$14,$H330>='관리자 Setting'!$Q$14),'관리자 Setting'!$Q$14-$G330,IF(AND($G330>='관리자 Setting'!$P$14,$H330<'관리자 Setting'!$Q$14),$H330-$G330,IF($G330>='관리자 Setting'!$Q$14,0,0))))))","v":"00:00:00"},{"$f":"IF(OR($H330<'관리자 Setting'!$P$15,$G330>='관리자 Setting'!$Q$15),0,IF(AND($G330<'관리자 Setting'!$P$15,$H330<'관리자 Setting'!$Q$15),$H330-'관리자 Setting'!$P$15,IF(AND($G330<'관리자 Setting'!$P$15,$H330>='관리자 Setting'!$Q$15),'관리자 Setting'!$R$15,IF(AND($G330>='관리자 Setting'!$P$15,$H330>='관리자 Setting'!$Q$15),'관리자 Setting'!$Q$15-$G330,IF(AND($G330>='관리자 Setting'!$P$15,$H330<'관리자 Setting'!$Q$15),$H330-$G330,IF($G330>='관리자 Setting'!$Q$15,0,0))))))","v":"00:00:00"},"",{"$f":"IFERROR(VLOOKUP($F330,'관리자 Setting'!$P$18:$Q$33,2,0)/24,\"\")","v":""}]
["","",{"$f":"IFERROR(DATE(LEFT('In-Put'!$B331,4),MID('In-Put'!$B331,5,2),RIGHT('In-Put'!$B331,2)),\"\")","v":""},{"$f":"IF($C331=\"\",\"\",COUNTIFS($C$2:$C$401,C331)-COUNTIFS($C$2:C331,C331))","v":""},{"$f":"IF($C331=\"\",\"\",COUNTIFS('관리자 Setting'!$P$18:$P$33,'설정_In-Put'!$F331))","v":""},{"$f":"'In-Put'!G331","v":0},{"$f":"IFERROR(IF('In-Put'!D331*1=0,\"\",'In-Put'!D331*1),\"\")","v":""},{"$f":"IFERROR(IF('In-Put'!E331*1=0,\"\",IF('In-Put'!E331*1<G331,'In-Put'!E331*1+1,'In-Put'!E331*1)),\"\")","v":""},{"$f":"IF(OR($H331<'관리자 Setting'!$P$14,$G331>='관리자 Setting'!$Q$14),0,IF(AND($G331<'관리자 Setting'!$P$14,$H331<'관리자 Setting'!$Q$14),$H331-'관리자 Setting'!$P$14,IF(AND($G331<'관리자 Setting'!$P$14,$H331>='관리자 Setting'!$Q$14),'관리자 Setting'!$R$14,IF(AND($G331>='관리자 Setting'!$P$14,$H331>='관리자 Setting'!$Q$14),'관리자 Setting'!$Q$14-$G331,IF(AND($G331>='관리자 Setting'!$P$14,$H331<'관리자 Setting'!$Q$14),$H331-$G331,IF($G331>='관리자 Setting'!$Q$14,0,0))))))","v":"00:00:00"},{"$f":"IF(OR($H331<'관리자 Setting'!$P$15,$G331>='관리자 Setting'!$Q$15),0,IF(AND($G331<'관리자 Setting'!$P$15,$H331<'관리자 Setting'!$Q$15),$H331-'관리자 Setting'!$P$15,IF(AND($G331<'관리자 Setting'!$P$15,$H331>='관리자 Setting'!$Q$15),'관리자 Setting'!$R$15,IF(AND($G331>='관리자 Setting'!$P$15,$H331>='관리자 Setting'!$Q$15),'관리자 Setting'!$Q$15-$G331,IF(AND($G331>='관리자 Setting'!$P$15,$H331<'관리자 Setting'!$Q$15),$H331-$G331,IF($G331>='관리자 Setting'!$Q$15,0,0))))))","v":"00:00:00"},"",{"$f":"IFERROR(VLOOKUP($F331,'관리자 Setting'!$P$18:$Q$33,2,0)/24,\"\")","v":""}]
["","",{"$f":"IFERROR(DATE(LEFT('In-Put'!$B332,4),MID('In-Put'!$B332,5,2),RIGHT('In-Put'!$B332,2)),\"\")","v":""},{"$f":"IF($C332=\"\",\"\",COUNTIFS($C$2:$C$401,C332)-COUNTIFS($C$2:C332,C332))","v":""},{"$f":"IF($C332=\"\",\"\",COUNTIFS('관리자 Setting'!$P$18:$P$33,'설정_In-Put'!$F332))","v":""},{"$f":"'In-Put'!G332","v":0},{"$f":"IFERROR(IF('In-Put'!D332*1=0,\"\",'In-Put'!D332*1),\"\")","v":""},{"$f":"IFERROR(IF('In-Put'!E332*1=0,\"\",IF('In-Put'!E332*1<G332,'In-Put'!E332*1+1,'In-Put'!E332*1)),\"\")","v":""},{"$f":"IF(OR($H332<'관리자 Setting'!$P$14,$G332>='관리자 Setting'!$Q$14),0,IF(AND($G332<'관리자 Setting'!$P$14,$H332<'관리자 Setting'!$Q$14),$H332-'관리자 Setting'!$P$14,IF(AND($G332<'관리자 Setting'!$P$14,$H332>='관리자 Setting'!$Q$14),'관리자 Setting'!$R$14,IF(AND($G332>='관리자 Setting'!$P$14,$H332>='관리자 Setting'!$Q$14),'관리자 Setting'!$Q$14-$G332,IF(AND($G332>='관리자 Setting'!$P$14,$H332<'관리자 Setting'!$Q$14),$H332-$G332,IF($G332>='관리자 Setting'!$Q$14,0,0))))))","v":"00:00:00"},{"$f":"IF(OR($H332<'관리자 Setting'!$P$15,$G332>='관리자 Setting'!$Q$15),0,IF(AND($G332<'관리자 Setting'!$P$15,$H332<'관리자 Setting'!$Q$15),$H332-'관리자 Setting'!$P$15,IF(AND($G332<'관리자 Setting'!$P$15,$H332>='관리자 Setting'!$Q$15),'관리자 Setting'!$R$15,IF(AND($G332>='관리자 Setting'!$P$15,$H332>='관리자 Setting'!$Q$15),'관리자 Setting'!$Q$15-$G332,IF(AND($G332>='관리자 Setting'!$P$15,$H332<'관리자 Setting'!$Q$15),$H332-$G332,IF($G332>='관리자 Setting'!$Q$15,0,0))))))","v":"00:00:00"},"",{"$f":"IFERROR(VLOOKUP($F332,'관리자 Setting'!$P$18:$Q$33,2,0)/24,\"\")","v":""}]
["","",{"$f":"IFERROR(DATE(LEFT('In-Put'!$B333,4),MID('In-Put'!$B333,5,2),RIGHT('In-Put'!$B333,2)),\"\")","v":""},{"$f":"IF($C333=\"\",\"\",COUNTIFS($C$2:$C$401,C333)-COUNTIFS($C$2:C333,C333))","v":""},{"$f":"IF($C333=\"\",\"\",COUNTIFS('관리자 Setting'!$P$18:$P$33,'설정_In-Put'!$F333))","v":""},{"$f":"'In-Put'!G333","v":0},{"$f":"IFERROR(IF('In-Put'!D333*1=0,\"\",'In-Put'!D333*1),\"\")","v":""},{"$f":"IFERROR(IF('In-Put'!E333*1=0,\"\",IF('In-Put'!E333*1<G333,'In-Put'!E333*1+1,'In-Put'!E333*1)),\"\")","v":""},{"$f":"IF(OR($H333<'관리자 Setting'!$P$14,$G333>='관리자 Setting'!$Q$14),0,IF(AND($G333<'관리자 Setting'!$P$14,$H333<'관리자 Setting'!$Q$14),$H333-'관리자 Setting'!$P$14,IF(AND($G333<'관리자 Setting'!$P$14,$H333>='관리자 Setting'!$Q$14),'관리자 Setting'!$R$14,IF(AND($G333>='관리자 Setting'!$P$14,$H333>='관리자 Setting'!$Q$14),'관리자 Setting'!$Q$14-$G333,IF(AND($G333>='관리자 Setting'!$P$14,$H333<'관리자 Setting'!$Q$14),$H333-$G333,IF($G333>='관리자 Setting'!$Q$14,0,0))))))","v":"00:00:00"},{"$f":"IF(OR($H333<'관리자 Setting'!$P$15,$G333>='관리자 Setting'!$Q$15),0,IF(AND($G333<'관리자 Setting'!$P$15,$H333<'관리자 Setting'!$Q$15),$H333-'관리자 Setting'!$P$15,IF(AND($G333<'관리자 Setting'!$P$15,$H333>='관리자 Setting'!$Q$15),'관리자 Setting'!$R$15,IF(AND($G333>='관리자 Setting'!$P$15,$H333>='관리자 Setting'!$Q$15),'관리자 Setting'!$Q$15-$G333,IF(AND($G333>='관리자 Setting'!$P$15,$H333<'관리자 Setting'!$Q$15),$H333-$G333,IF($G333>='관리자 Setting'!$Q$15,0,0))))))","v":"00:00:00"},"",{"$f":"IFERROR(VLOOKUP($F333,'관리자 Setting'!$P$18:$Q$33,2,0)/24,\"\")","v":""}]
["","",{"$f":"IFERROR(DATE(LEFT('In-Put'!$B334,4),MID('In-Put'!$B334,5,2),RIGHT('In-Put'!$B334,2)),\"\")","v":""},{"$f":"IF($C334=\"\",\"\",COUNTIFS($C$2:$C$401,C334)-COUNTIFS($C$2:C334,C334))","v":""},{"$f":"IF($C334=\"\",\"\",COUNTIFS('관리자 Setting'!$P$18:$P$33,'설정_In-Put'!$F334))","v":""},{"$f":"'In-Put'!G334","v":0},{"$f":"IFERROR(IF('In-Put'!D334*1=0,\"\",'In-Put'!D334*1),\"\")","v":""},{"$f":"IFERROR(IF('In-Put'!E334*1=0,\"\",IF('In-Put'!E334*1<G334,'In-Put'!E334*1+1,'In-Put'!E334*1)),\"\")","v":""},{"$f":"IF(OR($H334<'관리자 Setting'!$P$14,$G334>='관리자 Setting'!$Q$14),0,IF(AND($G334<'관리자 Setting'!$P$14,$H334<'관리자 Setting'!$Q$14),$H334-'관리자 Setting'!$P$14,IF(AND($G334<'관리자 Setting'!$P$14,$H334>='관리자 Setting'!$Q$14),'관리자 Setting'!$R$14,IF(AND($G334>='관리자 Setting'!$P$14,$H334>='관리자 Setting'!$Q$14),'관리자 Setting'!$Q$14-$G334,IF(AND($G334>='관리자 Setting'!$P$14,$H334<'관리자 Setting'!$Q$14),$H334-$G334,IF($G334>='관리자 Setting'!$Q$14,0,0))))))","v":"00:00:00"},{"$f":"IF(OR($H334<'관리자 Setting'!$P$15,$G334>='관리자 Setting'!$Q$15),0,IF(AND($G334<'관리자 Setting'!$P$15,$H334<'관리자 Setting'!$Q$15),$H334-'관리자 Setting'!$P$15,IF(AND($G334<'관리자 Setting'!$P$15,$H334>='관리자 Setting'!$Q$15),'관리자 Setting'!$R$15,IF(AND($G334>='관리자 Setting'!$P$15,$H334>='관리자 Setting'!$Q$15),'관리자 Setting'!$Q$15-$G334,IF(AND($G334>='관리자 Setting'!$P$15,$H334<'관리자 Setting'!$Q$15),$H334-$G334,IF($G334>='관리자 Setting'!$Q$15,0,0))))))","v":"00:00:00"},"",{"$f":"IFERROR(VLOOKUP($F334,'관리자 Setting'!$P$18:$Q$33,2,0)/24,\"\")","v":""}]
["","",{"$f":"IFERROR(DATE(LEFT('In-Put'!$B335,4),MID('In-Put'!$B335,5,2),RIGHT('In-Put'!$B335,2)),\"\")","v":""},{"$f":"IF($C335=\"\",\"\",COUNTIFS($C$2:$C$401,C335)-COUNTIFS($C$2:C335,C335))","v":""},{"$f":"IF($C335=\"\",\"\",COUNTIFS('관리자 Setting'!$P$18:$P$33,'설정_In-Put'!$F335))","v":""},{"$f":"'In-Put'!G335","v":0},{"$f":"IFERROR(IF('In-Put'!D335*1=0,\"\",'In-Put'!D335*1),\"\")","v":""},{"$f":"IFERROR(IF('In-Put'!E335*1=0,\"\",IF('In-Put'!E335*1<G335,'In-Put'!E335*1+1,'In-Put'!E335*1)),\"\")","v":""},{"$f":"IF(OR($H335<'관리자 Setting'!$P$14,$G335>='관리자 Setting'!$Q$14),0,IF(AND($G335<'관리자 Setting'!$P$14,$H335<'관리자 Setting'!$Q$14),$H335-'관리자 Setting'!$P$14,IF(AND($G335<'관리자 Setting'!$P$14,$H335>='관리자 Setting'!$Q$14),'관리자 Setting'!$R$14,IF(AND($G335>='관리자 Setting'!$P$14,$H335>='관리자 Setting'!$Q$14),'관리자 Setting'!$Q$14-$G335,IF(AND($G335>='관리자 Setting'!$P$14,$H335<'관리자 Setting'!$Q$14),$H335-$G335,IF($G335>='관리자 Setting'!$Q$14,0,0))))))","v":"00:00:00"},{"$f":"IF(OR($H335<'관리자 Setting'!$P$15,$G335>='관리자 Setting'!$Q$15),0,IF(AND($G335<'관리자 Setting'!$P$15,$H335<'관리자 Setting'!$Q$15),$H335-'관리자 Setting'!$P$15,IF(AND($G335<'관리자 Setting'!$P$15,$H335>='관리자 Setting'!$Q$15),'관리자 Setting'!$R$15,IF(AND($G335>='관리자 Setting'!$P$15,$H335>='관리자 Setting'!$Q$15),'관리자 Setting'!$Q$15-$G335,IF(AND($G335>='관리자 Setting'!$P$15,$H335<'관리자 Setting'!$Q$15),$H335-$G335,IF($G335>='관리자 Setting'!$Q$15,0,0))))))","v":"00:00:00"},"",{"$f":"IFERROR(VLOOKUP($F335,'관리자 Setting'!$P$18:$Q$33,2,0)/24,\"\")","v":""}]
["","",{"$f":"IFERROR(DATE(LEFT('In-Put'!$B336,4),MID('In-Put'!$B336,5,2),RIGHT('In-Put'!$B336,2)),\"\")","v":""},{"$f":"IF($C336=\"\",\"\",COUNTIFS($C$2:$C$401,C336)-COUNTIFS($C$2:C336,C336))","v":""},{"$f":"IF($C336=\"\",\"\",COUNTIFS('관리자 Setting'!$P$18:$P$33,'설정_In-Put'!$F336))","v":""},{"$f":"'In-Put'!G336","v":0},{"$f":"IFERROR(IF('In-Put'!D336*1=0,\"\",'In-Put'!D336*1),\"\")","v":""},{"$f":"IFERROR(IF('In-Put'!E336*1=0,\"\",IF('In-Put'!E336*1<G336,'In-Put'!E336*1+1,'In-Put'!E336*1)),\"\")","v":""},{"$f":"IF(OR($H336<'관리자 Setting'!$P$14,$G336>='관리자 Setting'!$Q$14),0,IF(AND($G336<'관리자 Setting'!$P$14,$H336<'관리자 Setting'!$Q$14),$H336-'관리자 Setting'!$P$14,IF(AND($G336<'관리자 Setting'!$P$14,$H336>='관리자 Setting'!$Q$14),'관리자 Setting'!$R$14,IF(AND($G336>='관리자 Setting'!$P$14,$H336>='관리자 Setting'!$Q$14),'관리자 Setting'!$Q$14-$G336,IF(AND($G336>='관리자 Setting'!$P$14,$H336<'관리자 Setting'!$Q$14),$H336-$G336,IF($G336>='관리자 Setting'!$Q$14,0,0))))))","v":"00:00:00"},{"$f":"IF(OR($H336<'관리자 Setting'!$P$15,$G336>='관리자 Setting'!$Q$15),0,IF(AND($G336<'관리자 Setting'!$P$15,$H336<'관리자 Setting'!$Q$15),$H336-'관리자 Setting'!$P$15,IF(AND($G336<'관리자 Setting'!$P$15,$H336>='관리자 Setting'!$Q$15),'관리자 Setting'!$R$15,IF(AND($G336>='관리자 Setting'!$P$15,$H336>='관리자 Setting'!$Q$15),'관리자 Setting'!$Q$15-$G336,IF(AND($G336>='관리자 Setting'!$P$15,$H336<'관리자 Setting'!$Q$15),$H336-$G336,IF($G336>='관리자 Setting'!$Q$15,0,0))))))","v":"00:00:00"},"",{"$f":"IFERROR(VLOOKUP($F336,'관리자 Setting'!$P$18:$Q$33,2,0)/24,\"\")","v":""}]
["","",{"$f":"IFERROR(DATE(LEFT('In-Put'!$B337,4),MID('In-Put'!$B337,5,2),RIGHT('In-Put'!$B337,2)),\"\")","v":""},{"$f":"IF($C337=\"\",\"\",COUNTIFS($C$2:$C$401,C337)-COUNTIFS($C$2:C337,C337))","v":""},{"$f":"IF($C337=\"\",\"\",COUNTIFS('관리자 Setting'!$P$18:$P$33,'설정_In-Put'!$F337))","v":""},{"$f":"'In-Put'!G337","v":0},{"$f":"IFERROR(IF('In-Put'!D337*1=0,\"\",'In-Put'!D337*1),\"\")","v":""},{"$f":"IFERROR(IF('In-Put'!E337*1=0,\"\",IF('In-Put'!E337*1<G337,'In-Put'!E337*1+1,'In-Put'!E337*1)),\"\")","v":""},{"$f":"IF(OR($H337<'관리자 Setting'!$P$14,$G337>='관리자 Setting'!$Q$14),0,IF(AND($G337<'관리자 Setting'!$P$14,$H337<'관리자 Setting'!$Q$14),$H337-'관리자 Setting'!$P$14,IF(AND($G337<'관리자 Setting'!$P$14,$H337>='관리자 Setting'!$Q$14),'관리자 Setting'!$R$14,IF(AND($G337>='관리자 Setting'!$P$14,$H337>='관리자 Setting'!$Q$14),'관리자 Setting'!$Q$14-$G337,IF(AND($G337>='관리자 Setting'!$P$14,$H337<'관리자 Setting'!$Q$14),$H337-$G337,IF($G337>='관리자 Setting'!$Q$14,0,0))))))","v":"00:00:00"},{"$f":"IF(OR($H337<'관리자 Setting'!$P$15,$G337>='관리자 Setting'!$Q$15),0,IF(AND($G337<'관리자 Setting'!$P$15,$H337<'관리자 Setting'!$Q$15),$H337-'관리자 Setting'!$P$15,IF(AND($G337<'관리자 Setting'!$P$15,$H337>='관리자 Setting'!$Q$15),'관리자 Setting'!$R$15,IF(AND($G337>='관리자 Setting'!$P$15,$H337>='관리자 Setting'!$Q$15),'관리자 Setting'!$Q$15-$G337,IF(AND($G337>='관리자 Setting'!$P$15,$H337<'관리자 Setting'!$Q$15),$H337-$G337,IF($G337>='관리자 Setting'!$Q$15,0,0))))))","v":"00:00:00"},"",{"$f":"IFERROR(VLOOKUP($F337,'관리자 Setting'!$P$18:$Q$33,2,0)/24,\"\")","v":""}]
["","",{"$f":"IFERROR(DATE(LEFT('In-Put'!$B338,4),MID('In-Put'!$B338,5,2),RIGHT('In-Put'!$B338,2)),\"\")","v":""},{"$f":"IF($C338=\"\",\"\",COUNTIFS($C$2:$C$401,C338)-COUNTIFS($C$2:C338,C338))","v":""},{"$f":"IF($C338=\"\",\"\",COUNTIFS('관리자 Setting'!$P$18:$P$33,'설정_In-Put'!$F338))","v":""},{"$f":"'In-Put'!G338","v":0},{"$f":"IFERROR(IF('In-Put'!D338*1=0,\"\",'In-Put'!D338*1),\"\")","v":""},{"$f":"IFERROR(IF('In-Put'!E338*1=0,\"\",IF('In-Put'!E338*1<G338,'In-Put'!E338*1+1,'In-Put'!E338*1)),\"\")","v":""},{"$f":"IF(OR($H338<'관리자 Setting'!$P$14,$G338>='관리자 Setting'!$Q$14),0,IF(AND($G338<'관리자 Setting'!$P$14,$H338<'관리자 Setting'!$Q$14),$H338-'관리자 Setting'!$P$14,IF(AND($G338<'관리자 Setting'!$P$14,$H338>='관리자 Setting'!$Q$14),'관리자 Setting'!$R$14,IF(AND($G338>='관리자 Setting'!$P$14,$H338>='관리자 Setting'!$Q$14),'관리자 Setting'!$Q$14-$G338,IF(AND($G338>='관리자 Setting'!$P$14,$H338<'관리자 Setting'!$Q$14),$H338-$G338,IF($G338>='관리자 Setting'!$Q$14,0,0))))))","v":"00:00:00"},{"$f":"IF(OR($H338<'관리자 Setting'!$P$15,$G338>='관리자 Setting'!$Q$15),0,IF(AND($G338<'관리자 Setting'!$P$15,$H338<'관리자 Setting'!$Q$15),$H338-'관리자 Setting'!$P$15,IF(AND($G338<'관리자 Setting'!$P$15,$H338>='관리자 Setting'!$Q$15),'관리자 Setting'!$R$15,IF(AND($G338>='관리자 Setting'!$P$15,$H338>='관리자 Setting'!$Q$15),'관리자 Setting'!$Q$15-$G338,IF(AND($G338>='관리자 Setting'!$P$15,$H338<'관리자 Setting'!$Q$15),$H338-$G338,IF($G338>='관리자 Setting'!$Q$15,0,0))))))","v":"00:00:00"},"",{"$f":"IFERROR(VLOOKUP($F338,'관리자 Setting'!$P$18:$Q$33,2,0)/24,\"\")","v":""}]
["","",{"$f":"IFERROR(DATE(LEFT('In-Put'!$B339,4),MID('In-Put'!$B339,5,2),RIGHT('In-Put'!$B339,2)),\"\")","v":""},{"$f":"IF($C339=\"\",\"\",COUNTIFS($C$2:$C$401,C339)-COUNTIFS($C$2:C339,C339))","v":""},{"$f":"IF($C339=\"\",\"\",COUNTIFS('관리자 Setting'!$P$18:$P$33,'설정_In-Put'!$F339))","v":""},{"$f":"'In-Put'!G339","v":0},{"$f":"IFERROR(IF('In-Put'!D339*1=0,\"\",'In-Put'!D339*1),\"\")","v":""},{"$f":"IFERROR(IF('In-Put'!E339*1=0,\"\",IF('In-Put'!E339*1<G339,'In-Put'!E339*1+1,'In-Put'!E339*1)),\"\")","v":""},{"$f":"IF(OR($H339<'관리자 Setting'!$P$14,$G339>='관리자 Setting'!$Q$14),0,IF(AND($G339<'관리자 Setting'!$P$14,$H339<'관리자 Setting'!$Q$14),$H339-'관리자 Setting'!$P$14,IF(AND($G339<'관리자 Setting'!$P$14,$H339>='관리자 Setting'!$Q$14),'관리자 Setting'!$R$14,IF(AND($G339>='관리자 Setting'!$P$14,$H339>='관리자 Setting'!$Q$14),'관리자 Setting'!$Q$14-$G339,IF(AND($G339>='관리자 Setting'!$P$14,$H339<'관리자 Setting'!$Q$14),$H339-$G339,IF($G339>='관리자 Setting'!$Q$14,0,0))))))","v":"00:00:00"},{"$f":"IF(OR($H339<'관리자 Setting'!$P$15,$G339>='관리자 Setting'!$Q$15),0,IF(AND($G339<'관리자 Setting'!$P$15,$H339<'관리자 Setting'!$Q$15),$H339-'관리자 Setting'!$P$15,IF(AND($G339<'관리자 Setting'!$P$15,$H339>='관리자 Setting'!$Q$15),'관리자 Setting'!$R$15,IF(AND($G339>='관리자 Setting'!$P$15,$H339>='관리자 Setting'!$Q$15),'관리자 Setting'!$Q$15-$G339,IF(AND($G339>='관리자 Setting'!$P$15,$H339<'관리자 Setting'!$Q$15),$H339-$G339,IF($G339>='관리자 Setting'!$Q$15,0,0))))))","v":"00:00:00"},"",{"$f":"IFERROR(VLOOKUP($F339,'관리자 Setting'!$P$18:$Q$33,2,0)/24,\"\")","v":""}]
["","",{"$f":"IFERROR(DATE(LEFT('In-Put'!$B340,4),MID('In-Put'!$B340,5,2),RIGHT('In-Put'!$B340,2)),\"\")","v":""},{"$f":"IF($C340=\"\",\"\",COUNTIFS($C$2:$C$401,C340)-COUNTIFS($C$2:C340,C340))","v":""},{"$f":"IF($C340=\"\",\"\",COUNTIFS('관리자 Setting'!$P$18:$P$33,'설정_In-Put'!$F340))","v":""},{"$f":"'In-Put'!G340","v":0},{"$f":"IFERROR(IF('In-Put'!D340*1=0,\"\",'In-Put'!D340*1),\"\")","v":""},{"$f":"IFERROR(IF('In-Put'!E340*1=0,\"\",IF('In-Put'!E340*1<G340,'In-Put'!E340*1+1,'In-Put'!E340*1)),\"\")","v":""},{"$f":"IF(OR($H340<'관리자 Setting'!$P$14,$G340>='관리자 Setting'!$Q$14),0,IF(AND($G340<'관리자 Setting'!$P$14,$H340<'관리자 Setting'!$Q$14),$H340-'관리자 Setting'!$P$14,IF(AND($G340<'관리자 Setting'!$P$14,$H340>='관리자 Setting'!$Q$14),'관리자 Setting'!$R$14,IF(AND($G340>='관리자 Setting'!$P$14,$H340>='관리자 Setting'!$Q$14),'관리자 Setting'!$Q$14-$G340,IF(AND($G340>='관리자 Setting'!$P$14,$H340<'관리자 Setting'!$Q$14),$H340-$G340,IF($G340>='관리자 Setting'!$Q$14,0,0))))))","v":"00:00:00"},{"$f":"IF(OR($H340<'관리자 Setting'!$P$15,$G340>='관리자 Setting'!$Q$15),0,IF(AND($G340<'관리자 Setting'!$P$15,$H340<'관리자 Setting'!$Q$15),$H340-'관리자 Setting'!$P$15,IF(AND($G340<'관리자 Setting'!$P$15,$H340>='관리자 Setting'!$Q$15),'관리자 Setting'!$R$15,IF(AND($G340>='관리자 Setting'!$P$15,$H340>='관리자 Setting'!$Q$15),'관리자 Setting'!$Q$15-$G340,IF(AND($G340>='관리자 Setting'!$P$15,$H340<'관리자 Setting'!$Q$15),$H340-$G340,IF($G340>='관리자 Setting'!$Q$15,0,0))))))","v":"00:00:00"},"",{"$f":"IFERROR(VLOOKUP($F340,'관리자 Setting'!$P$18:$Q$33,2,0)/24,\"\")","v":""}]
["","",{"$f":"IFERROR(DATE(LEFT('In-Put'!$B341,4),MID('In-Put'!$B341,5,2),RIGHT('In-Put'!$B341,2)),\"\")","v":""},{"$f":"IF($C341=\"\",\"\",COUNTIFS($C$2:$C$401,C341)-COUNTIFS($C$2:C341,C341))","v":""},{"$f":"IF($C341=\"\",\"\",COUNTIFS('관리자 Setting'!$P$18:$P$33,'설정_In-Put'!$F341))","v":""},{"$f":"'In-Put'!G341","v":0},{"$f":"IFERROR(IF('In-Put'!D341*1=0,\"\",'In-Put'!D341*1),\"\")","v":""},{"$f":"IFERROR(IF('In-Put'!E341*1=0,\"\",IF('In-Put'!E341*1<G341,'In-Put'!E341*1+1,'In-Put'!E341*1)),\"\")","v":""},{"$f":"IF(OR($H341<'관리자 Setting'!$P$14,$G341>='관리자 Setting'!$Q$14),0,IF(AND($G341<'관리자 Setting'!$P$14,$H341<'관리자 Setting'!$Q$14),$H341-'관리자 Setting'!$P$14,IF(AND($G341<'관리자 Setting'!$P$14,$H341>='관리자 Setting'!$Q$14),'관리자 Setting'!$R$14,IF(AND($G341>='관리자 Setting'!$P$14,$H341>='관리자 Setting'!$Q$14),'관리자 Setting'!$Q$14-$G341,IF(AND($G341>='관리자 Setting'!$P$14,$H341<'관리자 Setting'!$Q$14),$H341-$G341,IF($G341>='관리자 Setting'!$Q$14,0,0))))))","v":"00:00:00"},{"$f":"IF(OR($H341<'관리자 Setting'!$P$15,$G341>='관리자 Setting'!$Q$15),0,IF(AND($G341<'관리자 Setting'!$P$15,$H341<'관리자 Setting'!$Q$15),$H341-'관리자 Setting'!$P$15,IF(AND($G341<'관리자 Setting'!$P$15,$H341>='관리자 Setting'!$Q$15),'관리자 Setting'!$R$15,IF(AND($G341>='관리자 Setting'!$P$15,$H341>='관리자 Setting'!$Q$15),'관리자 Setting'!$Q$15-$G341,IF(AND($G341>='관리자 Setting'!$P$15,$H341<'관리자 Setting'!$Q$15),$H341-$G341,IF($G341>='관리자 Setting'!$Q$15,0,0))))))","v":"00:00:00"},"",{"$f":"IFERROR(VLOOKUP($F341,'관리자 Setting'!$P$18:$Q$33,2,0)/24,\"\")","v":""}]
["","",{"$f":"IFERROR(DATE(LEFT('In-Put'!$B342,4),MID('In-Put'!$B342,5,2),RIGHT('In-Put'!$B342,2)),\"\")","v":""},{"$f":"IF($C342=\"\",\"\",COUNTIFS($C$2:$C$401,C342)-COUNTIFS($C$2:C342,C342))","v":""},{"$f":"IF($C342=\"\",\"\",COUNTIFS('관리자 Setting'!$P$18:$P$33,'설정_In-Put'!$F342))","v":""},{"$f":"'In-Put'!G342","v":0},{"$f":"IFERROR(IF('In-Put'!D342*1=0,\"\",'In-Put'!D342*1),\"\")","v":""},{"$f":"IFERROR(IF('In-Put'!E342*1=0,\"\",IF('In-Put'!E342*1<G342,'In-Put'!E342*1+1,'In-Put'!E342*1)),\"\")","v":""},{"$f":"IF(OR($H342<'관리자 Setting'!$P$14,$G342>='관리자 Setting'!$Q$14),0,IF(AND($G342<'관리자 Setting'!$P$14,$H342<'관리자 Setting'!$Q$14),$H342-'관리자 Setting'!$P$14,IF(AND($G342<'관리자 Setting'!$P$14,$H342>='관리자 Setting'!$Q$14),'관리자 Setting'!$R$14,IF(AND($G342>='관리자 Setting'!$P$14,$H342>='관리자 Setting'!$Q$14),'관리자 Setting'!$Q$14-$G342,IF(AND($G342>='관리자 Setting'!$P$14,$H342<'관리자 Setting'!$Q$14),$H342-$G342,IF($G342>='관리자 Setting'!$Q$14,0,0))))))","v":"00:00:00"},{"$f":"IF(OR($H342<'관리자 Setting'!$P$15,$G342>='관리자 Setting'!$Q$15),0,IF(AND($G342<'관리자 Setting'!$P$15,$H342<'관리자 Setting'!$Q$15),$H342-'관리자 Setting'!$P$15,IF(AND($G342<'관리자 Setting'!$P$15,$H342>='관리자 Setting'!$Q$15),'관리자 Setting'!$R$15,IF(AND($G342>='관리자 Setting'!$P$15,$H342>='관리자 Setting'!$Q$15),'관리자 Setting'!$Q$15-$G342,IF(AND($G342>='관리자 Setting'!$P$15,$H342<'관리자 Setting'!$Q$15),$H342-$G342,IF($G342>='관리자 Setting'!$Q$15,0,0))))))","v":"00:00:00"},"",{"$f":"IFERROR(VLOOKUP($F342,'관리자 Setting'!$P$18:$Q$33,2,0)/24,\"\")","v":""}]
["","",{"$f":"IFERROR(DATE(LEFT('In-Put'!$B343,4),MID('In-Put'!$B343,5,2),RIGHT('In-Put'!$B343,2)),\"\")","v":""},{"$f":"IF($C343=\"\",\"\",COUNTIFS($C$2:$C$401,C343)-COUNTIFS($C$2:C343,C343))","v":""},{"$f":"IF($C343=\"\",\"\",COUNTIFS('관리자 Setting'!$P$18:$P$33,'설정_In-Put'!$F343))","v":""},{"$f":"'In-Put'!G343","v":0},{"$f":"IFERROR(IF('In-Put'!D343*1=0,\"\",'In-Put'!D343*1),\"\")","v":""},{"$f":"IFERROR(IF('In-Put'!E343*1=0,\"\",IF('In-Put'!E343*1<G343,'In-Put'!E343*1+1,'In-Put'!E343*1)),\"\")","v":""},{"$f":"IF(OR($H343<'관리자 Setting'!$P$14,$G343>='관리자 Setting'!$Q$14),0,IF(AND($G343<'관리자 Setting'!$P$14,$H343<'관리자 Setting'!$Q$14),$H343-'관리자 Setting'!$P$14,IF(AND($G343<'관리자 Setting'!$P$14,$H343>='관리자 Setting'!$Q$14),'관리자 Setting'!$R$14,IF(AND($G343>='관리자 Setting'!$P$14,$H343>='관리자 Setting'!$Q$14),'관리자 Setting'!$Q$14-$G343,IF(AND($G343>='관리자 Setting'!$P$14,$H343<'관리자 Setting'!$Q$14),$H343-$G343,IF($G343>='관리자 Setting'!$Q$14,0,0))))))","v":"00:00:00"},{"$f":"IF(OR($H343<'관리자 Setting'!$P$15,$G343>='관리자 Setting'!$Q$15),0,IF(AND($G343<'관리자 Setting'!$P$15,$H343<'관리자 Setting'!$Q$15),$H343-'관리자 Setting'!$P$15,IF(AND($G343<'관리자 Setting'!$P$15,$H343>='관리자 Setting'!$Q$15),'관리자 Setting'!$R$15,IF(AND($G343>='관리자 Setting'!$P$15,$H343>='관리자 Setting'!$Q$15),'관리자 Setting'!$Q$15-$G343,IF(AND($G343>='관리자 Setting'!$P$15,$H343<'관리자 Setting'!$Q$15),$H343-$G343,IF($G343>='관리자 Setting'!$Q$15,0,0))))))","v":"00:00:00"},"",{"$f":"IFERROR(VLOOKUP($F343,'관리자 Setting'!$P$18:$Q$33,2,0)/24,\"\")","v":""}]
["","",{"$f":"IFERROR(DATE(LEFT('In-Put'!$B344,4),MID('In-Put'!$B344,5,2),RIGHT('In-Put'!$B344,2)),\"\")","v":""},{"$f":"IF($C344=\"\",\"\",COUNTIFS($C$2:$C$401,C344)-COUNTIFS($C$2:C344,C344))","v":""},{"$f":"IF($C344=\"\",\"\",COUNTIFS('관리자 Setting'!$P$18:$P$33,'설정_In-Put'!$F344))","v":""},{"$f":"'In-Put'!G344","v":0},{"$f":"IFERROR(IF('In-Put'!D344*1=0,\"\",'In-Put'!D344*1),\"\")","v":""},{"$f":"IFERROR(IF('In-Put'!E344*1=0,\"\",IF('In-Put'!E344*1<G344,'In-Put'!E344*1+1,'In-Put'!E344*1)),\"\")","v":""},{"$f":"IF(OR($H344<'관리자 Setting'!$P$14,$G344>='관리자 Setting'!$Q$14),0,IF(AND($G344<'관리자 Setting'!$P$14,$H344<'관리자 Setting'!$Q$14),$H344-'관리자 Setting'!$P$14,IF(AND($G344<'관리자 Setting'!$P$14,$H344>='관리자 Setting'!$Q$14),'관리자 Setting'!$R$14,IF(AND($G344>='관리자 Setting'!$P$14,$H344>='관리자 Setting'!$Q$14),'관리자 Setting'!$Q$14-$G344,IF(AND($G344>='관리자 Setting'!$P$14,$H344<'관리자 Setting'!$Q$14),$H344-$G344,IF($G344>='관리자 Setting'!$Q$14,0,0))))))","v":"00:00:00"},{"$f":"IF(OR($H344<'관리자 Setting'!$P$15,$G344>='관리자 Setting'!$Q$15),0,IF(AND($G344<'관리자 Setting'!$P$15,$H344<'관리자 Setting'!$Q$15),$H344-'관리자 Setting'!$P$15,IF(AND($G344<'관리자 Setting'!$P$15,$H344>='관리자 Setting'!$Q$15),'관리자 Setting'!$R$15,IF(AND($G344>='관리자 Setting'!$P$15,$H344>='관리자 Setting'!$Q$15),'관리자 Setting'!$Q$15-$G344,IF(AND($G344>='관리자 Setting'!$P$15,$H344<'관리자 Setting'!$Q$15),$H344-$G344,IF($G344>='관리자 Setting'!$Q$15,0,0))))))","v":"00:00:00"},"",{"$f":"IFERROR(VLOOKUP($F344,'관리자 Setting'!$P$18:$Q$33,2,0)/24,\"\")","v":""}]
["","",{"$f":"IFERROR(DATE(LEFT('In-Put'!$B345,4),MID('In-Put'!$B345,5,2),RIGHT('In-Put'!$B345,2)),\"\")","v":""},{"$f":"IF($C345=\"\",\"\",COUNTIFS($C$2:$C$401,C345)-COUNTIFS($C$2:C345,C345))","v":""},{"$f":"IF($C345=\"\",\"\",COUNTIFS('관리자 Setting'!$P$18:$P$33,'설정_In-Put'!$F345))","v":""},{"$f":"'In-Put'!G345","v":0},{"$f":"IFERROR(IF('In-Put'!D345*1=0,\"\",'In-Put'!D345*1),\"\")","v":""},{"$f":"IFERROR(IF('In-Put'!E345*1=0,\"\",IF('In-Put'!E345*1<G345,'In-Put'!E345*1+1,'In-Put'!E345*1)),\"\")","v":""},{"$f":"IF(OR($H345<'관리자 Setting'!$P$14,$G345>='관리자 Setting'!$Q$14),0,IF(AND($G345<'관리자 Setting'!$P$14,$H345<'관리자 Setting'!$Q$14),$H345-'관리자 Setting'!$P$14,IF(AND($G345<'관리자 Setting'!$P$14,$H345>='관리자 Setting'!$Q$14),'관리자 Setting'!$R$14,IF(AND($G345>='관리자 Setting'!$P$14,$H345>='관리자 Setting'!$Q$14),'관리자 Setting'!$Q$14-$G345,IF(AND($G345>='관리자 Setting'!$P$14,$H345<'관리자 Setting'!$Q$14),$H345-$G345,IF($G345>='관리자 Setting'!$Q$14,0,0))))))","v":"00:00:00"},{"$f":"IF(OR($H345<'관리자 Setting'!$P$15,$G345>='관리자 Setting'!$Q$15),0,IF(AND($G345<'관리자 Setting'!$P$15,$H345<'관리자 Setting'!$Q$15),$H345-'관리자 Setting'!$P$15,IF(AND($G345<'관리자 Setting'!$P$15,$H345>='관리자 Setting'!$Q$15),'관리자 Setting'!$R$15,IF(AND($G345>='관리자 Setting'!$P$15,$H345>='관리자 Setting'!$Q$15),'관리자 Setting'!$Q$15-$G345,IF(AND($G345>='관리자 Setting'!$P$15,$H345<'관리자 Setting'!$Q$15),$H345-$G345,IF($G345>='관리자 Setting'!$Q$15,0,0))))))","v":"00:00:00"},"",{"$f":"IFERROR(VLOOKUP($F345,'관리자 Setting'!$P$18:$Q$33,2,0)/24,\"\")","v":""}]
["","",{"$f":"IFERROR(DATE(LEFT('In-Put'!$B346,4),MID('In-Put'!$B346,5,2),RIGHT('In-Put'!$B346,2)),\"\")","v":""},{"$f":"IF($C346=\"\",\"\",COUNTIFS($C$2:$C$401,C346)-COUNTIFS($C$2:C346,C346))","v":""},{"$f":"IF($C346=\"\",\"\",COUNTIFS('관리자 Setting'!$P$18:$P$33,'설정_In-Put'!$F346))","v":""},{"$f":"'In-Put'!G346","v":0},{"$f":"IFERROR(IF('In-Put'!D346*1=0,\"\",'In-Put'!D346*1),\"\")","v":""},{"$f":"IFERROR(IF('In-Put'!E346*1=0,\"\",IF('In-Put'!E346*1<G346,'In-Put'!E346*1+1,'In-Put'!E346*1)),\"\")","v":""},{"$f":"IF(OR($H346<'관리자 Setting'!$P$14,$G346>='관리자 Setting'!$Q$14),0,IF(AND($G346<'관리자 Setting'!$P$14,$H346<'관리자 Setting'!$Q$14),$H346-'관리자 Setting'!$P$14,IF(AND($G346<'관리자 Setting'!$P$14,$H346>='관리자 Setting'!$Q$14),'관리자 Setting'!$R$14,IF(AND($G346>='관리자 Setting'!$P$14,$H346>='관리자 Setting'!$Q$14),'관리자 Setting'!$Q$14-$G346,IF(AND($G346>='관리자 Setting'!$P$14,$H346<'관리자 Setting'!$Q$14),$H346-$G346,IF($G346>='관리자 Setting'!$Q$14,0,0))))))","v":"00:00:00"},{"$f":"IF(OR($H346<'관리자 Setting'!$P$15,$G346>='관리자 Setting'!$Q$15),0,IF(AND($G346<'관리자 Setting'!$P$15,$H346<'관리자 Setting'!$Q$15),$H346-'관리자 Setting'!$P$15,IF(AND($G346<'관리자 Setting'!$P$15,$H346>='관리자 Setting'!$Q$15),'관리자 Setting'!$R$15,IF(AND($G346>='관리자 Setting'!$P$15,$H346>='관리자 Setting'!$Q$15),'관리자 Setting'!$Q$15-$G346,IF(AND($G346>='관리자 Setting'!$P$15,$H346<'관리자 Setting'!$Q$15),$H346-$G346,IF($G346>='관리자 Setting'!$Q$15,0,0))))))","v":"00:00:00"},"",{"$f":"IFERROR(VLOOKUP($F346,'관리자 Setting'!$P$18:$Q$33,2,0)/24,\"\")","v":""}]
["","",{"$f":"IFERROR(DATE(LEFT('In-Put'!$B347,4),MID('In-Put'!$B347,5,2),RIGHT('In-Put'!$B347,2)),\"\")","v":""},{"$f":"IF($C347=\"\",\"\",COUNTIFS($C$2:$C$401,C347)-COUNTIFS($C$2:C347,C347))","v":""},{"$f":"IF($C347=\"\",\"\",COUNTIFS('관리자 Setting'!$P$18:$P$33,'설정_In-Put'!$F347))","v":""},{"$f":"'In-Put'!G347","v":0},{"$f":"IFERROR(IF('In-Put'!D347*1=0,\"\",'In-Put'!D347*1),\"\")","v":""},{"$f":"IFERROR(IF('In-Put'!E347*1=0,\"\",IF('In-Put'!E347*1<G347,'In-Put'!E347*1+1,'In-Put'!E347*1)),\"\")","v":""},{"$f":"IF(OR($H347<'관리자 Setting'!$P$14,$G347>='관리자 Setting'!$Q$14),0,IF(AND($G347<'관리자 Setting'!$P$14,$H347<'관리자 Setting'!$Q$14),$H347-'관리자 Setting'!$P$14,IF(AND($G347<'관리자 Setting'!$P$14,$H347>='관리자 Setting'!$Q$14),'관리자 Setting'!$R$14,IF(AND($G347>='관리자 Setting'!$P$14,$H347>='관리자 Setting'!$Q$14),'관리자 Setting'!$Q$14-$G347,IF(AND($G347>='관리자 Setting'!$P$14,$H347<'관리자 Setting'!$Q$14),$H347-$G347,IF($G347>='관리자 Setting'!$Q$14,0,0))))))","v":"00:00:00"},{"$f":"IF(OR($H347<'관리자 Setting'!$P$15,$G347>='관리자 Setting'!$Q$15),0,IF(AND($G347<'관리자 Setting'!$P$15,$H347<'관리자 Setting'!$Q$15),$H347-'관리자 Setting'!$P$15,IF(AND($G347<'관리자 Setting'!$P$15,$H347>='관리자 Setting'!$Q$15),'관리자 Setting'!$R$15,IF(AND($G347>='관리자 Setting'!$P$15,$H347>='관리자 Setting'!$Q$15),'관리자 Setting'!$Q$15-$G347,IF(AND($G347>='관리자 Setting'!$P$15,$H347<'관리자 Setting'!$Q$15),$H347-$G347,IF($G347>='관리자 Setting'!$Q$15,0,0))))))","v":"00:00:00"},"",{"$f":"IFERROR(VLOOKUP($F347,'관리자 Setting'!$P$18:$Q$33,2,0)/24,\"\")","v":""}]
["","",{"$f":"IFERROR(DATE(LEFT('In-Put'!$B348,4),MID('In-Put'!$B348,5,2),RIGHT('In-Put'!$B348,2)),\"\")","v":""},{"$f":"IF($C348=\"\",\"\",COUNTIFS($C$2:$C$401,C348)-COUNTIFS($C$2:C348,C348))","v":""},{"$f":"IF($C348=\"\",\"\",COUNTIFS('관리자 Setting'!$P$18:$P$33,'설정_In-Put'!$F348))","v":""},{"$f":"'In-Put'!G348","v":0},{"$f":"IFERROR(IF('In-Put'!D348*1=0,\"\",'In-Put'!D348*1),\"\")","v":""},{"$f":"IFERROR(IF('In-Put'!E348*1=0,\"\",IF('In-Put'!E348*1<G348,'In-Put'!E348*1+1,'In-Put'!E348*1)),\"\")","v":""},{"$f":"IF(OR($H348<'관리자 Setting'!$P$14,$G348>='관리자 Setting'!$Q$14),0,IF(AND($G348<'관리자 Setting'!$P$14,$H348<'관리자 Setting'!$Q$14),$H348-'관리자 Setting'!$P$14,IF(AND($G348<'관리자 Setting'!$P$14,$H348>='관리자 Setting'!$Q$14),'관리자 Setting'!$R$14,IF(AND($G348>='관리자 Setting'!$P$14,$H348>='관리자 Setting'!$Q$14),'관리자 Setting'!$Q$14-$G348,IF(AND($G348>='관리자 Setting'!$P$14,$H348<'관리자 Setting'!$Q$14),$H348-$G348,IF($G348>='관리자 Setting'!$Q$14,0,0))))))","v":"00:00:00"},{"$f":"IF(OR($H348<'관리자 Setting'!$P$15,$G348>='관리자 Setting'!$Q$15),0,IF(AND($G348<'관리자 Setting'!$P$15,$H348<'관리자 Setting'!$Q$15),$H348-'관리자 Setting'!$P$15,IF(AND($G348<'관리자 Setting'!$P$15,$H348>='관리자 Setting'!$Q$15),'관리자 Setting'!$R$15,IF(AND($G348>='관리자 Setting'!$P$15,$H348>='관리자 Setting'!$Q$15),'관리자 Setting'!$Q$15-$G348,IF(AND($G348>='관리자 Setting'!$P$15,$H348<'관리자 Setting'!$Q$15),$H348-$G348,IF($G348>='관리자 Setting'!$Q$15,0,0))))))","v":"00:00:00"},"",{"$f":"IFERROR(VLOOKUP($F348,'관리자 Setting'!$P$18:$Q$33,2,0)/24,\"\")","v":""}]
["","",{"$f":"IFERROR(DATE(LEFT('In-Put'!$B349,4),MID('In-Put'!$B349,5,2),RIGHT('In-Put'!$B349,2)),\"\")","v":""},{"$f":"IF($C349=\"\",\"\",COUNTIFS($C$2:$C$401,C349)-COUNTIFS($C$2:C349,C349))","v":""},{"$f":"IF($C349=\"\",\"\",COUNTIFS('관리자 Setting'!$P$18:$P$33,'설정_In-Put'!$F349))","v":""},{"$f":"'In-Put'!G349","v":0},{"$f":"IFERROR(IF('In-Put'!D349*1=0,\"\",'In-Put'!D349*1),\"\")","v":""},{"$f":"IFERROR(IF('In-Put'!E349*1=0,\"\",IF('In-Put'!E349*1<G349,'In-Put'!E349*1+1,'In-Put'!E349*1)),\"\")","v":""},{"$f":"IF(OR($H349<'관리자 Setting'!$P$14,$G349>='관리자 Setting'!$Q$14),0,IF(AND($G349<'관리자 Setting'!$P$14,$H349<'관리자 Setting'!$Q$14),$H349-'관리자 Setting'!$P$14,IF(AND($G349<'관리자 Setting'!$P$14,$H349>='관리자 Setting'!$Q$14),'관리자 Setting'!$R$14,IF(AND($G349>='관리자 Setting'!$P$14,$H349>='관리자 Setting'!$Q$14),'관리자 Setting'!$Q$14-$G349,IF(AND($G349>='관리자 Setting'!$P$14,$H349<'관리자 Setting'!$Q$14),$H349-$G349,IF($G349>='관리자 Setting'!$Q$14,0,0))))))","v":"00:00:00"},{"$f":"IF(OR($H349<'관리자 Setting'!$P$15,$G349>='관리자 Setting'!$Q$15),0,IF(AND($G349<'관리자 Setting'!$P$15,$H349<'관리자 Setting'!$Q$15),$H349-'관리자 Setting'!$P$15,IF(AND($G349<'관리자 Setting'!$P$15,$H349>='관리자 Setting'!$Q$15),'관리자 Setting'!$R$15,IF(AND($G349>='관리자 Setting'!$P$15,$H349>='관리자 Setting'!$Q$15),'관리자 Setting'!$Q$15-$G349,IF(AND($G349>='관리자 Setting'!$P$15,$H349<'관리자 Setting'!$Q$15),$H349-$G349,IF($G349>='관리자 Setting'!$Q$15,0,0))))))","v":"00:00:00"},"",{"$f":"IFERROR(VLOOKUP($F349,'관리자 Setting'!$P$18:$Q$33,2,0)/24,\"\")","v":""}]
["","",{"$f":"IFERROR(DATE(LEFT('In-Put'!$B350,4),MID('In-Put'!$B350,5,2),RIGHT('In-Put'!$B350,2)),\"\")","v":""},{"$f":"IF($C350=\"\",\"\",COUNTIFS($C$2:$C$401,C350)-COUNTIFS($C$2:C350,C350))","v":""},{"$f":"IF($C350=\"\",\"\",COUNTIFS('관리자 Setting'!$P$18:$P$33,'설정_In-Put'!$F350))","v":""},{"$f":"'In-Put'!G350","v":0},{"$f":"IFERROR(IF('In-Put'!D350*1=0,\"\",'In-Put'!D350*1),\"\")","v":""},{"$f":"IFERROR(IF('In-Put'!E350*1=0,\"\",IF('In-Put'!E350*1<G350,'In-Put'!E350*1+1,'In-Put'!E350*1)),\"\")","v":""},{"$f":"IF(OR($H350<'관리자 Setting'!$P$14,$G350>='관리자 Setting'!$Q$14),0,IF(AND($G350<'관리자 Setting'!$P$14,$H350<'관리자 Setting'!$Q$14),$H350-'관리자 Setting'!$P$14,IF(AND($G350<'관리자 Setting'!$P$14,$H350>='관리자 Setting'!$Q$14),'관리자 Setting'!$R$14,IF(AND($G350>='관리자 Setting'!$P$14,$H350>='관리자 Setting'!$Q$14),'관리자 Setting'!$Q$14-$G350,IF(AND($G350>='관리자 Setting'!$P$14,$H350<'관리자 Setting'!$Q$14),$H350-$G350,IF($G350>='관리자 Setting'!$Q$14,0,0))))))","v":"00:00:00"},{"$f":"IF(OR($H350<'관리자 Setting'!$P$15,$G350>='관리자 Setting'!$Q$15),0,IF(AND($G350<'관리자 Setting'!$P$15,$H350<'관리자 Setting'!$Q$15),$H350-'관리자 Setting'!$P$15,IF(AND($G350<'관리자 Setting'!$P$15,$H350>='관리자 Setting'!$Q$15),'관리자 Setting'!$R$15,IF(AND($G350>='관리자 Setting'!$P$15,$H350>='관리자 Setting'!$Q$15),'관리자 Setting'!$Q$15-$G350,IF(AND($G350>='관리자 Setting'!$P$15,$H350<'관리자 Setting'!$Q$15),$H350-$G350,IF($G350>='관리자 Setting'!$Q$15,0,0))))))","v":"00:00:00"},"",{"$f":"IFERROR(VLOOKUP($F350,'관리자 Setting'!$P$18:$Q$33,2,0)/24,\"\")","v":""}]
["","",{"$f":"IFERROR(DATE(LEFT('In-Put'!$B351,4),MID('In-Put'!$B351,5,2),RIGHT('In-Put'!$B351,2)),\"\")","v":""},{"$f":"IF($C351=\"\",\"\",COUNTIFS($C$2:$C$401,C351)-COUNTIFS($C$2:C351,C351))","v":""},{"$f":"IF($C351=\"\",\"\",COUNTIFS('관리자 Setting'!$P$18:$P$33,'설정_In-Put'!$F351))","v":""},{"$f":"'In-Put'!G351","v":0},{"$f":"IFERROR(IF('In-Put'!D351*1=0,\"\",'In-Put'!D351*1),\"\")","v":""},{"$f":"IFERROR(IF('In-Put'!E351*1=0,\"\",IF('In-Put'!E351*1<G351,'In-Put'!E351*1+1,'In-Put'!E351*1)),\"\")","v":""},{"$f":"IF(OR($H351<'관리자 Setting'!$P$14,$G351>='관리자 Setting'!$Q$14),0,IF(AND($G351<'관리자 Setting'!$P$14,$H351<'관리자 Setting'!$Q$14),$H351-'관리자 Setting'!$P$14,IF(AND($G351<'관리자 Setting'!$P$14,$H351>='관리자 Setting'!$Q$14),'관리자 Setting'!$R$14,IF(AND($G351>='관리자 Setting'!$P$14,$H351>='관리자 Setting'!$Q$14),'관리자 Setting'!$Q$14-$G351,IF(AND($G351>='관리자 Setting'!$P$14,$H351<'관리자 Setting'!$Q$14),$H351-$G351,IF($G351>='관리자 Setting'!$Q$14,0,0))))))","v":"00:00:00"},{"$f":"IF(OR($H351<'관리자 Setting'!$P$15,$G351>='관리자 Setting'!$Q$15),0,IF(AND($G351<'관리자 Setting'!$P$15,$H351<'관리자 Setting'!$Q$15),$H351-'관리자 Setting'!$P$15,IF(AND($G351<'관리자 Setting'!$P$15,$H351>='관리자 Setting'!$Q$15),'관리자 Setting'!$R$15,IF(AND($G351>='관리자 Setting'!$P$15,$H351>='관리자 Setting'!$Q$15),'관리자 Setting'!$Q$15-$G351,IF(AND($G351>='관리자 Setting'!$P$15,$H351<'관리자 Setting'!$Q$15),$H351-$G351,IF($G351>='관리자 Setting'!$Q$15,0,0))))))","v":"00:00:00"},"",{"$f":"IFERROR(VLOOKUP($F351,'관리자 Setting'!$P$18:$Q$33,2,0)/24,\"\")","v":""}]
["","",{"$f":"IFERROR(DATE(LEFT('In-Put'!$B352,4),MID('In-Put'!$B352,5,2),RIGHT('In-Put'!$B352,2)),\"\")","v":""},{"$f":"IF($C352=\"\",\"\",COUNTIFS($C$2:$C$401,C352)-COUNTIFS($C$2:C352,C352))","v":""},{"$f":"IF($C352=\"\",\"\",COUNTIFS('관리자 Setting'!$P$18:$P$33,'설정_In-Put'!$F352))","v":""},{"$f":"'In-Put'!G352","v":0},{"$f":"IFERROR(IF('In-Put'!D352*1=0,\"\",'In-Put'!D352*1),\"\")","v":""},{"$f":"IFERROR(IF('In-Put'!E352*1=0,\"\",IF('In-Put'!E352*1<G352,'In-Put'!E352*1+1,'In-Put'!E352*1)),\"\")","v":""},{"$f":"IF(OR($H352<'관리자 Setting'!$P$14,$G352>='관리자 Setting'!$Q$14),0,IF(AND($G352<'관리자 Setting'!$P$14,$H352<'관리자 Setting'!$Q$14),$H352-'관리자 Setting'!$P$14,IF(AND($G352<'관리자 Setting'!$P$14,$H352>='관리자 Setting'!$Q$14),'관리자 Setting'!$R$14,IF(AND($G352>='관리자 Setting'!$P$14,$H352>='관리자 Setting'!$Q$14),'관리자 Setting'!$Q$14-$G352,IF(AND($G352>='관리자 Setting'!$P$14,$H352<'관리자 Setting'!$Q$14),$H352-$G352,IF($G352>='관리자 Setting'!$Q$14,0,0))))))","v":"00:00:00"},{"$f":"IF(OR($H352<'관리자 Setting'!$P$15,$G352>='관리자 Setting'!$Q$15),0,IF(AND($G352<'관리자 Setting'!$P$15,$H352<'관리자 Setting'!$Q$15),$H352-'관리자 Setting'!$P$15,IF(AND($G352<'관리자 Setting'!$P$15,$H352>='관리자 Setting'!$Q$15),'관리자 Setting'!$R$15,IF(AND($G352>='관리자 Setting'!$P$15,$H352>='관리자 Setting'!$Q$15),'관리자 Setting'!$Q$15-$G352,IF(AND($G352>='관리자 Setting'!$P$15,$H352<'관리자 Setting'!$Q$15),$H352-$G352,IF($G352>='관리자 Setting'!$Q$15,0,0))))))","v":"00:00:00"},"",{"$f":"IFERROR(VLOOKUP($F352,'관리자 Setting'!$P$18:$Q$33,2,0)/24,\"\")","v":""}]
["","",{"$f":"IFERROR(DATE(LEFT('In-Put'!$B353,4),MID('In-Put'!$B353,5,2),RIGHT('In-Put'!$B353,2)),\"\")","v":""},{"$f":"IF($C353=\"\",\"\",COUNTIFS($C$2:$C$401,C353)-COUNTIFS($C$2:C353,C353))","v":""},{"$f":"IF($C353=\"\",\"\",COUNTIFS('관리자 Setting'!$P$18:$P$33,'설정_In-Put'!$F353))","v":""},{"$f":"'In-Put'!G353","v":0},{"$f":"IFERROR(IF('In-Put'!D353*1=0,\"\",'In-Put'!D353*1),\"\")","v":""},{"$f":"IFERROR(IF('In-Put'!E353*1=0,\"\",IF('In-Put'!E353*1<G353,'In-Put'!E353*1+1,'In-Put'!E353*1)),\"\")","v":""},{"$f":"IF(OR($H353<'관리자 Setting'!$P$14,$G353>='관리자 Setting'!$Q$14),0,IF(AND($G353<'관리자 Setting'!$P$14,$H353<'관리자 Setting'!$Q$14),$H353-'관리자 Setting'!$P$14,IF(AND($G353<'관리자 Setting'!$P$14,$H353>='관리자 Setting'!$Q$14),'관리자 Setting'!$R$14,IF(AND($G353>='관리자 Setting'!$P$14,$H353>='관리자 Setting'!$Q$14),'관리자 Setting'!$Q$14-$G353,IF(AND($G353>='관리자 Setting'!$P$14,$H353<'관리자 Setting'!$Q$14),$H353-$G353,IF($G353>='관리자 Setting'!$Q$14,0,0))))))","v":"00:00:00"},{"$f":"IF(OR($H353<'관리자 Setting'!$P$15,$G353>='관리자 Setting'!$Q$15),0,IF(AND($G353<'관리자 Setting'!$P$15,$H353<'관리자 Setting'!$Q$15),$H353-'관리자 Setting'!$P$15,IF(AND($G353<'관리자 Setting'!$P$15,$H353>='관리자 Setting'!$Q$15),'관리자 Setting'!$R$15,IF(AND($G353>='관리자 Setting'!$P$15,$H353>='관리자 Setting'!$Q$15),'관리자 Setting'!$Q$15-$G353,IF(AND($G353>='관리자 Setting'!$P$15,$H353<'관리자 Setting'!$Q$15),$H353-$G353,IF($G353>='관리자 Setting'!$Q$15,0,0))))))","v":"00:00:00"},"",{"$f":"IFERROR(VLOOKUP($F353,'관리자 Setting'!$P$18:$Q$33,2,0)/24,\"\")","v":""}]
["","",{"$f":"IFERROR(DATE(LEFT('In-Put'!$B354,4),MID('In-Put'!$B354,5,2),RIGHT('In-Put'!$B354,2)),\"\")","v":""},{"$f":"IF($C354=\"\",\"\",COUNTIFS($C$2:$C$401,C354)-COUNTIFS($C$2:C354,C354))","v":""},{"$f":"IF($C354=\"\",\"\",COUNTIFS('관리자 Setting'!$P$18:$P$33,'설정_In-Put'!$F354))","v":""},{"$f":"'In-Put'!G354","v":0},{"$f":"IFERROR(IF('In-Put'!D354*1=0,\"\",'In-Put'!D354*1),\"\")","v":""},{"$f":"IFERROR(IF('In-Put'!E354*1=0,\"\",IF('In-Put'!E354*1<G354,'In-Put'!E354*1+1,'In-Put'!E354*1)),\"\")","v":""},{"$f":"IF(OR($H354<'관리자 Setting'!$P$14,$G354>='관리자 Setting'!$Q$14),0,IF(AND($G354<'관리자 Setting'!$P$14,$H354<'관리자 Setting'!$Q$14),$H354-'관리자 Setting'!$P$14,IF(AND($G354<'관리자 Setting'!$P$14,$H354>='관리자 Setting'!$Q$14),'관리자 Setting'!$R$14,IF(AND($G354>='관리자 Setting'!$P$14,$H354>='관리자 Setting'!$Q$14),'관리자 Setting'!$Q$14-$G354,IF(AND($G354>='관리자 Setting'!$P$14,$H354<'관리자 Setting'!$Q$14),$H354-$G354,IF($G354>='관리자 Setting'!$Q$14,0,0))))))","v":"00:00:00"},{"$f":"IF(OR($H354<'관리자 Setting'!$P$15,$G354>='관리자 Setting'!$Q$15),0,IF(AND($G354<'관리자 Setting'!$P$15,$H354<'관리자 Setting'!$Q$15),$H354-'관리자 Setting'!$P$15,IF(AND($G354<'관리자 Setting'!$P$15,$H354>='관리자 Setting'!$Q$15),'관리자 Setting'!$R$15,IF(AND($G354>='관리자 Setting'!$P$15,$H354>='관리자 Setting'!$Q$15),'관리자 Setting'!$Q$15-$G354,IF(AND($G354>='관리자 Setting'!$P$15,$H354<'관리자 Setting'!$Q$15),$H354-$G354,IF($G354>='관리자 Setting'!$Q$15,0,0))))))","v":"00:00:00"},"",{"$f":"IFERROR(VLOOKUP($F354,'관리자 Setting'!$P$18:$Q$33,2,0)/24,\"\")","v":""}]
["","",{"$f":"IFERROR(DATE(LEFT('In-Put'!$B355,4),MID('In-Put'!$B355,5,2),RIGHT('In-Put'!$B355,2)),\"\")","v":""},{"$f":"IF($C355=\"\",\"\",COUNTIFS($C$2:$C$401,C355)-COUNTIFS($C$2:C355,C355))","v":""},{"$f":"IF($C355=\"\",\"\",COUNTIFS('관리자 Setting'!$P$18:$P$33,'설정_In-Put'!$F355))","v":""},{"$f":"'In-Put'!G355","v":0},{"$f":"IFERROR(IF('In-Put'!D355*1=0,\"\",'In-Put'!D355*1),\"\")","v":""},{"$f":"IFERROR(IF('In-Put'!E355*1=0,\"\",IF('In-Put'!E355*1<G355,'In-Put'!E355*1+1,'In-Put'!E355*1)),\"\")","v":""},{"$f":"IF(OR($H355<'관리자 Setting'!$P$14,$G355>='관리자 Setting'!$Q$14),0,IF(AND($G355<'관리자 Setting'!$P$14,$H355<'관리자 Setting'!$Q$14),$H355-'관리자 Setting'!$P$14,IF(AND($G355<'관리자 Setting'!$P$14,$H355>='관리자 Setting'!$Q$14),'관리자 Setting'!$R$14,IF(AND($G355>='관리자 Setting'!$P$14,$H355>='관리자 Setting'!$Q$14),'관리자 Setting'!$Q$14-$G355,IF(AND($G355>='관리자 Setting'!$P$14,$H355<'관리자 Setting'!$Q$14),$H355-$G355,IF($G355>='관리자 Setting'!$Q$14,0,0))))))","v":"00:00:00"},{"$f":"IF(OR($H355<'관리자 Setting'!$P$15,$G355>='관리자 Setting'!$Q$15),0,IF(AND($G355<'관리자 Setting'!$P$15,$H355<'관리자 Setting'!$Q$15),$H355-'관리자 Setting'!$P$15,IF(AND($G355<'관리자 Setting'!$P$15,$H355>='관리자 Setting'!$Q$15),'관리자 Setting'!$R$15,IF(AND($G355>='관리자 Setting'!$P$15,$H355>='관리자 Setting'!$Q$15),'관리자 Setting'!$Q$15-$G355,IF(AND($G355>='관리자 Setting'!$P$15,$H355<'관리자 Setting'!$Q$15),$H355-$G355,IF($G355>='관리자 Setting'!$Q$15,0,0))))))","v":"00:00:00"},"",{"$f":"IFERROR(VLOOKUP($F355,'관리자 Setting'!$P$18:$Q$33,2,0)/24,\"\")","v":""}]
["","",{"$f":"IFERROR(DATE(LEFT('In-Put'!$B356,4),MID('In-Put'!$B356,5,2),RIGHT('In-Put'!$B356,2)),\"\")","v":""},{"$f":"IF($C356=\"\",\"\",COUNTIFS($C$2:$C$401,C356)-COUNTIFS($C$2:C356,C356))","v":""},{"$f":"IF($C356=\"\",\"\",COUNTIFS('관리자 Setting'!$P$18:$P$33,'설정_In-Put'!$F356))","v":""},{"$f":"'In-Put'!G356","v":0},{"$f":"IFERROR(IF('In-Put'!D356*1=0,\"\",'In-Put'!D356*1),\"\")","v":""},{"$f":"IFERROR(IF('In-Put'!E356*1=0,\"\",IF('In-Put'!E356*1<G356,'In-Put'!E356*1+1,'In-Put'!E356*1)),\"\")","v":""},{"$f":"IF(OR($H356<'관리자 Setting'!$P$14,$G356>='관리자 Setting'!$Q$14),0,IF(AND($G356<'관리자 Setting'!$P$14,$H356<'관리자 Setting'!$Q$14),$H356-'관리자 Setting'!$P$14,IF(AND($G356<'관리자 Setting'!$P$14,$H356>='관리자 Setting'!$Q$14),'관리자 Setting'!$R$14,IF(AND($G356>='관리자 Setting'!$P$14,$H356>='관리자 Setting'!$Q$14),'관리자 Setting'!$Q$14-$G356,IF(AND($G356>='관리자 Setting'!$P$14,$H356<'관리자 Setting'!$Q$14),$H356-$G356,IF($G356>='관리자 Setting'!$Q$14,0,0))))))","v":"00:00:00"},{"$f":"IF(OR($H356<'관리자 Setting'!$P$15,$G356>='관리자 Setting'!$Q$15),0,IF(AND($G356<'관리자 Setting'!$P$15,$H356<'관리자 Setting'!$Q$15),$H356-'관리자 Setting'!$P$15,IF(AND($G356<'관리자 Setting'!$P$15,$H356>='관리자 Setting'!$Q$15),'관리자 Setting'!$R$15,IF(AND($G356>='관리자 Setting'!$P$15,$H356>='관리자 Setting'!$Q$15),'관리자 Setting'!$Q$15-$G356,IF(AND($G356>='관리자 Setting'!$P$15,$H356<'관리자 Setting'!$Q$15),$H356-$G356,IF($G356>='관리자 Setting'!$Q$15,0,0))))))","v":"00:00:00"},"",{"$f":"IFERROR(VLOOKUP($F356,'관리자 Setting'!$P$18:$Q$33,2,0)/24,\"\")","v":""}]
["","",{"$f":"IFERROR(DATE(LEFT('In-Put'!$B357,4),MID('In-Put'!$B357,5,2),RIGHT('In-Put'!$B357,2)),\"\")","v":""},{"$f":"IF($C357=\"\",\"\",COUNTIFS($C$2:$C$401,C357)-COUNTIFS($C$2:C357,C357))","v":""},{"$f":"IF($C357=\"\",\"\",COUNTIFS('관리자 Setting'!$P$18:$P$33,'설정_In-Put'!$F357))","v":""},{"$f":"'In-Put'!G357","v":0},{"$f":"IFERROR(IF('In-Put'!D357*1=0,\"\",'In-Put'!D357*1),\"\")","v":""},{"$f":"IFERROR(IF('In-Put'!E357*1=0,\"\",IF('In-Put'!E357*1<G357,'In-Put'!E357*1+1,'In-Put'!E357*1)),\"\")","v":""},{"$f":"IF(OR($H357<'관리자 Setting'!$P$14,$G357>='관리자 Setting'!$Q$14),0,IF(AND($G357<'관리자 Setting'!$P$14,$H357<'관리자 Setting'!$Q$14),$H357-'관리자 Setting'!$P$14,IF(AND($G357<'관리자 Setting'!$P$14,$H357>='관리자 Setting'!$Q$14),'관리자 Setting'!$R$14,IF(AND($G357>='관리자 Setting'!$P$14,$H357>='관리자 Setting'!$Q$14),'관리자 Setting'!$Q$14-$G357,IF(AND($G357>='관리자 Setting'!$P$14,$H357<'관리자 Setting'!$Q$14),$H357-$G357,IF($G357>='관리자 Setting'!$Q$14,0,0))))))","v":"00:00:00"},{"$f":"IF(OR($H357<'관리자 Setting'!$P$15,$G357>='관리자 Setting'!$Q$15),0,IF(AND($G357<'관리자 Setting'!$P$15,$H357<'관리자 Setting'!$Q$15),$H357-'관리자 Setting'!$P$15,IF(AND($G357<'관리자 Setting'!$P$15,$H357>='관리자 Setting'!$Q$15),'관리자 Setting'!$R$15,IF(AND($G357>='관리자 Setting'!$P$15,$H357>='관리자 Setting'!$Q$15),'관리자 Setting'!$Q$15-$G357,IF(AND($G357>='관리자 Setting'!$P$15,$H357<'관리자 Setting'!$Q$15),$H357-$G357,IF($G357>='관리자 Setting'!$Q$15,0,0))))))","v":"00:00:00"},"",{"$f":"IFERROR(VLOOKUP($F357,'관리자 Setting'!$P$18:$Q$33,2,0)/24,\"\")","v":""}]
["","",{"$f":"IFERROR(DATE(LEFT('In-Put'!$B358,4),MID('In-Put'!$B358,5,2),RIGHT('In-Put'!$B358,2)),\"\")","v":""},{"$f":"IF($C358=\"\",\"\",COUNTIFS($C$2:$C$401,C358)-COUNTIFS($C$2:C358,C358))","v":""},{"$f":"IF($C358=\"\",\"\",COUNTIFS('관리자 Setting'!$P$18:$P$33,'설정_In-Put'!$F358))","v":""},{"$f":"'In-Put'!G358","v":0},{"$f":"IFERROR(IF('In-Put'!D358*1=0,\"\",'In-Put'!D358*1),\"\")","v":""},{"$f":"IFERROR(IF('In-Put'!E358*1=0,\"\",IF('In-Put'!E358*1<G358,'In-Put'!E358*1+1,'In-Put'!E358*1)),\"\")","v":""},{"$f":"IF(OR($H358<'관리자 Setting'!$P$14,$G358>='관리자 Setting'!$Q$14),0,IF(AND($G358<'관리자 Setting'!$P$14,$H358<'관리자 Setting'!$Q$14),$H358-'관리자 Setting'!$P$14,IF(AND($G358<'관리자 Setting'!$P$14,$H358>='관리자 Setting'!$Q$14),'관리자 Setting'!$R$14,IF(AND($G358>='관리자 Setting'!$P$14,$H358>='관리자 Setting'!$Q$14),'관리자 Setting'!$Q$14-$G358,IF(AND($G358>='관리자 Setting'!$P$14,$H358<'관리자 Setting'!$Q$14),$H358-$G358,IF($G358>='관리자 Setting'!$Q$14,0,0))))))","v":"00:00:00"},{"$f":"IF(OR($H358<'관리자 Setting'!$P$15,$G358>='관리자 Setting'!$Q$15),0,IF(AND($G358<'관리자 Setting'!$P$15,$H358<'관리자 Setting'!$Q$15),$H358-'관리자 Setting'!$P$15,IF(AND($G358<'관리자 Setting'!$P$15,$H358>='관리자 Setting'!$Q$15),'관리자 Setting'!$R$15,IF(AND($G358>='관리자 Setting'!$P$15,$H358>='관리자 Setting'!$Q$15),'관리자 Setting'!$Q$15-$G358,IF(AND($G358>='관리자 Setting'!$P$15,$H358<'관리자 Setting'!$Q$15),$H358-$G358,IF($G358>='관리자 Setting'!$Q$15,0,0))))))","v":"00:00:00"},"",{"$f":"IFERROR(VLOOKUP($F358,'관리자 Setting'!$P$18:$Q$33,2,0)/24,\"\")","v":""}]
["","",{"$f":"IFERROR(DATE(LEFT('In-Put'!$B359,4),MID('In-Put'!$B359,5,2),RIGHT('In-Put'!$B359,2)),\"\")","v":""},{"$f":"IF($C359=\"\",\"\",COUNTIFS($C$2:$C$401,C359)-COUNTIFS($C$2:C359,C359))","v":""},{"$f":"IF($C359=\"\",\"\",COUNTIFS('관리자 Setting'!$P$18:$P$33,'설정_In-Put'!$F359))","v":""},{"$f":"'In-Put'!G359","v":0},{"$f":"IFERROR(IF('In-Put'!D359*1=0,\"\",'In-Put'!D359*1),\"\")","v":""},{"$f":"IFERROR(IF('In-Put'!E359*1=0,\"\",IF('In-Put'!E359*1<G359,'In-Put'!E359*1+1,'In-Put'!E359*1)),\"\")","v":""},{"$f":"IF(OR($H359<'관리자 Setting'!$P$14,$G359>='관리자 Setting'!$Q$14),0,IF(AND($G359<'관리자 Setting'!$P$14,$H359<'관리자 Setting'!$Q$14),$H359-'관리자 Setting'!$P$14,IF(AND($G359<'관리자 Setting'!$P$14,$H359>='관리자 Setting'!$Q$14),'관리자 Setting'!$R$14,IF(AND($G359>='관리자 Setting'!$P$14,$H359>='관리자 Setting'!$Q$14),'관리자 Setting'!$Q$14-$G359,IF(AND($G359>='관리자 Setting'!$P$14,$H359<'관리자 Setting'!$Q$14),$H359-$G359,IF($G359>='관리자 Setting'!$Q$14,0,0))))))","v":"00:00:00"},{"$f":"IF(OR($H359<'관리자 Setting'!$P$15,$G359>='관리자 Setting'!$Q$15),0,IF(AND($G359<'관리자 Setting'!$P$15,$H359<'관리자 Setting'!$Q$15),$H359-'관리자 Setting'!$P$15,IF(AND($G359<'관리자 Setting'!$P$15,$H359>='관리자 Setting'!$Q$15),'관리자 Setting'!$R$15,IF(AND($G359>='관리자 Setting'!$P$15,$H359>='관리자 Setting'!$Q$15),'관리자 Setting'!$Q$15-$G359,IF(AND($G359>='관리자 Setting'!$P$15,$H359<'관리자 Setting'!$Q$15),$H359-$G359,IF($G359>='관리자 Setting'!$Q$15,0,0))))))","v":"00:00:00"},"",{"$f":"IFERROR(VLOOKUP($F359,'관리자 Setting'!$P$18:$Q$33,2,0)/24,\"\")","v":""}]
["","",{"$f":"IFERROR(DATE(LEFT('In-Put'!$B360,4),MID('In-Put'!$B360,5,2),RIGHT('In-Put'!$B360,2)),\"\")","v":""},{"$f":"IF($C360=\"\",\"\",COUNTIFS($C$2:$C$401,C360)-COUNTIFS($C$2:C360,C360))","v":""},{"$f":"IF($C360=\"\",\"\",COUNTIFS('관리자 Setting'!$P$18:$P$33,'설정_In-Put'!$F360))","v":""},{"$f":"'In-Put'!G360","v":0},{"$f":"IFERROR(IF('In-Put'!D360*1=0,\"\",'In-Put'!D360*1),\"\")","v":""},{"$f":"IFERROR(IF('In-Put'!E360*1=0,\"\",IF('In-Put'!E360*1<G360,'In-Put'!E360*1+1,'In-Put'!E360*1)),\"\")","v":""},{"$f":"IF(OR($H360<'관리자 Setting'!$P$14,$G360>='관리자 Setting'!$Q$14),0,IF(AND($G360<'관리자 Setting'!$P$14,$H360<'관리자 Setting'!$Q$14),$H360-'관리자 Setting'!$P$14,IF(AND($G360<'관리자 Setting'!$P$14,$H360>='관리자 Setting'!$Q$14),'관리자 Setting'!$R$14,IF(AND($G360>='관리자 Setting'!$P$14,$H360>='관리자 Setting'!$Q$14),'관리자 Setting'!$Q$14-$G360,IF(AND($G360>='관리자 Setting'!$P$14,$H360<'관리자 Setting'!$Q$14),$H360-$G360,IF($G360>='관리자 Setting'!$Q$14,0,0))))))","v":"00:00:00"},{"$f":"IF(OR($H360<'관리자 Setting'!$P$15,$G360>='관리자 Setting'!$Q$15),0,IF(AND($G360<'관리자 Setting'!$P$15,$H360<'관리자 Setting'!$Q$15),$H360-'관리자 Setting'!$P$15,IF(AND($G360<'관리자 Setting'!$P$15,$H360>='관리자 Setting'!$Q$15),'관리자 Setting'!$R$15,IF(AND($G360>='관리자 Setting'!$P$15,$H360>='관리자 Setting'!$Q$15),'관리자 Setting'!$Q$15-$G360,IF(AND($G360>='관리자 Setting'!$P$15,$H360<'관리자 Setting'!$Q$15),$H360-$G360,IF($G360>='관리자 Setting'!$Q$15,0,0))))))","v":"00:00:00"},"",{"$f":"IFERROR(VLOOKUP($F360,'관리자 Setting'!$P$18:$Q$33,2,0)/24,\"\")","v":""}]
["","",{"$f":"IFERROR(DATE(LEFT('In-Put'!$B361,4),MID('In-Put'!$B361,5,2),RIGHT('In-Put'!$B361,2)),\"\")","v":""},{"$f":"IF($C361=\"\",\"\",COUNTIFS($C$2:$C$401,C361)-COUNTIFS($C$2:C361,C361))","v":""},{"$f":"IF($C361=\"\",\"\",COUNTIFS('관리자 Setting'!$P$18:$P$33,'설정_In-Put'!$F361))","v":""},{"$f":"'In-Put'!G361","v":0},{"$f":"IFERROR(IF('In-Put'!D361*1=0,\"\",'In-Put'!D361*1),\"\")","v":""},{"$f":"IFERROR(IF('In-Put'!E361*1=0,\"\",IF('In-Put'!E361*1<G361,'In-Put'!E361*1+1,'In-Put'!E361*1)),\"\")","v":""},{"$f":"IF(OR($H361<'관리자 Setting'!$P$14,$G361>='관리자 Setting'!$Q$14),0,IF(AND($G361<'관리자 Setting'!$P$14,$H361<'관리자 Setting'!$Q$14),$H361-'관리자 Setting'!$P$14,IF(AND($G361<'관리자 Setting'!$P$14,$H361>='관리자 Setting'!$Q$14),'관리자 Setting'!$R$14,IF(AND($G361>='관리자 Setting'!$P$14,$H361>='관리자 Setting'!$Q$14),'관리자 Setting'!$Q$14-$G361,IF(AND($G361>='관리자 Setting'!$P$14,$H361<'관리자 Setting'!$Q$14),$H361-$G361,IF($G361>='관리자 Setting'!$Q$14,0,0))))))","v":"00:00:00"},{"$f":"IF(OR($H361<'관리자 Setting'!$P$15,$G361>='관리자 Setting'!$Q$15),0,IF(AND($G361<'관리자 Setting'!$P$15,$H361<'관리자 Setting'!$Q$15),$H361-'관리자 Setting'!$P$15,IF(AND($G361<'관리자 Setting'!$P$15,$H361>='관리자 Setting'!$Q$15),'관리자 Setting'!$R$15,IF(AND($G361>='관리자 Setting'!$P$15,$H361>='관리자 Setting'!$Q$15),'관리자 Setting'!$Q$15-$G361,IF(AND($G361>='관리자 Setting'!$P$15,$H361<'관리자 Setting'!$Q$15),$H361-$G361,IF($G361>='관리자 Setting'!$Q$15,0,0))))))","v":"00:00:00"},"",{"$f":"IFERROR(VLOOKUP($F361,'관리자 Setting'!$P$18:$Q$33,2,0)/24,\"\")","v":""}]
["","",{"$f":"IFERROR(DATE(LEFT('In-Put'!$B362,4),MID('In-Put'!$B362,5,2),RIGHT('In-Put'!$B362,2)),\"\")","v":""},{"$f":"IF($C362=\"\",\"\",COUNTIFS($C$2:$C$401,C362)-COUNTIFS($C$2:C362,C362))","v":""},{"$f":"IF($C362=\"\",\"\",COUNTIFS('관리자 Setting'!$P$18:$P$33,'설정_In-Put'!$F362))","v":""},{"$f":"'In-Put'!G362","v":0},{"$f":"IFERROR(IF('In-Put'!D362*1=0,\"\",'In-Put'!D362*1),\"\")","v":""},{"$f":"IFERROR(IF('In-Put'!E362*1=0,\"\",IF('In-Put'!E362*1<G362,'In-Put'!E362*1+1,'In-Put'!E362*1)),\"\")","v":""},{"$f":"IF(OR($H362<'관리자 Setting'!$P$14,$G362>='관리자 Setting'!$Q$14),0,IF(AND($G362<'관리자 Setting'!$P$14,$H362<'관리자 Setting'!$Q$14),$H362-'관리자 Setting'!$P$14,IF(AND($G362<'관리자 Setting'!$P$14,$H362>='관리자 Setting'!$Q$14),'관리자 Setting'!$R$14,IF(AND($G362>='관리자 Setting'!$P$14,$H362>='관리자 Setting'!$Q$14),'관리자 Setting'!$Q$14-$G362,IF(AND($G362>='관리자 Setting'!$P$14,$H362<'관리자 Setting'!$Q$14),$H362-$G362,IF($G362>='관리자 Setting'!$Q$14,0,0))))))","v":"00:00:00"},{"$f":"IF(OR($H362<'관리자 Setting'!$P$15,$G362>='관리자 Setting'!$Q$15),0,IF(AND($G362<'관리자 Setting'!$P$15,$H362<'관리자 Setting'!$Q$15),$H362-'관리자 Setting'!$P$15,IF(AND($G362<'관리자 Setting'!$P$15,$H362>='관리자 Setting'!$Q$15),'관리자 Setting'!$R$15,IF(AND($G362>='관리자 Setting'!$P$15,$H362>='관리자 Setting'!$Q$15),'관리자 Setting'!$Q$15-$G362,IF(AND($G362>='관리자 Setting'!$P$15,$H362<'관리자 Setting'!$Q$15),$H362-$G362,IF($G362>='관리자 Setting'!$Q$15,0,0))))))","v":"00:00:00"},"",{"$f":"IFERROR(VLOOKUP($F362,'관리자 Setting'!$P$18:$Q$33,2,0)/24,\"\")","v":""}]
["","",{"$f":"IFERROR(DATE(LEFT('In-Put'!$B363,4),MID('In-Put'!$B363,5,2),RIGHT('In-Put'!$B363,2)),\"\")","v":""},{"$f":"IF($C363=\"\",\"\",COUNTIFS($C$2:$C$401,C363)-COUNTIFS($C$2:C363,C363))","v":""},{"$f":"IF($C363=\"\",\"\",COUNTIFS('관리자 Setting'!$P$18:$P$33,'설정_In-Put'!$F363))","v":""},{"$f":"'In-Put'!G363","v":0},{"$f":"IFERROR(IF('In-Put'!D363*1=0,\"\",'In-Put'!D363*1),\"\")","v":""},{"$f":"IFERROR(IF('In-Put'!E363*1=0,\"\",IF('In-Put'!E363*1<G363,'In-Put'!E363*1+1,'In-Put'!E363*1)),\"\")","v":""},{"$f":"IF(OR($H363<'관리자 Setting'!$P$14,$G363>='관리자 Setting'!$Q$14),0,IF(AND($G363<'관리자 Setting'!$P$14,$H363<'관리자 Setting'!$Q$14),$H363-'관리자 Setting'!$P$14,IF(AND($G363<'관리자 Setting'!$P$14,$H363>='관리자 Setting'!$Q$14),'관리자 Setting'!$R$14,IF(AND($G363>='관리자 Setting'!$P$14,$H363>='관리자 Setting'!$Q$14),'관리자 Setting'!$Q$14-$G363,IF(AND($G363>='관리자 Setting'!$P$14,$H363<'관리자 Setting'!$Q$14),$H363-$G363,IF($G363>='관리자 Setting'!$Q$14,0,0))))))","v":"00:00:00"},{"$f":"IF(OR($H363<'관리자 Setting'!$P$15,$G363>='관리자 Setting'!$Q$15),0,IF(AND($G363<'관리자 Setting'!$P$15,$H363<'관리자 Setting'!$Q$15),$H363-'관리자 Setting'!$P$15,IF(AND($G363<'관리자 Setting'!$P$15,$H363>='관리자 Setting'!$Q$15),'관리자 Setting'!$R$15,IF(AND($G363>='관리자 Setting'!$P$15,$H363>='관리자 Setting'!$Q$15),'관리자 Setting'!$Q$15-$G363,IF(AND($G363>='관리자 Setting'!$P$15,$H363<'관리자 Setting'!$Q$15),$H363-$G363,IF($G363>='관리자 Setting'!$Q$15,0,0))))))","v":"00:00:00"},"",{"$f":"IFERROR(VLOOKUP($F363,'관리자 Setting'!$P$18:$Q$33,2,0)/24,\"\")","v":""}]
["","",{"$f":"IFERROR(DATE(LEFT('In-Put'!$B364,4),MID('In-Put'!$B364,5,2),RIGHT('In-Put'!$B364,2)),\"\")","v":""},{"$f":"IF($C364=\"\",\"\",COUNTIFS($C$2:$C$401,C364)-COUNTIFS($C$2:C364,C364))","v":""},{"$f":"IF($C364=\"\",\"\",COUNTIFS('관리자 Setting'!$P$18:$P$33,'설정_In-Put'!$F364))","v":""},{"$f":"'In-Put'!G364","v":0},{"$f":"IFERROR(IF('In-Put'!D364*1=0,\"\",'In-Put'!D364*1),\"\")","v":""},{"$f":"IFERROR(IF('In-Put'!E364*1=0,\"\",IF('In-Put'!E364*1<G364,'In-Put'!E364*1+1,'In-Put'!E364*1)),\"\")","v":""},{"$f":"IF(OR($H364<'관리자 Setting'!$P$14,$G364>='관리자 Setting'!$Q$14),0,IF(AND($G364<'관리자 Setting'!$P$14,$H364<'관리자 Setting'!$Q$14),$H364-'관리자 Setting'!$P$14,IF(AND($G364<'관리자 Setting'!$P$14,$H364>='관리자 Setting'!$Q$14),'관리자 Setting'!$R$14,IF(AND($G364>='관리자 Setting'!$P$14,$H364>='관리자 Setting'!$Q$14),'관리자 Setting'!$Q$14-$G364,IF(AND($G364>='관리자 Setting'!$P$14,$H364<'관리자 Setting'!$Q$14),$H364-$G364,IF($G364>='관리자 Setting'!$Q$14,0,0))))))","v":"00:00:00"},{"$f":"IF(OR($H364<'관리자 Setting'!$P$15,$G364>='관리자 Setting'!$Q$15),0,IF(AND($G364<'관리자 Setting'!$P$15,$H364<'관리자 Setting'!$Q$15),$H364-'관리자 Setting'!$P$15,IF(AND($G364<'관리자 Setting'!$P$15,$H364>='관리자 Setting'!$Q$15),'관리자 Setting'!$R$15,IF(AND($G364>='관리자 Setting'!$P$15,$H364>='관리자 Setting'!$Q$15),'관리자 Setting'!$Q$15-$G364,IF(AND($G364>='관리자 Setting'!$P$15,$H364<'관리자 Setting'!$Q$15),$H364-$G364,IF($G364>='관리자 Setting'!$Q$15,0,0))))))","v":"00:00:00"},"",{"$f":"IFERROR(VLOOKUP($F364,'관리자 Setting'!$P$18:$Q$33,2,0)/24,\"\")","v":""}]
["","",{"$f":"IFERROR(DATE(LEFT('In-Put'!$B365,4),MID('In-Put'!$B365,5,2),RIGHT('In-Put'!$B365,2)),\"\")","v":""},{"$f":"IF($C365=\"\",\"\",COUNTIFS($C$2:$C$401,C365)-COUNTIFS($C$2:C365,C365))","v":""},{"$f":"IF($C365=\"\",\"\",COUNTIFS('관리자 Setting'!$P$18:$P$33,'설정_In-Put'!$F365))","v":""},{"$f":"'In-Put'!G365","v":0},{"$f":"IFERROR(IF('In-Put'!D365*1=0,\"\",'In-Put'!D365*1),\"\")","v":""},{"$f":"IFERROR(IF('In-Put'!E365*1=0,\"\",IF('In-Put'!E365*1<G365,'In-Put'!E365*1+1,'In-Put'!E365*1)),\"\")","v":""},{"$f":"IF(OR($H365<'관리자 Setting'!$P$14,$G365>='관리자 Setting'!$Q$14),0,IF(AND($G365<'관리자 Setting'!$P$14,$H365<'관리자 Setting'!$Q$14),$H365-'관리자 Setting'!$P$14,IF(AND($G365<'관리자 Setting'!$P$14,$H365>='관리자 Setting'!$Q$14),'관리자 Setting'!$R$14,IF(AND($G365>='관리자 Setting'!$P$14,$H365>='관리자 Setting'!$Q$14),'관리자 Setting'!$Q$14-$G365,IF(AND($G365>='관리자 Setting'!$P$14,$H365<'관리자 Setting'!$Q$14),$H365-$G365,IF($G365>='관리자 Setting'!$Q$14,0,0))))))","v":"00:00:00"},{"$f":"IF(OR($H365<'관리자 Setting'!$P$15,$G365>='관리자 Setting'!$Q$15),0,IF(AND($G365<'관리자 Setting'!$P$15,$H365<'관리자 Setting'!$Q$15),$H365-'관리자 Setting'!$P$15,IF(AND($G365<'관리자 Setting'!$P$15,$H365>='관리자 Setting'!$Q$15),'관리자 Setting'!$R$15,IF(AND($G365>='관리자 Setting'!$P$15,$H365>='관리자 Setting'!$Q$15),'관리자 Setting'!$Q$15-$G365,IF(AND($G365>='관리자 Setting'!$P$15,$H365<'관리자 Setting'!$Q$15),$H365-$G365,IF($G365>='관리자 Setting'!$Q$15,0,0))))))","v":"00:00:00"},"",{"$f":"IFERROR(VLOOKUP($F365,'관리자 Setting'!$P$18:$Q$33,2,0)/24,\"\")","v":""}]
["","",{"$f":"IFERROR(DATE(LEFT('In-Put'!$B366,4),MID('In-Put'!$B366,5,2),RIGHT('In-Put'!$B366,2)),\"\")","v":""},{"$f":"IF($C366=\"\",\"\",COUNTIFS($C$2:$C$401,C366)-COUNTIFS($C$2:C366,C366))","v":""},{"$f":"IF($C366=\"\",\"\",COUNTIFS('관리자 Setting'!$P$18:$P$33,'설정_In-Put'!$F366))","v":""},{"$f":"'In-Put'!G366","v":0},{"$f":"IFERROR(IF('In-Put'!D366*1=0,\"\",'In-Put'!D366*1),\"\")","v":""},{"$f":"IFERROR(IF('In-Put'!E366*1=0,\"\",IF('In-Put'!E366*1<G366,'In-Put'!E366*1+1,'In-Put'!E366*1)),\"\")","v":""},{"$f":"IF(OR($H366<'관리자 Setting'!$P$14,$G366>='관리자 Setting'!$Q$14),0,IF(AND($G366<'관리자 Setting'!$P$14,$H366<'관리자 Setting'!$Q$14),$H366-'관리자 Setting'!$P$14,IF(AND($G366<'관리자 Setting'!$P$14,$H366>='관리자 Setting'!$Q$14),'관리자 Setting'!$R$14,IF(AND($G366>='관리자 Setting'!$P$14,$H366>='관리자 Setting'!$Q$14),'관리자 Setting'!$Q$14-$G366,IF(AND($G366>='관리자 Setting'!$P$14,$H366<'관리자 Setting'!$Q$14),$H366-$G366,IF($G366>='관리자 Setting'!$Q$14,0,0))))))","v":"00:00:00"},{"$f":"IF(OR($H366<'관리자 Setting'!$P$15,$G366>='관리자 Setting'!$Q$15),0,IF(AND($G366<'관리자 Setting'!$P$15,$H366<'관리자 Setting'!$Q$15),$H366-'관리자 Setting'!$P$15,IF(AND($G366<'관리자 Setting'!$P$15,$H366>='관리자 Setting'!$Q$15),'관리자 Setting'!$R$15,IF(AND($G366>='관리자 Setting'!$P$15,$H366>='관리자 Setting'!$Q$15),'관리자 Setting'!$Q$15-$G366,IF(AND($G366>='관리자 Setting'!$P$15,$H366<'관리자 Setting'!$Q$15),$H366-$G366,IF($G366>='관리자 Setting'!$Q$15,0,0))))))","v":"00:00:00"},"",{"$f":"IFERROR(VLOOKUP($F366,'관리자 Setting'!$P$18:$Q$33,2,0)/24,\"\")","v":""}]
["","",{"$f":"IFERROR(DATE(LEFT('In-Put'!$B367,4),MID('In-Put'!$B367,5,2),RIGHT('In-Put'!$B367,2)),\"\")","v":""},{"$f":"IF($C367=\"\",\"\",COUNTIFS($C$2:$C$401,C367)-COUNTIFS($C$2:C367,C367))","v":""},{"$f":"IF($C367=\"\",\"\",COUNTIFS('관리자 Setting'!$P$18:$P$33,'설정_In-Put'!$F367))","v":""},{"$f":"'In-Put'!G367","v":0},{"$f":"IFERROR(IF('In-Put'!D367*1=0,\"\",'In-Put'!D367*1),\"\")","v":""},{"$f":"IFERROR(IF('In-Put'!E367*1=0,\"\",IF('In-Put'!E367*1<G367,'In-Put'!E367*1+1,'In-Put'!E367*1)),\"\")","v":""},{"$f":"IF(OR($H367<'관리자 Setting'!$P$14,$G367>='관리자 Setting'!$Q$14),0,IF(AND($G367<'관리자 Setting'!$P$14,$H367<'관리자 Setting'!$Q$14),$H367-'관리자 Setting'!$P$14,IF(AND($G367<'관리자 Setting'!$P$14,$H367>='관리자 Setting'!$Q$14),'관리자 Setting'!$R$14,IF(AND($G367>='관리자 Setting'!$P$14,$H367>='관리자 Setting'!$Q$14),'관리자 Setting'!$Q$14-$G367,IF(AND($G367>='관리자 Setting'!$P$14,$H367<'관리자 Setting'!$Q$14),$H367-$G367,IF($G367>='관리자 Setting'!$Q$14,0,0))))))","v":"00:00:00"},{"$f":"IF(OR($H367<'관리자 Setting'!$P$15,$G367>='관리자 Setting'!$Q$15),0,IF(AND($G367<'관리자 Setting'!$P$15,$H367<'관리자 Setting'!$Q$15),$H367-'관리자 Setting'!$P$15,IF(AND($G367<'관리자 Setting'!$P$15,$H367>='관리자 Setting'!$Q$15),'관리자 Setting'!$R$15,IF(AND($G367>='관리자 Setting'!$P$15,$H367>='관리자 Setting'!$Q$15),'관리자 Setting'!$Q$15-$G367,IF(AND($G367>='관리자 Setting'!$P$15,$H367<'관리자 Setting'!$Q$15),$H367-$G367,IF($G367>='관리자 Setting'!$Q$15,0,0))))))","v":"00:00:00"},"",{"$f":"IFERROR(VLOOKUP($F367,'관리자 Setting'!$P$18:$Q$33,2,0)/24,\"\")","v":""}]
["","",{"$f":"IFERROR(DATE(LEFT('In-Put'!$B368,4),MID('In-Put'!$B368,5,2),RIGHT('In-Put'!$B368,2)),\"\")","v":""},{"$f":"IF($C368=\"\",\"\",COUNTIFS($C$2:$C$401,C368)-COUNTIFS($C$2:C368,C368))","v":""},{"$f":"IF($C368=\"\",\"\",COUNTIFS('관리자 Setting'!$P$18:$P$33,'설정_In-Put'!$F368))","v":""},{"$f":"'In-Put'!G368","v":0},{"$f":"IFERROR(IF('In-Put'!D368*1=0,\"\",'In-Put'!D368*1),\"\")","v":""},{"$f":"IFERROR(IF('In-Put'!E368*1=0,\"\",IF('In-Put'!E368*1<G368,'In-Put'!E368*1+1,'In-Put'!E368*1)),\"\")","v":""},{"$f":"IF(OR($H368<'관리자 Setting'!$P$14,$G368>='관리자 Setting'!$Q$14),0,IF(AND($G368<'관리자 Setting'!$P$14,$H368<'관리자 Setting'!$Q$14),$H368-'관리자 Setting'!$P$14,IF(AND($G368<'관리자 Setting'!$P$14,$H368>='관리자 Setting'!$Q$14),'관리자 Setting'!$R$14,IF(AND($G368>='관리자 Setting'!$P$14,$H368>='관리자 Setting'!$Q$14),'관리자 Setting'!$Q$14-$G368,IF(AND($G368>='관리자 Setting'!$P$14,$H368<'관리자 Setting'!$Q$14),$H368-$G368,IF($G368>='관리자 Setting'!$Q$14,0,0))))))","v":"00:00:00"},{"$f":"IF(OR($H368<'관리자 Setting'!$P$15,$G368>='관리자 Setting'!$Q$15),0,IF(AND($G368<'관리자 Setting'!$P$15,$H368<'관리자 Setting'!$Q$15),$H368-'관리자 Setting'!$P$15,IF(AND($G368<'관리자 Setting'!$P$15,$H368>='관리자 Setting'!$Q$15),'관리자 Setting'!$R$15,IF(AND($G368>='관리자 Setting'!$P$15,$H368>='관리자 Setting'!$Q$15),'관리자 Setting'!$Q$15-$G368,IF(AND($G368>='관리자 Setting'!$P$15,$H368<'관리자 Setting'!$Q$15),$H368-$G368,IF($G368>='관리자 Setting'!$Q$15,0,0))))))","v":"00:00:00"},"",{"$f":"IFERROR(VLOOKUP($F368,'관리자 Setting'!$P$18:$Q$33,2,0)/24,\"\")","v":""}]
["","",{"$f":"IFERROR(DATE(LEFT('In-Put'!$B369,4),MID('In-Put'!$B369,5,2),RIGHT('In-Put'!$B369,2)),\"\")","v":""},{"$f":"IF($C369=\"\",\"\",COUNTIFS($C$2:$C$401,C369)-COUNTIFS($C$2:C369,C369))","v":""},{"$f":"IF($C369=\"\",\"\",COUNTIFS('관리자 Setting'!$P$18:$P$33,'설정_In-Put'!$F369))","v":""},{"$f":"'In-Put'!G369","v":0},{"$f":"IFERROR(IF('In-Put'!D369*1=0,\"\",'In-Put'!D369*1),\"\")","v":""},{"$f":"IFERROR(IF('In-Put'!E369*1=0,\"\",IF('In-Put'!E369*1<G369,'In-Put'!E369*1+1,'In-Put'!E369*1)),\"\")","v":""},{"$f":"IF(OR($H369<'관리자 Setting'!$P$14,$G369>='관리자 Setting'!$Q$14),0,IF(AND($G369<'관리자 Setting'!$P$14,$H369<'관리자 Setting'!$Q$14),$H369-'관리자 Setting'!$P$14,IF(AND($G369<'관리자 Setting'!$P$14,$H369>='관리자 Setting'!$Q$14),'관리자 Setting'!$R$14,IF(AND($G369>='관리자 Setting'!$P$14,$H369>='관리자 Setting'!$Q$14),'관리자 Setting'!$Q$14-$G369,IF(AND($G369>='관리자 Setting'!$P$14,$H369<'관리자 Setting'!$Q$14),$H369-$G369,IF($G369>='관리자 Setting'!$Q$14,0,0))))))","v":"00:00:00"},{"$f":"IF(OR($H369<'관리자 Setting'!$P$15,$G369>='관리자 Setting'!$Q$15),0,IF(AND($G369<'관리자 Setting'!$P$15,$H369<'관리자 Setting'!$Q$15),$H369-'관리자 Setting'!$P$15,IF(AND($G369<'관리자 Setting'!$P$15,$H369>='관리자 Setting'!$Q$15),'관리자 Setting'!$R$15,IF(AND($G369>='관리자 Setting'!$P$15,$H369>='관리자 Setting'!$Q$15),'관리자 Setting'!$Q$15-$G369,IF(AND($G369>='관리자 Setting'!$P$15,$H369<'관리자 Setting'!$Q$15),$H369-$G369,IF($G369>='관리자 Setting'!$Q$15,0,0))))))","v":"00:00:00"},"",{"$f":"IFERROR(VLOOKUP($F369,'관리자 Setting'!$P$18:$Q$33,2,0)/24,\"\")","v":""}]
["","",{"$f":"IFERROR(DATE(LEFT('In-Put'!$B370,4),MID('In-Put'!$B370,5,2),RIGHT('In-Put'!$B370,2)),\"\")","v":""},{"$f":"IF($C370=\"\",\"\",COUNTIFS($C$2:$C$401,C370)-COUNTIFS($C$2:C370,C370))","v":""},{"$f":"IF($C370=\"\",\"\",COUNTIFS('관리자 Setting'!$P$18:$P$33,'설정_In-Put'!$F370))","v":""},{"$f":"'In-Put'!G370","v":0},{"$f":"IFERROR(IF('In-Put'!D370*1=0,\"\",'In-Put'!D370*1),\"\")","v":""},{"$f":"IFERROR(IF('In-Put'!E370*1=0,\"\",IF('In-Put'!E370*1<G370,'In-Put'!E370*1+1,'In-Put'!E370*1)),\"\")","v":""},{"$f":"IF(OR($H370<'관리자 Setting'!$P$14,$G370>='관리자 Setting'!$Q$14),0,IF(AND($G370<'관리자 Setting'!$P$14,$H370<'관리자 Setting'!$Q$14),$H370-'관리자 Setting'!$P$14,IF(AND($G370<'관리자 Setting'!$P$14,$H370>='관리자 Setting'!$Q$14),'관리자 Setting'!$R$14,IF(AND($G370>='관리자 Setting'!$P$14,$H370>='관리자 Setting'!$Q$14),'관리자 Setting'!$Q$14-$G370,IF(AND($G370>='관리자 Setting'!$P$14,$H370<'관리자 Setting'!$Q$14),$H370-$G370,IF($G370>='관리자 Setting'!$Q$14,0,0))))))","v":"00:00:00"},{"$f":"IF(OR($H370<'관리자 Setting'!$P$15,$G370>='관리자 Setting'!$Q$15),0,IF(AND($G370<'관리자 Setting'!$P$15,$H370<'관리자 Setting'!$Q$15),$H370-'관리자 Setting'!$P$15,IF(AND($G370<'관리자 Setting'!$P$15,$H370>='관리자 Setting'!$Q$15),'관리자 Setting'!$R$15,IF(AND($G370>='관리자 Setting'!$P$15,$H370>='관리자 Setting'!$Q$15),'관리자 Setting'!$Q$15-$G370,IF(AND($G370>='관리자 Setting'!$P$15,$H370<'관리자 Setting'!$Q$15),$H370-$G370,IF($G370>='관리자 Setting'!$Q$15,0,0))))))","v":"00:00:00"},"",{"$f":"IFERROR(VLOOKUP($F370,'관리자 Setting'!$P$18:$Q$33,2,0)/24,\"\")","v":""}]
["","",{"$f":"IFERROR(DATE(LEFT('In-Put'!$B371,4),MID('In-Put'!$B371,5,2),RIGHT('In-Put'!$B371,2)),\"\")","v":""},{"$f":"IF($C371=\"\",\"\",COUNTIFS($C$2:$C$401,C371)-COUNTIFS($C$2:C371,C371))","v":""},{"$f":"IF($C371=\"\",\"\",COUNTIFS('관리자 Setting'!$P$18:$P$33,'설정_In-Put'!$F371))","v":""},{"$f":"'In-Put'!G371","v":0},{"$f":"IFERROR(IF('In-Put'!D371*1=0,\"\",'In-Put'!D371*1),\"\")","v":""},{"$f":"IFERROR(IF('In-Put'!E371*1=0,\"\",IF('In-Put'!E371*1<G371,'In-Put'!E371*1+1,'In-Put'!E371*1)),\"\")","v":""},{"$f":"IF(OR($H371<'관리자 Setting'!$P$14,$G371>='관리자 Setting'!$Q$14),0,IF(AND($G371<'관리자 Setting'!$P$14,$H371<'관리자 Setting'!$Q$14),$H371-'관리자 Setting'!$P$14,IF(AND($G371<'관리자 Setting'!$P$14,$H371>='관리자 Setting'!$Q$14),'관리자 Setting'!$R$14,IF(AND($G371>='관리자 Setting'!$P$14,$H371>='관리자 Setting'!$Q$14),'관리자 Setting'!$Q$14-$G371,IF(AND($G371>='관리자 Setting'!$P$14,$H371<'관리자 Setting'!$Q$14),$H371-$G371,IF($G371>='관리자 Setting'!$Q$14,0,0))))))","v":"00:00:00"},{"$f":"IF(OR($H371<'관리자 Setting'!$P$15,$G371>='관리자 Setting'!$Q$15),0,IF(AND($G371<'관리자 Setting'!$P$15,$H371<'관리자 Setting'!$Q$15),$H371-'관리자 Setting'!$P$15,IF(AND($G371<'관리자 Setting'!$P$15,$H371>='관리자 Setting'!$Q$15),'관리자 Setting'!$R$15,IF(AND($G371>='관리자 Setting'!$P$15,$H371>='관리자 Setting'!$Q$15),'관리자 Setting'!$Q$15-$G371,IF(AND($G371>='관리자 Setting'!$P$15,$H371<'관리자 Setting'!$Q$15),$H371-$G371,IF($G371>='관리자 Setting'!$Q$15,0,0))))))","v":"00:00:00"},"",{"$f":"IFERROR(VLOOKUP($F371,'관리자 Setting'!$P$18:$Q$33,2,0)/24,\"\")","v":""}]
["","",{"$f":"IFERROR(DATE(LEFT('In-Put'!$B372,4),MID('In-Put'!$B372,5,2),RIGHT('In-Put'!$B372,2)),\"\")","v":""},{"$f":"IF($C372=\"\",\"\",COUNTIFS($C$2:$C$401,C372)-COUNTIFS($C$2:C372,C372))","v":""},{"$f":"IF($C372=\"\",\"\",COUNTIFS('관리자 Setting'!$P$18:$P$33,'설정_In-Put'!$F372))","v":""},{"$f":"'In-Put'!G372","v":0},{"$f":"IFERROR(IF('In-Put'!D372*1=0,\"\",'In-Put'!D372*1),\"\")","v":""},{"$f":"IFERROR(IF('In-Put'!E372*1=0,\"\",IF('In-Put'!E372*1<G372,'In-Put'!E372*1+1,'In-Put'!E372*1)),\"\")","v":""},{"$f":"IF(OR($H372<'관리자 Setting'!$P$14,$G372>='관리자 Setting'!$Q$14),0,IF(AND($G372<'관리자 Setting'!$P$14,$H372<'관리자 Setting'!$Q$14),$H372-'관리자 Setting'!$P$14,IF(AND($G372<'관리자 Setting'!$P$14,$H372>='관리자 Setting'!$Q$14),'관리자 Setting'!$R$14,IF(AND($G372>='관리자 Setting'!$P$14,$H372>='관리자 Setting'!$Q$14),'관리자 Setting'!$Q$14-$G372,IF(AND($G372>='관리자 Setting'!$P$14,$H372<'관리자 Setting'!$Q$14),$H372-$G372,IF($G372>='관리자 Setting'!$Q$14,0,0))))))","v":"00:00:00"},{"$f":"IF(OR($H372<'관리자 Setting'!$P$15,$G372>='관리자 Setting'!$Q$15),0,IF(AND($G372<'관리자 Setting'!$P$15,$H372<'관리자 Setting'!$Q$15),$H372-'관리자 Setting'!$P$15,IF(AND($G372<'관리자 Setting'!$P$15,$H372>='관리자 Setting'!$Q$15),'관리자 Setting'!$R$15,IF(AND($G372>='관리자 Setting'!$P$15,$H372>='관리자 Setting'!$Q$15),'관리자 Setting'!$Q$15-$G372,IF(AND($G372>='관리자 Setting'!$P$15,$H372<'관리자 Setting'!$Q$15),$H372-$G372,IF($G372>='관리자 Setting'!$Q$15,0,0))))))","v":"00:00:00"},"",{"$f":"IFERROR(VLOOKUP($F372,'관리자 Setting'!$P$18:$Q$33,2,0)/24,\"\")","v":""}]
["","",{"$f":"IFERROR(DATE(LEFT('In-Put'!$B373,4),MID('In-Put'!$B373,5,2),RIGHT('In-Put'!$B373,2)),\"\")","v":""},{"$f":"IF($C373=\"\",\"\",COUNTIFS($C$2:$C$401,C373)-COUNTIFS($C$2:C373,C373))","v":""},{"$f":"IF($C373=\"\",\"\",COUNTIFS('관리자 Setting'!$P$18:$P$33,'설정_In-Put'!$F373))","v":""},{"$f":"'In-Put'!G373","v":0},{"$f":"IFERROR(IF('In-Put'!D373*1=0,\"\",'In-Put'!D373*1),\"\")","v":""},{"$f":"IFERROR(IF('In-Put'!E373*1=0,\"\",IF('In-Put'!E373*1<G373,'In-Put'!E373*1+1,'In-Put'!E373*1)),\"\")","v":""},{"$f":"IF(OR($H373<'관리자 Setting'!$P$14,$G373>='관리자 Setting'!$Q$14),0,IF(AND($G373<'관리자 Setting'!$P$14,$H373<'관리자 Setting'!$Q$14),$H373-'관리자 Setting'!$P$14,IF(AND($G373<'관리자 Setting'!$P$14,$H373>='관리자 Setting'!$Q$14),'관리자 Setting'!$R$14,IF(AND($G373>='관리자 Setting'!$P$14,$H373>='관리자 Setting'!$Q$14),'관리자 Setting'!$Q$14-$G373,IF(AND($G373>='관리자 Setting'!$P$14,$H373<'관리자 Setting'!$Q$14),$H373-$G373,IF($G373>='관리자 Setting'!$Q$14,0,0))))))","v":"00:00:00"},{"$f":"IF(OR($H373<'관리자 Setting'!$P$15,$G373>='관리자 Setting'!$Q$15),0,IF(AND($G373<'관리자 Setting'!$P$15,$H373<'관리자 Setting'!$Q$15),$H373-'관리자 Setting'!$P$15,IF(AND($G373<'관리자 Setting'!$P$15,$H373>='관리자 Setting'!$Q$15),'관리자 Setting'!$R$15,IF(AND($G373>='관리자 Setting'!$P$15,$H373>='관리자 Setting'!$Q$15),'관리자 Setting'!$Q$15-$G373,IF(AND($G373>='관리자 Setting'!$P$15,$H373<'관리자 Setting'!$Q$15),$H373-$G373,IF($G373>='관리자 Setting'!$Q$15,0,0))))))","v":"00:00:00"},"",{"$f":"IFERROR(VLOOKUP($F373,'관리자 Setting'!$P$18:$Q$33,2,0)/24,\"\")","v":""}]
["","",{"$f":"IFERROR(DATE(LEFT('In-Put'!$B374,4),MID('In-Put'!$B374,5,2),RIGHT('In-Put'!$B374,2)),\"\")","v":""},{"$f":"IF($C374=\"\",\"\",COUNTIFS($C$2:$C$401,C374)-COUNTIFS($C$2:C374,C374))","v":""},{"$f":"IF($C374=\"\",\"\",COUNTIFS('관리자 Setting'!$P$18:$P$33,'설정_In-Put'!$F374))","v":""},{"$f":"'In-Put'!G374","v":0},{"$f":"IFERROR(IF('In-Put'!D374*1=0,\"\",'In-Put'!D374*1),\"\")","v":""},{"$f":"IFERROR(IF('In-Put'!E374*1=0,\"\",IF('In-Put'!E374*1<G374,'In-Put'!E374*1+1,'In-Put'!E374*1)),\"\")","v":""},{"$f":"IF(OR($H374<'관리자 Setting'!$P$14,$G374>='관리자 Setting'!$Q$14),0,IF(AND($G374<'관리자 Setting'!$P$14,$H374<'관리자 Setting'!$Q$14),$H374-'관리자 Setting'!$P$14,IF(AND($G374<'관리자 Setting'!$P$14,$H374>='관리자 Setting'!$Q$14),'관리자 Setting'!$R$14,IF(AND($G374>='관리자 Setting'!$P$14,$H374>='관리자 Setting'!$Q$14),'관리자 Setting'!$Q$14-$G374,IF(AND($G374>='관리자 Setting'!$P$14,$H374<'관리자 Setting'!$Q$14),$H374-$G374,IF($G374>='관리자 Setting'!$Q$14,0,0))))))","v":"00:00:00"},{"$f":"IF(OR($H374<'관리자 Setting'!$P$15,$G374>='관리자 Setting'!$Q$15),0,IF(AND($G374<'관리자 Setting'!$P$15,$H374<'관리자 Setting'!$Q$15),$H374-'관리자 Setting'!$P$15,IF(AND($G374<'관리자 Setting'!$P$15,$H374>='관리자 Setting'!$Q$15),'관리자 Setting'!$R$15,IF(AND($G374>='관리자 Setting'!$P$15,$H374>='관리자 Setting'!$Q$15),'관리자 Setting'!$Q$15-$G374,IF(AND($G374>='관리자 Setting'!$P$15,$H374<'관리자 Setting'!$Q$15),$H374-$G374,IF($G374>='관리자 Setting'!$Q$15,0,0))))))","v":"00:00:00"},"",{"$f":"IFERROR(VLOOKUP($F374,'관리자 Setting'!$P$18:$Q$33,2,0)/24,\"\")","v":""}]
["","",{"$f":"IFERROR(DATE(LEFT('In-Put'!$B375,4),MID('In-Put'!$B375,5,2),RIGHT('In-Put'!$B375,2)),\"\")","v":""},{"$f":"IF($C375=\"\",\"\",COUNTIFS($C$2:$C$401,C375)-COUNTIFS($C$2:C375,C375))","v":""},{"$f":"IF($C375=\"\",\"\",COUNTIFS('관리자 Setting'!$P$18:$P$33,'설정_In-Put'!$F375))","v":""},{"$f":"'In-Put'!G375","v":0},{"$f":"IFERROR(IF('In-Put'!D375*1=0,\"\",'In-Put'!D375*1),\"\")","v":""},{"$f":"IFERROR(IF('In-Put'!E375*1=0,\"\",IF('In-Put'!E375*1<G375,'In-Put'!E375*1+1,'In-Put'!E375*1)),\"\")","v":""},{"$f":"IF(OR($H375<'관리자 Setting'!$P$14,$G375>='관리자 Setting'!$Q$14),0,IF(AND($G375<'관리자 Setting'!$P$14,$H375<'관리자 Setting'!$Q$14),$H375-'관리자 Setting'!$P$14,IF(AND($G375<'관리자 Setting'!$P$14,$H375>='관리자 Setting'!$Q$14),'관리자 Setting'!$R$14,IF(AND($G375>='관리자 Setting'!$P$14,$H375>='관리자 Setting'!$Q$14),'관리자 Setting'!$Q$14-$G375,IF(AND($G375>='관리자 Setting'!$P$14,$H375<'관리자 Setting'!$Q$14),$H375-$G375,IF($G375>='관리자 Setting'!$Q$14,0,0))))))","v":"00:00:00"},{"$f":"IF(OR($H375<'관리자 Setting'!$P$15,$G375>='관리자 Setting'!$Q$15),0,IF(AND($G375<'관리자 Setting'!$P$15,$H375<'관리자 Setting'!$Q$15),$H375-'관리자 Setting'!$P$15,IF(AND($G375<'관리자 Setting'!$P$15,$H375>='관리자 Setting'!$Q$15),'관리자 Setting'!$R$15,IF(AND($G375>='관리자 Setting'!$P$15,$H375>='관리자 Setting'!$Q$15),'관리자 Setting'!$Q$15-$G375,IF(AND($G375>='관리자 Setting'!$P$15,$H375<'관리자 Setting'!$Q$15),$H375-$G375,IF($G375>='관리자 Setting'!$Q$15,0,0))))))","v":"00:00:00"},"",{"$f":"IFERROR(VLOOKUP($F375,'관리자 Setting'!$P$18:$Q$33,2,0)/24,\"\")","v":""}]
["","",{"$f":"IFERROR(DATE(LEFT('In-Put'!$B376,4),MID('In-Put'!$B376,5,2),RIGHT('In-Put'!$B376,2)),\"\")","v":""},{"$f":"IF($C376=\"\",\"\",COUNTIFS($C$2:$C$401,C376)-COUNTIFS($C$2:C376,C376))","v":""},{"$f":"IF($C376=\"\",\"\",COUNTIFS('관리자 Setting'!$P$18:$P$33,'설정_In-Put'!$F376))","v":""},{"$f":"'In-Put'!G376","v":0},{"$f":"IFERROR(IF('In-Put'!D376*1=0,\"\",'In-Put'!D376*1),\"\")","v":""},{"$f":"IFERROR(IF('In-Put'!E376*1=0,\"\",IF('In-Put'!E376*1<G376,'In-Put'!E376*1+1,'In-Put'!E376*1)),\"\")","v":""},{"$f":"IF(OR($H376<'관리자 Setting'!$P$14,$G376>='관리자 Setting'!$Q$14),0,IF(AND($G376<'관리자 Setting'!$P$14,$H376<'관리자 Setting'!$Q$14),$H376-'관리자 Setting'!$P$14,IF(AND($G376<'관리자 Setting'!$P$14,$H376>='관리자 Setting'!$Q$14),'관리자 Setting'!$R$14,IF(AND($G376>='관리자 Setting'!$P$14,$H376>='관리자 Setting'!$Q$14),'관리자 Setting'!$Q$14-$G376,IF(AND($G376>='관리자 Setting'!$P$14,$H376<'관리자 Setting'!$Q$14),$H376-$G376,IF($G376>='관리자 Setting'!$Q$14,0,0))))))","v":"00:00:00"},{"$f":"IF(OR($H376<'관리자 Setting'!$P$15,$G376>='관리자 Setting'!$Q$15),0,IF(AND($G376<'관리자 Setting'!$P$15,$H376<'관리자 Setting'!$Q$15),$H376-'관리자 Setting'!$P$15,IF(AND($G376<'관리자 Setting'!$P$15,$H376>='관리자 Setting'!$Q$15),'관리자 Setting'!$R$15,IF(AND($G376>='관리자 Setting'!$P$15,$H376>='관리자 Setting'!$Q$15),'관리자 Setting'!$Q$15-$G376,IF(AND($G376>='관리자 Setting'!$P$15,$H376<'관리자 Setting'!$Q$15),$H376-$G376,IF($G376>='관리자 Setting'!$Q$15,0,0))))))","v":"00:00:00"},"",{"$f":"IFERROR(VLOOKUP($F376,'관리자 Setting'!$P$18:$Q$33,2,0)/24,\"\")","v":""}]
["","",{"$f":"IFERROR(DATE(LEFT('In-Put'!$B377,4),MID('In-Put'!$B377,5,2),RIGHT('In-Put'!$B377,2)),\"\")","v":""},{"$f":"IF($C377=\"\",\"\",COUNTIFS($C$2:$C$401,C377)-COUNTIFS($C$2:C377,C377))","v":""},{"$f":"IF($C377=\"\",\"\",COUNTIFS('관리자 Setting'!$P$18:$P$33,'설정_In-Put'!$F377))","v":""},{"$f":"'In-Put'!G377","v":0},{"$f":"IFERROR(IF('In-Put'!D377*1=0,\"\",'In-Put'!D377*1),\"\")","v":""},{"$f":"IFERROR(IF('In-Put'!E377*1=0,\"\",IF('In-Put'!E377*1<G377,'In-Put'!E377*1+1,'In-Put'!E377*1)),\"\")","v":""},{"$f":"IF(OR($H377<'관리자 Setting'!$P$14,$G377>='관리자 Setting'!$Q$14),0,IF(AND($G377<'관리자 Setting'!$P$14,$H377<'관리자 Setting'!$Q$14),$H377-'관리자 Setting'!$P$14,IF(AND($G377<'관리자 Setting'!$P$14,$H377>='관리자 Setting'!$Q$14),'관리자 Setting'!$R$14,IF(AND($G377>='관리자 Setting'!$P$14,$H377>='관리자 Setting'!$Q$14),'관리자 Setting'!$Q$14-$G377,IF(AND($G377>='관리자 Setting'!$P$14,$H377<'관리자 Setting'!$Q$14),$H377-$G377,IF($G377>='관리자 Setting'!$Q$14,0,0))))))","v":"00:00:00"},{"$f":"IF(OR($H377<'관리자 Setting'!$P$15,$G377>='관리자 Setting'!$Q$15),0,IF(AND($G377<'관리자 Setting'!$P$15,$H377<'관리자 Setting'!$Q$15),$H377-'관리자 Setting'!$P$15,IF(AND($G377<'관리자 Setting'!$P$15,$H377>='관리자 Setting'!$Q$15),'관리자 Setting'!$R$15,IF(AND($G377>='관리자 Setting'!$P$15,$H377>='관리자 Setting'!$Q$15),'관리자 Setting'!$Q$15-$G377,IF(AND($G377>='관리자 Setting'!$P$15,$H377<'관리자 Setting'!$Q$15),$H377-$G377,IF($G377>='관리자 Setting'!$Q$15,0,0))))))","v":"00:00:00"},"",{"$f":"IFERROR(VLOOKUP($F377,'관리자 Setting'!$P$18:$Q$33,2,0)/24,\"\")","v":""}]
["","",{"$f":"IFERROR(DATE(LEFT('In-Put'!$B378,4),MID('In-Put'!$B378,5,2),RIGHT('In-Put'!$B378,2)),\"\")","v":""},{"$f":"IF($C378=\"\",\"\",COUNTIFS($C$2:$C$401,C378)-COUNTIFS($C$2:C378,C378))","v":""},{"$f":"IF($C378=\"\",\"\",COUNTIFS('관리자 Setting'!$P$18:$P$33,'설정_In-Put'!$F378))","v":""},{"$f":"'In-Put'!G378","v":0},{"$f":"IFERROR(IF('In-Put'!D378*1=0,\"\",'In-Put'!D378*1),\"\")","v":""},{"$f":"IFERROR(IF('In-Put'!E378*1=0,\"\",IF('In-Put'!E378*1<G378,'In-Put'!E378*1+1,'In-Put'!E378*1)),\"\")","v":""},{"$f":"IF(OR($H378<'관리자 Setting'!$P$14,$G378>='관리자 Setting'!$Q$14),0,IF(AND($G378<'관리자 Setting'!$P$14,$H378<'관리자 Setting'!$Q$14),$H378-'관리자 Setting'!$P$14,IF(AND($G378<'관리자 Setting'!$P$14,$H378>='관리자 Setting'!$Q$14),'관리자 Setting'!$R$14,IF(AND($G378>='관리자 Setting'!$P$14,$H378>='관리자 Setting'!$Q$14),'관리자 Setting'!$Q$14-$G378,IF(AND($G378>='관리자 Setting'!$P$14,$H378<'관리자 Setting'!$Q$14),$H378-$G378,IF($G378>='관리자 Setting'!$Q$14,0,0))))))","v":"00:00:00"},{"$f":"IF(OR($H378<'관리자 Setting'!$P$15,$G378>='관리자 Setting'!$Q$15),0,IF(AND($G378<'관리자 Setting'!$P$15,$H378<'관리자 Setting'!$Q$15),$H378-'관리자 Setting'!$P$15,IF(AND($G378<'관리자 Setting'!$P$15,$H378>='관리자 Setting'!$Q$15),'관리자 Setting'!$R$15,IF(AND($G378>='관리자 Setting'!$P$15,$H378>='관리자 Setting'!$Q$15),'관리자 Setting'!$Q$15-$G378,IF(AND($G378>='관리자 Setting'!$P$15,$H378<'관리자 Setting'!$Q$15),$H378-$G378,IF($G378>='관리자 Setting'!$Q$15,0,0))))))","v":"00:00:00"},"",{"$f":"IFERROR(VLOOKUP($F378,'관리자 Setting'!$P$18:$Q$33,2,0)/24,\"\")","v":""}]
["","",{"$f":"IFERROR(DATE(LEFT('In-Put'!$B379,4),MID('In-Put'!$B379,5,2),RIGHT('In-Put'!$B379,2)),\"\")","v":""},{"$f":"IF($C379=\"\",\"\",COUNTIFS($C$2:$C$401,C379)-COUNTIFS($C$2:C379,C379))","v":""},{"$f":"IF($C379=\"\",\"\",COUNTIFS('관리자 Setting'!$P$18:$P$33,'설정_In-Put'!$F379))","v":""},{"$f":"'In-Put'!G379","v":0},{"$f":"IFERROR(IF('In-Put'!D379*1=0,\"\",'In-Put'!D379*1),\"\")","v":""},{"$f":"IFERROR(IF('In-Put'!E379*1=0,\"\",IF('In-Put'!E379*1<G379,'In-Put'!E379*1+1,'In-Put'!E379*1)),\"\")","v":""},{"$f":"IF(OR($H379<'관리자 Setting'!$P$14,$G379>='관리자 Setting'!$Q$14),0,IF(AND($G379<'관리자 Setting'!$P$14,$H379<'관리자 Setting'!$Q$14),$H379-'관리자 Setting'!$P$14,IF(AND($G379<'관리자 Setting'!$P$14,$H379>='관리자 Setting'!$Q$14),'관리자 Setting'!$R$14,IF(AND($G379>='관리자 Setting'!$P$14,$H379>='관리자 Setting'!$Q$14),'관리자 Setting'!$Q$14-$G379,IF(AND($G379>='관리자 Setting'!$P$14,$H379<'관리자 Setting'!$Q$14),$H379-$G379,IF($G379>='관리자 Setting'!$Q$14,0,0))))))","v":"00:00:00"},{"$f":"IF(OR($H379<'관리자 Setting'!$P$15,$G379>='관리자 Setting'!$Q$15),0,IF(AND($G379<'관리자 Setting'!$P$15,$H379<'관리자 Setting'!$Q$15),$H379-'관리자 Setting'!$P$15,IF(AND($G379<'관리자 Setting'!$P$15,$H379>='관리자 Setting'!$Q$15),'관리자 Setting'!$R$15,IF(AND($G379>='관리자 Setting'!$P$15,$H379>='관리자 Setting'!$Q$15),'관리자 Setting'!$Q$15-$G379,IF(AND($G379>='관리자 Setting'!$P$15,$H379<'관리자 Setting'!$Q$15),$H379-$G379,IF($G379>='관리자 Setting'!$Q$15,0,0))))))","v":"00:00:00"},"",{"$f":"IFERROR(VLOOKUP($F379,'관리자 Setting'!$P$18:$Q$33,2,0)/24,\"\")","v":""}]
["","",{"$f":"IFERROR(DATE(LEFT('In-Put'!$B380,4),MID('In-Put'!$B380,5,2),RIGHT('In-Put'!$B380,2)),\"\")","v":""},{"$f":"IF($C380=\"\",\"\",COUNTIFS($C$2:$C$401,C380)-COUNTIFS($C$2:C380,C380))","v":""},{"$f":"IF($C380=\"\",\"\",COUNTIFS('관리자 Setting'!$P$18:$P$33,'설정_In-Put'!$F380))","v":""},{"$f":"'In-Put'!G380","v":0},{"$f":"IFERROR(IF('In-Put'!D380*1=0,\"\",'In-Put'!D380*1),\"\")","v":""},{"$f":"IFERROR(IF('In-Put'!E380*1=0,\"\",IF('In-Put'!E380*1<G380,'In-Put'!E380*1+1,'In-Put'!E380*1)),\"\")","v":""},{"$f":"IF(OR($H380<'관리자 Setting'!$P$14,$G380>='관리자 Setting'!$Q$14),0,IF(AND($G380<'관리자 Setting'!$P$14,$H380<'관리자 Setting'!$Q$14),$H380-'관리자 Setting'!$P$14,IF(AND($G380<'관리자 Setting'!$P$14,$H380>='관리자 Setting'!$Q$14),'관리자 Setting'!$R$14,IF(AND($G380>='관리자 Setting'!$P$14,$H380>='관리자 Setting'!$Q$14),'관리자 Setting'!$Q$14-$G380,IF(AND($G380>='관리자 Setting'!$P$14,$H380<'관리자 Setting'!$Q$14),$H380-$G380,IF($G380>='관리자 Setting'!$Q$14,0,0))))))","v":"00:00:00"},{"$f":"IF(OR($H380<'관리자 Setting'!$P$15,$G380>='관리자 Setting'!$Q$15),0,IF(AND($G380<'관리자 Setting'!$P$15,$H380<'관리자 Setting'!$Q$15),$H380-'관리자 Setting'!$P$15,IF(AND($G380<'관리자 Setting'!$P$15,$H380>='관리자 Setting'!$Q$15),'관리자 Setting'!$R$15,IF(AND($G380>='관리자 Setting'!$P$15,$H380>='관리자 Setting'!$Q$15),'관리자 Setting'!$Q$15-$G380,IF(AND($G380>='관리자 Setting'!$P$15,$H380<'관리자 Setting'!$Q$15),$H380-$G380,IF($G380>='관리자 Setting'!$Q$15,0,0))))))","v":"00:00:00"},"",{"$f":"IFERROR(VLOOKUP($F380,'관리자 Setting'!$P$18:$Q$33,2,0)/24,\"\")","v":""}]
["","",{"$f":"IFERROR(DATE(LEFT('In-Put'!$B381,4),MID('In-Put'!$B381,5,2),RIGHT('In-Put'!$B381,2)),\"\")","v":""},{"$f":"IF($C381=\"\",\"\",COUNTIFS($C$2:$C$401,C381)-COUNTIFS($C$2:C381,C381))","v":""},{"$f":"IF($C381=\"\",\"\",COUNTIFS('관리자 Setting'!$P$18:$P$33,'설정_In-Put'!$F381))","v":""},{"$f":"'In-Put'!G381","v":0},{"$f":"IFERROR(IF('In-Put'!D381*1=0,\"\",'In-Put'!D381*1),\"\")","v":""},{"$f":"IFERROR(IF('In-Put'!E381*1=0,\"\",IF('In-Put'!E381*1<G381,'In-Put'!E381*1+1,'In-Put'!E381*1)),\"\")","v":""},{"$f":"IF(OR($H381<'관리자 Setting'!$P$14,$G381>='관리자 Setting'!$Q$14),0,IF(AND($G381<'관리자 Setting'!$P$14,$H381<'관리자 Setting'!$Q$14),$H381-'관리자 Setting'!$P$14,IF(AND($G381<'관리자 Setting'!$P$14,$H381>='관리자 Setting'!$Q$14),'관리자 Setting'!$R$14,IF(AND($G381>='관리자 Setting'!$P$14,$H381>='관리자 Setting'!$Q$14),'관리자 Setting'!$Q$14-$G381,IF(AND($G381>='관리자 Setting'!$P$14,$H381<'관리자 Setting'!$Q$14),$H381-$G381,IF($G381>='관리자 Setting'!$Q$14,0,0))))))","v":"00:00:00"},{"$f":"IF(OR($H381<'관리자 Setting'!$P$15,$G381>='관리자 Setting'!$Q$15),0,IF(AND($G381<'관리자 Setting'!$P$15,$H381<'관리자 Setting'!$Q$15),$H381-'관리자 Setting'!$P$15,IF(AND($G381<'관리자 Setting'!$P$15,$H381>='관리자 Setting'!$Q$15),'관리자 Setting'!$R$15,IF(AND($G381>='관리자 Setting'!$P$15,$H381>='관리자 Setting'!$Q$15),'관리자 Setting'!$Q$15-$G381,IF(AND($G381>='관리자 Setting'!$P$15,$H381<'관리자 Setting'!$Q$15),$H381-$G381,IF($G381>='관리자 Setting'!$Q$15,0,0))))))","v":"00:00:00"},"",{"$f":"IFERROR(VLOOKUP($F381,'관리자 Setting'!$P$18:$Q$33,2,0)/24,\"\")","v":""}]
["","",{"$f":"IFERROR(DATE(LEFT('In-Put'!$B382,4),MID('In-Put'!$B382,5,2),RIGHT('In-Put'!$B382,2)),\"\")","v":""},{"$f":"IF($C382=\"\",\"\",COUNTIFS($C$2:$C$401,C382)-COUNTIFS($C$2:C382,C382))","v":""},{"$f":"IF($C382=\"\",\"\",COUNTIFS('관리자 Setting'!$P$18:$P$33,'설정_In-Put'!$F382))","v":""},{"$f":"'In-Put'!G382","v":0},{"$f":"IFERROR(IF('In-Put'!D382*1=0,\"\",'In-Put'!D382*1),\"\")","v":""},{"$f":"IFERROR(IF('In-Put'!E382*1=0,\"\",IF('In-Put'!E382*1<G382,'In-Put'!E382*1+1,'In-Put'!E382*1)),\"\")","v":""},{"$f":"IF(OR($H382<'관리자 Setting'!$P$14,$G382>='관리자 Setting'!$Q$14),0,IF(AND($G382<'관리자 Setting'!$P$14,$H382<'관리자 Setting'!$Q$14),$H382-'관리자 Setting'!$P$14,IF(AND($G382<'관리자 Setting'!$P$14,$H382>='관리자 Setting'!$Q$14),'관리자 Setting'!$R$14,IF(AND($G382>='관리자 Setting'!$P$14,$H382>='관리자 Setting'!$Q$14),'관리자 Setting'!$Q$14-$G382,IF(AND($G382>='관리자 Setting'!$P$14,$H382<'관리자 Setting'!$Q$14),$H382-$G382,IF($G382>='관리자 Setting'!$Q$14,0,0))))))","v":"00:00:00"},{"$f":"IF(OR($H382<'관리자 Setting'!$P$15,$G382>='관리자 Setting'!$Q$15),0,IF(AND($G382<'관리자 Setting'!$P$15,$H382<'관리자 Setting'!$Q$15),$H382-'관리자 Setting'!$P$15,IF(AND($G382<'관리자 Setting'!$P$15,$H382>='관리자 Setting'!$Q$15),'관리자 Setting'!$R$15,IF(AND($G382>='관리자 Setting'!$P$15,$H382>='관리자 Setting'!$Q$15),'관리자 Setting'!$Q$15-$G382,IF(AND($G382>='관리자 Setting'!$P$15,$H382<'관리자 Setting'!$Q$15),$H382-$G382,IF($G382>='관리자 Setting'!$Q$15,0,0))))))","v":"00:00:00"},"",{"$f":"IFERROR(VLOOKUP($F382,'관리자 Setting'!$P$18:$Q$33,2,0)/24,\"\")","v":""}]
["","",{"$f":"IFERROR(DATE(LEFT('In-Put'!$B383,4),MID('In-Put'!$B383,5,2),RIGHT('In-Put'!$B383,2)),\"\")","v":""},{"$f":"IF($C383=\"\",\"\",COUNTIFS($C$2:$C$401,C383)-COUNTIFS($C$2:C383,C383))","v":""},{"$f":"IF($C383=\"\",\"\",COUNTIFS('관리자 Setting'!$P$18:$P$33,'설정_In-Put'!$F383))","v":""},{"$f":"'In-Put'!G383","v":0},{"$f":"IFERROR(IF('In-Put'!D383*1=0,\"\",'In-Put'!D383*1),\"\")","v":""},{"$f":"IFERROR(IF('In-Put'!E383*1=0,\"\",IF('In-Put'!E383*1<G383,'In-Put'!E383*1+1,'In-Put'!E383*1)),\"\")","v":""},{"$f":"IF(OR($H383<'관리자 Setting'!$P$14,$G383>='관리자 Setting'!$Q$14),0,IF(AND($G383<'관리자 Setting'!$P$14,$H383<'관리자 Setting'!$Q$14),$H383-'관리자 Setting'!$P$14,IF(AND($G383<'관리자 Setting'!$P$14,$H383>='관리자 Setting'!$Q$14),'관리자 Setting'!$R$14,IF(AND($G383>='관리자 Setting'!$P$14,$H383>='관리자 Setting'!$Q$14),'관리자 Setting'!$Q$14-$G383,IF(AND($G383>='관리자 Setting'!$P$14,$H383<'관리자 Setting'!$Q$14),$H383-$G383,IF($G383>='관리자 Setting'!$Q$14,0,0))))))","v":"00:00:00"},{"$f":"IF(OR($H383<'관리자 Setting'!$P$15,$G383>='관리자 Setting'!$Q$15),0,IF(AND($G383<'관리자 Setting'!$P$15,$H383<'관리자 Setting'!$Q$15),$H383-'관리자 Setting'!$P$15,IF(AND($G383<'관리자 Setting'!$P$15,$H383>='관리자 Setting'!$Q$15),'관리자 Setting'!$R$15,IF(AND($G383>='관리자 Setting'!$P$15,$H383>='관리자 Setting'!$Q$15),'관리자 Setting'!$Q$15-$G383,IF(AND($G383>='관리자 Setting'!$P$15,$H383<'관리자 Setting'!$Q$15),$H383-$G383,IF($G383>='관리자 Setting'!$Q$15,0,0))))))","v":"00:00:00"},"",{"$f":"IFERROR(VLOOKUP($F383,'관리자 Setting'!$P$18:$Q$33,2,0)/24,\"\")","v":""}]
["","",{"$f":"IFERROR(DATE(LEFT('In-Put'!$B384,4),MID('In-Put'!$B384,5,2),RIGHT('In-Put'!$B384,2)),\"\")","v":""},{"$f":"IF($C384=\"\",\"\",COUNTIFS($C$2:$C$401,C384)-COUNTIFS($C$2:C384,C384))","v":""},{"$f":"IF($C384=\"\",\"\",COUNTIFS('관리자 Setting'!$P$18:$P$33,'설정_In-Put'!$F384))","v":""},{"$f":"'In-Put'!G384","v":0},{"$f":"IFERROR(IF('In-Put'!D384*1=0,\"\",'In-Put'!D384*1),\"\")","v":""},{"$f":"IFERROR(IF('In-Put'!E384*1=0,\"\",IF('In-Put'!E384*1<G384,'In-Put'!E384*1+1,'In-Put'!E384*1)),\"\")","v":""},{"$f":"IF(OR($H384<'관리자 Setting'!$P$14,$G384>='관리자 Setting'!$Q$14),0,IF(AND($G384<'관리자 Setting'!$P$14,$H384<'관리자 Setting'!$Q$14),$H384-'관리자 Setting'!$P$14,IF(AND($G384<'관리자 Setting'!$P$14,$H384>='관리자 Setting'!$Q$14),'관리자 Setting'!$R$14,IF(AND($G384>='관리자 Setting'!$P$14,$H384>='관리자 Setting'!$Q$14),'관리자 Setting'!$Q$14-$G384,IF(AND($G384>='관리자 Setting'!$P$14,$H384<'관리자 Setting'!$Q$14),$H384-$G384,IF($G384>='관리자 Setting'!$Q$14,0,0))))))","v":"00:00:00"},{"$f":"IF(OR($H384<'관리자 Setting'!$P$15,$G384>='관리자 Setting'!$Q$15),0,IF(AND($G384<'관리자 Setting'!$P$15,$H384<'관리자 Setting'!$Q$15),$H384-'관리자 Setting'!$P$15,IF(AND($G384<'관리자 Setting'!$P$15,$H384>='관리자 Setting'!$Q$15),'관리자 Setting'!$R$15,IF(AND($G384>='관리자 Setting'!$P$15,$H384>='관리자 Setting'!$Q$15),'관리자 Setting'!$Q$15-$G384,IF(AND($G384>='관리자 Setting'!$P$15,$H384<'관리자 Setting'!$Q$15),$H384-$G384,IF($G384>='관리자 Setting'!$Q$15,0,0))))))","v":"00:00:00"},"",{"$f":"IFERROR(VLOOKUP($F384,'관리자 Setting'!$P$18:$Q$33,2,0)/24,\"\")","v":""}]
["","",{"$f":"IFERROR(DATE(LEFT('In-Put'!$B385,4),MID('In-Put'!$B385,5,2),RIGHT('In-Put'!$B385,2)),\"\")","v":""},{"$f":"IF($C385=\"\",\"\",COUNTIFS($C$2:$C$401,C385)-COUNTIFS($C$2:C385,C385))","v":""},{"$f":"IF($C385=\"\",\"\",COUNTIFS('관리자 Setting'!$P$18:$P$33,'설정_In-Put'!$F385))","v":""},{"$f":"'In-Put'!G385","v":0},{"$f":"IFERROR(IF('In-Put'!D385*1=0,\"\",'In-Put'!D385*1),\"\")","v":""},{"$f":"IFERROR(IF('In-Put'!E385*1=0,\"\",IF('In-Put'!E385*1<G385,'In-Put'!E385*1+1,'In-Put'!E385*1)),\"\")","v":""},{"$f":"IF(OR($H385<'관리자 Setting'!$P$14,$G385>='관리자 Setting'!$Q$14),0,IF(AND($G385<'관리자 Setting'!$P$14,$H385<'관리자 Setting'!$Q$14),$H385-'관리자 Setting'!$P$14,IF(AND($G385<'관리자 Setting'!$P$14,$H385>='관리자 Setting'!$Q$14),'관리자 Setting'!$R$14,IF(AND($G385>='관리자 Setting'!$P$14,$H385>='관리자 Setting'!$Q$14),'관리자 Setting'!$Q$14-$G385,IF(AND($G385>='관리자 Setting'!$P$14,$H385<'관리자 Setting'!$Q$14),$H385-$G385,IF($G385>='관리자 Setting'!$Q$14,0,0))))))","v":"00:00:00"},{"$f":"IF(OR($H385<'관리자 Setting'!$P$15,$G385>='관리자 Setting'!$Q$15),0,IF(AND($G385<'관리자 Setting'!$P$15,$H385<'관리자 Setting'!$Q$15),$H385-'관리자 Setting'!$P$15,IF(AND($G385<'관리자 Setting'!$P$15,$H385>='관리자 Setting'!$Q$15),'관리자 Setting'!$R$15,IF(AND($G385>='관리자 Setting'!$P$15,$H385>='관리자 Setting'!$Q$15),'관리자 Setting'!$Q$15-$G385,IF(AND($G385>='관리자 Setting'!$P$15,$H385<'관리자 Setting'!$Q$15),$H385-$G385,IF($G385>='관리자 Setting'!$Q$15,0,0))))))","v":"00:00:00"},"",{"$f":"IFERROR(VLOOKUP($F385,'관리자 Setting'!$P$18:$Q$33,2,0)/24,\"\")","v":""}]
["","",{"$f":"IFERROR(DATE(LEFT('In-Put'!$B386,4),MID('In-Put'!$B386,5,2),RIGHT('In-Put'!$B386,2)),\"\")","v":""},{"$f":"IF($C386=\"\",\"\",COUNTIFS($C$2:$C$401,C386)-COUNTIFS($C$2:C386,C386))","v":""},{"$f":"IF($C386=\"\",\"\",COUNTIFS('관리자 Setting'!$P$18:$P$33,'설정_In-Put'!$F386))","v":""},{"$f":"'In-Put'!G386","v":0},{"$f":"IFERROR(IF('In-Put'!D386*1=0,\"\",'In-Put'!D386*1),\"\")","v":""},{"$f":"IFERROR(IF('In-Put'!E386*1=0,\"\",IF('In-Put'!E386*1<G386,'In-Put'!E386*1+1,'In-Put'!E386*1)),\"\")","v":""},{"$f":"IF(OR($H386<'관리자 Setting'!$P$14,$G386>='관리자 Setting'!$Q$14),0,IF(AND($G386<'관리자 Setting'!$P$14,$H386<'관리자 Setting'!$Q$14),$H386-'관리자 Setting'!$P$14,IF(AND($G386<'관리자 Setting'!$P$14,$H386>='관리자 Setting'!$Q$14),'관리자 Setting'!$R$14,IF(AND($G386>='관리자 Setting'!$P$14,$H386>='관리자 Setting'!$Q$14),'관리자 Setting'!$Q$14-$G386,IF(AND($G386>='관리자 Setting'!$P$14,$H386<'관리자 Setting'!$Q$14),$H386-$G386,IF($G386>='관리자 Setting'!$Q$14,0,0))))))","v":"00:00:00"},{"$f":"IF(OR($H386<'관리자 Setting'!$P$15,$G386>='관리자 Setting'!$Q$15),0,IF(AND($G386<'관리자 Setting'!$P$15,$H386<'관리자 Setting'!$Q$15),$H386-'관리자 Setting'!$P$15,IF(AND($G386<'관리자 Setting'!$P$15,$H386>='관리자 Setting'!$Q$15),'관리자 Setting'!$R$15,IF(AND($G386>='관리자 Setting'!$P$15,$H386>='관리자 Setting'!$Q$15),'관리자 Setting'!$Q$15-$G386,IF(AND($G386>='관리자 Setting'!$P$15,$H386<'관리자 Setting'!$Q$15),$H386-$G386,IF($G386>='관리자 Setting'!$Q$15,0,0))))))","v":"00:00:00"},{"$f":"IF(OR(G386=\"\",H386=\"\"),\"\",H386-G386-SUM(I386:J386))","v":""},{"$f":"IFERROR(VLOOKUP($F386,'관리자 Setting'!$P$18:$Q$33,2,0)/24,\"\")","v":""}]
[{"$f":"$C387&$D387","v":""},{"$f":"$C387&$E387","v":""},{"$f":"IFERROR(DATE(LEFT('In-Put'!$B387,4),MID('In-Put'!$B387,5,2),RIGHT('In-Put'!$B387,2)),\"\")","v":""},{"$f":"IF($C387=\"\",\"\",COUNTIFS($C$2:$C$401,C387)-COUNTIFS($C$2:C387,C387))","v":""},{"$f":"IF($C387=\"\",\"\",COUNTIFS('관리자 Setting'!$P$18:$P$33,'설정_In-Put'!$F387))","v":""},{"$f":"'In-Put'!G387","v":0},{"$f":"IFERROR(IF('In-Put'!D387*1=0,\"\",'In-Put'!D387*1),\"\")","v":""},{"$f":"IFERROR(IF('In-Put'!E387*1=0,\"\",IF('In-Put'!E387*1<G387,'In-Put'!E387*1+1,'In-Put'!E387*1)),\"\")","v":""},{"$f":"IF(OR($H387<'관리자 Setting'!$P$14,$G387>='관리자 Setting'!$Q$14),0,IF(AND($G387<'관리자 Setting'!$P$14,$H387<'관리자 Setting'!$Q$14),$H387-'관리자 Setting'!$P$14,IF(AND($G387<'관리자 Setting'!$P$14,$H387>='관리자 Setting'!$Q$14),'관리자 Setting'!$R$14,IF(AND($G387>='관리자 Setting'!$P$14,$H387>='관리자 Setting'!$Q$14),'관리자 Setting'!$Q$14-$G387,IF(AND($G387>='관리자 Setting'!$P$14,$H387<'관리자 Setting'!$Q$14),$H387-$G387,IF($G387>='관리자 Setting'!$Q$14,0,0))))))","v":"00:00:00"},{"$f":"IF(OR($H387<'관리자 Setting'!$P$15,$G387>='관리자 Setting'!$Q$15),0,IF(AND($G387<'관리자 Setting'!$P$15,$H387<'관리자 Setting'!$Q$15),$H387-'관리자 Setting'!$P$15,IF(AND($G387<'관리자 Setting'!$P$15,$H387>='관리자 Setting'!$Q$15),'관리자 Setting'!$R$15,IF(AND($G387>='관리자 Setting'!$P$15,$H387>='관리자 Setting'!$Q$15),'관리자 Setting'!$Q$15-$G387,IF(AND($G387>='관리자 Setting'!$P$15,$H387<'관리자 Setting'!$Q$15),$H387-$G387,IF($G387>='관리자 Setting'!$Q$15,0,0))))))","v":"00:00:00"},"",{"$f":"IFERROR(VLOOKUP($F387,'관리자 Setting'!$P$18:$Q$33,2,0)/24,\"\")","v":""}]
["","",{"$f":"IFERROR(DATE(LEFT('In-Put'!$B388,4),MID('In-Put'!$B388,5,2),RIGHT('In-Put'!$B388,2)),\"\")","v":""},{"$f":"IF($C388=\"\",\"\",COUNTIFS($C$2:$C$401,C388)-COUNTIFS($C$2:C388,C388))","v":""},{"$f":"IF($C388=\"\",\"\",COUNTIFS('관리자 Setting'!$P$18:$P$33,'설정_In-Put'!$F388))","v":""},{"$f":"'In-Put'!G388","v":0},{"$f":"IFERROR(IF('In-Put'!D388*1=0,\"\",'In-Put'!D388*1),\"\")","v":""},{"$f":"IFERROR(IF('In-Put'!E388*1=0,\"\",IF('In-Put'!E388*1<G388,'In-Put'!E388*1+1,'In-Put'!E388*1)),\"\")","v":""},{"$f":"IF(OR($H388<'관리자 Setting'!$P$14,$G388>='관리자 Setting'!$Q$14),0,IF(AND($G388<'관리자 Setting'!$P$14,$H388<'관리자 Setting'!$Q$14),$H388-'관리자 Setting'!$P$14,IF(AND($G388<'관리자 Setting'!$P$14,$H388>='관리자 Setting'!$Q$14),'관리자 Setting'!$R$14,IF(AND($G388>='관리자 Setting'!$P$14,$H388>='관리자 Setting'!$Q$14),'관리자 Setting'!$Q$14-$G388,IF(AND($G388>='관리자 Setting'!$P$14,$H388<'관리자 Setting'!$Q$14),$H388-$G388,IF($G388>='관리자 Setting'!$Q$14,0,0))))))","v":"00:00:00"},{"$f":"IF(OR($H388<'관리자 Setting'!$P$15,$G388>='관리자 Setting'!$Q$15),0,IF(AND($G388<'관리자 Setting'!$P$15,$H388<'관리자 Setting'!$Q$15),$H388-'관리자 Setting'!$P$15,IF(AND($G388<'관리자 Setting'!$P$15,$H388>='관리자 Setting'!$Q$15),'관리자 Setting'!$R$15,IF(AND($G388>='관리자 Setting'!$P$15,$H388>='관리자 Setting'!$Q$15),'관리자 Setting'!$Q$15-$G388,IF(AND($G388>='관리자 Setting'!$P$15,$H388<'관리자 Setting'!$Q$15),$H388-$G388,IF($G388>='관리자 Setting'!$Q$15,0,0))))))","v":"00:00:00"},"",{"$f":"IFERROR(VLOOKUP($F388,'관리자 Setting'!$P$18:$Q$33,2,0)/24,\"\")","v":""}]
["","",{"$f":"IFERROR(DATE(LEFT('In-Put'!$B389,4),MID('In-Put'!$B389,5,2),RIGHT('In-Put'!$B389,2)),\"\")","v":""},{"$f":"IF($C389=\"\",\"\",COUNTIFS($C$2:$C$401,C389)-COUNTIFS($C$2:C389,C389))","v":""},{"$f":"IF($C389=\"\",\"\",COUNTIFS('관리자 Setting'!$P$18:$P$33,'설정_In-Put'!$F389))","v":""},{"$f":"'In-Put'!G389","v":0},{"$f":"IFERROR(IF('In-Put'!D389*1=0,\"\",'In-Put'!D389*1),\"\")","v":""},{"$f":"IFERROR(IF('In-Put'!E389*1=0,\"\",IF('In-Put'!E389*1<G389,'In-Put'!E389*1+1,'In-Put'!E389*1)),\"\")","v":""},{"$f":"IF(OR($H389<'관리자 Setting'!$P$14,$G389>='관리자 Setting'!$Q$14),0,IF(AND($G389<'관리자 Setting'!$P$14,$H389<'관리자 Setting'!$Q$14),$H389-'관리자 Setting'!$P$14,IF(AND($G389<'관리자 Setting'!$P$14,$H389>='관리자 Setting'!$Q$14),'관리자 Setting'!$R$14,IF(AND($G389>='관리자 Setting'!$P$14,$H389>='관리자 Setting'!$Q$14),'관리자 Setting'!$Q$14-$G389,IF(AND($G389>='관리자 Setting'!$P$14,$H389<'관리자 Setting'!$Q$14),$H389-$G389,IF($G389>='관리자 Setting'!$Q$14,0,0))))))","v":"00:00:00"},{"$f":"IF(OR($H389<'관리자 Setting'!$P$15,$G389>='관리자 Setting'!$Q$15),0,IF(AND($G389<'관리자 Setting'!$P$15,$H389<'관리자 Setting'!$Q$15),$H389-'관리자 Setting'!$P$15,IF(AND($G389<'관리자 Setting'!$P$15,$H389>='관리자 Setting'!$Q$15),'관리자 Setting'!$R$15,IF(AND($G389>='관리자 Setting'!$P$15,$H389>='관리자 Setting'!$Q$15),'관리자 Setting'!$Q$15-$G389,IF(AND($G389>='관리자 Setting'!$P$15,$H389<'관리자 Setting'!$Q$15),$H389-$G389,IF($G389>='관리자 Setting'!$Q$15,0,0))))))","v":"00:00:00"},"",{"$f":"IFERROR(VLOOKUP($F389,'관리자 Setting'!$P$18:$Q$33,2,0)/24,\"\")","v":""}]
["","",{"$f":"IFERROR(DATE(LEFT('In-Put'!$B390,4),MID('In-Put'!$B390,5,2),RIGHT('In-Put'!$B390,2)),\"\")","v":""},{"$f":"IF($C390=\"\",\"\",COUNTIFS($C$2:$C$401,C390)-COUNTIFS($C$2:C390,C390))","v":""},{"$f":"IF($C390=\"\",\"\",COUNTIFS('관리자 Setting'!$P$18:$P$33,'설정_In-Put'!$F390))","v":""},{"$f":"'In-Put'!G390","v":0},{"$f":"IFERROR(IF('In-Put'!D390*1=0,\"\",'In-Put'!D390*1),\"\")","v":""},{"$f":"IFERROR(IF('In-Put'!E390*1=0,\"\",IF('In-Put'!E390*1<G390,'In-Put'!E390*1+1,'In-Put'!E390*1)),\"\")","v":""},{"$f":"IF(OR($H390<'관리자 Setting'!$P$14,$G390>='관리자 Setting'!$Q$14),0,IF(AND($G390<'관리자 Setting'!$P$14,$H390<'관리자 Setting'!$Q$14),$H390-'관리자 Setting'!$P$14,IF(AND($G390<'관리자 Setting'!$P$14,$H390>='관리자 Setting'!$Q$14),'관리자 Setting'!$R$14,IF(AND($G390>='관리자 Setting'!$P$14,$H390>='관리자 Setting'!$Q$14),'관리자 Setting'!$Q$14-$G390,IF(AND($G390>='관리자 Setting'!$P$14,$H390<'관리자 Setting'!$Q$14),$H390-$G390,IF($G390>='관리자 Setting'!$Q$14,0,0))))))","v":"00:00:00"},{"$f":"IF(OR($H390<'관리자 Setting'!$P$15,$G390>='관리자 Setting'!$Q$15),0,IF(AND($G390<'관리자 Setting'!$P$15,$H390<'관리자 Setting'!$Q$15),$H390-'관리자 Setting'!$P$15,IF(AND($G390<'관리자 Setting'!$P$15,$H390>='관리자 Setting'!$Q$15),'관리자 Setting'!$R$15,IF(AND($G390>='관리자 Setting'!$P$15,$H390>='관리자 Setting'!$Q$15),'관리자 Setting'!$Q$15-$G390,IF(AND($G390>='관리자 Setting'!$P$15,$H390<'관리자 Setting'!$Q$15),$H390-$G390,IF($G390>='관리자 Setting'!$Q$15,0,0))))))","v":"00:00:00"},"",{"$f":"IFERROR(VLOOKUP($F390,'관리자 Setting'!$P$18:$Q$33,2,0)/24,\"\")","v":""}]
["","",{"$f":"IFERROR(DATE(LEFT('In-Put'!$B391,4),MID('In-Put'!$B391,5,2),RIGHT('In-Put'!$B391,2)),\"\")","v":""},{"$f":"IF($C391=\"\",\"\",COUNTIFS($C$2:$C$401,C391)-COUNTIFS($C$2:C391,C391))","v":""},{"$f":"IF($C391=\"\",\"\",COUNTIFS('관리자 Setting'!$P$18:$P$33,'설정_In-Put'!$F391))","v":""},{"$f":"'In-Put'!G391","v":0},{"$f":"IFERROR(IF('In-Put'!D391*1=0,\"\",'In-Put'!D391*1),\"\")","v":""},{"$f":"IFERROR(IF('In-Put'!E391*1=0,\"\",IF('In-Put'!E391*1<G391,'In-Put'!E391*1+1,'In-Put'!E391*1)),\"\")","v":""},{"$f":"IF(OR($H391<'관리자 Setting'!$P$14,$G391>='관리자 Setting'!$Q$14),0,IF(AND($G391<'관리자 Setting'!$P$14,$H391<'관리자 Setting'!$Q$14),$H391-'관리자 Setting'!$P$14,IF(AND($G391<'관리자 Setting'!$P$14,$H391>='관리자 Setting'!$Q$14),'관리자 Setting'!$R$14,IF(AND($G391>='관리자 Setting'!$P$14,$H391>='관리자 Setting'!$Q$14),'관리자 Setting'!$Q$14-$G391,IF(AND($G391>='관리자 Setting'!$P$14,$H391<'관리자 Setting'!$Q$14),$H391-$G391,IF($G391>='관리자 Setting'!$Q$14,0,0))))))","v":"00:00:00"},{"$f":"IF(OR($H391<'관리자 Setting'!$P$15,$G391>='관리자 Setting'!$Q$15),0,IF(AND($G391<'관리자 Setting'!$P$15,$H391<'관리자 Setting'!$Q$15),$H391-'관리자 Setting'!$P$15,IF(AND($G391<'관리자 Setting'!$P$15,$H391>='관리자 Setting'!$Q$15),'관리자 Setting'!$R$15,IF(AND($G391>='관리자 Setting'!$P$15,$H391>='관리자 Setting'!$Q$15),'관리자 Setting'!$Q$15-$G391,IF(AND($G391>='관리자 Setting'!$P$15,$H391<'관리자 Setting'!$Q$15),$H391-$G391,IF($G391>='관리자 Setting'!$Q$15,0,0))))))","v":"00:00:00"},"",{"$f":"IFERROR(VLOOKUP($F391,'관리자 Setting'!$P$18:$Q$33,2,0)/24,\"\")","v":""}]
["","",{"$f":"IFERROR(DATE(LEFT('In-Put'!$B392,4),MID('In-Put'!$B392,5,2),RIGHT('In-Put'!$B392,2)),\"\")","v":""},{"$f":"IF($C392=\"\",\"\",COUNTIFS($C$2:$C$401,C392)-COUNTIFS($C$2:C392,C392))","v":""},{"$f":"IF($C392=\"\",\"\",COUNTIFS('관리자 Setting'!$P$18:$P$33,'설정_In-Put'!$F392))","v":""},{"$f":"'In-Put'!G392","v":0},{"$f":"IFERROR(IF('In-Put'!D392*1=0,\"\",'In-Put'!D392*1),\"\")","v":""},{"$f":"IFERROR(IF('In-Put'!E392*1=0,\"\",IF('In-Put'!E392*1<G392,'In-Put'!E392*1+1,'In-Put'!E392*1)),\"\")","v":""},{"$f":"IF(OR($H392<'관리자 Setting'!$P$14,$G392>='관리자 Setting'!$Q$14),0,IF(AND($G392<'관리자 Setting'!$P$14,$H392<'관리자 Setting'!$Q$14),$H392-'관리자 Setting'!$P$14,IF(AND($G392<'관리자 Setting'!$P$14,$H392>='관리자 Setting'!$Q$14),'관리자 Setting'!$R$14,IF(AND($G392>='관리자 Setting'!$P$14,$H392>='관리자 Setting'!$Q$14),'관리자 Setting'!$Q$14-$G392,IF(AND($G392>='관리자 Setting'!$P$14,$H392<'관리자 Setting'!$Q$14),$H392-$G392,IF($G392>='관리자 Setting'!$Q$14,0,0))))))","v":"00:00:00"},{"$f":"IF(OR($H392<'관리자 Setting'!$P$15,$G392>='관리자 Setting'!$Q$15),0,IF(AND($G392<'관리자 Setting'!$P$15,$H392<'관리자 Setting'!$Q$15),$H392-'관리자 Setting'!$P$15,IF(AND($G392<'관리자 Setting'!$P$15,$H392>='관리자 Setting'!$Q$15),'관리자 Setting'!$R$15,IF(AND($G392>='관리자 Setting'!$P$15,$H392>='관리자 Setting'!$Q$15),'관리자 Setting'!$Q$15-$G392,IF(AND($G392>='관리자 Setting'!$P$15,$H392<'관리자 Setting'!$Q$15),$H392-$G392,IF($G392>='관리자 Setting'!$Q$15,0,0))))))","v":"00:00:00"},"",{"$f":"IFERROR(VLOOKUP($F392,'관리자 Setting'!$P$18:$Q$33,2,0)/24,\"\")","v":""}]
["","",{"$f":"IFERROR(DATE(LEFT('In-Put'!$B393,4),MID('In-Put'!$B393,5,2),RIGHT('In-Put'!$B393,2)),\"\")","v":""},{"$f":"IF($C393=\"\",\"\",COUNTIFS($C$2:$C$401,C393)-COUNTIFS($C$2:C393,C393))","v":""},{"$f":"IF($C393=\"\",\"\",COUNTIFS('관리자 Setting'!$P$18:$P$33,'설정_In-Put'!$F393))","v":""},{"$f":"'In-Put'!G393","v":0},{"$f":"IFERROR(IF('In-Put'!D393*1=0,\"\",'In-Put'!D393*1),\"\")","v":""},{"$f":"IFERROR(IF('In-Put'!E393*1=0,\"\",IF('In-Put'!E393*1<G393,'In-Put'!E393*1+1,'In-Put'!E393*1)),\"\")","v":""},{"$f":"IF(OR($H393<'관리자 Setting'!$P$14,$G393>='관리자 Setting'!$Q$14),0,IF(AND($G393<'관리자 Setting'!$P$14,$H393<'관리자 Setting'!$Q$14),$H393-'관리자 Setting'!$P$14,IF(AND($G393<'관리자 Setting'!$P$14,$H393>='관리자 Setting'!$Q$14),'관리자 Setting'!$R$14,IF(AND($G393>='관리자 Setting'!$P$14,$H393>='관리자 Setting'!$Q$14),'관리자 Setting'!$Q$14-$G393,IF(AND($G393>='관리자 Setting'!$P$14,$H393<'관리자 Setting'!$Q$14),$H393-$G393,IF($G393>='관리자 Setting'!$Q$14,0,0))))))","v":"00:00:00"},{"$f":"IF(OR($H393<'관리자 Setting'!$P$15,$G393>='관리자 Setting'!$Q$15),0,IF(AND($G393<'관리자 Setting'!$P$15,$H393<'관리자 Setting'!$Q$15),$H393-'관리자 Setting'!$P$15,IF(AND($G393<'관리자 Setting'!$P$15,$H393>='관리자 Setting'!$Q$15),'관리자 Setting'!$R$15,IF(AND($G393>='관리자 Setting'!$P$15,$H393>='관리자 Setting'!$Q$15),'관리자 Setting'!$Q$15-$G393,IF(AND($G393>='관리자 Setting'!$P$15,$H393<'관리자 Setting'!$Q$15),$H393-$G393,IF($G393>='관리자 Setting'!$Q$15,0,0))))))","v":"00:00:00"},"",{"$f":"IFERROR(VLOOKUP($F393,'관리자 Setting'!$P$18:$Q$33,2,0)/24,\"\")","v":""}]
["","",{"$f":"IFERROR(DATE(LEFT('In-Put'!$B394,4),MID('In-Put'!$B394,5,2),RIGHT('In-Put'!$B394,2)),\"\")","v":""},{"$f":"IF($C394=\"\",\"\",COUNTIFS($C$2:$C$401,C394)-COUNTIFS($C$2:C394,C394))","v":""},{"$f":"IF($C394=\"\",\"\",COUNTIFS('관리자 Setting'!$P$18:$P$33,'설정_In-Put'!$F394))","v":""},{"$f":"'In-Put'!G394","v":0},{"$f":"IFERROR(IF('In-Put'!D394*1=0,\"\",'In-Put'!D394*1),\"\")","v":""},{"$f":"IFERROR(IF('In-Put'!E394*1=0,\"\",IF('In-Put'!E394*1<G394,'In-Put'!E394*1+1,'In-Put'!E394*1)),\"\")","v":""},{"$f":"IF(OR($H394<'관리자 Setting'!$P$14,$G394>='관리자 Setting'!$Q$14),0,IF(AND($G394<'관리자 Setting'!$P$14,$H394<'관리자 Setting'!$Q$14),$H394-'관리자 Setting'!$P$14,IF(AND($G394<'관리자 Setting'!$P$14,$H394>='관리자 Setting'!$Q$14),'관리자 Setting'!$R$14,IF(AND($G394>='관리자 Setting'!$P$14,$H394>='관리자 Setting'!$Q$14),'관리자 Setting'!$Q$14-$G394,IF(AND($G394>='관리자 Setting'!$P$14,$H394<'관리자 Setting'!$Q$14),$H394-$G394,IF($G394>='관리자 Setting'!$Q$14,0,0))))))","v":"00:00:00"},{"$f":"IF(OR($H394<'관리자 Setting'!$P$15,$G394>='관리자 Setting'!$Q$15),0,IF(AND($G394<'관리자 Setting'!$P$15,$H394<'관리자 Setting'!$Q$15),$H394-'관리자 Setting'!$P$15,IF(AND($G394<'관리자 Setting'!$P$15,$H394>='관리자 Setting'!$Q$15),'관리자 Setting'!$R$15,IF(AND($G394>='관리자 Setting'!$P$15,$H394>='관리자 Setting'!$Q$15),'관리자 Setting'!$Q$15-$G394,IF(AND($G394>='관리자 Setting'!$P$15,$H394<'관리자 Setting'!$Q$15),$H394-$G394,IF($G394>='관리자 Setting'!$Q$15,0,0))))))","v":"00:00:00"},"",{"$f":"IFERROR(VLOOKUP($F394,'관리자 Setting'!$P$18:$Q$33,2,0)/24,\"\")","v":""}]
["","",{"$f":"IFERROR(DATE(LEFT('In-Put'!$B395,4),MID('In-Put'!$B395,5,2),RIGHT('In-Put'!$B395,2)),\"\")","v":""},{"$f":"IF($C395=\"\",\"\",COUNTIFS($C$2:$C$401,C395)-COUNTIFS($C$2:C395,C395))","v":""},{"$f":"IF($C395=\"\",\"\",COUNTIFS('관리자 Setting'!$P$18:$P$33,'설정_In-Put'!$F395))","v":""},{"$f":"'In-Put'!G395","v":0},{"$f":"IFERROR(IF('In-Put'!D395*1=0,\"\",'In-Put'!D395*1),\"\")","v":""},{"$f":"IFERROR(IF('In-Put'!E395*1=0,\"\",IF('In-Put'!E395*1<G395,'In-Put'!E395*1+1,'In-Put'!E395*1)),\"\")","v":""},{"$f":"IF(OR($H395<'관리자 Setting'!$P$14,$G395>='관리자 Setting'!$Q$14),0,IF(AND($G395<'관리자 Setting'!$P$14,$H395<'관리자 Setting'!$Q$14),$H395-'관리자 Setting'!$P$14,IF(AND($G395<'관리자 Setting'!$P$14,$H395>='관리자 Setting'!$Q$14),'관리자 Setting'!$R$14,IF(AND($G395>='관리자 Setting'!$P$14,$H395>='관리자 Setting'!$Q$14),'관리자 Setting'!$Q$14-$G395,IF(AND($G395>='관리자 Setting'!$P$14,$H395<'관리자 Setting'!$Q$14),$H395-$G395,IF($G395>='관리자 Setting'!$Q$14,0,0))))))","v":"00:00:00"},{"$f":"IF(OR($H395<'관리자 Setting'!$P$15,$G395>='관리자 Setting'!$Q$15),0,IF(AND($G395<'관리자 Setting'!$P$15,$H395<'관리자 Setting'!$Q$15),$H395-'관리자 Setting'!$P$15,IF(AND($G395<'관리자 Setting'!$P$15,$H395>='관리자 Setting'!$Q$15),'관리자 Setting'!$R$15,IF(AND($G395>='관리자 Setting'!$P$15,$H395>='관리자 Setting'!$Q$15),'관리자 Setting'!$Q$15-$G395,IF(AND($G395>='관리자 Setting'!$P$15,$H395<'관리자 Setting'!$Q$15),$H395-$G395,IF($G395>='관리자 Setting'!$Q$15,0,0))))))","v":"00:00:00"},"",{"$f":"IFERROR(VLOOKUP($F395,'관리자 Setting'!$P$18:$Q$33,2,0)/24,\"\")","v":""}]
["","",{"$f":"IFERROR(DATE(LEFT('In-Put'!$B396,4),MID('In-Put'!$B396,5,2),RIGHT('In-Put'!$B396,2)),\"\")","v":""},{"$f":"IF($C396=\"\",\"\",COUNTIFS($C$2:$C$401,C396)-COUNTIFS($C$2:C396,C396))","v":""},{"$f":"IF($C396=\"\",\"\",COUNTIFS('관리자 Setting'!$P$18:$P$33,'설정_In-Put'!$F396))","v":""},{"$f":"'In-Put'!G396","v":0},{"$f":"IFERROR(IF('In-Put'!D396*1=0,\"\",'In-Put'!D396*1),\"\")","v":""},{"$f":"IFERROR(IF('In-Put'!E396*1=0,\"\",IF('In-Put'!E396*1<G396,'In-Put'!E396*1+1,'In-Put'!E396*1)),\"\")","v":""},{"$f":"IF(OR($H396<'관리자 Setting'!$P$14,$G396>='관리자 Setting'!$Q$14),0,IF(AND($G396<'관리자 Setting'!$P$14,$H396<'관리자 Setting'!$Q$14),$H396-'관리자 Setting'!$P$14,IF(AND($G396<'관리자 Setting'!$P$14,$H396>='관리자 Setting'!$Q$14),'관리자 Setting'!$R$14,IF(AND($G396>='관리자 Setting'!$P$14,$H396>='관리자 Setting'!$Q$14),'관리자 Setting'!$Q$14-$G396,IF(AND($G396>='관리자 Setting'!$P$14,$H396<'관리자 Setting'!$Q$14),$H396-$G396,IF($G396>='관리자 Setting'!$Q$14,0,0))))))","v":"00:00:00"},{"$f":"IF(OR($H396<'관리자 Setting'!$P$15,$G396>='관리자 Setting'!$Q$15),0,IF(AND($G396<'관리자 Setting'!$P$15,$H396<'관리자 Setting'!$Q$15),$H396-'관리자 Setting'!$P$15,IF(AND($G396<'관리자 Setting'!$P$15,$H396>='관리자 Setting'!$Q$15),'관리자 Setting'!$R$15,IF(AND($G396>='관리자 Setting'!$P$15,$H396>='관리자 Setting'!$Q$15),'관리자 Setting'!$Q$15-$G396,IF(AND($G396>='관리자 Setting'!$P$15,$H396<'관리자 Setting'!$Q$15),$H396-$G396,IF($G396>='관리자 Setting'!$Q$15,0,0))))))","v":"00:00:00"},"",{"$f":"IFERROR(VLOOKUP($F396,'관리자 Setting'!$P$18:$Q$33,2,0)/24,\"\")","v":""}]
["","",{"$f":"IFERROR(DATE(LEFT('In-Put'!$B397,4),MID('In-Put'!$B397,5,2),RIGHT('In-Put'!$B397,2)),\"\")","v":""},{"$f":"IF($C397=\"\",\"\",COUNTIFS($C$2:$C$401,C397)-COUNTIFS($C$2:C397,C397))","v":""},{"$f":"IF($C397=\"\",\"\",COUNTIFS('관리자 Setting'!$P$18:$P$33,'설정_In-Put'!$F397))","v":""},{"$f":"'In-Put'!G397","v":0},{"$f":"IFERROR(IF('In-Put'!D397*1=0,\"\",'In-Put'!D397*1),\"\")","v":""},{"$f":"IFERROR(IF('In-Put'!E397*1=0,\"\",IF('In-Put'!E397*1<G397,'In-Put'!E397*1+1,'In-Put'!E397*1)),\"\")","v":""},{"$f":"IF(OR($H397<'관리자 Setting'!$P$14,$G397>='관리자 Setting'!$Q$14),0,IF(AND($G397<'관리자 Setting'!$P$14,$H397<'관리자 Setting'!$Q$14),$H397-'관리자 Setting'!$P$14,IF(AND($G397<'관리자 Setting'!$P$14,$H397>='관리자 Setting'!$Q$14),'관리자 Setting'!$R$14,IF(AND($G397>='관리자 Setting'!$P$14,$H397>='관리자 Setting'!$Q$14),'관리자 Setting'!$Q$14-$G397,IF(AND($G397>='관리자 Setting'!$P$14,$H397<'관리자 Setting'!$Q$14),$H397-$G397,IF($G397>='관리자 Setting'!$Q$14,0,0))))))","v":"00:00:00"},{"$f":"IF(OR($H397<'관리자 Setting'!$P$15,$G397>='관리자 Setting'!$Q$15),0,IF(AND($G397<'관리자 Setting'!$P$15,$H397<'관리자 Setting'!$Q$15),$H397-'관리자 Setting'!$P$15,IF(AND($G397<'관리자 Setting'!$P$15,$H397>='관리자 Setting'!$Q$15),'관리자 Setting'!$R$15,IF(AND($G397>='관리자 Setting'!$P$15,$H397>='관리자 Setting'!$Q$15),'관리자 Setting'!$Q$15-$G397,IF(AND($G397>='관리자 Setting'!$P$15,$H397<'관리자 Setting'!$Q$15),$H397-$G397,IF($G397>='관리자 Setting'!$Q$15,0,0))))))","v":"00:00:00"},"",{"$f":"IFERROR(VLOOKUP($F397,'관리자 Setting'!$P$18:$Q$33,2,0)/24,\"\")","v":""}]
["","",{"$f":"IFERROR(DATE(LEFT('In-Put'!$B398,4),MID('In-Put'!$B398,5,2),RIGHT('In-Put'!$B398,2)),\"\")","v":""},{"$f":"IF($C398=\"\",\"\",COUNTIFS($C$2:$C$401,C398)-COUNTIFS($C$2:C398,C398))","v":""},{"$f":"IF($C398=\"\",\"\",COUNTIFS('관리자 Setting'!$P$18:$P$33,'설정_In-Put'!$F398))","v":""},{"$f":"'In-Put'!G398","v":0},{"$f":"IFERROR(IF('In-Put'!D398*1=0,\"\",'In-Put'!D398*1),\"\")","v":""},{"$f":"IFERROR(IF('In-Put'!E398*1=0,\"\",IF('In-Put'!E398*1<G398,'In-Put'!E398*1+1,'In-Put'!E398*1)),\"\")","v":""},{"$f":"IF(OR($H398<'관리자 Setting'!$P$14,$G398>='관리자 Setting'!$Q$14),0,IF(AND($G398<'관리자 Setting'!$P$14,$H398<'관리자 Setting'!$Q$14),$H398-'관리자 Setting'!$P$14,IF(AND($G398<'관리자 Setting'!$P$14,$H398>='관리자 Setting'!$Q$14),'관리자 Setting'!$R$14,IF(AND($G398>='관리자 Setting'!$P$14,$H398>='관리자 Setting'!$Q$14),'관리자 Setting'!$Q$14-$G398,IF(AND($G398>='관리자 Setting'!$P$14,$H398<'관리자 Setting'!$Q$14),$H398-$G398,IF($G398>='관리자 Setting'!$Q$14,0,0))))))","v":"00:00:00"},{"$f":"IF(OR($H398<'관리자 Setting'!$P$15,$G398>='관리자 Setting'!$Q$15),0,IF(AND($G398<'관리자 Setting'!$P$15,$H398<'관리자 Setting'!$Q$15),$H398-'관리자 Setting'!$P$15,IF(AND($G398<'관리자 Setting'!$P$15,$H398>='관리자 Setting'!$Q$15),'관리자 Setting'!$R$15,IF(AND($G398>='관리자 Setting'!$P$15,$H398>='관리자 Setting'!$Q$15),'관리자 Setting'!$Q$15-$G398,IF(AND($G398>='관리자 Setting'!$P$15,$H398<'관리자 Setting'!$Q$15),$H398-$G398,IF($G398>='관리자 Setting'!$Q$15,0,0))))))","v":"00:00:00"},"",{"$f":"IFERROR(VLOOKUP($F398,'관리자 Setting'!$P$18:$Q$33,2,0)/24,\"\")","v":""}]
["","",{"$f":"IFERROR(DATE(LEFT('In-Put'!$B399,4),MID('In-Put'!$B399,5,2),RIGHT('In-Put'!$B399,2)),\"\")","v":""},{"$f":"IF($C399=\"\",\"\",COUNTIFS($C$2:$C$401,C399)-COUNTIFS($C$2:C399,C399))","v":""},{"$f":"IF($C399=\"\",\"\",COUNTIFS('관리자 Setting'!$P$18:$P$33,'설정_In-Put'!$F399))","v":""},{"$f":"'In-Put'!G399","v":0},{"$f":"IFERROR(IF('In-Put'!D399*1=0,\"\",'In-Put'!D399*1),\"\")","v":""},{"$f":"IFERROR(IF('In-Put'!E399*1=0,\"\",IF('In-Put'!E399*1<G399,'In-Put'!E399*1+1,'In-Put'!E399*1)),\"\")","v":""},{"$f":"IF(OR($H399<'관리자 Setting'!$P$14,$G399>='관리자 Setting'!$Q$14),0,IF(AND($G399<'관리자 Setting'!$P$14,$H399<'관리자 Setting'!$Q$14),$H399-'관리자 Setting'!$P$14,IF(AND($G399<'관리자 Setting'!$P$14,$H399>='관리자 Setting'!$Q$14),'관리자 Setting'!$R$14,IF(AND($G399>='관리자 Setting'!$P$14,$H399>='관리자 Setting'!$Q$14),'관리자 Setting'!$Q$14-$G399,IF(AND($G399>='관리자 Setting'!$P$14,$H399<'관리자 Setting'!$Q$14),$H399-$G399,IF($G399>='관리자 Setting'!$Q$14,0,0))))))","v":"00:00:00"},{"$f":"IF(OR($H399<'관리자 Setting'!$P$15,$G399>='관리자 Setting'!$Q$15),0,IF(AND($G399<'관리자 Setting'!$P$15,$H399<'관리자 Setting'!$Q$15),$H399-'관리자 Setting'!$P$15,IF(AND($G399<'관리자 Setting'!$P$15,$H399>='관리자 Setting'!$Q$15),'관리자 Setting'!$R$15,IF(AND($G399>='관리자 Setting'!$P$15,$H399>='관리자 Setting'!$Q$15),'관리자 Setting'!$Q$15-$G399,IF(AND($G399>='관리자 Setting'!$P$15,$H399<'관리자 Setting'!$Q$15),$H399-$G399,IF($G399>='관리자 Setting'!$Q$15,0,0))))))","v":"00:00:00"},"",{"$f":"IFERROR(VLOOKUP($F399,'관리자 Setting'!$P$18:$Q$33,2,0)/24,\"\")","v":""}]
["","",{"$f":"IFERROR(DATE(LEFT('In-Put'!$B400,4),MID('In-Put'!$B400,5,2),RIGHT('In-Put'!$B400,2)),\"\")","v":""},{"$f":"IF($C400=\"\",\"\",COUNTIFS($C$2:$C$401,C400)-COUNTIFS($C$2:C400,C400))","v":""},{"$f":"IF($C400=\"\",\"\",COUNTIFS('관리자 Setting'!$P$18:$P$33,'설정_In-Put'!$F400))","v":""},{"$f":"'In-Put'!G400","v":0},{"$f":"IFERROR(IF('In-Put'!D400*1=0,\"\",'In-Put'!D400*1),\"\")","v":""},{"$f":"IFERROR(IF('In-Put'!E400*1=0,\"\",IF('In-Put'!E400*1<G400,'In-Put'!E400*1+1,'In-Put'!E400*1)),\"\")","v":""},{"$f":"IF(OR($H400<'관리자 Setting'!$P$14,$G400>='관리자 Setting'!$Q$14),0,IF(AND($G400<'관리자 Setting'!$P$14,$H400<'관리자 Setting'!$Q$14),$H400-'관리자 Setting'!$P$14,IF(AND($G400<'관리자 Setting'!$P$14,$H400>='관리자 Setting'!$Q$14),'관리자 Setting'!$R$14,IF(AND($G400>='관리자 Setting'!$P$14,$H400>='관리자 Setting'!$Q$14),'관리자 Setting'!$Q$14-$G400,IF(AND($G400>='관리자 Setting'!$P$14,$H400<'관리자 Setting'!$Q$14),$H400-$G400,IF($G400>='관리자 Setting'!$Q$14,0,0))))))","v":"00:00:00"},{"$f":"IF(OR($H400<'관리자 Setting'!$P$15,$G400>='관리자 Setting'!$Q$15),0,IF(AND($G400<'관리자 Setting'!$P$15,$H400<'관리자 Setting'!$Q$15),$H400-'관리자 Setting'!$P$15,IF(AND($G400<'관리자 Setting'!$P$15,$H400>='관리자 Setting'!$Q$15),'관리자 Setting'!$R$15,IF(AND($G400>='관리자 Setting'!$P$15,$H400>='관리자 Setting'!$Q$15),'관리자 Setting'!$Q$15-$G400,IF(AND($G400>='관리자 Setting'!$P$15,$H400<'관리자 Setting'!$Q$15),$H400-$G400,IF($G400>='관리자 Setting'!$Q$15,0,0))))))","v":"00:00:00"},"",{"$f":"IFERROR(VLOOKUP($F400,'관리자 Setting'!$P$18:$Q$33,2,0)/24,\"\")","v":""}]
["","",{"$f":"IFERROR(DATE(LEFT('In-Put'!$B401,4),MID('In-Put'!$B401,5,2),RIGHT('In-Put'!$B401,2)),\"\")","v":""},{"$f":"IF($C401=\"\",\"\",COUNTIFS($C$2:$C$401,C401)-COUNTIFS($C$2:C401,C401))","v":""},{"$f":"IF($C401=\"\",\"\",COUNTIFS('관리자 Setting'!$P$18:$P$33,'설정_In-Put'!$F401))","v":""},{"$f":"'In-Put'!G401","v":0},{"$f":"IFERROR(IF('In-Put'!D401*1=0,\"\",'In-Put'!D401*1),\"\")","v":""},{"$f":"IFERROR(IF('In-Put'!E401*1=0,\"\",IF('In-Put'!E401*1<G401,'In-Put'!E401*1+1,'In-Put'!E401*1)),\"\")","v":""},{"$f":"IF(OR($H401<'관리자 Setting'!$P$14,$G401>='관리자 Setting'!$Q$14),0,IF(AND($G401<'관리자 Setting'!$P$14,$H401<'관리자 Setting'!$Q$14),$H401-'관리자 Setting'!$P$14,IF(AND($G401<'관리자 Setting'!$P$14,$H401>='관리자 Setting'!$Q$14),'관리자 Setting'!$R$14,IF(AND($G401>='관리자 Setting'!$P$14,$H401>='관리자 Setting'!$Q$14),'관리자 Setting'!$Q$14-$G401,IF(AND($G401>='관리자 Setting'!$P$14,$H401<'관리자 Setting'!$Q$14),$H401-$G401,IF($G401>='관리자 Setting'!$Q$14,0,0))))))","v":"00:00:00"},{"$f":"IF(OR($H401<'관리자 Setting'!$P$15,$G401>='관리자 Setting'!$Q$15),0,IF(AND($G401<'관리자 Setting'!$P$15,$H401<'관리자 Setting'!$Q$15),$H401-'관리자 Setting'!$P$15,IF(AND($G401<'관리자 Setting'!$P$15,$H401>='관리자 Setting'!$Q$15),'관리자 Setting'!$R$15,IF(AND($G401>='관리자 Setting'!$P$15,$H401>='관리자 Setting'!$Q$15),'관리자 Setting'!$Q$15-$G401,IF(AND($G401>='관리자 Setting'!$P$15,$H401<'관리자 Setting'!$Q$15),$H401-$G401,IF($G401>='관리자 Setting'!$Q$15,0,0))))))","v":"00:00:00"},"",{"$f":"IFERROR(VLOOKUP($F401,'관리자 Setting'!$P$18:$Q$33,2,0)/24,\"\")","v":""}]

{"sheet":"관리자 Setting","index":2,"n_rows":53,"n_cols":18,"rows_kept":53,"merged":[[1,1,1,6],[1,9,1,17],[4,9,4,12],[4,14,4,17],[11,14,11,17],[16,15,16,16]]}
[]
[null,"근로자 SETTING",{"$nulls":7},"날짜 SETTING"]
[null,"No","성명","ERP사번","직급","부서","연장 한도",{"$nulls":9},"적용년도",2018]
[null,1,"유재석","0001","대표","대표",30]
[null,2,"박명수","0002","1급","무한본부",35,null,null,"- 공휴일 지정",{"$nulls":4},"- 분기별 필수 정규 근로"]
[null,3,"하하","0003","2급","총무팀",40,null,null,"No","날짜","요일","공휴일",null,"분기","필수 정규","시작","끝"]
[null,4,"정준하","0004","3급","총무팀",40,null,null,1,"2018-01-01",{"$f":"IF(K7=\"\",\"\",TEXT(K7,\"AAA\"))","v":"월"},"신정",null,1,488,{"$f":"IF($R$3=\"\",\"\",DATE($R$3,1,1))","v":"2018-01-01"},{"$f":"IFERROR(EOMONTH(Q7,2),\"\")","v":"2018-03-31"}]
[null,5,{"$nulls":7},2,"2018-02-15",{"$f":"IF(K8=\"\",\"\",TEXT(K8,\"AAA\"))","v":"목"},"구정연휴",null,2,488,{"$f":"IF($R$3=\"\",\"\",DATE($R$3,4,1))","v":"2018-04-01"},"2018-06-30"]
[null,6,{"$nulls":7},3,"2018-02-16","금","구정",null,3,488,{"$f":"IF($R$3=\"\",\"\",DATE($R$3,7,1))","v":"2018-07-01"},"2018-09-30"]
[null,7,{"$nulls":7},4,"2018-02-17","토","구정연휴",null,4,504,{"$f":"IF($R$3=\"\",\"\",DATE($R$3,10,1))","v":"2018-10-01"},"2018-12-31"]
[null,8,{"$nulls":7},5,"2018-03-01","목","삼일절"]
[null,9,{"$nulls":7},6,"2018-05-05","토","어린이날",null,"- 휴게시간"]
[null,10,{"$nulls":7},7,"2018-05-07","월","대체공휴일",null,"구분","시작시각","종료시각","시간"]
[null,11,{"$nulls":7},8,"2018-05-22","화","부처님오신날",null,1,"12:00:00","13:00:00",{"$f":"Q14-P14","v":"01:00:00"}]
[null,12,{"$nulls":7},9,"2018-06-06","수","현충일",null,2,"18:30:00","19:00:00",{"$f":"Q15-P15","v":"00:30:00"}]
[null,13,{"$nulls":7},10,"2018-06-13","수","지방선거"]
[null,14,{"$nulls":7},11,"2018-08-15","수","광복절",null,null,"- 근로 인정 시간"]
[null,15,{"$nulls":7},12,"2018-09-23","일","추석연휴",null,"No","항목","인정시간"]
[null,16,{"$nulls":7},13,"2018-09-24","월","추석",null,1,"공가",8]
[null,17,{"$nulls":7},14,"2018-09-25","화","추석연휴",null,2,"관외출장",8]
[null,18,{"$nulls":7},15,"2018-09-26","수","대체공휴일",null,3,"반차휴가",4]
[null,19,{"$nulls":7},16,"2018-10-03","수","개천절",null,4,"연차휴가",8]
[null,20,{"$nulls":7},17,"2018-10-09","화","한글날",null,5,"외출(2H)",2]
[null,21,{"$nulls":7},18,"2018-12-25","화","크리스마스",null,6,"외출(3H)",3]
[null,22,{"$nulls":7},19,null,"",null,null,7,"대체휴무",8]
[null,23,{"$nulls":7},20,null,"",null,null,8,"해외출장",8]
[null,24,{"$nulls":7},21,null,"",null,null,9]
[null,25,{"$nulls":7},22,null,"",null,null,10]
[null,26,{"$nulls":7},23,null,"",null,null,11]
[null,27,{"$nulls":7},24,null,"",null,null,12]
[null,28,{"$nulls":7},25,null,"",null,null,13]
[null,29,{"$nulls":7},26,null,"",null,null,14]
[null,30,{"$nulls":7},27,null,"",null,null,15]
[null,31,{"$nulls":7},28,null,""]
[null,32,{"$nulls":7},29,null,""]
[null,33,{"$nulls":7},30,null,""]
[null,34]
[null,35]
[null,36]
[null,37]
[null,38]
[null,39]
[null,40]
[null,41]
[null,42]
[null,43]
[null,44]
[null,45]
[null,46]
[null,47]
[null,48]
[null,49]
[null,50]

{"sheet":"계획서_1분기","index":3,"n_rows":107,"n_cols":23,"rows_kept":107,"merged":[[1,3,2,23],[4,3,5,3],[4,4,5,6],[4,7,5,8],[4,9,5,11],[4,12,5,13],[4,14,5,15],[4,16,5,17],[4,18,5,19],[4,20,5,21],[4,22,5,23],[7,3,7,23],[8,3,8,4],[8,5,8,9],[8,10,8,11],[8,12,8,13],[8,14,8,15],[8,16,8,17],[8,19,8,23],[9,3,9,4],[9,5,9,7],[9,8,9,9],[9,10,9,11],[9,12,9,13],[9,14,9,15],[9,16,9,17],[9,19,9,23],[10,3,10,4],[10,5,10,7],[10,8,10,9],[10,10,10,11],[10,12,10,13],[10,14,10,15],[10,16,10,17],[10,19,10,23],[12,3,12,23],[13,3,14,3],[13,4,13,6],[13,7,14,9],[13,10,14,10],[13,11,14,11],[13,12,14,13],[13,14,14,15],[13,16,14,17],[13,18,14,18],[13,19,14,23],[15,7,15,9],[15,12,15,13],[15,14,15,15],[15,16,15,17],[15,19,15,23],[16,7,16,9],[16,12,16,13],[16,14,16,15],[16,16,16,17],[16,19,16,23],[17,7,17,9],[17,12,17,13],[17,14,17,15],[17,16,17,17],[17,19,17,23],[18,7,18,9],[18,12,18,13],[18,14,18,15],[18,16,18,17],[18,19,18,23],[19,7,19,9],[19,12,19,13],[19,14,19,15],[19,16,19,17],[19,19,19,23],[20,7,20,9],[20,12,20,13],[20,14,20,15],[20,16,20,17],[20,19,20,23],[21,7,21,9],[21,12,21,13],[21,14,21,15],[21,16,21,17],[21,19,21,23],[22,7,22,9],[22,12,22,13],[22,14,22,15],[22,16,22,17],[22,19,22,23],[23,7,23,9],[23,12,23,13],[23,14,23,15],[23,16,23,17],[23,19,23,23],[24,7,24,9],[24,12,24,13],[24,14,24,15],[24,16,24,17],[24,19,24,23],[25,7,25,9],[25,12,25,13],[25,14,25,15],[25,16,25,17],[25,19,25,23],[26,7,26,9],[26,12,26,13],[26,14,26,15],[26,16,26,17],[26,19,26,23],[27,7,27,9],[27,12,27,13],[27,14,27,15],[27,16,27,17],[27,19,27,23],[28,7,28,9],[28,12,28,13],[28,14,28,15],[28,16,28,17],[28,19,28,23],[29,7,29,9],[29,12,29,13],[29,14,29,15],[29,16,29,17],[29,19,29,23],[30,7,30,9],[30,12,30,13],[30,14,30,15],[30,16,30,17],[30,19,30,23],[31,7,31,9],[31,12,31,13],[31,14,31,15],[31,16,31,17],[31,19,31,23],[32,7,32,9],[32,12,32,13],[32,14,32,15],[32,16,32,17],[32,19,32,23],[33,7,33,9],[33,12,33,13],[33,14,33,15],[33,16,33,17],[33,19,33,23],[34,7,34,9],[34,12,34,13],[34,14,34,15],[34,16,34,17],[34,19,34,23],[35,7,35,9],[35,12,35,13],[35,14,35,15],[35,16,35,17],[35,19,35,23],[36,7,36,9],[36,12,36,13],[36,14,36,15],[36,16,36,17],[36,19,36,23],[37,7,37,9],[37,12,37,13],[37,14,37,15],[37,16,37,17],[37,19,37,23],[38,7,38,9],[38,12,38,13],[38,14,38,15],[38,16,38,17],[38,19,38,23],[39,7,39,9],[39,12,39,13],[39,14,39,15],[39,16,39,17],[39,19,39,23],[40,7,40,9],[40,12,40,13],[40,14,40,15],[40,16,40,17],[40,19,40,23],[41,7,41,9],[41,12,41,13],[41,14,41,15],[41,16,41,17],[41,19,41,23],[42,7,42,9],[42,12,42,13],[42,14,42,15],[42,16,42,17],[42,19,42,23],[43,7,43,9],[43,12,43,13],[43,14,43,15],[43,16,43,17],[43,19,43,23],[44,7,44,9],[44,12,44,13],[44,14,44,15],[44,16,44,17],[44,19,44,23],[45,7,45,9],[45,12,45,13],[45,14,45,15],[45,16,45,17],[45,19,45,23],[46,7,46,9],[46,12,46,13],[46,14,46,15],[46,16,46,17],[46,19,46,23],[47,7,47,9],[47,12,47,13],[47,14,47,15],[47,16,47,17],[47,19,47,23],[48,7,48,9],[48,12,48,13],[48,14,48,15],[48,16,48,17],[48,19,48,23],[49,7,49,9],[49,12,49,13],[49,14,49,15],[49,16,49,17],[49,19,49,23],[50,7,50,9],[50,12,50,13],[50,14,50,15],[50,16,50,17],[50,19,50,23],[51,7,51,9],[51,12,51,13],[51,14,51,15],[51,16,51,17],[51,19,51,23],[52,7,52,9],[52,12,52,13],[52,14,52,15],[52,16,52,17],[52,19,52,23],[53,7,53,9],[53,12,53,13],[53,14,53,15],[53,16,53,17],[53,19,53,23],[54,7,54,9],[54,12,54,13],[54,14,54,15],[54,16,54,17],[54,19,54,23],[55,7,55,9],[55,12,55,13],[55,14,55,15],[55,16,55,17],[55,19,55,23],[56,7,56,9],[56,12,56,13],[56,14,56,15],[56,16,56,17],[56,19,56,23],[57,7,57,9],[57,12,57,13],[57,14,57,15],[57,16,57,17],[57,19,57,23],[58,7,58,9],[58,12,58,13],[58,14,58,15],[58,16,58,17],[58,19,58,23],[59,7,59,9],[59,12,59,13],[59,14,59,15],[59,16,59,17],[59,19,59,23],[60,7,60,9],[60,12,60,13],[60,14,60,15],[60,16,60,17],[60,19,60,23],[61,7,61,9],[61,12,61,13],[61,14,61,15],[61,16,61,17],[61,19,61,23],[62,7,62,9],[62,12,62,13],[62,14,62,15],[62,16,62,17],[62,19,62,23],[63,7,63,9],[63,12,63,13],[63,14,63,15],[63,16,63,17],[63,19,63,23],[64,7,64,9],[64,12,64,13],[64,14,64,15],[64,16,64,17],[64,19,64,23],[65,7,65,9],[65,12,65,13],[65,14,65,15],[65,16,65,17],[65,19,65,23],[66,7,66,9],[66,12,66,13],[66,14,66,15],[66,16,66,17],[66,19,66,23],[67,7,67,9],[67,12,67,13],[67,14,67,15],[67,16,67,17],[67,19,67,23],[68,7,68,9],[68,12,68,13],[68,14,68,15],[68,16,68,17],[68,19,68,23],[69,7,69,9],[69,12,69,13],[69,14,69,15],[69,16,69,17],[69,19,69,23],[70,7,70,9],[70,12,70,13],[70,14,70,15],[70,16,70,17],[70,19,70,23],[71,7,71,9],[71,12,71,13],[71,14,71,15],[71,16,71,17],[71,19,71,23],[72,7,72,9],[72,12,72,13],[72,14,72,15],[72,16,72,17],[72,19,72,23],[73,7,73,9],[73,12,73,13],[73,14,73,15],[73,16,73,17],[73,19,73,23],[74,7,74,9],[74,12,74,13],[74,14,74,15],[74,16,74,17],[74,19,74,23],[75,7,75,9],[75,12,75,13],[75,14,75,15],[75,16,75,17],[75,19,75,23],[76,7,76,9],[76,12,76,13],[76,14,76,15],[76,16,76,17],[76,19,76,23],[77,7,77,9],[77,12,77,13],[77,14,77,15],[77,16,77,17],[77,19,77,23],[78,7,78,9],[78,12,78,13],[78,14,78,15],[78,16,78,17],[78,19,78,23],[79,7,79,9],[79,12,79,13],[79,14,79,15],[79,16,79,17],[79,19,79,23],[80,7,80,9],[80,12,80,13],[80,14,80,15],[80,16,80,17],[80,19,80,23],[81,7,81,9],[81,12,81,13],[81,14,81,15],[81,16,81,17],[81,19,81,23],[82,7,82,9],[82,12,82,13],[82,14,82,15],[82,16,82,17],[82,19,82,23],[83,7,83,9],[83,12,83,13],[83,14,83,15],[83,16,83,17],[83,19,83,23],[84,7,84,9],[84,12,84,13],[84,14,84,15],[84,16,84,17],[84,19,84,23],[85,7,85,9],[85,12,85,13],[85,14,85,15],[85,16,85,17],[85,19,85,23],[86,7,86,9],[86,12,86,13],[86,14,86,15],[86,16,86,17],[86,19,86,23],[87,7,87,9],[87,12,87,13],[87,14,87,15],[87,16,87,17],[87,19,87,23],[88,7,88,9],[88,12,88,13],[88,14,88,15],[88,16,88,17],[88,19,88,23],[89,7,89,9],[89,12,89,13],[89,14,89,15],[89,16,89,17],[89,19,89,23],[90,7,90,9],[90,12,90,13],[90,14,90,15],[90,16,90,17],[90,19,90,23],[91,7,91,9],[91,12,91,13],[91,14,91,15],[91,16,91,17],[91,19,91,23],[92,7,92,9],[92,12,92,13],[92,14,92,15],[92,16,92,17],[92,19,92,23],[93,7,93,9],[93,12,93,13],[93,14,93,15],[93,16,93,17],[93,19,93,23],[94,7,94,9],[94,12,94,13],[94,14,94,15],[94,16,94,17],[94,19,94,23],[95,7,95,9],[95,12,95,13],[95,14,95,15],[95,16,95,17],[95,19,95,23],[96,7,96,9],[96,12,96,13],[96,14,96,15],[96,16,96,17],[96,19,96,23],[97,7,97,9],[97,12,97,13],[97,14,97,15],[97,16,97,17],[97,19,97,23],[98,7,98,9],[98,12,98,13],[98,14,98,15],[98,16,98,17],[98,19,98,23],[99,7,99,9],[99,12,99,13],[99,14,99,15],[99,16,99,17],[99,19,99,23],[100,7,100,9],[100,12,100,13],[100,14,100,15],[100,16,100,17],[100,19,100,23],[101,7,101,9],[101,12,101,13],[101,14,101,15],[101,16,101,17],[101,19,101,23],[102,7,102,9],[102,12,102,13],[102,14,102,15],[102,16,102,17],[102,19,102,23],[103,7,103,9],[103,12,103,13],[103,14,103,15],[103,16,103,17],[103,19,103,23],[104,7,104,9],[104,12,104,13],[104,14,104,15],[104,16,104,17],[104,19,104,23],[105,7,105,9],[105,12,105,13],[105,14,105,15],[105,16,105,17],[105,19,105,23],[106,7,106,9],[106,12,106,13],[106,14,106,15],[106,16,106,17],[106,19,106,23]]}
[]
[null,1,null,{"$f":"'관리자 Setting'!$R$3&\"년 \"&계획서_1분기!$B$2&\"분기 탄력 근무 계획\"","v":"2018년 1분기 탄력 근무 계획"}]
[]
[]
[{"$nulls":3},"소속","무한도전",null,null,"부서명",null,{"$f":"IFERROR(VLOOKUP($W$5,'관리자 Setting'!$C$4:$G$53,4,0),\"\")","v":"무한본부"},null,null,"직급",null,{"$f":"IFERROR(VLOOKUP($W$5,'관리자 Setting'!$C$4:$G$53,3,0),\"\")","v":"1급"},null,"ERP 사번",null,{"$f":"IFERROR(VLOOKUP($W$5,'관리자 Setting'!$C$4:$G$53,2,0),\"\")","v":"0002"},null,"성명",null,"박명수"]
[]
[]
[{"$nulls":3},"───────────────　　월　/　분　기　계　획　현　황　　───────────────"]
[{"$nulls":3},"구분",null,"규정",{"$nulls":4},"합계/평균",null,{"v":1,"d":"1월"},null,{"v":2,"d":"2월"},null,{"v":3,"d":"3월"},null,"CHK","비고"]
[{"$nulls":3},"정규 근로",null,"분기 필수 합계",null,null,{"$f":"IFERROR(VLOOKUP($B$2,'관리자 Setting'!$O$6:$R$10,2,0),\"\")","v":488},null,{"$f":"IFERROR(IF(SUM(M10:R10)=0,\"\",SUM(M10:R10)),\"\")","v":""},null,{"$f":"SUMIFS($M$16:$M$107,$E$16:$E$107,M$9)","v":0},null,0,null,0,null,{"$f":"IF(K10<>I10,1,0)","v":1},{"$f":"IF(K10<I10,\"필수 근로 시간 부족\",IF(K10>I10,\"평균 주 40시간 초과\",\"\"))","v":"평균 주 40시간 초과"}]
[{"$nulls":3},"연장 근로",null,"월 평균 연장 근로",null,null,{"$f":"IFERROR(VLOOKUP($W$5,'관리자 Setting'!$C$3:$G$53,5,0),\"\")","v":35},null,{"$f":"IFERROR(AVERAGE(M11:R11),\"\")","v":{"v":0,"d":"0.0"}},null,{"$f":"SUMIFS($O$16:$O$107,$E$16:$E$107,M$9)","v":0},null,0,null,0,null,{"$f":"IF(K11>I11,1,0)","v":0},{"$f":"IF(S11=0,\"\",\"연장 근로시간 한도 초과\")","v":""}]
[]
[{"$nulls":3},"───────────────　　일　/　주　간　계　획　현　황　　───────────────"]
[{"$nulls":3},"No","날짜",null,null,"참고",null,null,"월\n주","연\n주차","정규\n근로 시간",null,"연장\n근로 시간",null,"총\n근로 시간",null,"CHK","비고"]
[{"$nulls":4},"월","일","요일"]
[{"$f":"IFERROR(VLOOKUP($B$2,'관리자 Setting'!$O$6:$R$10,3,0),\"\")","v":"2018-01-01"},{"$f":"IF(OR(G16=\"일\",H16<>\"\"),1,0)","v":1},{"$f":"IF(AND(G16<>\"토\",G16<>\"일\",H16<>\"\"),1,0)","v":1},1,{"$f":"IFERROR(MONTH(A16),\"\")","v":1},{"$f":"IFERROR(DAY(A16),\"\")","v":1},{"$f":"TEXT($A16,\"AAA\")","v":"월"},{"$f":"IFERROR(VLOOKUP($A16,'관리자 Setting'!$K$6:$M$36,3,0),\"\")","v":"신정"},null,null,{"$f":"IFERROR(L16-WEEKNUM(A16-F16+1)+1,\"\")","v":1},{"$f":"IFERROR(WEEKNUM(A16,2),\"\")","v":1},{"$nulls":4},{"$f":"IF(SUM(M16:P16)=0,\"\",SUM(M16:P16))","v":""},null,{"$f":"IF(AND($B16=1,$M16<>0),3,IF(SUMIFS($M$16:$M$107,$L$16:$L$107,$L16)+SUMIFS($C$16:$C$107,$L$16:$L$107,$L16)*8>52,2,IF(SUMIFS($O$16:$O$107,$L$16:$L$107,L16)>12,1,0)))","v":0},{"$f":"IF(S16>=3,\"휴일 정규 근로 계획 불가\",IF(S16=2,\"정규 근로 주 52시간 한도 초과\",IF(S16=1,\"연장 근로 주 12시간 한도 초과\",\"\")))","v":""}]
[{"$f":"A16+1","v":"2018-01-02"},0,0,2,{"$f":"IFERROR(MONTH(A17),\"\")","v":1},{"$f":"IFERROR(DAY(A17),\"\")","v":2},"화",{"$f":"IFERROR(VLOOKUP($A17,'관리자 Setting'!$K$6:$M$36,3,0),\"\")","v":""},null,null,1,{"$f":"IFERROR(WEEKNUM(A17,2),\"\")","v":1},{"$nulls":4},"",null,0,{"$f":"IF(S17>=3,\"휴일 정규 근로 불가\",IF(S17=2,\"정규 근로 주 52시간 한도 초과\",IF(S17=1,\"연장 근로 주 12시간 한도 초과\",\"\")))","v":""}]
[{"$f":"A17+1","v":"2018-01-03"},0,0,3,1,3,"수",{"$f":"IFERROR(VLOOKUP($A18,'관리자 Setting'!$K$6:$M$36,3,0),\"\")","v":""},null,null,1,1,{"$nulls":4},"",null,0,""]
["2018-01-04",0,0,4,1,4,"목",{"$f":"IFERROR(VLOOKUP($A19,'관리자 Setting'!$K$6:$M$36,3,0),\"\")","v":""},null,null,1,1,{"$nulls":4},"",null,0,""]
["2018-01-05",0,0,5,1,5,"금",{"$f":"IFERROR(VLOOKUP($A20,'관리자 Setting'!$K$6:$M$36,3,0),\"\")","v":""},null,null,1,1,{"$nulls":4},"",null,0,""]
["2018-01-06",0,0,6,1,6,"토",{"$f":"IFERROR(VLOOKUP($A21,'관리자 Setting'!$K$6:$M$36,3,0),\"\")","v":""},null,null,1,1,{"$nulls":4},"",null,0,""]
["2018-01-07",1,0,7,1,7,"일",{"$f":"IFERROR(VLOOKUP($A22,'관리자 Setting'!$K$6:$M$36,3,0),\"\")","v":""},null,null,1,1,{"$nulls":4},"",null,0,""]
["2018-01-08",0,0,8,1,8,"월",{"$f":"IFERROR(VLOOKUP($A23,'관리자 Setting'!$K$6:$M$36,3,0),\"\")","v":""},null,null,2,2,{"$nulls":4},"",null,0,""]
["2018-01-09",0,0,9,1,9,"화",{"$f":"IFERROR(VLOOKUP($A24,'관리자 Setting'!$K$6:$M$36,3,0),\"\")","v":""},null,null,2,2,{"$nulls":4},"",null,0,""]
["2018-01-10",0,0,10,1,10,"수",{"$f":"IFERROR(VLOOKUP($A25,'관리자 Setting'!$K$6:$M$36,3,0),\"\")","v":""},null,null,2,2,{"$nulls":4},"",null,0,""]
["2018-01-11",0,0,11,1,11,"목",{"$f":"IFERROR(VLOOKUP($A26,'관리자 Setting'!$K$6:$M$36,3,0),\"\")","v":""},null,null,2,2,{"$nulls":4},"",null,0,{"$f":"IF(S26>=3,\"휴일 정규 근로 불가\",IF(S26=2,\"정규 근로 주 52시간 한도 초과\",IF(S26=1,\"연장 근로 주 12시간 한도 초과\",\"\")))","v":""}]
["2018-01-12",0,0,12,1,12,"금",{"$f":"IFERROR(VLOOKUP($A27,'관리자 Setting'!$K$6:$M$36,3,0),\"\")","v":""},null,null,2,2,{"$nulls":4},"",null,{"$f":"IF(AND($B27=1,$M27<>0),3,IF(SUMIFS($M$16:$M$107,$L$16:$L$107,$L27)+SUMIFS($C$16:$C$107,$L$16:$L$107,$L27)*8>52,2,IF(SUMIFS($O$16:$O$107,$L$16:$L$107,L27)>12,1,0)))","v":0},""]
["2018-01-13",0,0,13,1,13,"토",{"$f":"IFERROR(VLOOKUP($A28,'관리자 Setting'!$K$6:$M$36,3,0),\"\")","v":""},null,null,2,2,{"$nulls":4},"",null,0,""]
["2018-01-14",1,0,14,1,14,"일",{"$f":"IFERROR(VLOOKUP($A29,'관리자 Setting'!$K$6:$M$36,3,0),\"\")","v":""},null,null,2,2,{"$nulls":4},"",null,0,""]
["2018-01-15",0,0,15,1,15,"월",{"$f":"IFERROR(VLOOKUP($A30,'관리자 Setting'!$K$6:$M$36,3,0),\"\")","v":""},null,null,3,3,{"$nulls":4},"",null,0,""]
["2018-01-16",0,0,16,1,16,"화",{"$f":"IFERROR(VLOOKUP($A31,'관리자 Setting'!$K$6:$M$36,3,0),\"\")","v":""},null,null,3,3,{"$nulls":4},"",null,0,""]
["2018-01-17",0,0,17,1,17,"수",{"$f":"IFERROR(VLOOKUP($A32,'관리자 Setting'!$K$6:$M$36,3,0),\"\")","v":""},null,null,3,3,{"$nulls":4},"",null,0,""]
["2018-01-18",0,0,18,1,18,"목",{"$f":"IFERROR(VLOOKUP($A33,'관리자 Setting'!$K$6:$M$36,3,0),\"\")","v":""},null,null,3,3,{"$nulls":4},"",null,0,""]
["2018-01-19",0,0,19,1,19,"금",{"$f":"IFERROR(VLOOKUP($A34,'관리자 Setting'!$K$6:$M$36,3,0),\"\")","v":""},null,null,3,3,{"$nulls":4},"",null,0,""]
["2018-01-20",0,0,20,1,20,"토",{"$f":"IFERROR(VLOOKUP($A35,'관리자 Setting'!$K$6:$M$36,3,0),\"\")","v":""},null,null,3,3,{"$nulls":4},"",null,0,""]
["2018-01-21",1,0,21,1,21,"일",{"$f":"IFERROR(VLOOKUP($A36,'관리자 Setting'!$K$6:$M$36,3,0),\"\")","v":""},null,null,3,3,{"$nulls":4},"",null,0,{"$f":"IF(S36>=3,\"휴일 정규 근로 불가\",IF(S36=2,\"정규 근로 주 52시간 한도 초과\",IF(S36=1,\"연장 근로 주 12시간 한도 초과\",\"\")))","v":""}]
["2018-01-22",0,0,22,1,22,"월",{"$f":"IFERROR(VLOOKUP($A37,'관리자 Setting'!$K$6:$M$36,3,0),\"\")","v":""},null,null,4,4,{"$nulls":4},"",null,0,""]
["2018-01-23",0,0,23,1,23,"화",{"$f":"IFERROR(VLOOKUP($A38,'관리자 Setting'!$K$6:$M$36,3,0),\"\")","v":""},null,null,4,4,{"$nulls":4},"",null,0,""]
["2018-01-24",0,0,24,1,24,"수",{"$f":"IFERROR(VLOOKUP($A39,'관리자 Setting'!$K$6:$M$36,3,0),\"\")","v":""},null,null,4,4,{"$nulls":4},"",null,0,""]
["2018-01-25",0,0,25,1,25,"목",{"$f":"IFERROR(VLOOKUP($A40,'관리자 Setting'!$K$6:$M$36,3,0),\"\")","v":""},null,null,4,4,{"$nulls":4},"",null,0,""]
["2018-01-26",0,0,26,1,26,"금",{"$f":"IFERROR(VLOOKUP($A41,'관리자 Setting'!$K$6:$M$36,3,0),\"\")","v":""},null,null,4,4,{"$nulls":4},"",null,0,""]
["2018-01-27",0,0,27,1,27,"토",{"$f":"IFERROR(VLOOKUP($A42,'관리자 Setting'!$K$6:$M$36,3,0),\"\")","v":""},null,null,4,4,{"$nulls":4},"",null,0,""]
["2018-01-28",1,0,28,1,28,"일",{"$f":"IFERROR(VLOOKUP($A43,'관리자 Setting'!$K$6:$M$36,3,0),\"\")","v":""},null,null,4,4,{"$nulls":4},"",null,0,""]
["2018-01-29",0,0,29,1,29,"월",{"$f":"IFERROR(VLOOKUP($A44,'관리자 Setting'!$K$6:$M$36,3,0),\"\")","v":""},null,null,5,5,{"$nulls":4},"",null,0,""]
["2018-01-30",0,0,30,1,30,"화",{"$f":"IFERROR(VLOOKUP($A45,'관리자 Setting'!$K$6:$M$36,3,0),\"\")","v":""},null,null,5,5,{"$nulls":4},"",null,0,""]
["2018-01-31",0,0,31,1,31,"수",{"$f":"IFERROR(VLOOKUP($A46,'관리자 Setting'!$K$6:$M$36,3,0),\"\")","v":""},null,null,5,5,{"$nulls":4},"",null,0,{"$f":"IF(S46>=3,\"휴일 정규 근로 불가\",IF(S46=2,\"정규 근로 주 52시간 한도 초과\",IF(S46=1,\"연장 근로 주 12시간 한도 초과\",\"\")))","v":""}]
["2018-02-01",0,0,32,2,1,"목",{"$f":"IFERROR(VLOOKUP($A47,'관리자 Setting'!$K$6:$M$36,3,0),\"\")","v":""},null,null,1,5,{"$nulls":4},"",null,0,""]
["2018-02-02",{"$f":"IF(OR(G48=\"일\",H48<>\"\"),1,0)","v":0},{"$f":"IF(AND(G48<>\"토\",G48<>\"일\",H48<>\"\"),1,0)","v":0},33,2,2,"금",{"$f":"IFERROR(VLOOKUP($A48,'관리자 Setting'!$K$6:$M$36,3,0),\"\")","v":""},null,null,{"$f":"IFERROR(L48-WEEKNUM(A48-F48+1)+1,\"\")","v":1},5,{"$nulls":4},{"$f":"IF(SUM(M48:P48)=0,\"\",SUM(M48:P48))","v":""},null,{"$f":"IF(AND($B48=1,$M48<>0),3,IF(SUMIFS($M$16:$M$107,$L$16:$L$107,$L48)+SUMIFS($C$16:$C$107,$L$16:$L$107,$L48)*8>52,2,IF(SUMIFS($O$16:$O$107,$L$16:$L$107,L48)>12,1,0)))","v":0},""]
["2018-02-03",0,0,34,2,3,"토",{"$f":"IFERROR(VLOOKUP($A49,'관리자 Setting'!$K$6:$M$36,3,0),\"\")","v":""},null,null,1,5,{"$nulls":4},"",null,0,""]
["2018-02-04",1,0,35,2,4,"일",{"$f":"IFERROR(VLOOKUP($A50,'관리자 Setting'!$K$6:$M$36,3,0),\"\")","v":""},null,null,1,5,{"$nulls":4},"",null,0,""]
["2018-02-05",0,0,36,2,5,"월",{"$f":"IFERROR(VLOOKUP($A51,'관리자 Setting'!$K$6:$M$36,3,0),\"\")","v":""},null,null,2,6,{"$nulls":4},"",null,0,""]
["2018-02-06",0,0,37,2,6,"화",{"$f":"IFERROR(VLOOKUP($A52,'관리자 Setting'!$K$6:$M$36,3,0),\"\")","v":""},null,null,2,6,{"$nulls":4},"",null,0,""]
["2018-02-07",0,0,38,2,7,"수",{"$f":"IFERROR(VLOOKUP($A53,'관리자 Setting'!$K$6:$M$36,3,0),\"\")","v":""},null,null,2,6,{"$nulls":4},"",null,0,""]
["2018-02-08",0,0,39,2,8,"목",{"$f":"IFERROR(VLOOKUP($A54,'관리자 Setting'!$K$6:$M$36,3,0),\"\")","v":""},null,null,2,6,{"$nulls":4},"",null,0,""]
["2018-02-09",0,0,40,2,9,{"$f":"TEXT($A55,\"AAA\")","v":"금"},{"$f":"IFERROR(VLOOKUP($A55,'관리자 Setting'!$K$6:$M$36,3,0),\"\")","v":""},null,null,2,6,{"$nulls":4},"",null,0,""]
["2018-02-10",0,0,41,2,10,"토",{"$f":"IFERROR(VLOOKUP($A56,'관리자 Setting'!$K$6:$M$36,3,0),\"\")","v":""},null,null,2,6,{"$nulls":4},"",null,0,{"$f":"IF(S56>=3,\"휴일 정규 근로 불가\",IF(S56=2,\"정규 근로 주 52시간 한도 초과\",IF(S56=1,\"연장 근로 주 12시간 한도 초과\",\"\")))","v":""}]
["2018-02-11",1,0,42,2,11,"일",{"$f":"IFERROR(VLOOKUP($A57,'관리자 Setting'!$K$6:$M$36,3,0),\"\")","v":""},null,null,2,6,{"$nulls":4},"",null,0,""]
["2018-02-12",0,0,43,2,12,"월",{"$f":"IFERROR(VLOOKUP($A58,'관리자 Setting'!$K$6:$M$36,3,0),\"\")","v":""},null,null,3,7,{"$nulls":4},"",null,0,""]
["2018-02-13",0,0,44,2,13,"화",{"$f":"IFERROR(VLOOKUP($A59,'관리자 Setting'!$K$6:$M$36,3,0),\"\")","v":""},null,null,3,7,{"$nulls":4},"",null,0,""]
["2018-02-14",0,0,45,2,14,"수",{"$f":"IFERROR(VLOOKUP($A60,'관리자 Setting'!$K$6:$M$36,3,0),\"\")","v":""},null,null,3,7,{"$nulls":4},"",null,0,""]
["2018-02-15",1,1,46,2,15,"목",{"$f":"IFERROR(VLOOKUP($A61,'관리자 Setting'!$K$6:$M$36,3,0),\"\")","v":"구정연휴"},null,null,3,7,{"$nulls":4},"",null,0,""]
["2018-02-16",1,1,47,2,16,"금",{"$f":"IFERROR(VLOOKUP($A62,'관리자 Setting'!$K$6:$M$36,3,0),\"\")","v":"구정"},null,null,3,7,{"$nulls":4},"",null,0,""]
["2018-02-17",1,0,48,2,17,"토",{"$f":"IFERROR(VLOOKUP($A63,'관리자 Setting'!$K$6:$M$36,3,0),\"\")","v":"구정연휴"},null,null,3,7,{"$nulls":4},"",null,0,""]
["2018-02-18",1,0,49,2,18,"일",{"$f":"IFERROR(VLOOKUP($A64,'관리자 Setting'!$K$6:$M$36,3,0),\"\")","v":""},null,null,3,7,{"$nulls":4},"",null,0,""]
["2018-02-19",0,0,50,2,19,"월",{"$f":"IFERROR(VLOOKUP($A65,'관리자 Setting'!$K$6:$M$36,3,0),\"\")","v":""},null,null,4,8,{"$nulls":4},"",null,0,""]
["2018-02-20",0,0,51,2,20,"화",{"$f":"IFERROR(VLOOKUP($A66,'관리자 Setting'!$K$6:$M$36,3,0),\"\")","v":""},null,null,4,8,{"$nulls":4},"",null,0,{"$f":"IF(S66>=3,\"휴일 정규 근로 불가\",IF(S66=2,\"정규 근로 주 52시간 한도 초과\",IF(S66=1,\"연장 근로 주 12시간 한도 초과\",\"\")))","v":""}]
["2018-02-21",0,0,52,2,21,"수",{"$f":"IFERROR(VLOOKUP($A67,'관리자 Setting'!$K$6:$M$36,3,0),\"\")","v":""},null,null,4,8,{"$nulls":4},"",null,0,""]
["2018-02-22",0,0,53,2,22,"목",{"$f":"IFERROR(VLOOKUP($A68,'관리자 Setting'!$K$6:$M$36,3,0),\"\")","v":""},null,null,4,8,{"$nulls":4},"",null,0,""]
["2018-02-23",0,0,54,2,23,"금",{"$f":"IFERROR(VLOOKUP($A69,'관리자 Setting'!$K$6:$M$36,3,0),\"\")","v":""},null,null,4,8,{"$nulls":4},"",null,0,""]
["2018-02-24",0,0,55,2,24,"토",{"$f":"IFERROR(VLOOKUP($A70,'관리자 Setting'!$K$6:$M$36,3,0),\"\")","v":""},null,null,4,8,{"$nulls":4},"",null,0,""]
["2018-02-25",1,0,56,2,25,"일",{"$f":"IFERROR(VLOOKUP($A71,'관리자 Setting'!$K$6:$M$36,3,0),\"\")","v":""},null,null,4,8,{"$nulls":4},"",null,0,""]
["2018-02-26",0,0,57,2,26,"월",{"$f":"IFERROR(VLOOKUP($A72,'관리자 Setting'!$K$6:$M$36,3,0),\"\")","v":""},null,null,5,9,{"$nulls":4},"",null,0,""]
["2018-02-27",0,0,58,2,27,"화",{"$f":"IFERROR(VLOOKUP($A73,'관리자 Setting'!$K$6:$M$36,3,0),\"\")","v":""},null,null,5,9,{"$nulls":4},"",null,0,""]
["2018-02-28",0,0,59,2,28,"수",{"$f":"IFERROR(VLOOKUP($A74,'관리자 Setting'!$K$6:$M$36,3,0),\"\")","v":""},null,null,5,9,{"$nulls":4},"",null,0,""]
["2018-03-01",1,1,60,3,1,"목",{"$f":"IFERROR(VLOOKUP($A75,'관리자 Setting'!$K$6:$M$36,3,0),\"\")","v":"삼일절"},null,null,1,9,{"$nulls":4},"",null,0,""]
["2018-03-02",0,0,61,3,2,"금",{"$f":"IFERROR(VLOOKUP($A76,'관리자 Setting'!$K$6:$M$36,3,0),\"\")","v":""},null,null,1,9,{"$nulls":4},"",null,0,{"$f":"IF(S76>=3,\"휴일 정규 근로 불가\",IF(S76=2,\"정규 근로 주 52시간 한도 초과\",IF(S76=1,\"연장 근로 주 12시간 한도 초과\",\"\")))","v":""}]
["2018-03-03",0,0,62,3,3,"토",{"$f":"IFERROR(VLOOKUP($A77,'관리자 Setting'!$K$6:$M$36,3,0),\"\")","v":""},null,null,1,9,{"$nulls":4},"",null,0,""]
["2018-03-04",1,0,63,3,4,"일",{"$f":"IFERROR(VLOOKUP($A78,'관리자 Setting'!$K$6:$M$36,3,0),\"\")","v":""},null,null,1,9,{"$nulls":4},"",null,0,""]
["2018-03-05",0,0,64,3,5,"월",{"$f":"IFERROR(VLOOKUP($A79,'관리자 Setting'!$K$6:$M$36,3,0),\"\")","v":""},null,null,2,10,{"$nulls":4},"",null,0,""]
["2018-03-06",{"$f":"IF(OR(G80=\"일\",H80<>\"\"),1,0)","v":0},{"$f":"IF(AND(G80<>\"토\",G80<>\"일\",H80<>\"\"),1,0)","v":0},65,3,6,"화",{"$f":"IFERROR(VLOOKUP($A80,'관리자 Setting'!$K$6:$M$36,3,0),\"\")","v":""},null,null,{"$f":"IFERROR(L80-WEEKNUM(A80-F80+1)+1,\"\")","v":2},10,{"$nulls":4},{"$f":"IF(SUM(M80:P80)=0,\"\",SUM(M80:P80))","v":""},null,{"$f":"IF(AND($B80=1,$M80<>0),3,IF(SUMIFS($M$16:$M$107,$L$16:$L$107,$L80)+SUMIFS($C$16:$C$107,$L$16:$L$107,$L80)*8>52,2,IF(SUMIFS($O$16:$O$107,$L$16:$L$107,L80)>12,1,0)))","v":0},""]
["2018-03-07",0,0,66,{"$f":"IFERROR(MONTH(A81),\"\")","v":3},{"$f":"IFERROR(DAY(A81),\"\")","v":7},"수",{"$f":"IFERROR(VLOOKUP($A81,'관리자 Setting'!$K$6:$M$36,3,0),\"\")","v":""},null,null,2,{"$f":"IFERROR(WEEKNUM(A81,2),\"\")","v":10},{"$nulls":4},"",null,0,""]
[{"$f":"A81+1","v":"2018-03-08"},0,0,67,3,8,"목",{"$f":"IFERROR(VLOOKUP($A82,'관리자 Setting'!$K$6:$M$36,3,0),\"\")","v":""},null,null,2,10,{"$nulls":4},"",null,0,""]
["2018-03-09",0,0,68,3,9,"금",{"$f":"IFERROR(VLOOKUP($A83,'관리자 Setting'!$K$6:$M$36,3,0),\"\")","v":""},null,null,2,10,{"$nulls":4},"",null,0,""]
["2018-03-10",0,0,69,3,10,"토",{"$f":"IFERROR(VLOOKUP($A84,'관리자 Setting'!$K$6:$M$36,3,0),\"\")","v":""},null,null,2,10,{"$nulls":4},"",null,0,""]
["2018-03-11",1,0,70,3,11,"일",{"$f":"IFERROR(VLOOKUP($A85,'관리자 Setting'!$K$6:$M$36,3,0),\"\")","v":""},null,null,2,10,{"$nulls":4},"",null,0,""]
["2018-03-12",0,0,71,3,12,"월",{"$f":"IFERROR(VLOOKUP($A86,'관리자 Setting'!$K$6:$M$36,3,0),\"\")","v":""},null,null,3,11,{"$nulls":4},"",null,0,{"$f":"IF(S86>=3,\"휴일 정규 근로 불가\",IF(S86=2,\"정규 근로 주 52시간 한도 초과\",IF(S86=1,\"연장 근로 주 12시간 한도 초과\",\"\")))","v":""}]
["2018-03-13",0,0,72,3,13,"화",{"$f":"IFERROR(VLOOKUP($A87,'관리자 Setting'!$K$6:$M$36,3,0),\"\")","v":""},null,null,3,11,{"$nulls":4},"",null,0,""]
["2018-03-14",0,0,73,3,14,"수",{"$f":"IFERROR(VLOOKUP($A88,'관리자 Setting'!$K$6:$M$36,3,0),\"\")","v":""},null,null,3,11,{"$nulls":4},"",null,0,""]
["2018-03-15",0,0,74,3,15,"목",{"$f":"IFERROR(VLOOKUP($A89,'관리자 Setting'!$K$6:$M$36,3,0),\"\")","v":""},null,null,3,11,{"$nulls":4},"",null,0,""]
["2018-03-16",0,0,75,3,16,"금",{"$f":"IFERROR(VLOOKUP($A90,'관리자 Setting'!$K$6:$M$36,3,0),\"\")","v":""},null,null,3,11,{"$nulls":4},"",null,0,""]
["2018-03-17",0,0,76,3,17,"토",{"$f":"IFERROR(VLOOKUP($A91,'관리자 Setting'!$K$6:$M$36,3,0),\"\")","v":""},null,null,3,11,{"$nulls":4},"",null,0,""]
["2018-03-18",1,0,77,3,18,"일",{"$f":"IFERROR(VLOOKUP($A92,'관리자 Setting'!$K$6:$M$36,3,0),\"\")","v":""},null,null,3,11,{"$nulls":4},"",null,0,""]
["2018-03-19",0,0,78,3,19,"월",{"$f":"IFERROR(VLOOKUP($A93,'관리자 Setting'!$K$6:$M$36,3,0),\"\")","v":""},null,null,4,12,{"$nulls":4},"",null,0,""]
["2018-03-20",0,0,79,3,20,"화",{"$f":"IFERROR(VLOOKUP($A94,'관리자 Setting'!$K$6:$M$36,3,0),\"\")","v":""},null,null,4,12,{"$nulls":4},"",null,0,""]
["2018-03-21",0,0,80,3,21,"수",{"$f":"IFERROR(VLOOKUP($A95,'관리자 Setting'!$K$6:$M$36,3,0),\"\")","v":""},null,null,4,12,{"$nulls":4},"",null,0,""]
["2018-03-22",0,0,81,3,22,"목",{"$f":"IFERROR(VLOOKUP($A96,'관리자 Setting'!$K$6:$M$36,3,0),\"\")","v":""},null,null,4,12,{"$nulls":4},"",null,0,{"$f":"IF(S96>=3,\"휴일 정규 근로 불가\",IF(S96=2,\"정규 근로 주 52시간 한도 초과\",IF(S96=1,\"연장 근로 주 12시간 한도 초과\",\"\")))","v":""}]
["2018-03-23",0,0,82,3,23,"금",{"$f":"IFERROR(VLOOKUP($A97,'관리자 Setting'!$K$6:$M$36,3,0),\"\")","v":""},null,null,4,12,{"$nulls":4},"",null,0,""]
["2018-03-24",0,0,83,3,24,"토",{"$f":"IFERROR(VLOOKUP($A98,'관리자 Setting'!$K$6:$M$36,3,0),\"\")","v":""},null,null,4,12,{"$nulls":4},"",null,0,""]
["2018-03-25",1,0,84,3,25,"일",{"$f":"IFERROR(VLOOKUP($A99,'관리자 Setting'!$K$6:$M$36,3,0),\"\")","v":""},null,null,4,12,{"$nulls":4},"",null,0,""]
["2018-03-26",0,0,85,3,26,"월",{"$f":"IFERROR(VLOOKUP($A100,'관리자 Setting'!$K$6:$M$36,3,0),\"\")","v":""},null,null,5,13,{"$nulls":4},"",null,0,""]
["2018-03-27",0,0,86,3,27,"화",{"$f":"IFERROR(VLOOKUP($A101,'관리자 Setting'!$K$6:$M$36,3,0),\"\")","v":""},null,null,5,13,{"$nulls":4},"",null,0,""]
["2018-03-28",0,0,87,3,28,"수",{"$f":"IFERROR(VLOOKUP($A102,'관리자 Setting'!$K$6:$M$36,3,0),\"\")","v":""},null,null,5,13,{"$nulls":4},"",null,0,""]
[{"$f":"IFERROR(IF(A102+1>VLOOKUP($B$2,'관리자 Setting'!$O$6:$R$10,4,0),\"\",A102+1),\"\")","v":"2018-03-29"},0,0,88,3,29,"목",{"$f":"IFERROR(VLOOKUP($A103,'관리자 Setting'!$K$6:$M$36,3,0),\"\")","v":""},null,null,5,13,{"$nulls":4},"",null,0,""]
[{"$f":"IFERROR(IF(A103+1>VLOOKUP($B$2,'관리자 Setting'!$O$6:$R$10,4,0),\"\",A103+1),\"\")","v":"2018-03-30"},0,0,89,3,30,"금",{"$f":"IFERROR(VLOOKUP($A104,'관리자 Setting'!$K$6:$M$36,3,0),\"\")","v":""},null,null,5,13,{"$nulls":4},"",null,0,""]
[{"$f":"IFERROR(IF(A104+1>VLOOKUP($B$2,'관리자 Setting'!$O$6:$R$10,4,0),\"\",A104+1),\"\")","v":"2018-03-31"},0,0,90,3,31,"토",{"$f":"IFERROR(VLOOKUP($A105,'관리자 Setting'!$K$6:$M$36,3,0),\"\")","v":""},null,null,5,13,{"$nulls":4},"",null,0,""]
[{"$f":"IFERROR(IF(A105+1>VLOOKUP($B$2,'관리자 Setting'!$O$6:$R$10,4,0),\"\",A105+1),\"\")","v":""},0,0,91,"","","",{"$f":"IFERROR(VLOOKUP($A106,'관리자 Setting'!$K$6:$M$36,3,0),\"\")","v":""},null,null,"","",{"$nulls":4},"",null,0,{"$f":"IF(S106>=3,\"휴일 정규 근로 불가\",IF(S106=2,\"정규 근로 주 52시간 한도 초과\",IF(S106=1,\"연장 근로 주 12시간 한도 초과\",\"\")))","v":""}]
[{"$f":"IFERROR(IF(A106+1>VLOOKUP($B$2,'관리자 Setting'!$O$6:$R$10,4,0),\"\",A106+1),\"\")","v":""},0,0,92,"","","",{"$f":"IFERROR(VLOOKUP($A107,'관리자 Setting'!$K$6:$M$36,3,0),\"\")","v":""},null,null,"","",{"$nulls":4},"",null,0,""]

{"sheet":"1월","index":4,"n_rows":56,"n_cols":30,"rows_kept":56,"merged":[[1,3,2,5],[1,6,2,20],[1,21,2,23],[4,3,5,3],[4,4,5,6],[4,7,5,8],[4,9,5,11],[4,12,5,13],[4,14,5,15],[4,16,5,17],[4,18,5,19],[4,20,5,21],[4,22,5,23],[7,3,7,23],[8,3,8,4],[8,5,8,9],[8,10,8,12],[8,13,8,14],[8,15,8,16],[8,17,8,18],[8,20,8,23],[9,3,9,4],[9,5,9,7],[9,8,9,9],[9,10,9,12],[9,13,9,14],[9,15,9,16],[9,17,9,18],[9,20,9,23],[10,3,10,4],[10,5,10,7],[10,8,10,9],[10,10,10,12],[10,13,10,14],[10,15,10,16],[10,17,10,18],[10,19,10,23],[11,3,11,4],[11,5,11,7],[11,8,11,9],[11,10,11,12],[11,13,11,14],[11,15,11,16],[11,17,11,18],[11,20,11,23],[13,3,13,23],[14,3,15,4],[14,5,15,9],[14,10,14,13],[14,14,14,17],[14,18,15,18],[14,19,15,23],[15,10,15,11],[15,12,15,13],[15,14,15,15],[15,16,15,17],[16,3,16,4],[16,5,16,7],[16,8,16,9],[16,10,16,11],[16,12,16,13],[16,14,16,15],[16,16,16,17],[16,19,16,23],[17,3,17,4],[17,5,17,7],[17,8,17,9],[17,10,17,11],[17,12,17,13],[17,14,17,15],[17,16,17,17],[17,19,17,23],[18,3,18,4],[18,5,18,7],[18,8,18,9],[18,10,18,11],[18,12,18,13],[18,14,18,15],[18,16,18,17],[18,19,18,23],[20,3,20,23],[21,3,23,3],[21,4,23,4],[21,5,23,7],[21,8,23,9],[21,10,23,10],[21,11,23,11],[21,12,21,15],[21,16,22,17],[21,18,21,21],[21,22,23,22],[21,23,23,23],[22,12,22,13],[22,14,22,15],[22,18,22,19],[22,20,22,21],[25,5,25,7],[25,8,25,9],[26,5,26,7],[26,8,26,9],[27,5,27,7],[27,8,27,9],[28,5,28,7],[28,8,28,9],[29,5,29,7],[29,8,29,9],[30,5,30,7],[30,8,30,9],[31,5,31,7],[31,8,31,9],[32,5,32,7],[32,8,32,9],[33,5,33,7],[33,8,33,9],[34,5,34,7],[34,8,34,9],[35,5,35,7],[35,8,35,9],[36,5,36,7],[36,8,36,9],[37,5,37,7],[37,8,37,9],[38,5,38,7],[38,8,38,9],[39,5,39,7],[39,8,39,9],[40,5,40,7],[40,8,40,9],[41,5,41,7],[41,8,41,9],[42,5,42,7],[42,8,42,9],[43,5,43,7],[43,8,43,9],[44,5,44,7],[44,8,44,9],[45,5,45,7],[45,8,45,9],[46,5,46,7],[46,8,46,9],[47,5,47,7],[47,8,47,9],[48,5,48,7],[48,8,48,9],[49,5,49,7],[49,8,49,9],[50,5,50,7],[50,8,50,9],[51,5,51,7],[51,8,51,9],[52,5,52,7],[52,8,52,9],[53,5,53,7],[53,8,53,9],[54,5,54,7],[54,8,54,9],[55,5,55,7],[55,8,55,9]]}
[]
[{"$nulls":6},{"$f":"'관리자 Setting'!$R$3&\"년 \"&TEXT($A$6,\"00월 근태 현황 (\")&$B$6&\"분기)\"","v":"2018년 01월 근태 현황 (1분기)"},{"$nulls":14},"익월"]
[]
[]
["월","분기",null,"소속","무한도전",null,null,"부서명",null,{"$f":"계획서_1분기!$J$5","v":"무한본부"},null,null,"직급",null,{"$f":"계획서_1분기!$O$5","v":"1급"},null,"ERP 사번",null,{"$f":"계획서_1분기!$S$5","v":"0002"},null,"성명",null,{"$f":"IF(계획서_1분기!W5=0,\"\",계획서_1분기!W5)","v":"박명수"}]
[1,1]
[]
[{"$nulls":3},"───────────────　　분　기　근　무　현　황　　───────────────"]
[{"$nulls":3},"구분",null,"규정 및 참조",{"$nulls":4},"합계/평균",null,null,{"v":1,"d":"1월"},null,{"v":2,"d":"2월"},null,{"v":3,"d":"3월"},null,"CHK","비고",{"$nulls":5},"합/평",1,2,3]
[{"$nulls":3},"전체 근로",{"$nulls":6},{"$f":"INT(AA10/60)&\"시간 \"&TEXT(ROUND((AA10/60-INT(AA10/60))*60,0),\"00분\")","v":"0시간 00분"},null,null,{"$f":"INT(AB10/60)&\"시간 \"&TEXT(ROUND((AB10/60-INT(AB10/60))*60,0),\"00분\")","v":"0시간 00분"},{"$nulls":12},{"$f":"SUM(AB10:AD10)","v":0},{"$f":"'1월'!O17*60+'1월'!Q17","v":0}]
[{"$nulls":3},"정규 근로",null,"분기 필수 합계",null,null,{"$f":"IFERROR(VLOOKUP($B$6,'관리자 Setting'!$O$6:$R$10,2,0),\"\")","v":{"v":488,"d":"488 시간"}},null,"0시간 00분",null,null,{"$f":"INT(AB11/60)&\"시간 \"&TEXT(ROUND((AB11/60-INT(AB11/60))*60,0),\"00분\")","v":"0시간 00분"},{"$nulls":5},{"$f":"IF(I11*60>AB11,\"분기 필수 \"&INT((I11*60-AB11)/60)&\"시간 \"&TEXT(ROUND(((I11*60-AB11)/60-INT((I11*60-AB11)/60))*60,0),\"00분 남음\"),\"\")","v":"분기 필수 488시간 00분 남음"},{"$nulls":6},{"$f":"SUM(AB11:AD11)","v":0},{"$f":"'1월'!O18*60+'1월'!Q18","v":0}]
[{"$nulls":3},"연장 근로",null,"월 평균 연장 근로",null,null,{"$f":"IFERROR(VLOOKUP($W$5,'관리자 Setting'!$C$3:$G$53,5,0),\"\")","v":{"v":35,"d":"35 시간"}},null,"0시간 00분",null,null,{"$f":"INT(AB12/60)&\"시간 \"&TEXT(ROUND((AB12/60-INT(AB12/60))*60,0),\"00분\")","v":"0시간 00분"},{"$nulls":5},{"$f":"IF($I$12*60<AB12,1,0)","v":0},{"$f":"IF(T12=1,\"연장 근로 한도 초과\",\"\")","v":""},{"$nulls":5},{"$f":"AVERAGE(AB12:AD12)","v":0},{"$f":"'1월'!O19*60+'1월'!Q19","v":0}]
[]
[{"$nulls":3},"───────────────　　월　근　무　현　황　　───────────────"]
[{"$nulls":3},"구분",null,"규정 및 참조",{"$nulls":4},"근무 계획",{"$nulls":3},"근무 조정",{"$nulls":3},"CHK","비고"]
[{"$nulls":10},"시간",null,"분",null,"시간",null,"분"]
[{"$nulls":3},"전체 근로",{"$nulls":6},{"$f":"M25+O25","v":0},null,"분",null,{"$f":"Q25+X25","v":0},null,{"$f":"R25","v":{"v":0,"d":"0 분"}}]
[{"$nulls":3},"정규 근로",{"$nulls":6},{"$f":"M25","v":0},null,"분",null,{"$f":"S25+X25","v":0},null,{"$f":"T25","v":{"v":0,"d":"0 분"}}]
[{"$nulls":3},"연장 근로",null,"월 연장 근로 한도",null,null,{"$f":"IFERROR(VLOOKUP($W$5,'관리자 Setting'!$C$3:$G$53,5,0),\"\")","v":{"v":35,"d":"35 시간"}},null,{"$f":"O25","v":0},null,"분",null,{"$f":"U25","v":0},null,{"$f":"V25","v":{"v":0,"d":"0 분"}},null,{"$f":"IF($W$5=\"\",\"\",IF(I19*60<O19*60+Q19,1,0))","v":0},{"$f":"IF(S19=1,\"연장 근로 한도 시간 초과\",\"\")","v":""}]
[]
[{"$nulls":3},"───────────────　　일　/　주　간　근　무　현　황　　───────────────"]
[{"$nulls":3},"날짜","요일","참고",null,null,"상태",null,"주","주차","근무 계획",{"$nulls":3},"실\n근무시간",null,"조정",{"$nulls":3},"CHK","비고\n근무\n반영"]
[{"$nulls":12},"정규근로",null,"연장근로",{"$nulls":3},"정규근로",null,"연장근로"]
[{"$nulls":12},"시간","분","시간","분","시간","분","시간","분","시간","분",{"$nulls":4},"반영","실","연장"]
[{"$nulls":12},{"$f":"SUM(M26:M56)","v":0},0,{"$f":"SUM(O26:O56)","v":0},0,{"$f":"SUM(Q26:Q56)+INT(SUM(R26:R56)/60)","v":0},{"$f":"(SUM(R26:R56)/60-INT(SUM(R26:R56)/60))*60","v":0},{"$f":"SUM(S26:S56)+INT(SUM(T26:T56)/60)","v":0},{"$f":"(SUM(T26:T56)/60-INT(SUM(T26:T56)/60))*60","v":0},{"$f":"SUM(U26:U56)+INT(SUM(V26:V56)/60)","v":0},{"$f":"(SUM(V26:V56)/60-INT(SUM(V26:V56)/60))*60","v":0},null,{"$f":"SUM(X26:X56)","v":0}]
[{"$f":"DATE('관리자 Setting'!$R$3,$A$6,1)","v":"2018-01-01"},{"$f":"IF(OR($E26=\"일\",$F26<>\"\"),0,1)","v":0},{"$f":"IF(OR($E26=\"일\",$F26<>\"\"),0,1)","v":0},1,{"$f":"TEXT($A26,\"AAA\")","v":"월"},{"$f":"IFERROR(VLOOKUP($A26,'관리자 Setting'!$K$6:$M$36,3,0),\"\")","v":"신정"},null,null,{"$f":"IFERROR(IF(OR(E26=\"토\",E26=\"일\",F26<>\"\"),\"\",VLOOKUP(A26&0,'설정_In-Put'!$A:$L,6,0)),\"\")","v":""},null,{"$f":"IFERROR(L26-WEEKNUM(A26-D26+1)+1,\"\")","v":1},{"$f":"IFERROR(WEEKNUM(A26,2),\"\")","v":1},{"$f":"IFERROR(VLOOKUP($A26,계획서_1분기!$A:$X,13,0),\"\")","v":0},0,{"$f":"IFERROR(VLOOKUP($A26,계획서_1분기!$A:$X,15,0),\"\")","v":0},0,{"$f":"INT(SUMIFS('설정_In-Put'!$K:$K,'설정_In-Put'!$C:$C,'1월'!$A26)*24)","v":0},{"$f":"ROUND((SUMIFS('설정_In-Put'!$K:$K,'설정_In-Put'!$C:$C,'1월'!$A26)*24-Q26)*60,0)","v":0},null,null,{"$f":"INT(((Q26*60+R26)-(S26*60+T26))/60)","v":0},{"$f":"(((Q26*60+R26)-(S26*60+T26))/60-U26)*60","v":0},{"$f":"IF(SUMIFS('1월'!$AA$26:$AA$56,'1월'!$L$26:$L$56,$L26)+SUMIFS('2월'!$AA$26:$AA$56,'2월'!$L$26:$L$56,$L26)+SUMIFS('3월'!$AA$26:$AA$56,'3월'!$L$26:$L$56,$L26)>3120,1,IF($A26=\"\",\"\",IF(OR($E26=\"일\",$F26<>\"\"),1,0)*IF(S26+T26<>0,1,0)))","v":0},{"$f":"IFERROR(VLOOKUP($A26&1,'설정_In-Put'!$B:$L,11,0)*24,\"\")","v":""},null,null,{"$f":"SUM(S26,X26)*60+T26","v":0},{"$f":"S26*60+T26","v":0},{"$f":"U26*60+V26","v":0}]
[{"$f":"A26+1","v":"2018-01-02"},1,1,2,"화",{"$f":"IFERROR(VLOOKUP($A27,'관리자 Setting'!$K$6:$M$36,3,0),\"\")","v":""},null,null,{"$f":"IFERROR(IF(OR(E27=\"토\",E27=\"일\",F27<>\"\"),\"\",VLOOKUP(A27&0,'설정_In-Put'!$A:$L,6,0)),\"\")","v":""},null,1,1,{"$f":"IFERROR(VLOOKUP($A27,계획서_1분기!$A:$X,13,0),\"\")","v":0},0,{"$f":"IFERROR(VLOOKUP($A27,계획서_1분기!$A:$X,15,0),\"\")","v":0},0,{"$f":"INT(SUMIFS('설정_In-Put'!$K:$K,'설정_In-Put'!$C:$C,'1월'!$A27)*24)","v":0},{"$f":"ROUND((SUMIFS('설정_In-Put'!$K:$K,'설정_In-Put'!$C:$C,'1월'!$A27)*24-Q27)*60,0)","v":0},null,null,0,0,{"$f":"IF(SUMIFS('1월'!$AA$26:$AA$56,'1월'!$L$26:$L$56,$L27)+SUMIFS('2월'!$AA$26:$AA$56,'2월'!$L$26:$L$56,$L27)+SUMIFS('3월'!$AA$26:$AA$56,'3월'!$L$26:$L$56,$L27)>3120,1,IF($A27=\"\",\"\",IF(OR($E27=\"일\",$F27<>\"\"),1,0)*IF(S27+T27<>0,1,0)))","v":0},{"$f":"IFERROR(VLOOKUP($A27&1,'설정_In-Put'!$B:$L,11,0)*24,\"\")","v":""},null,null,{"$f":"SUM(S27,X27)*60+T27","v":0},{"$f":"S27*60+T27","v":0},{"$f":"U27*60+V27","v":0}]
[{"$f":"A27+1","v":"2018-01-03"},1,1,3,"수",{"$f":"IFERROR(VLOOKUP($A28,'관리자 Setting'!$K$6:$M$36,3,0),\"\")","v":""},null,null,{"$f":"IFERROR(IF(OR(E28=\"토\",E28=\"일\",F28<>\"\"),\"\",VLOOKUP(A28&0,'설정_In-Put'!$A:$L,6,0)),\"\")","v":""},null,1,1,{"$f":"IFERROR(VLOOKUP($A28,계획서_1분기!$A:$X,13,0),\"\")","v":0},0,{"$f":"IFERROR(VLOOKUP($A28,계획서_1분기!$A:$X,15,0),\"\")","v":0},0,{"$f":"INT(SUMIFS('설정_In-Put'!$K:$K,'설정_In-Put'!$C:$C,'1월'!$A28)*24)","v":0},{"$f":"ROUND((SUMIFS('설정_In-Put'!$K:$K,'설정_In-Put'!$C:$C,'1월'!$A28)*24-Q28)*60,0)","v":0},null,null,0,0,{"$f":"IF(SUMIFS('1월'!$AA$26:$AA$56,'1월'!$L$26:$L$56,$L28)+SUMIFS('2월'!$AA$26:$AA$56,'2월'!$L$26:$L$56,$L28)+SUMIFS('3월'!$AA$26:$AA$56,'3월'!$L$26:$L$56,$L28)>3120,1,IF($A28=\"\",\"\",IF(OR($E28=\"일\",$F28<>\"\"),1,0)*IF(S28+T28<>0,1,0)))","v":0},{"$f":"IFERROR(VLOOKUP($A28&1,'설정_In-Put'!$B:$L,11,0)*24,\"\")","v":""},null,null,0,0,0]
["2018-01-04",1,1,4,"목",{"$f":"IFERROR(VLOOKUP($A29,'관리자 Setting'!$K$6:$M$36,3,0),\"\")","v":""},null,null,{"$f":"IFERROR(IF(OR(E29=\"토\",E29=\"일\",F29<>\"\"),\"\",VLOOKUP(A29&0,'설정_In-Put'!$A:$L,6,0)),\"\")","v":""},null,1,1,{"$f":"IFERROR(VLOOKUP($A29,계획서_1분기!$A:$X,13,0),\"\")","v":0},0,{"$f":"IFERROR(VLOOKUP($A29,계획서_1분기!$A:$X,15,0),\"\")","v":0},0,{"$f":"INT(SUMIFS('설정_In-Put'!$K:$K,'설정_In-Put'!$C:$C,'1월'!$A29)*24)","v":0},{"$f":"ROUND((SUMIFS('설정_In-Put'!$K:$K,'설정_In-Put'!$C:$C,'1월'!$A29)*24-Q29)*60,0)","v":0},null,null,0,0,{"$f":"IF(SUMIFS('1월'!$AA$26:$AA$56,'1월'!$L$26:$L$56,$L29)+SUMIFS('2월'!$AA$26:$AA$56,'2월'!$L$26:$L$56,$L29)+SUMIFS('3월'!$AA$26:$AA$56,'3월'!$L$26:$L$56,$L29)>3120,1,IF($A29=\"\",\"\",IF(OR($E29=\"일\",$F29<>\"\"),1,0)*IF(S29+T29<>0,1,0)))","v":0},{"$f":"IFERROR(VLOOKUP($A29&1,'설정_In-Put'!$B:$L,11,0)*24,\"\")","v":""},null,null,0,0,0]
["2018-01-05",1,1,5,"금",{"$f":"IFERROR(VLOOKUP($A30,'관리자 Setting'!$K$6:$M$36,3,0),\"\")","v":""},null,null,{"$f":"IFERROR(IF(OR(E30=\"토\",E30=\"일\",F30<>\"\"),\"\",VLOOKUP(A30&0,'설정_In-Put'!$A:$L,6,0)),\"\")","v":""},null,1,1,{"$f":"IFERROR(VLOOKUP($A30,계획서_1분기!$A:$X,13,0),\"\")","v":0},0,{"$f":"IFERROR(VLOOKUP($A30,계획서_1분기!$A:$X,15,0),\"\")","v":0},0,{"$f":"INT(SUMIFS('설정_In-Put'!$K:$K,'설정_In-Put'!$C:$C,'1월'!$A30)*24)","v":0},{"$f":"ROUND((SUMIFS('설정_In-Put'!$K:$K,'설정_In-Put'!$C:$C,'1월'!$A30)*24-Q30)*60,0)","v":0},null,null,0,0,{"$f":"IF(SUMIFS('1월'!$AA$26:$AA$56,'1월'!$L$26:$L$56,$L30)+SUMIFS('2월'!$AA$26:$AA$56,'2월'!$L$26:$L$56,$L30)+SUMIFS('3월'!$AA$26:$AA$56,'3월'!$L$26:$L$56,$L30)>3120,1,IF($A30=\"\",\"\",IF(OR($E30=\"일\",$F30<>\"\"),1,0)*IF(S30+T30<>0,1,0)))","v":0},{"$f":"IFERROR(VLOOKUP($A30&1,'설정_In-Put'!$B:$L,11,0)*24,\"\")","v":""},null,null,0,0,0]
["2018-01-06",1,1,6,"토",{"$f":"IFERROR(VLOOKUP($A31,'관리자 Setting'!$K$6:$M$36,3,0),\"\")","v":""},null,null,{"$f":"IFERROR(IF(OR(E31=\"토\",E31=\"일\",F31<>\"\"),\"\",VLOOKUP(A31&0,'설정_In-Put'!$A:$L,6,0)),\"\")","v":""},null,1,1,{"$f":"IFERROR(VLOOKUP($A31,계획서_1분기!$A:$X,13,0),\"\")","v":0},0,{"$f":"IFERROR(VLOOKUP($A31,계획서_1분기!$A:$X,15,0),\"\")","v":0},0,{"$f":"INT(SUMIFS('설정_In-Put'!$K:$K,'설정_In-Put'!$C:$C,'1월'!$A31)*24)","v":0},{"$f":"ROUND((SUMIFS('설정_In-Put'!$K:$K,'설정_In-Put'!$C:$C,'1월'!$A31)*24-Q31)*60,0)","v":0},null,null,0,0,{"$f":"IF(SUMIFS('1월'!$AA$26:$AA$56,'1월'!$L$26:$L$56,$L31)+SUMIFS('2월'!$AA$26:$AA$56,'2월'!$L$26:$L$56,$L31)+SUMIFS('3월'!$AA$26:$AA$56,'3월'!$L$26:$L$56,$L31)>3120,1,IF($A31=\"\",\"\",IF(OR($E31=\"일\",$F31<>\"\"),1,0)*IF(S31+T31<>0,1,0)))","v":0},{"$f":"IFERROR(VLOOKUP($A31&1,'설정_In-Put'!$B:$L,11,0)*24,\"\")","v":""},null,null,0,0,0]
["2018-01-07",0,0,7,"일",{"$f":"IFERROR(VLOOKUP($A32,'관리자 Setting'!$K$6:$M$36,3,0),\"\")","v":""},null,null,{"$f":"IFERROR(IF(OR(E32=\"토\",E32=\"일\",F32<>\"\"),\"\",VLOOKUP(A32&0,'설정_In-Put'!$A:$L,6,0)),\"\")","v":""},null,1,1,{"$f":"IFERROR(VLOOKUP($A32,계획서_1분기!$A:$X,13,0),\"\")","v":0},0,{"$f":"IFERROR(VLOOKUP($A32,계획서_1분기!$A:$X,15,0),\"\")","v":0},0,{"$f":"INT(SUMIFS('설정_In-Put'!$K:$K,'설정_In-Put'!$C:$C,'1월'!$A32)*24)","v":0},{"$f":"ROUND((SUMIFS('설정_In-Put'!$K:$K,'설정_In-Put'!$C:$C,'1월'!$A32)*24-Q32)*60,0)","v":0},null,null,0,0,{"$f":"IF(SUMIFS('1월'!$AA$26:$AA$56,'1월'!$L$26:$L$56,$L32)+SUMIFS('2월'!$AA$26:$AA$56,'2월'!$L$26:$L$56,$L32)+SUMIFS('3월'!$AA$26:$AA$56,'3월'!$L$26:$L$56,$L32)>3120,1,IF($A32=\"\",\"\",IF(OR($E32=\"일\",$F32<>\"\"),1,0)*IF(S32+T32<>0,1,0)))","v":0},{"$f":"IFERROR(VLOOKUP($A32&1,'설정_In-Put'!$B:$L,11,0)*24,\"\")","v":""},null,null,0,0,0]
["2018-01-08",1,1,8,"월",{"$f":"IFERROR(VLOOKUP($A33,'관리자 Setting'!$K$6:$M$36,3,0),\"\")","v":""},null,null,{"$f":"IFERROR(IF(OR(E33=\"토\",E33=\"일\",F33<>\"\"),\"\",VLOOKUP(A33&0,'설정_In-Put'!$A:$L,6,0)),\"\")","v":""},null,2,2,{"$f":"IFERROR(VLOOKUP($A33,계획서_1분기!$A:$X,13,0),\"\")","v":0},0,{"$f":"IFERROR(VLOOKUP($A33,계획서_1분기!$A:$X,15,0),\"\")","v":0},0,{"$f":"INT(SUMIFS('설정_In-Put'!$K:$K,'설정_In-Put'!$C:$C,'1월'!$A33)*24)","v":0},{"$f":"ROUND((SUMIFS('설정_In-Put'!$K:$K,'설정_In-Put'!$C:$C,'1월'!$A33)*24-Q33)*60,0)","v":0},null,null,0,0,{"$f":"IF(SUMIFS('1월'!$AA$26:$AA$56,'1월'!$L$26:$L$56,$L33)+SUMIFS('2월'!$AA$26:$AA$56,'2월'!$L$26:$L$56,$L33)+SUMIFS('3월'!$AA$26:$AA$56,'3월'!$L$26:$L$56,$L33)>3120,1,IF($A33=\"\",\"\",IF(OR($E33=\"일\",$F33<>\"\"),1,0)*IF(S33+T33<>0,1,0)))","v":0},{"$f":"IFERROR(VLOOKUP($A33&1,'설정_In-Put'!$B:$L,11,0)*24,\"\")","v":""},null,null,0,0,0]
["2018-01-09",1,1,9,"화",{"$f":"IFERROR(VLOOKUP($A34,'관리자 Setting'!$K$6:$M$36,3,0),\"\")","v":""},null,null,{"$f":"IFERROR(IF(OR(E34=\"토\",E34=\"일\",F34<>\"\"),\"\",VLOOKUP(A34&0,'설정_In-Put'!$A:$L,6,0)),\"\")","v":""},null,2,2,{"$f":"IFERROR(VLOOKUP($A34,계획서_1분기!$A:$X,13,0),\"\")","v":0},0,{"$f":"IFERROR(VLOOKUP($A34,계획서_1분기!$A:$X,15,0),\"\")","v":0},0,{"$f":"INT(SUMIFS('설정_In-Put'!$K:$K,'설정_In-Put'!$C:$C,'1월'!$A34)*24)","v":0},{"$f":"ROUND((SUMIFS('설정_In-Put'!$K:$K,'설정_In-Put'!$C:$C,'1월'!$A34)*24-Q34)*60,0)","v":0},null,null,0,0,{"$f":"IF(SUMIFS('1월'!$AA$26:$AA$56,'1월'!$L$26:$L$56,$L34)+SUMIFS('2월'!$AA$26:$AA$56,'2월'!$L$26:$L$56,$L34)+SUMIFS('3월'!$AA$26:$AA$56,'3월'!$L$26:$L$56,$L34)>3120,1,IF($A34=\"\",\"\",IF(OR($E34=\"일\",$F34<>\"\"),1,0)*IF(S34+T34<>0,1,0)))","v":0},{"$f":"IFERROR(VLOOKUP($A34&1,'설정_In-Put'!$B:$L,11,0)*24,\"\")","v":""},null,null,0,0,0]
["2018-01-10",1,1,10,"수",{"$f":"IFERROR(VLOOKUP($A35,'관리자 Setting'!$K$6:$M$36,3,0),\"\")","v":""},null,null,{"$f":"IFERROR(IF(OR(E35=\"토\",E35=\"일\",F35<>\"\"),\"\",VLOOKUP(A35&0,'설정_In-Put'!$A:$L,6,0)),\"\")","v":""},null,2,2,{"$f":"IFERROR(VLOOKUP($A35,계획서_1분기!$A:$X,13,0),\"\")","v":0},0,{"$f":"IFERROR(VLOOKUP($A35,계획서_1분기!$A:$X,15,0),\"\")","v":0},0,{"$f":"INT(SUMIFS('설정_In-Put'!$K:$K,'설정_In-Put'!$C:$C,'1월'!$A35)*24)","v":0},{"$f":"ROUND((SUMIFS('설정_In-Put'!$K:$K,'설정_In-Put'!$C:$C,'1월'!$A35)*24-Q35)*60,0)","v":0},null,null,0,0,{"$f":"IF(SUMIFS('1월'!$AA$26:$AA$56,'1월'!$L$26:$L$56,$L35)+SUMIFS('2월'!$AA$26:$AA$56,'2월'!$L$26:$L$56,$L35)+SUMIFS('3월'!$AA$26:$AA$56,'3월'!$L$26:$L$56,$L35)>3120,1,IF($A35=\"\",\"\",IF(OR($E35=\"일\",$F35<>\"\"),1,0)*IF(S35+T35<>0,1,0)))","v":0},{"$f":"IFERROR(VLOOKUP($A35&1,'설정_In-Put'!$B:$L,11,0)*24,\"\")","v":""},null,null,0,0,0]
["2018-01-11",1,1,11,"목",{"$f":"IFERROR(VLOOKUP($A36,'관리자 Setting'!$K$6:$M$36,3,0),\"\")","v":""},null,null,{"$f":"IFERROR(IF(OR(E36=\"토\",E36=\"일\",F36<>\"\"),\"\",VLOOKUP(A36&0,'설정_In-Put'!$A:$L,6,0)),\"\")","v":""},null,2,2,{"$f":"IFERROR(VLOOKUP($A36,계획서_1분기!$A:$X,13,0),\"\")","v":0},0,{"$f":"IFERROR(VLOOKUP($A36,계획서_1분기!$A:$X,15,0),\"\")","v":0},0,{"$f":"INT(SUMIFS('설정_In-Put'!$K:$K,'설정_In-Put'!$C:$C,'1월'!$A36)*24)","v":0},{"$f":"ROUND((SUMIFS('설정_In-Put'!$K:$K,'설정_In-Put'!$C:$C,'1월'!$A36)*24-Q36)*60,0)","v":0},null,null,0,0,{"$f":"IF(SUMIFS('1월'!$AA$26:$AA$56,'1월'!$L$26:$L$56,$L36)+SUMIFS('2월'!$AA$26:$AA$56,'2월'!$L$26:$L$56,$L36)+SUMIFS('3월'!$AA$26:$AA$56,'3월'!$L$26:$L$56,$L36)>3120,1,IF($A36=\"\",\"\",IF(OR($E36=\"일\",$F36<>\"\"),1,0)*IF(S36+T36<>0,1,0)))","v":0},{"$f":"IFERROR(VLOOKUP($A36&1,'설정_In-Put'!$B:$L,11,0)*24,\"\")","v":""},null,null,0,0,0]
["2018-01-12",1,1,12,"금",{"$f":"IFERROR(VLOOKUP($A37,'관리자 Setting'!$K$6:$M$36,3,0),\"\")","v":""},null,null,{"$f":"IFERROR(IF(OR(E37=\"토\",E37=\"일\",F37<>\"\"),\"\",VLOOKUP(A37&0,'설정_In-Put'!$A:$L,6,0)),\"\")","v":""},null,2,2,{"$f":"IFERROR(VLOOKUP($A37,계획서_1분기!$A:$X,13,0),\"\")","v":0},0,{"$f":"IFERROR(VLOOKUP($A37,계획서_1분기!$A:$X,15,0),\"\")","v":0},0,{"$f":"INT(SUMIFS('설정_In-Put'!$K:$K,'설정_In-Put'!$C:$C,'1월'!$A37)*24)","v":0},{"$f":"ROUND((SUMIFS('설정_In-Put'!$K:$K,'설정_In-Put'!$C:$C,'1월'!$A37)*24-Q37)*60,0)","v":0},null,null,0,0,{"$f":"IF(SUMIFS('1월'!$AA$26:$AA$56,'1월'!$L$26:$L$56,$L37)+SUMIFS('2월'!$AA$26:$AA$56,'2월'!$L$26:$L$56,$L37)+SUMIFS('3월'!$AA$26:$AA$56,'3월'!$L$26:$L$56,$L37)>3120,1,IF($A37=\"\",\"\",IF(OR($E37=\"일\",$F37<>\"\"),1,0)*IF(S37+T37<>0,1,0)))","v":0},{"$f":"IFERROR(VLOOKUP($A37&1,'설정_In-Put'!$B:$L,11,0)*24,\"\")","v":""},null,null,0,0,0]
["2018-01-13",1,1,13,"토",{"$f":"IFERROR(VLOOKUP($A38,'관리자 Setting'!$K$6:$M$36,3,0),\"\")","v":""},null,null,{"$f":"IFERROR(IF(OR(E38=\"토\",E38=\"일\",F38<>\"\"),\"\",VLOOKUP(A38&0,'설정_In-Put'!$A:$L,6,0)),\"\")","v":""},null,2,2,{"$f":"IFERROR(VLOOKUP($A38,계획서_1분기!$A:$X,13,0),\"\")","v":0},0,{"$f":"IFERROR(VLOOKUP($A38,계획서_1분기!$A:$X,15,0),\"\")","v":0},0,{"$f":"INT(SUMIFS('설정_In-Put'!$K:$K,'설정_In-Put'!$C:$C,'1월'!$A38)*24)","v":0},{"$f":"ROUND((SUMIFS('설정_In-Put'!$K:$K,'설정_In-Put'!$C:$C,'1월'!$A38)*24-Q38)*60,0)","v":0},null,null,0,0,{"$f":"IF(SUMIFS('1월'!$AA$26:$AA$56,'1월'!$L$26:$L$56,$L38)+SUMIFS('2월'!$AA$26:$AA$56,'2월'!$L$26:$L$56,$L38)+SUMIFS('3월'!$AA$26:$AA$56,'3월'!$L$26:$L$56,$L38)>3120,1,IF($A38=\"\",\"\",IF(OR($E38=\"일\",$F38<>\"\"),1,0)*IF(S38+T38<>0,1,0)))","v":0},{"$f":"IFERROR(VLOOKUP($A38&1,'설정_In-Put'!$B:$L,11,0)*24,\"\")","v":""},null,null,0,0,0]
["2018-01-14",0,0,14,"일",{"$f":"IFERROR(VLOOKUP($A39,'관리자 Setting'!$K$6:$M$36,3,0),\"\")","v":""},null,null,{"$f":"IFERROR(IF(OR(E39=\"토\",E39=\"일\",F39<>\"\"),\"\",VLOOKUP(A39&0,'설정_In-Put'!$A:$L,6,0)),\"\")","v":""},null,2,2,{"$f":"IFERROR(VLOOKUP($A39,계획서_1분기!$A:$X,13,0),\"\")","v":0},0,{"$f":"IFERROR(VLOOKUP($A39,계획서_1분기!$A:$X,15,0),\"\")","v":0},0,{"$f":"INT(SUMIFS('설정_In-Put'!$K:$K,'설정_In-Put'!$C:$C,'1월'!$A39)*24)","v":0},{"$f":"ROUND((SUMIFS('설정_In-Put'!$K:$K,'설정_In-Put'!$C:$C,'1월'!$A39)*24-Q39)*60,0)","v":0},null,null,0,0,{"$f":"IF(SUMIFS('1월'!$AA$26:$AA$56,'1월'!$L$26:$L$56,$L39)+SUMIFS('2월'!$AA$26:$AA$56,'2월'!$L$26:$L$56,$L39)+SUMIFS('3월'!$AA$26:$AA$56,'3월'!$L$26:$L$56,$L39)>3120,1,IF($A39=\"\",\"\",IF(OR($E39=\"일\",$F39<>\"\"),1,0)*IF(S39+T39<>0,1,0)))","v":0},{"$f":"IFERROR(VLOOKUP($A39&1,'설정_In-Put'!$B:$L,11,0)*24,\"\")","v":""},null,null,0,0,0]
["2018-01-15",1,1,15,"월",{"$f":"IFERROR(VLOOKUP($A40,'관리자 Setting'!$K$6:$M$36,3,0),\"\")","v":""},null,null,{"$f":"IFERROR(IF(OR(E40=\"토\",E40=\"일\",F40<>\"\"),\"\",VLOOKUP(A40&0,'설정_In-Put'!$A:$L,6,0)),\"\")","v":""},null,3,3,{"$f":"IFERROR(VLOOKUP($A40,계획서_1분기!$A:$X,13,0),\"\")","v":0},0,{"$f":"IFERROR(VLOOKUP($A40,계획서_1분기!$A:$X,15,0),\"\")","v":0},0,{"$f":"INT(SUMIFS('설정_In-Put'!$K:$K,'설정_In-Put'!$C:$C,'1월'!$A40)*24)","v":0},{"$f":"ROUND((SUMIFS('설정_In-Put'!$K:$K,'설정_In-Put'!$C:$C,'1월'!$A40)*24-Q40)*60,0)","v":0},null,null,0,0,{"$f":"IF(SUMIFS('1월'!$AA$26:$AA$56,'1월'!$L$26:$L$56,$L40)+SUMIFS('2월'!$AA$26:$AA$56,'2월'!$L$26:$L$56,$L40)+SUMIFS('3월'!$AA$26:$AA$56,'3월'!$L$26:$L$56,$L40)>3120,1,IF($A40=\"\",\"\",IF(OR($E40=\"일\",$F40<>\"\"),1,0)*IF(S40+T40<>0,1,0)))","v":0},{"$f":"IFERROR(VLOOKUP($A40&1,'설정_In-Put'!$B:$L,11,0)*24,\"\")","v":""},null,null,0,0,0]
["2018-01-16",1,1,16,"화",{"$f":"IFERROR(VLOOKUP($A41,'관리자 Setting'!$K$6:$M$36,3,0),\"\")","v":""},null,null,{"$f":"IFERROR(IF(OR(E41=\"토\",E41=\"일\",F41<>\"\"),\"\",VLOOKUP(A41&0,'설정_In-Put'!$A:$L,6,0)),\"\")","v":""},null,3,3,{"$f":"IFERROR(VLOOKUP($A41,계획서_1분기!$A:$X,13,0),\"\")","v":0},0,{"$f":"IFERROR(VLOOKUP($A41,계획서_1분기!$A:$X,15,0),\"\")","v":0},0,{"$f":"INT(SUMIFS('설정_In-Put'!$K:$K,'설정_In-Put'!$C:$C,'1월'!$A41)*24)","v":0},{"$f":"ROUND((SUMIFS('설정_In-Put'!$K:$K,'설정_In-Put'!$C:$C,'1월'!$A41)*24-Q41)*60,0)","v":0},null,null,0,0,{"$f":"IF(SUMIFS('1월'!$AA$26:$AA$56,'1월'!$L$26:$L$56,$L41)+SUMIFS('2월'!$AA$26:$AA$56,'2월'!$L$26:$L$56,$L41)+SUMIFS('3월'!$AA$26:$AA$56,'3월'!$L$26:$L$56,$L41)>3120,1,IF($A41=\"\",\"\",IF(OR($E41=\"일\",$F41<>\"\"),1,0)*IF(S41+T41<>0,1,0)))","v":0},{"$f":"IFERROR(VLOOKUP($A41&1,'설정_In-Put'!$B:$L,11,0)*24,\"\")","v":""},null,null,0,0,0]
["2018-01-17",1,1,17,"수",{"$f":"IFERROR(VLOOKUP($A42,'관리자 Setting'!$K$6:$M$36,3,0),\"\")","v":""},null,null,{"$f":"IFERROR(IF(OR(E42=\"토\",E42=\"일\",F42<>\"\"),\"\",VLOOKUP(A42&0,'설정_In-Put'!$A:$L,6,0)),\"\")","v":""},null,3,3,{"$f":"IFERROR(VLOOKUP($A42,계획서_1분기!$A:$X,13,0),\"\")","v":0},0,{"$f":"IFERROR(VLOOKUP($A42,계획서_1분기!$A:$X,15,0),\"\")","v":0},0,{"$f":"INT(SUMIFS('설정_In-Put'!$K:$K,'설정_In-Put'!$C:$C,'1월'!$A42)*24)","v":0},{"$f":"ROUND((SUMIFS('설정_In-Put'!$K:$K,'설정_In-Put'!$C:$C,'1월'!$A42)*24-Q42)*60,0)","v":0},null,null,0,0,{"$f":"IF(SUMIFS('1월'!$AA$26:$AA$56,'1월'!$L$26:$L$56,$L42)+SUMIFS('2월'!$AA$26:$AA$56,'2월'!$L$26:$L$56,$L42)+SUMIFS('3월'!$AA$26:$AA$56,'3월'!$L$26:$L$56,$L42)>3120,1,IF($A42=\"\",\"\",IF(OR($E42=\"일\",$F42<>\"\"),1,0)*IF(S42+T42<>0,1,0)))","v":0},{"$f":"IFERROR(VLOOKUP($A42&1,'설정_In-Put'!$B:$L,11,0)*24,\"\")","v":""},null,null,0,0,0]
["2018-01-18",1,1,18,"목",{"$f":"IFERROR(VLOOKUP($A43,'관리자 Setting'!$K$6:$M$36,3,0),\"\")","v":""},null,null,{"$f":"IFERROR(IF(OR(E43=\"토\",E43=\"일\",F43<>\"\"),\"\",VLOOKUP(A43&0,'설정_In-Put'!$A:$L,6,0)),\"\")","v":""},null,3,3,{"$f":"IFERROR(VLOOKUP($A43,계획서_1분기!$A:$X,13,0),\"\")","v":0},0,{"$f":"IFERROR(VLOOKUP($A43,계획서_1분기!$A:$X,15,0),\"\")","v":0},0,{"$f":"INT(SUMIFS('설정_In-Put'!$K:$K,'설정_In-Put'!$C:$C,'1월'!$A43)*24)","v":0},{"$f":"ROUND((SUMIFS('설정_In-Put'!$K:$K,'설정_In-Put'!$C:$C,'1월'!$A43)*24-Q43)*60,0)","v":0},null,null,0,0,{"$f":"IF(SUMIFS('1월'!$AA$26:$AA$56,'1월'!$L$26:$L$56,$L43)+SUMIFS('2월'!$AA$26:$AA$56,'2월'!$L$26:$L$56,$L43)+SUMIFS('3월'!$AA$26:$AA$56,'3월'!$L$26:$L$56,$L43)>3120,1,IF($A43=\"\",\"\",IF(OR($E43=\"일\",$F43<>\"\"),1,0)*IF(S43+T43<>0,1,0)))","v":0},{"$f":"IFERROR(VLOOKUP($A43&1,'설정_In-Put'!$B:$L,11,0)*24,\"\")","v":""},null,null,0,0,0]
["2018-01-19",1,1,19,"금",{"$f":"IFERROR(VLOOKUP($A44,'관리자 Setting'!$K$6:$M$36,3,0),\"\")","v":""},null,null,{"$f":"IFERROR(IF(OR(E44=\"토\",E44=\"일\",F44<>\"\"),\"\",VLOOKUP(A44&0,'설정_In-Put'!$A:$L,6,0)),\"\")","v":""},null,3,3,{"$f":"IFERROR(VLOOKUP($A44,계획서_1분기!$A:$X,13,0),\"\")","v":0},0,{"$f":"IFERROR(VLOOKUP($A44,계획서_1분기!$A:$X,15,0),\"\")","v":0},0,{"$f":"INT(SUMIFS('설정_In-Put'!$K:$K,'설정_In-Put'!$C:$C,'1월'!$A44)*24)","v":0},{"$f":"ROUND((SUMIFS('설정_In-Put'!$K:$K,'설정_In-Put'!$C:$C,'1월'!$A44)*24-Q44)*60,0)","v":0},null,null,0,0,{"$f":"IF(SUMIFS('1월'!$AA$26:$AA$56,'1월'!$L$26:$L$56,$L44)+SUMIFS('2월'!$AA$26:$AA$56,'2월'!$L$26:$L$56,$L44)+SUMIFS('3월'!$AA$26:$AA$56,'3월'!$L$26:$L$56,$L44)>3120,1,IF($A44=\"\",\"\",IF(OR($E44=\"일\",$F44<>\"\"),1,0)*IF(S44+T44<>0,1,0)))","v":0},{"$f":"IFERROR(VLOOKUP($A44&1,'설정_In-Put'!$B:$L,11,0)*24,\"\")","v":""},null,null,0,0,0]
["2018-01-20",1,1,20,"토",{"$f":"IFERROR(VLOOKUP($A45,'관리자 Setting'!$K$6:$M$36,3,0),\"\")","v":""},null,null,{"$f":"IFERROR(IF(OR(E45=\"토\",E45=\"일\",F45<>\"\"),\"\",VLOOKUP(A45&0,'설정_In-Put'!$A:$L,6,0)),\"\")","v":""},null,3,3,{"$f":"IFERROR(VLOOKUP($A45,계획서_1분기!$A:$X,13,0),\"\")","v":0},0,{"$f":"IFERROR(VLOOKUP($A45,계획서_1분기!$A:$X,15,0),\"\")","v":0},0,{"$f":"INT(SUMIFS('설정_In-Put'!$K:$K,'설정_In-Put'!$C:$C,'1월'!$A45)*24)","v":0},{"$f":"ROUND((SUMIFS('설정_In-Put'!$K:$K,'설정_In-Put'!$C:$C,'1월'!$A45)*24-Q45)*60,0)","v":0},null,null,0,0,{"$f":"IF(SUMIFS('1월'!$AA$26:$AA$56,'1월'!$L$26:$L$56,$L45)+SUMIFS('2월'!$AA$26:$AA$56,'2월'!$L$26:$L$56,$L45)+SUMIFS('3월'!$AA$26:$AA$56,'3월'!$L$26:$L$56,$L45)>3120,1,IF($A45=\"\",\"\",IF(OR($E45=\"일\",$F45<>\"\"),1,0)*IF(S45+T45<>0,1,0)))","v":0},{"$f":"IFERROR(VLOOKUP($A45&1,'설정_In-Put'!$B:$L,11,0)*24,\"\")","v":""},null,null,0,0,0]
["2018-01-21",0,0,21,"일",{"$f":"IFERROR(VLOOKUP($A46,'관리자 Setting'!$K$6:$M$36,3,0),\"\")","v":""},null,null,{"$f":"IFERROR(IF(OR(E46=\"토\",E46=\"일\",F46<>\"\"),\"\",VLOOKUP(A46&0,'설정_In-Put'!$A:$L,6,0)),\"\")","v":""},null,3,3,{"$f":"IFERROR(VLOOKUP($A46,계획서_1분기!$A:$X,13,0),\"\")","v":0},0,{"$f":"IFERROR(VLOOKUP($A46,계획서_1분기!$A:$X,15,0),\"\")","v":0},0,{"$f":"INT(SUMIFS('설정_In-Put'!$K:$K,'설정_In-Put'!$C:$C,'1월'!$A46)*24)","v":0},{"$f":"ROUND((SUMIFS('설정_In-Put'!$K:$K,'설정_In-Put'!$C:$C,'1월'!$A46)*24-Q46)*60,0)","v":0},null,null,0,0,{"$f":"IF(SUMIFS('1월'!$AA$26:$AA$56,'1월'!$L$26:$L$56,$L46)+SUMIFS('2월'!$AA$26:$AA$56,'2월'!$L$26:$L$56,$L46)+SUMIFS('3월'!$AA$26:$AA$56,'3월'!$L$26:$L$56,$L46)>3120,1,IF($A46=\"\",\"\",IF(OR($E46=\"일\",$F46<>\"\"),1,0)*IF(S46+T46<>0,1,0)))","v":0},{"$f":"IFERROR(VLOOKUP($A46&1,'설정_In-Put'!$B:$L,11,0)*24,\"\")","v":""},null,null,0,0,0]
["2018-01-22",1,1,22,"월",{"$f":"IFERROR(VLOOKUP($A47,'관리자 Setting'!$K$6:$M$36,3,0),\"\")","v":""},null,null,{"$f":"IFERROR(IF(OR(E47=\"토\",E47=\"일\",F47<>\"\"),\"\",VLOOKUP(A47&0,'설정_In-Put'!$A:$L,6,0)),\"\")","v":""},null,4,4,{"$f":"IFERROR(VLOOKUP($A47,계획서_1분기!$A:$X,13,0),\"\")","v":0},0,{"$f":"IFERROR(VLOOKUP($A47,계획서_1분기!$A:$X,15,0),\"\")","v":0},0,{"$f":"INT(SUMIFS('설정_In-Put'!$K:$K,'설정_In-Put'!$C:$C,'1월'!$A47)*24)","v":0},{"$f":"ROUND((SUMIFS('설정_In-Put'!$K:$K,'설정_In-Put'!$C:$C,'1월'!$A47)*24-Q47)*60,0)","v":0},null,null,0,0,{"$f":"IF(SUMIFS('1월'!$AA$26:$AA$56,'1월'!$L$26:$L$56,$L47)+SUMIFS('2월'!$AA$26:$AA$56,'2월'!$L$26:$L$56,$L47)+SUMIFS('3월'!$AA$26:$AA$56,'3월'!$L$26:$L$56,$L47)>3120,1,IF($A47=\"\",\"\",IF(OR($E47=\"일\",$F47<>\"\"),1,0)*IF(S47+T47<>0,1,0)))","v":0},{"$f":"IFERROR(VLOOKUP($A47&1,'설정_In-Put'!$B:$L,11,0)*24,\"\")","v":""},null,null,0,0,0]
["2018-01-23",1,1,23,"화",{"$f":"IFERROR(VLOOKUP($A48,'관리자 Setting'!$K$6:$M$36,3,0),\"\")","v":""},null,null,{"$f":"IFERROR(IF(OR(E48=\"토\",E48=\"일\",F48<>\"\"),\"\",VLOOKUP(A48&0,'설정_In-Put'!$A:$L,6,0)),\"\")","v":""},null,4,4,{"$f":"IFERROR(VLOOKUP($A48,계획서_1분기!$A:$X,13,0),\"\")","v":0},0,{"$f":"IFERROR(VLOOKUP($A48,계획서_1분기!$A:$X,15,0),\"\")","v":0},0,{"$f":"INT(SUMIFS('설정_In-Put'!$K:$K,'설정_In-Put'!$C:$C,'1월'!$A48)*24)","v":0},{"$f":"ROUND((SUMIFS('설정_In-Put'!$K:$K,'설정_In-Put'!$C:$C,'1월'!$A48)*24-Q48)*60,0)","v":0},null,null,0,0,{"$f":"IF(SUMIFS('1월'!$AA$26:$AA$56,'1월'!$L$26:$L$56,$L48)+SUMIFS('2월'!$AA$26:$AA$56,'2월'!$L$26:$L$56,$L48)+SUMIFS('3월'!$AA$26:$AA$56,'3월'!$L$26:$L$56,$L48)>3120,1,IF($A48=\"\",\"\",IF(OR($E48=\"일\",$F48<>\"\"),1,0)*IF(S48+T48<>0,1,0)))","v":0},{"$f":"IFERROR(VLOOKUP($A48&1,'설정_In-Put'!$B:$L,11,0)*24,\"\")","v":""},null,null,0,0,0]
["2018-01-24",1,1,24,"수",{"$f":"IFERROR(VLOOKUP($A49,'관리자 Setting'!$K$6:$M$36,3,0),\"\")","v":""},null,null,{"$f":"IFERROR(IF(OR(E49=\"토\",E49=\"일\",F49<>\"\"),\"\",VLOOKUP(A49&0,'설정_In-Put'!$A:$L,6,0)),\"\")","v":""},null,4,4,{"$f":"IFERROR(VLOOKUP($A49,계획서_1분기!$A:$X,13,0),\"\")","v":0},0,{"$f":"IFERROR(VLOOKUP($A49,계획서_1분기!$A:$X,15,0),\"\")","v":0},0,{"$f":"INT(SUMIFS('설정_In-Put'!$K:$K,'설정_In-Put'!$C:$C,'1월'!$A49)*24)","v":0},{"$f":"ROUND((SUMIFS('설정_In-Put'!$K:$K,'설정_In-Put'!$C:$C,'1월'!$A49)*24-Q49)*60,0)","v":0},null,null,0,0,{"$f":"IF(SUMIFS('1월'!$AA$26:$AA$56,'1월'!$L$26:$L$56,$L49)+SUMIFS('2월'!$AA$26:$AA$56,'2월'!$L$26:$L$56,$L49)+SUMIFS('3월'!$AA$26:$AA$56,'3월'!$L$26:$L$56,$L49)>3120,1,IF($A49=\"\",\"\",IF(OR($E49=\"일\",$F49<>\"\"),1,0)*IF(S49+T49<>0,1,0)))","v":0},{"$f":"IFERROR(VLOOKUP($A49&1,'설정_In-Put'!$B:$L,11,0)*24,\"\")","v":""},null,null,0,0,0]
["2018-01-25",1,1,25,"목",{"$f":"IFERROR(VLOOKUP($A50,'관리자 Setting'!$K$6:$M$36,3,0),\"\")","v":""},null,null,{"$f":"IFERROR(IF(OR(E50=\"토\",E50=\"일\",F50<>\"\"),\"\",VLOOKUP(A50&0,'설정_In-Put'!$A:$L,6,0)),\"\")","v":""},null,4,4,{"$f":"IFERROR(VLOOKUP($A50,계획서_1분기!$A:$X,13,0),\"\")","v":0},0,{"$f":"IFERROR(VLOOKUP($A50,계획서_1분기!$A:$X,15,0),\"\")","v":0},0,{"$f":"INT(SUMIFS('설정_In-Put'!$K:$K,'설정_In-Put'!$C:$C,'1월'!$A50)*24)","v":0},{"$f":"ROUND((SUMIFS('설정_In-Put'!$K:$K,'설정_In-Put'!$C:$C,'1월'!$A50)*24-Q50)*60,0)","v":0},null,null,0,0,{"$f":"IF(SUMIFS('1월'!$AA$26:$AA$56,'1월'!$L$26:$L$56,$L50)+SUMIFS('2월'!$AA$26:$AA$56,'2월'!$L$26:$L$56,$L50)+SUMIFS('3월'!$AA$26:$AA$56,'3월'!$L$26:$L$56,$L50)>3120,1,IF($A50=\"\",\"\",IF(OR($E50=\"일\",$F50<>\"\"),1,0)*IF(S50+T50<>0,1,0)))","v":0},{"$f":"IFERROR(VLOOKUP($A50&1,'설정_In-Put'!$B:$L,11,0)*24,\"\")","v":""},null,null,0,0,0]
["2018-01-26",1,1,26,"금",{"$f":"IFERROR(VLOOKUP($A51,'관리자 Setting'!$K$6:$M$36,3,0),\"\")","v":""},null,null,{"$f":"IFERROR(IF(OR(E51=\"토\",E51=\"일\",F51<>\"\"),\"\",VLOOKUP(A51&0,'설정_In-Put'!$A:$L,6,0)),\"\")","v":""},null,4,4,{"$f":"IFERROR(VLOOKUP($A51,계획서_1분기!$A:$X,13,0),\"\")","v":0},0,{"$f":"IFERROR(VLOOKUP($A51,계획서_1분기!$A:$X,15,0),\"\")","v":0},0,{"$f":"INT(SUMIFS('설정_In-Put'!$K:$K,'설정_In-Put'!$C:$C,'1월'!$A51)*24)","v":0},{"$f":"ROUND((SUMIFS('설정_In-Put'!$K:$K,'설정_In-Put'!$C:$C,'1월'!$A51)*24-Q51)*60,0)","v":0},null,null,0,0,{"$f":"IF(SUMIFS('1월'!$AA$26:$AA$56,'1월'!$L$26:$L$56,$L51)+SUMIFS('2월'!$AA$26:$AA$56,'2월'!$L$26:$L$56,$L51)+SUMIFS('3월'!$AA$26:$AA$56,'3월'!$L$26:$L$56,$L51)>3120,1,IF($A51=\"\",\"\",IF(OR($E51=\"일\",$F51<>\"\"),1,0)*IF(S51+T51<>0,1,0)))","v":0},{"$f":"IFERROR(VLOOKUP($A51&1,'설정_In-Put'!$B:$L,11,0)*24,\"\")","v":""},null,null,0,0,0]
[{"$f":"IF(A51+1>EOMONTH($A$26,0),\"\",A51+1)","v":"2018-01-27"},1,1,27,"토",{"$f":"IFERROR(VLOOKUP($A52,'관리자 Setting'!$K$6:$M$36,3,0),\"\")","v":""},null,null,{"$f":"IFERROR(IF(OR(E52=\"토\",E52=\"일\",F52<>\"\"),\"\",VLOOKUP(A52&0,'설정_In-Put'!$A:$L,6,0)),\"\")","v":""},null,4,4,{"$f":"IFERROR(VLOOKUP($A52,계획서_1분기!$A:$X,13,0),\"\")","v":0},0,{"$f":"IFERROR(VLOOKUP($A52,계획서_1분기!$A:$X,15,0),\"\")","v":0},0,{"$f":"INT(SUMIFS('설정_In-Put'!$K:$K,'설정_In-Put'!$C:$C,'1월'!$A52)*24)","v":0},{"$f":"ROUND((SUMIFS('설정_In-Put'!$K:$K,'설정_In-Put'!$C:$C,'1월'!$A52)*24-Q52)*60,0)","v":0},null,null,0,0,{"$f":"IF(SUMIFS('1월'!$AA$26:$AA$56,'1월'!$L$26:$L$56,$L52)+SUMIFS('2월'!$AA$26:$AA$56,'2월'!$L$26:$L$56,$L52)+SUMIFS('3월'!$AA$26:$AA$56,'3월'!$L$26:$L$56,$L52)>3120,1,IF($A52=\"\",\"\",IF(OR($E52=\"일\",$F52<>\"\"),1,0)*IF(S52+T52<>0,1,0)))","v":0},{"$f":"IFERROR(VLOOKUP($A52&1,'설정_In-Put'!$B:$L,11,0)*24,\"\")","v":""},null,null,0,0,0]
[{"$f":"IFERROR(IF(A52+1>EOMONTH($A$26,0),\"\",A52+1),\"\")","v":"2018-01-28"},0,0,28,"일",{"$f":"IFERROR(VLOOKUP($A53,'관리자 Setting'!$K$6:$M$36,3,0),\"\")","v":""},null,null,{"$f":"IFERROR(IF(OR(E53=\"토\",E53=\"일\",F53<>\"\"),\"\",VLOOKUP(A53&0,'설정_In-Put'!$A:$L,6,0)),\"\")","v":""},null,4,4,{"$f":"IFERROR(VLOOKUP($A53,계획서_1분기!$A:$X,13,0),\"\")","v":0},0,{"$f":"IFERROR(VLOOKUP($A53,계획서_1분기!$A:$X,15,0),\"\")","v":0},0,{"$f":"INT(SUMIFS('설정_In-Put'!$K:$K,'설정_In-Put'!$C:$C,'1월'!$A53)*24)","v":0},{"$f":"ROUND((SUMIFS('설정_In-Put'!$K:$K,'설정_In-Put'!$C:$C,'1월'!$A53)*24-Q53)*60,0)","v":0},null,null,0,0,{"$f":"IF(SUMIFS('1월'!$AA$26:$AA$56,'1월'!$L$26:$L$56,$L53)+SUMIFS('2월'!$AA$26:$AA$56,'2월'!$L$26:$L$56,$L53)+SUMIFS('3월'!$AA$26:$AA$56,'3월'!$L$26:$L$56,$L53)>3120,1,IF($A53=\"\",\"\",IF(OR($E53=\"일\",$F53<>\"\"),1,0)*IF(S53+T53<>0,1,0)))","v":0},{"$f":"IFERROR(VLOOKUP($A53&1,'설정_In-Put'!$B:$L,11,0)*24,\"\")","v":""},null,null,0,0,0]
[{"$f":"IFERROR(IF(A53+1>EOMONTH($A$26,0),\"\",A53+1),\"\")","v":"2018-01-29"},1,1,29,"월",{"$f":"IFERROR(VLOOKUP($A54,'관리자 Setting'!$K$6:$M$36,3,0),\"\")","v":""},null,null,{"$f":"IFERROR(IF(OR(E54=\"토\",E54=\"일\",F54<>\"\"),\"\",VLOOKUP(A54&0,'설정_In-Put'!$A:$L,6,0)),\"\")","v":""},null,5,5,{"$f":"IFERROR(VLOOKUP($A54,계획서_1분기!$A:$X,13,0),\"\")","v":0},0,{"$f":"IFERROR(VLOOKUP($A54,계획서_1분기!$A:$X,15,0),\"\")","v":0},0,{"$f":"INT(SUMIFS('설정_In-Put'!$K:$K,'설정_In-Put'!$C:$C,'1월'!$A54)*24)","v":0},{"$f":"ROUND((SUMIFS('설정_In-Put'!$K:$K,'설정_In-Put'!$C:$C,'1월'!$A54)*24-Q54)*60,0)","v":0},null,null,0,0,{"$f":"IF(SUMIFS('1월'!$AA$26:$AA$56,'1월'!$L$26:$L$56,$L54)+SUMIFS('2월'!$AA$26:$AA$56,'2월'!$L$26:$L$56,$L54)+SUMIFS('3월'!$AA$26:$AA$56,'3월'!$L$26:$L$56,$L54)>3120,1,IF($A54=\"\",\"\",IF(OR($E54=\"일\",$F54<>\"\"),1,0)*IF(S54+T54<>0,1,0)))","v":0},{"$f":"IFERROR(VLOOKUP($A54&1,'설정_In-Put'!$B:$L,11,0)*24,\"\")","v":""},null,null,0,0,0]
[{"$f":"IFERROR(IF(A54+1>EOMONTH($A$26,0),\"\",A54+1),\"\")","v":"2018-01-30"},1,1,30,"화",{"$f":"IFERROR(VLOOKUP($A55,'관리자 Setting'!$K$6:$M$36,3,0),\"\")","v":""},null,null,{"$f":"IFERROR(IF(OR(E55=\"토\",E55=\"일\",F55<>\"\"),\"\",VLOOKUP(A55&0,'설정_In-Put'!$A:$L,6,0)),\"\")","v":""},null,5,5,{"$f":"IFERROR(VLOOKUP($A55,계획서_1분기!$A:$X,13,0),\"\")","v":0},0,{"$f":"IFERROR(VLOOKUP($A55,계획서_1분기!$A:$X,15,0),\"\")","v":0},0,{"$f":"INT(SUMIFS('설정_In-Put'!$K:$K,'설정_In-Put'!$C:$C,'1월'!$A55)*24)","v":0},{"$f":"ROUND((SUMIFS('설정_In-Put'!$K:$K,'설정_In-Put'!$C:$C,'1월'!$A55)*24-Q55)*60,0)","v":0},null,null,0,0,{"$f":"IF(SUMIFS('1월'!$AA$26:$AA$56,'1월'!$L$26:$L$56,$L55)+SUMIFS('2월'!$AA$26:$AA$56,'2월'!$L$26:$L$56,$L55)+SUMIFS('3월'!$AA$26:$AA$56,'3월'!$L$26:$L$56,$L55)>3120,1,IF($A55=\"\",\"\",IF(OR($E55=\"일\",$F55<>\"\"),1,0)*IF(S55+T55<>0,1,0)))","v":0},{"$f":"IFERROR(VLOOKUP($A55&1,'설정_In-Put'!$B:$L,11,0)*24,\"\")","v":""},null,null,0,0,0]
["2018-01-31",1,1,31,"수",{"$f":"IFERROR(VLOOKUP($A56,'관리자 Setting'!$K$6:$M$36,3,0),\"\")","v":""},null,null,{"$f":"IFERROR(IF(OR(E56=\"토\",E56=\"일\",F56<>\"\"),\"\",VLOOKUP(A56&0,'설정_In-Put'!$A:$L,6,0)),\"\")","v":""},null,5,5,{"$f":"IFERROR(VLOOKUP($A56,계획서_1분기!$A:$X,13,0),\"\")","v":0},0,{"$f":"IFERROR(VLOOKUP($A56,계획서_1분기!$A:$X,15,0),\"\")","v":0},0,{"$f":"INT(SUMIFS('설정_In-Put'!$K:$K,'설정_In-Put'!$C:$C,'1월'!$A56)*24)","v":0},{"$f":"ROUND((SUMIFS('설정_In-Put'!$K:$K,'설정_In-Put'!$C:$C,'1월'!$A56)*24-Q56)*60,0)","v":0},null,null,0,0,{"$f":"IF(SUMIFS('1월'!$AA$26:$AA$56,'1월'!$L$26:$L$56,$L56)+SUMIFS('2월'!$AA$26:$AA$56,'2월'!$L$26:$L$56,$L56)+SUMIFS('3월'!$AA$26:$AA$56,'3월'!$L$26:$L$56,$L56)>3120,1,IF($A56=\"\",\"\",IF(OR($E56=\"일\",$F56<>\"\"),1,0)*IF(S56+T56<>0,1,0)))","v":0},{"$f":"IFERROR(VLOOKUP($A56&1,'설정_In-Put'!$B:$L,11,0)*24,\"\")","v":""},null,null,0,0,0]

{"sheet":"2월","index":5,"n_rows":56,"n_cols":30,"rows_kept":56,"merged":[[1,3,2,5],[1,6,2,20],[1,21,2,23],[4,3,5,3],[4,4,5,6],[4,7,5,8],[4,9,5,11],[4,12,5,13],[4,14,5,15],[4,16,5,17],[4,18,5,19],[4,20,5,21],[4,22,5,23],[7,3,7,23],[8,3,8,4],[8,5,8,9],[8,10,8,12],[8,13,8,14],[8,15,8,16],[8,17,8,18],[8,20,8,23],[9,3,9,4],[9,5,9,7],[9,8,9,9],[9,10,9,12],[9,13,9,14],[9,15,9,16],[9,17,9,18],[9,20,9,23],[10,3,10,4],[10,5,10,7],[10,8,10,9],[10,10,10,12],[10,13,10,14],[10,15,10,16],[10,17,10,18],[10,19,10,23],[11,3,11,4],[11,5,11,7],[11,8,11,9],[11,10,11,12],[11,13,11,14],[11,15,11,16],[11,17,11,18],[11,20,11,23],[13,3,13,23],[14,3,15,4],[14,5,15,9],[14,10,14,13],[14,14,14,17],[14,18,15,18],[14,19,15,23],[15,10,15,11],[15,12,15,13],[15,14,15,15],[15,16,15,17],[16,3,16,4],[16,5,16,7],[16,8,16,9],[16,10,16,11],[16,12,16,13],[16,14,16,15],[16,16,16,17],[16,19,16,23],[17,3,17,4],[17,5,17,7],[17,8,17,9],[17,10,17,11],[17,12,17,13],[17,14,17,15],[17,16,17,17],[17,19,17,23],[18,3,18,4],[18,5,18,7],[18,8,18,9],[18,10,18,11],[18,12,18,13],[18,14,18,15],[18,16,18,17],[18,19,18,23],[20,3,20,23],[21,3,23,3],[21,4,23,4],[21,5,23,7],[21,8,23,9],[21,10,23,10],[21,11,23,11],[21,12,21,15],[21,16,22,17],[21,18,21,21],[21,22,23,22],[21,23,23,23],[22,12,22,13],[22,14,22,15],[22,18,22,19],[22,20,22,21],[25,5,25,7],[25,8,25,9],[26,5,26,7],[26,8,26,9],[27,5,27,7],[27,8,27,9],[28,5,28,7],[28,8,28,9],[29,5,29,7],[29,8,29,9],[30,5,30,7],[30,8,30,9],[31,5,31,7],[31,8,31,9],[32,5,32,7],[32,8,32,9],[33,5,33,7],[33,8,33,9],[34,5,34,7],[34,8,34,9],[35,5,35,7],[35,8,35,9],[36,5,36,7],[36,8,36,9],[37,5,37,7],[37,8,37,9],[38,5,38,7],[38,8,38,9],[39,5,39,7],[39,8,39,9],[40,5,40,7],[40,8,40,9],[41,5,41,7],[41,8,41,9],[42,5,42,7],[42,8,42,9],[43,5,43,7],[43,8,43,9],[44,5,44,7],[44,8,44,9],[45,5,45,7],[45,8,45,9],[46,5,46,7],[46,8,46,9],[47,5,47,7],[47,8,47,9],[48,5,48,7],[48,8,48,9],[49,5,49,7],[49,8,49,9],[50,5,50,7],[50,8,50,9],[51,5,51,7],[51,8,51,9],[52,5,52,7],[52,8,52,9],[53,5,53,7],[53,8,53,9],[54,5,54,7],[54,8,54,9],[55,5,55,7],[55,8,55,9]]}
[]
[{"$nulls":3},"전월",null,null,{"$f":"'관리자 Setting'!$R$3&\"년 \"&TEXT($A$6,\"00월 근태 현황 (\")&$B$6&\"분기)\"","v":"2018년 02월 근태 현황 (1분기)"},{"$nulls":14},"익월"]
[]
[]
["월","분기",null,"소속","무한도전",null,null,"부서명",null,{"$f":"계획서_1분기!$J$5","v":"무한본부"},null,null,"직급",null,{"$f":"계획서_1분기!$O$5","v":"1급"},null,"ERP 사번",null,{"$f":"계획서_1분기!$S$5","v":"0002"},null,"성명",null,{"$f":"IF(계획서_1분기!W5=0,\"\",계획서_1분기!W5)","v":"박명수"}]
[2,1]
[]
[{"$nulls":3},"───────────────　　분　기　근　무　현　황　　───────────────"]
[{"$nulls":3},"구분",null,"규정 및 참조",{"$nulls":4},"합계/평균",null,null,{"v":1,"d":"1월"},null,{"v":2,"d":"2월"},null,{"v":3,"d":"3월"},null,"CHK","비고",{"$nulls":5},"합/평",1,2,3]
[{"$nulls":3},"전체 근로",{"$nulls":6},{"$f":"INT(AA10/60)&\"시간 \"&TEXT(ROUND((AA10/60-INT(AA10/60))*60,0),\"00분\")","v":"0시간 00분"},null,null,{"$f":"INT(AB10/60)&\"시간 \"&TEXT(ROUND((AB10/60-INT(AB10/60))*60,0),\"00분\")","v":"0시간 00분"},null,{"$f":"INT(AC10/60)&\"시간 \"&TEXT(ROUND((AC10/60-INT(AC10/60))*60,0),\"00분\")","v":"0시간 00분"},{"$nulls":10},{"$f":"SUM(AB10:AD10)","v":0},{"$f":"'1월'!O17*60+'1월'!Q17","v":0},{"$f":"'2월'!O17*60+'2월'!Q17","v":0}]
[{"$nulls":3},"정규 근로",null,"분기 필수 합계",null,null,{"$f":"IFERROR(VLOOKUP($B$6,'관리자 Setting'!$O$6:$R$10,2,0),\"\")","v":{"v":488,"d":"488 시간"}},null,"0시간 00분",null,null,{"$f":"INT(AB11/60)&\"시간 \"&TEXT(ROUND((AB11/60-INT(AB11/60))*60,0),\"00분\")","v":"0시간 00분"},null,{"$f":"INT(AC11/60)&\"시간 \"&TEXT(ROUND((AC11/60-INT(AC11/60))*60,0),\"00분\")","v":"0시간 00분"},{"$nulls":3},{"$f":"IF(I11*60>AA11,\"분기 필수 \"&INT((I11*60-AA11)/60)&\"시간 \"&TEXT(ROUND(((I11*60-AA11)/60-INT((I11*60-AA11)/60))*60,0),\"00분 남음\"),\"\")","v":"분기 필수 488시간 00분 남음"},{"$nulls":6},{"$f":"SUM(AB11:AD11)","v":0},{"$f":"'1월'!O18*60+'1월'!Q18","v":0},{"$f":"'2월'!O18*60+'2월'!Q18","v":0}]
[{"$nulls":3},"연장 근로",null,"월 평균 연장 근로",null,null,{"$f":"IFERROR(VLOOKUP($W$5,'관리자 Setting'!$C$3:$G$53,5,0),\"\")","v":{"v":35,"d":"35 시간"}},null,"0시간 00분",null,null,{"$f":"INT(AB12/60)&\"시간 \"&TEXT(ROUND((AB12/60-INT(AB12/60))*60,0),\"00분\")","v":"0시간 00분"},null,{"$f":"INT(AC12/60)&\"시간 \"&TEXT(ROUND((AC12/60-INT(AC12/60))*60,0),\"00분\")","v":"0시간 00분"},{"$nulls":3},{"$f":"IF(OR($I$12*60<AA12,$I$12*60<AB12,$I$12*60<AC12),1,0)","v":0},{"$f":"IF(T12=1,\"연장 근로 한도 초과\",\"\")","v":""},{"$nulls":5},{"$f":"AVERAGE(AB12:AD12)","v":0},{"$f":"'1월'!O19*60+'1월'!Q19","v":0},{"$f":"'2월'!O19*60+'2월'!Q19","v":0}]
[]
[{"$nulls":3},"───────────────　　월　근　무　현　황　　───────────────"]
[{"$nulls":3},"구분",null,"규정 및 참조",{"$nulls":4},"근무 계획",{"$nulls":3},"근무 조정",{"$nulls":3},"CHK","비고"]
[{"$nulls":10},"시간",null,"분",null,"시간",null,"분"]
[{"$nulls":3},"전체 근로",{"$nulls":6},{"$f":"M25+O25","v":0},null,"분",null,{"$f":"Q25+X25","v":0},null,{"$f":"R25","v":{"v":0,"d":"0 분"}}]
[{"$nulls":3},"정규 근로",{"$nulls":6},{"$f":"M25","v":0},null,"분",null,{"$f":"S25+X25","v":0},null,{"$f":"T25","v":{"v":0,"d":"0 분"}}]
[{"$nulls":3},"연장 근로",null,"월 연장 근로 한도",null,null,{"$f":"IFERROR(VLOOKUP($W$5,'관리자 Setting'!$C$3:$G$53,5,0),\"\")","v":{"v":35,"d":"35 시간"}},null,{"$f":"O25","v":0},null,"분",null,{"$f":"U25","v":0},null,{"$f":"V25","v":{"v":0,"d":"0 분"}},null,{"$f":"IF($W$5=\"\",\"\",IF(I19*60<O19*60+Q19,1,0))","v":0},{"$f":"IF(S19=1,\"연장 근로 한도 시간 초과\",\"\")","v":""}]
[]
[{"$nulls":3},"───────────────　　일　/　주　간　근　무　현　황　　───────────────"]
[{"$nulls":3},"날짜","요일","참고",null,null,"상태",null,"주","주차","근무 계획",{"$nulls":3},"실\n근무시간",null,"조정",{"$nulls":3},"CHK","비고\n근무\n반영"]
[{"$nulls":12},"정규근로",null,"연장근로",{"$nulls":3},"정규근로",null,"연장근로"]
[{"$nulls":12},"시간","분","시간","분","시간","분","시간","분","시간","분",{"$nulls":4},"반영","실","연장"]
[{"$nulls":12},{"$f":"SUM(M26:M56)","v":0},0,{"$f":"SUM(O26:O56)","v":0},0,{"$f":"SUM(Q26:Q56)+INT(SUM(R26:R56)/60)","v":0},{"$f":"(SUM(R26:R56)/60-INT(SUM(R26:R56)/60))*60","v":0},{"$f":"SUM(S26:S56)+INT(SUM(T26:T56)/60)","v":0},{"$f":"(SUM(T26:T56)/60-INT(SUM(T26:T56)/60))*60","v":0},{"$f":"SUM(U26:U56)+INT(SUM(V26:V56)/60)","v":0},{"$f":"(SUM(V26:V56)/60-INT(SUM(V26:V56)/60))*60","v":0},null,{"$f":"SUM(X26:X56)","v":0}]
[{"$f":"DATE('관리자 Setting'!$R$3,$A$6,1)","v":"2018-02-01"},{"$f":"IF(OR($E26=\"일\",$F26<>\"\"),0,1)","v":1},{"$f":"IF(OR($E26=\"일\",$F26<>\"\"),0,1)","v":1},1,{"$f":"TEXT($A26,\"AAA\")","v":"목"},{"$f":"IFERROR(VLOOKUP($A26,'관리자 Setting'!$K$6:$M$36,3,0),\"\")","v":""},null,null,{"$f":"IFERROR(IF(OR(E26=\"토\",E26=\"일\",F26<>\"\"),\"\",VLOOKUP(A26&0,'설정_In-Put'!$A:$L,6,0)),\"\")","v":""},null,{"$f":"IFERROR(L26-WEEKNUM(A26-D26+1)+1,\"\")","v":1},{"$f":"IFERROR(WEEKNUM(A26,2),\"\")","v":5},{"$f":"IFERROR(VLOOKUP($A26,계획서_1분기!$A:$X,13,0),\"\")","v":0},0,{"$f":"IFERROR(VLOOKUP($A26,계획서_1분기!$A:$X,15,0),\"\")","v":0},0,{"$f":"INT(SUMIFS('설정_In-Put'!$K:$K,'설정_In-Put'!$C:$C,$A26)*24)","v":0},{"$f":"ROUND((SUMIFS('설정_In-Put'!$K:$K,'설정_In-Put'!$C:$C,$A26)*24-Q26)*60,0)","v":0},null,null,{"$f":"INT(((Q26*60+R26)-(S26*60+T26))/60)","v":0},{"$f":"(((Q26*60+R26)-(S26*60+T26))/60-U26)*60","v":0},{"$f":"IF(SUMIFS('1월'!$AA$26:$AA$56,'1월'!$L$26:$L$56,$L26)+SUMIFS('2월'!$AA$26:$AA$56,'2월'!$L$26:$L$56,$L26)+SUMIFS('3월'!$AA$26:$AA$56,'3월'!$L$26:$L$56,$L26)>3120,1,IF($A26=\"\",\"\",IF(OR($E26=\"일\",$F26<>\"\"),1,0)*IF(S26+T26<>0,1,0)))","v":0},{"$f":"IFERROR(VLOOKUP($A26&1,'설정_In-Put'!$B:$L,11,0)*24,\"\")","v":""},null,null,{"$f":"SUM(S26,X26)*60+T26","v":0},{"$f":"S26*60+T26","v":0},{"$f":"U26*60+V26","v":0}]
[{"$f":"A26+1","v":"2018-02-02"},1,1,2,"금",{"$f":"IFERROR(VLOOKUP($A27,'관리자 Setting'!$K$6:$M$36,3,0),\"\")","v":""},null,null,{"$f":"IFERROR(IF(OR(E27=\"토\",E27=\"일\",F27<>\"\"),\"\",VLOOKUP(A27&0,'설정_In-Put'!$A:$L,6,0)),\"\")","v":""},null,1,5,{"$f":"IFERROR(VLOOKUP($A27,계획서_1분기!$A:$X,13,0),\"\")","v":0},0,{"$f":"IFERROR(VLOOKUP($A27,계획서_1분기!$A:$X,15,0),\"\")","v":0},0,{"$f":"INT(SUMIFS('설정_In-Put'!$K:$K,'설정_In-Put'!$C:$C,$A27)*24)","v":0},{"$f":"ROUND((SUMIFS('설정_In-Put'!$K:$K,'설정_In-Put'!$C:$C,$A27)*24-Q27)*60,0)","v":0},null,null,0,0,{"$f":"IF(SUMIFS('1월'!$AA$26:$AA$56,'1월'!$L$26:$L$56,$L27)+SUMIFS('2월'!$AA$26:$AA$56,'2월'!$L$26:$L$56,$L27)+SUMIFS('3월'!$AA$26:$AA$56,'3월'!$L$26:$L$56,$L27)>3120,1,IF($A27=\"\",\"\",IF(OR($E27=\"일\",$F27<>\"\"),1,0)*IF(S27+T27<>0,1,0)))","v":0},{"$f":"IFERROR(VLOOKUP($A27&1,'설정_In-Put'!$B:$L,11,0)*24,\"\")","v":""},null,null,{"$f":"SUM(S27,X27)*60+T27","v":0},{"$f":"S27*60+T27","v":0},{"$f":"U27*60+V27","v":0}]
[{"$f":"A27+1","v":"2018-02-03"},1,1,3,"토",{"$f":"IFERROR(VLOOKUP($A28,'관리자 Setting'!$K$6:$M$36,3,0),\"\")","v":""},null,null,{"$f":"IFERROR(IF(OR(E28=\"토\",E28=\"일\",F28<>\"\"),\"\",VLOOKUP(A28&0,'설정_In-Put'!$A:$L,6,0)),\"\")","v":""},null,1,5,{"$f":"IFERROR(VLOOKUP($A28,계획서_1분기!$A:$X,13,0),\"\")","v":0},0,{"$f":"IFERROR(VLOOKUP($A28,계획서_1분기!$A:$X,15,0),\"\")","v":0},0,{"$f":"INT(SUMIFS('설정_In-Put'!$K:$K,'설정_In-Put'!$C:$C,$A28)*24)","v":0},{"$f":"ROUND((SUMIFS('설정_In-Put'!$K:$K,'설정_In-Put'!$C:$C,$A28)*24-Q28)*60,0)","v":0},null,null,0,0,{"$f":"IF(SUMIFS('1월'!$AA$26:$AA$56,'1월'!$L$26:$L$56,$L28)+SUMIFS('2월'!$AA$26:$AA$56,'2월'!$L$26:$L$56,$L28)+SUMIFS('3월'!$AA$26:$AA$56,'3월'!$L$26:$L$56,$L28)>3120,1,IF($A28=\"\",\"\",IF(OR($E28=\"일\",$F28<>\"\"),1,0)*IF(S28+T28<>0,1,0)))","v":0},{"$f":"IFERROR(VLOOKUP($A28&1,'설정_In-Put'!$B:$L,11,0)*24,\"\")","v":""},null,null,0,0,0]
["2018-02-04",0,0,4,"일",{"$f":"IFERROR(VLOOKUP($A29,'관리자 Setting'!$K$6:$M$36,3,0),\"\")","v":""},null,null,{"$f":"IFERROR(IF(OR(E29=\"토\",E29=\"일\",F29<>\"\"),\"\",VLOOKUP(A29&0,'설정_In-Put'!$A:$L,6,0)),\"\")","v":""},null,1,5,{"$f":"IFERROR(VLOOKUP($A29,계획서_1분기!$A:$X,13,0),\"\")","v":0},0,{"$f":"IFERROR(VLOOKUP($A29,계획서_1분기!$A:$X,15,0),\"\")","v":0},0,{"$f":"INT(SUMIFS('설정_In-Put'!$K:$K,'설정_In-Put'!$C:$C,$A29)*24)","v":0},{"$f":"ROUND((SUMIFS('설정_In-Put'!$K:$K,'설정_In-Put'!$C:$C,$A29)*24-Q29)*60,0)","v":0},null,null,0,0,{"$f":"IF(SUMIFS('1월'!$AA$26:$AA$56,'1월'!$L$26:$L$56,$L29)+SUMIFS('2월'!$AA$26:$AA$56,'2월'!$L$26:$L$56,$L29)+SUMIFS('3월'!$AA$26:$AA$56,'3월'!$L$26:$L$56,$L29)>3120,1,IF($A29=\"\",\"\",IF(OR($E29=\"일\",$F29<>\"\"),1,0)*IF(S29+T29<>0,1,0)))","v":0},{"$f":"IFERROR(VLOOKUP($A29&1,'설정_In-Put'!$B:$L,11,0)*24,\"\")","v":""},null,null,0,0,0]
["2018-02-05",1,1,5,"월",{"$f":"IFERROR(VLOOKUP($A30,'관리자 Setting'!$K$6:$M$36,3,0),\"\")","v":""},null,null,{"$f":"IFERROR(IF(OR(E30=\"토\",E30=\"일\",F30<>\"\"),\"\",VLOOKUP(A30&0,'설정_In-Put'!$A:$L,6,0)),\"\")","v":""},null,2,6,{"$f":"IFERROR(VLOOKUP($A30,계획서_1분기!$A:$X,13,0),\"\")","v":0},0,{"$f":"IFERROR(VLOOKUP($A30,계획서_1분기!$A:$X,15,0),\"\")","v":0},0,{"$f":"INT(SUMIFS('설정_In-Put'!$K:$K,'설정_In-Put'!$C:$C,$A30)*24)","v":0},{"$f":"ROUND((SUMIFS('설정_In-Put'!$K:$K,'설정_In-Put'!$C:$C,$A30)*24-Q30)*60,0)","v":0},null,null,0,0,{"$f":"IF(SUMIFS('1월'!$AA$26:$AA$56,'1월'!$L$26:$L$56,$L30)+SUMIFS('2월'!$AA$26:$AA$56,'2월'!$L$26:$L$56,$L30)+SUMIFS('3월'!$AA$26:$AA$56,'3월'!$L$26:$L$56,$L30)>3120,1,IF($A30=\"\",\"\",IF(OR($E30=\"일\",$F30<>\"\"),1,0)*IF(S30+T30<>0,1,0)))","v":0},{"$f":"IFERROR(VLOOKUP($A30&1,'설정_In-Put'!$B:$L,11,0)*24,\"\")","v":""},null,null,0,0,0]
["2018-02-06",1,1,6,"화",{"$f":"IFERROR(VLOOKUP($A31,'관리자 Setting'!$K$6:$M$36,3,0),\"\")","v":""},null,null,{"$f":"IFERROR(IF(OR(E31=\"토\",E31=\"일\",F31<>\"\"),\"\",VLOOKUP(A31&0,'설정_In-Put'!$A:$L,6,0)),\"\")","v":""},null,2,6,{"$f":"IFERROR(VLOOKUP($A31,계획서_1분기!$A:$X,13,0),\"\")","v":0},0,{"$f":"IFERROR(VLOOKUP($A31,계획서_1분기!$A:$X,15,0),\"\")","v":0},0,{"$f":"INT(SUMIFS('설정_In-Put'!$K:$K,'설정_In-Put'!$C:$C,$A31)*24)","v":0},{"$f":"ROUND((SUMIFS('설정_In-Put'!$K:$K,'설정_In-Put'!$C:$C,$A31)*24-Q31)*60,0)","v":0},null,null,0,0,{"$f":"IF(SUMIFS('1월'!$AA$26:$AA$56,'1월'!$L$26:$L$56,$L31)+SUMIFS('2월'!$AA$26:$AA$56,'2월'!$L$26:$L$56,$L31)+SUMIFS('3월'!$AA$26:$AA$56,'3월'!$L$26:$L$56,$L31)>3120,1,IF($A31=\"\",\"\",IF(OR($E31=\"일\",$F31<>\"\"),1,0)*IF(S31+T31<>0,1,0)))","v":0},{"$f":"IFERROR(VLOOKUP($A31&1,'설정_In-Put'!$B:$L,11,0)*24,\"\")","v":""},null,null,0,0,0]
["2018-02-07",1,1,7,"수",{"$f":"IFERROR(VLOOKUP($A32,'관리자 Setting'!$K$6:$M$36,3,0),\"\")","v":""},null,null,{"$f":"IFERROR(IF(OR(E32=\"토\",E32=\"일\",F32<>\"\"),\"\",VLOOKUP(A32&0,'설정_In-Put'!$A:$L,6,0)),\"\")","v":""},null,2,6,{"$f":"IFERROR(VLOOKUP($A32,계획서_1분기!$A:$X,13,0),\"\")","v":0},0,{"$f":"IFERROR(VLOOKUP($A32,계획서_1분기!$A:$X,15,0),\"\")","v":0},0,{"$f":"INT(SUMIFS('설정_In-Put'!$K:$K,'설정_In-Put'!$C:$C,$A32)*24)","v":0},{"$f":"ROUND((SUMIFS('설정_In-Put'!$K:$K,'설정_In-Put'!$C:$C,$A32)*24-Q32)*60,0)","v":0},null,null,0,0,{"$f":"IF(SUMIFS('1월'!$AA$26:$AA$56,'1월'!$L$26:$L$56,$L32)+SUMIFS('2월'!$AA$26:$AA$56,'2월'!$L$26:$L$56,$L32)+SUMIFS('3월'!$AA$26:$AA$56,'3월'!$L$26:$L$56,$L32)>3120,1,IF($A32=\"\",\"\",IF(OR($E32=\"일\",$F32<>\"\"),1,0)*IF(S32+T32<>0,1,0)))","v":0},{"$f":"IFERROR(VLOOKUP($A32&1,'설정_In-Put'!$B:$L,11,0)*24,\"\")","v":""},null,null,0,0,0]
["2018-02-08",1,1,8,"목",{"$f":"IFERROR(VLOOKUP($A33,'관리자 Setting'!$K$6:$M$36,3,0),\"\")","v":""},null,null,{"$f":"IFERROR(IF(OR(E33=\"토\",E33=\"일\",F33<>\"\"),\"\",VLOOKUP(A33&0,'설정_In-Put'!$A:$L,6,0)),\"\")","v":""},null,2,6,{"$f":"IFERROR(VLOOKUP($A33,계획서_1분기!$A:$X,13,0),\"\")","v":0},0,{"$f":"IFERROR(VLOOKUP($A33,계획서_1분기!$A:$X,15,0),\"\")","v":0},0,{"$f":"INT(SUMIFS('설정_In-Put'!$K:$K,'설정_In-Put'!$C:$C,$A33)*24)","v":0},{"$f":"ROUND((SUMIFS('설정_In-Put'!$K:$K,'설정_In-Put'!$C:$C,$A33)*24-Q33)*60,0)","v":0},null,null,0,0,{"$f":"IF(SUMIFS('1월'!$AA$26:$AA$56,'1월'!$L$26:$L$56,$L33)+SUMIFS('2월'!$AA$26:$AA$56,'2월'!$L$26:$L$56,$L33)+SUMIFS('3월'!$AA$26:$AA$56,'3월'!$L$26:$L$56,$L33)>3120,1,IF($A33=\"\",\"\",IF(OR($E33=\"일\",$F33<>\"\"),1,0)*IF(S33+T33<>0,1,0)))","v":0},{"$f":"IFERROR(VLOOKUP($A33&1,'설정_In-Put'!$B:$L,11,0)*24,\"\")","v":""},null,null,0,0,0]
["2018-02-09",1,1,9,"금",{"$f":"IFERROR(VLOOKUP($A34,'관리자 Setting'!$K$6:$M$36,3,0),\"\")","v":""},null,null,{"$f":"IFERROR(IF(OR(E34=\"토\",E34=\"일\",F34<>\"\"),\"\",VLOOKUP(A34&0,'설정_In-Put'!$A:$L,6,0)),\"\")","v":""},null,2,6,{"$f":"IFERROR(VLOOKUP($A34,계획서_1분기!$A:$X,13,0),\"\")","v":0},0,{"$f":"IFERROR(VLOOKUP($A34,계획서_1분기!$A:$X,15,0),\"\")","v":0},0,{"$f":"INT(SUMIFS('설정_In-Put'!$K:$K,'설정_In-Put'!$C:$C,$A34)*24)","v":0},{"$f":"ROUND((SUMIFS('설정_In-Put'!$K:$K,'설정_In-Put'!$C:$C,$A34)*24-Q34)*60,0)","v":0},null,null,0,0,{"$f":"IF(SUMIFS('1월'!$AA$26:$AA$56,'1월'!$L$26:$L$56,$L34)+SUMIFS('2월'!$AA$26:$AA$56,'2월'!$L$26:$L$56,$L34)+SUMIFS('3월'!$AA$26:$AA$56,'3월'!$L$26:$L$56,$L34)>3120,1,IF($A34=\"\",\"\",IF(OR($E34=\"일\",$F34<>\"\"),1,0)*IF(S34+T34<>0,1,0)))","v":0},{"$f":"IFERROR(VLOOKUP($A34&1,'설정_In-Put'!$B:$L,11,0)*24,\"\")","v":""},null,null,0,0,0]
["2018-02-10",1,1,10,"토",{"$f":"IFERROR(VLOOKUP($A35,'관리자 Setting'!$K$6:$M$36,3,0),\"\")","v":""},null,null,{"$f":"IFERROR(IF(OR(E35=\"토\",E35=\"일\",F35<>\"\"),\"\",VLOOKUP(A35&0,'설정_In-Put'!$A:$L,6,0)),\"\")","v":""},null,2,6,{"$f":"IFERROR(VLOOKUP($A35,계획서_1분기!$A:$X,13,0),\"\")","v":0},0,{"$f":"IFERROR(VLOOKUP($A35,계획서_1분기!$A:$X,15,0),\"\")","v":0},0,{"$f":"INT(SUMIFS('설정_In-Put'!$K:$K,'설정_In-Put'!$C:$C,$A35)*24)","v":0},{"$f":"ROUND((SUMIFS('설정_In-Put'!$K:$K,'설정_In-Put'!$C:$C,$A35)*24-Q35)*60,0)","v":0},null,null,0,0,{"$f":"IF(SUMIFS('1월'!$AA$26:$AA$56,'1월'!$L$26:$L$56,$L35)+SUMIFS('2월'!$AA$26:$AA$56,'2월'!$L$26:$L$56,$L35)+SUMIFS('3월'!$AA$26:$AA$56,'3월'!$L$26:$L$56,$L35)>3120,1,IF($A35=\"\",\"\",IF(OR($E35=\"일\",$F35<>\"\"),1,0)*IF(S35+T35<>0,1,0)))","v":0},{"$f":"IFERROR(VLOOKUP($A35&1,'설정_In-Put'!$B:$L,11,0)*24,\"\")","v":""},null,null,0,0,0]
["2018-02-11",0,0,11,"일",{"$f":"IFERROR(VLOOKUP($A36,'관리자 Setting'!$K$6:$M$36,3,0),\"\")","v":""},null,null,{"$f":"IFERROR(IF(OR(E36=\"토\",E36=\"일\",F36<>\"\"),\"\",VLOOKUP(A36&0,'설정_In-Put'!$A:$L,6,0)),\"\")","v":""},null,2,6,{"$f":"IFERROR(VLOOKUP($A36,계획서_1분기!$A:$X,13,0),\"\")","v":0},0,{"$f":"IFERROR(VLOOKUP($A36,계획서_1분기!$A:$X,15,0),\"\")","v":0},0,{"$f":"INT(SUMIFS('설정_In-Put'!$K:$K,'설정_In-Put'!$C:$C,$A36)*24)","v":0},{"$f":"ROUND((SUMIFS('설정_In-Put'!$K:$K,'설정_In-Put'!$C:$C,$A36)*24-Q36)*60,0)","v":0},null,null,0,0,{"$f":"IF(SUMIFS('1월'!$AA$26:$AA$56,'1월'!$L$26:$L$56,$L36)+SUMIFS('2월'!$AA$26:$AA$56,'2월'!$L$26:$L$56,$L36)+SUMIFS('3월'!$AA$26:$AA$56,'3월'!$L$26:$L$56,$L36)>3120,1,IF($A36=\"\",\"\",IF(OR($E36=\"일\",$F36<>\"\"),1,0)*IF(S36+T36<>0,1,0)))","v":0},{"$f":"IFERROR(VLOOKUP($A36&1,'설정_In-Put'!$B:$L,11,0)*24,\"\")","v":""},null,null,0,0,0]
["2018-02-12",1,1,12,"월",{"$f":"IFERROR(VLOOKUP($A37,'관리자 Setting'!$K$6:$M$36,3,0),\"\")","v":""},null,null,{"$f":"IFERROR(IF(OR(E37=\"토\",E37=\"일\",F37<>\"\"),\"\",VLOOKUP(A37&0,'설정_In-Put'!$A:$L,6,0)),\"\")","v":""},null,3,7,{"$f":"IFERROR(VLOOKUP($A37,계획서_1분기!$A:$X,13,0),\"\")","v":0},0,{"$f":"IFERROR(VLOOKUP($A37,계획서_1분기!$A:$X,15,0),\"\")","v":0},0,{"$f":"INT(SUMIFS('설정_In-Put'!$K:$K,'설정_In-Put'!$C:$C,$A37)*24)","v":0},{"$f":"ROUND((SUMIFS('설정_In-Put'!$K:$K,'설정_In-Put'!$C:$C,$A37)*24-Q37)*60,0)","v":0},null,null,0,0,{"$f":"IF(SUMIFS('1월'!$AA$26:$AA$56,'1월'!$L$26:$L$56,$L37)+SUMIFS('2월'!$AA$26:$AA$56,'2월'!$L$26:$L$56,$L37)+SUMIFS('3월'!$AA$26:$AA$56,'3월'!$L$26:$L$56,$L37)>3120,1,IF($A37=\"\",\"\",IF(OR($E37=\"일\",$F37<>\"\"),1,0)*IF(S37+T37<>0,1,0)))","v":0},{"$f":"IFERROR(VLOOKUP($A37&1,'설정_In-Put'!$B:$L,11,0)*24,\"\")","v":""},null,null,0,0,0]
["2018-02-13",1,1,13,"화",{"$f":"IFERROR(VLOOKUP($A38,'관리자 Setting'!$K$6:$M$36,3,0),\"\")","v":""},null,null,{"$f":"IFERROR(IF(OR(E38=\"토\",E38=\"일\",F38<>\"\"),\"\",VLOOKUP(A38&0,'설정_In-Put'!$A:$L,6,0)),\"\")","v":""},null,3,7,{"$f":"IFERROR(VLOOKUP($A38,계획서_1분기!$A:$X,13,0),\"\")","v":0},0,{"$f":"IFERROR(VLOOKUP($A38,계획서_1분기!$A:$X,15,0),\"\")","v":0},0,{"$f":"INT(SUMIFS('설정_In-Put'!$K:$K,'설정_In-Put'!$C:$C,$A38)*24)","v":0},{"$f":"ROUND((SUMIFS('설정_In-Put'!$K:$K,'설정_In-Put'!$C:$C,$A38)*24-Q38)*60,0)","v":0},null,null,0,0,{"$f":"IF(SUMIFS('1월'!$AA$26:$AA$56,'1월'!$L$26:$L$56,$L38)+SUMIFS('2월'!$AA$26:$AA$56,'2월'!$L$26:$L$56,$L38)+SUMIFS('3월'!$AA$26:$AA$56,'3월'!$L$26:$L$56,$L38)>3120,1,IF($A38=\"\",\"\",IF(OR($E38=\"일\",$F38<>\"\"),1,0)*IF(S38+T38<>0,1,0)))","v":0},{"$f":"IFERROR(VLOOKUP($A38&1,'설정_In-Put'!$B:$L,11,0)*24,\"\")","v":""},null,null,0,0,0]
["2018-02-14",1,1,14,"수",{"$f":"IFERROR(VLOOKUP($A39,'관리자 Setting'!$K$6:$M$36,3,0),\"\")","v":""},null,null,{"$f":"IFERROR(IF(OR(E39=\"토\",E39=\"일\",F39<>\"\"),\"\",VLOOKUP(A39&0,'설정_In-Put'!$A:$L,6,0)),\"\")","v":""},null,3,7,{"$f":"IFERROR(VLOOKUP($A39,계획서_1분기!$A:$X,13,0),\"\")","v":0},0,{"$f":"IFERROR(VLOOKUP($A39,계획서_1분기!$A:$X,15,0),\"\")","v":0},0,{"$f":"INT(SUMIFS('설정_In-Put'!$K:$K,'설정_In-Put'!$C:$C,$A39)*24)","v":0},{"$f":"ROUND((SUMIFS('설정_In-Put'!$K:$K,'설정_In-Put'!$C:$C,$A39)*24-Q39)*60,0)","v":0},null,null,0,0,{"$f":"IF(SUMIFS('1월'!$AA$26:$AA$56,'1월'!$L$26:$L$56,$L39)+SUMIFS('2월'!$AA$26:$AA$56,'2월'!$L$26:$L$56,$L39)+SUMIFS('3월'!$AA$26:$AA$56,'3월'!$L$26:$L$56,$L39)>3120,1,IF($A39=\"\",\"\",IF(OR($E39=\"일\",$F39<>\"\"),1,0)*IF(S39+T39<>0,1,0)))","v":0},{"$f":"IFERROR(VLOOKUP($A39&1,'설정_In-Put'!$B:$L,11,0)*24,\"\")","v":""},null,null,0,0,0]
["2018-02-15",0,0,15,"목",{"$f":"IFERROR(VLOOKUP($A40,'관리자 Setting'!$K$6:$M$36,3,0),\"\")","v":"구정연휴"},null,null,{"$f":"IFERROR(IF(OR(E40=\"토\",E40=\"일\",F40<>\"\"),\"\",VLOOKUP(A40&0,'설정_In-Put'!$A:$L,6,0)),\"\")","v":""},null,3,7,{"$f":"IFERROR(VLOOKUP($A40,계획서_1분기!$A:$X,13,0),\"\")","v":0},0,{"$f":"IFERROR(VLOOKUP($A40,계획서_1분기!$A:$X,15,0),\"\")","v":0},0,{"$f":"INT(SUMIFS('설정_In-Put'!$K:$K,'설정_In-Put'!$C:$C,$A40)*24)","v":0},{"$f":"ROUND((SUMIFS('설정_In-Put'!$K:$K,'설정_In-Put'!$C:$C,$A40)*24-Q40)*60,0)","v":0},null,null,0,0,{"$f":"IF(SUMIFS('1월'!$AA$26:$AA$56,'1월'!$L$26:$L$56,$L40)+SUMIFS('2월'!$AA$26:$AA$56,'2월'!$L$26:$L$56,$L40)+SUMIFS('3월'!$AA$26:$AA$56,'3월'!$L$26:$L$56,$L40)>3120,1,IF($A40=\"\",\"\",IF(OR($E40=\"일\",$F40<>\"\"),1,0)*IF(S40+T40<>0,1,0)))","v":0},{"$f":"IFERROR(VLOOKUP($A40&1,'설정_In-Put'!$B:$L,11,0)*24,\"\")","v":""},null,null,0,0,0]
["2018-02-16",0,0,16,"금",{"$f":"IFERROR(VLOOKUP($A41,'관리자 Setting'!$K$6:$M$36,3,0),\"\")","v":"구정"},null,null,{"$f":"IFERROR(IF(OR(E41=\"토\",E41=\"일\",F41<>\"\"),\"\",VLOOKUP(A41&0,'설정_In-Put'!$A:$L,6,0)),\"\")","v":""},null,3,7,{"$f":"IFERROR(VLOOKUP($A41,계획서_1분기!$A:$X,13,0),\"\")","v":0},0,{"$f":"IFERROR(VLOOKUP($A41,계획서_1분기!$A:$X,15,0),\"\")","v":0},0,{"$f":"INT(SUMIFS('설정_In-Put'!$K:$K,'설정_In-Put'!$C:$C,$A41)*24)","v":0},{"$f":"ROUND((SUMIFS('설정_In-Put'!$K:$K,'설정_In-Put'!$C:$C,$A41)*24-Q41)*60,0)","v":0},null,null,0,0,{"$f":"IF(SUMIFS('1월'!$AA$26:$AA$56,'1월'!$L$26:$L$56,$L41)+SUMIFS('2월'!$AA$26:$AA$56,'2월'!$L$26:$L$56,$L41)+SUMIFS('3월'!$AA$26:$AA$56,'3월'!$L$26:$L$56,$L41)>3120,1,IF($A41=\"\",\"\",IF(OR($E41=\"일\",$F41<>\"\"),1,0)*IF(S41+T41<>0,1,0)))","v":0},{"$f":"IFERROR(VLOOKUP($A41&1,'설정_In-Put'!$B:$L,11,0)*24,\"\")","v":""},null,null,0,0,0]
["2018-02-17",0,0,17,"토",{"$f":"IFERROR(VLOOKUP($A42,'관리자 Setting'!$K$6:$M$36,3,0),\"\")","v":"구정연휴"},null,null,{"$f":"IFERROR(IF(OR(E42=\"토\",E42=\"일\",F42<>\"\"),\"\",VLOOKUP(A42&0,'설정_In-Put'!$A:$L,6,0)),\"\")","v":""},null,3,7,{"$f":"IFERROR(VLOOKUP($A42,계획서_1분기!$A:$X,13,0),\"\")","v":0},0,{"$f":"IFERROR(VLOOKUP($A42,계획서_1분기!$A:$X,15,0),\"\")","v":0},0,{"$f":"INT(SUMIFS('설정_In-Put'!$K:$K,'설정_In-Put'!$C:$C,$A42)*24)","v":0},{"$f":"ROUND((SUMIFS('설정_In-Put'!$K:$K,'설정_In-Put'!$C:$C,$A42)*24-Q42)*60,0)","v":0},null,null,0,0,{"$f":"IF(SUMIFS('1월'!$AA$26:$AA$56,'1월'!$L$26:$L$56,$L42)+SUMIFS('2월'!$AA$26:$AA$56,'2월'!$L$26:$L$56,$L42)+SUMIFS('3월'!$AA$26:$AA$56,'3월'!$L$26:$L$56,$L42)>3120,1,IF($A42=\"\",\"\",IF(OR($E42=\"일\",$F42<>\"\"),1,0)*IF(S42+T42<>0,1,0)))","v":0},{"$f":"IFERROR(VLOOKUP($A42&1,'설정_In-Put'!$B:$L,11,0)*24,\"\")","v":""},null,null,0,0,0]
["2018-02-18",0,0,18,"일",{"$f":"IFERROR(VLOOKUP($A43,'관리자 Setting'!$K$6:$M$36,3,0),\"\")","v":""},null,null,{"$f":"IFERROR(IF(OR(E43=\"토\",E43=\"일\",F43<>\"\"),\"\",VLOOKUP(A43&0,'설정_In-Put'!$A:$L,6,0)),\"\")","v":""},null,3,7,{"$f":"IFERROR(VLOOKUP($A43,계획서_1분기!$A:$X,13,0),\"\")","v":0},0,{"$f":"IFERROR(VLOOKUP($A43,계획서_1분기!$A:$X,15,0),\"\")","v":0},0,{"$f":"INT(SUMIFS('설정_In-Put'!$K:$K,'설정_In-Put'!$C:$C,$A43)*24)","v":0},{"$f":"ROUND((SUMIFS('설정_In-Put'!$K:$K,'설정_In-Put'!$C:$C,$A43)*24-Q43)*60,0)","v":0},null,null,0,0,{"$f":"IF(SUMIFS('1월'!$AA$26:$AA$56,'1월'!$L$26:$L$56,$L43)+SUMIFS('2월'!$AA$26:$AA$56,'2월'!$L$26:$L$56,$L43)+SUMIFS('3월'!$AA$26:$AA$56,'3월'!$L$26:$L$56,$L43)>3120,1,IF($A43=\"\",\"\",IF(OR($E43=\"일\",$F43<>\"\"),1,0)*IF(S43+T43<>0,1,0)))","v":0},{"$f":"IFERROR(VLOOKUP($A43&1,'설정_In-Put'!$B:$L,11,0)*24,\"\")","v":""},null,null,0,0,0]
["2018-02-19",1,1,19,"월",{"$f":"IFERROR(VLOOKUP($A44,'관리자 Setting'!$K$6:$M$36,3,0),\"\")","v":""},null,null,{"$f":"IFERROR(IF(OR(E44=\"토\",E44=\"일\",F44<>\"\"),\"\",VLOOKUP(A44&0,'설정_In-Put'!$A:$L,6,0)),\"\")","v":""},null,4,8,{"$f":"IFERROR(VLOOKUP($A44,계획서_1분기!$A:$X,13,0),\"\")","v":0},0,{"$f":"IFERROR(VLOOKUP($A44,계획서_1분기!$A:$X,15,0),\"\")","v":0},0,{"$f":"INT(SUMIFS('설정_In-Put'!$K:$K,'설정_In-Put'!$C:$C,$A44)*24)","v":0},{"$f":"ROUND((SUMIFS('설정_In-Put'!$K:$K,'설정_In-Put'!$C:$C,$A44)*24-Q44)*60,0)","v":0},null,null,0,0,{"$f":"IF(SUMIFS('1월'!$AA$26:$AA$56,'1월'!$L$26:$L$56,$L44)+SUMIFS('2월'!$AA$26:$AA$56,'2월'!$L$26:$L$56,$L44)+SUMIFS('3월'!$AA$26:$AA$56,'3월'!$L$26:$L$56,$L44)>3120,1,IF($A44=\"\",\"\",IF(OR($E44=\"일\",$F44<>\"\"),1,0)*IF(S44+T44<>0,1,0)))","v":0},{"$f":"IFERROR(VLOOKUP($A44&1,'설정_In-Put'!$B:$L,11,0)*24,\"\")","v":""},null,null,0,0,0]
["2018-02-20",1,1,20,"화",{"$f":"IFERROR(VLOOKUP($A45,'관리자 Setting'!$K$6:$M$36,3,0),\"\")","v":""},null,null,{"$f":"IFERROR(IF(OR(E45=\"토\",E45=\"일\",F45<>\"\"),\"\",VLOOKUP(A45&0,'설정_In-Put'!$A:$L,6,0)),\"\")","v":""},null,4,8,{"$f":"IFERROR(VLOOKUP($A45,계획서_1분기!$A:$X,13,0),\"\")","v":0},0,{"$f":"IFERROR(VLOOKUP($A45,계획서_1분기!$A:$X,15,0),\"\")","v":0},0,{"$f":"INT(SUMIFS('설정_In-Put'!$K:$K,'설정_In-Put'!$C:$C,$A45)*24)","v":0},{"$f":"ROUND((SUMIFS('설정_In-Put'!$K:$K,'설정_In-Put'!$C:$C,$A45)*24-Q45)*60,0)","v":0},null,null,0,0,{"$f":"IF(SUMIFS('1월'!$AA$26:$AA$56,'1월'!$L$26:$L$56,$L45)+SUMIFS('2월'!$AA$26:$AA$56,'2월'!$L$26:$L$56,$L45)+SUMIFS('3월'!$AA$26:$AA$56,'3월'!$L$26:$L$56,$L45)>3120,1,IF($A45=\"\",\"\",IF(OR($E45=\"일\",$F45<>\"\"),1,0)*IF(S45+T45<>0,1,0)))","v":0},{"$f":"IFERROR(VLOOKUP($A45&1,'설정_In-Put'!$B:$L,11,0)*24,\"\")","v":""},null,null,0,0,0]
["2018-02-21",1,1,21,"수",{"$f":"IFERROR(VLOOKUP($A46,'관리자 Setting'!$K$6:$M$36,3,0),\"\")","v":""},null,null,{"$f":"IFERROR(IF(OR(E46=\"토\",E46=\"일\",F46<>\"\"),\"\",VLOOKUP(A46&0,'설정_In-Put'!$A:$L,6,0)),\"\")","v":""},null,4,8,{"$f":"IFERROR(VLOOKUP($A46,계획서_1분기!$A:$X,13,0),\"\")","v":0},0,{"$f":"IFERROR(VLOOKUP($A46,계획서_1분기!$A:$X,15,0),\"\")","v":0},0,{"$f":"INT(SUMIFS('설정_In-Put'!$K:$K,'설정_In-Put'!$C:$C,$A46)*24)","v":0},{"$f":"ROUND((SUMIFS('설정_In-Put'!$K:$K,'설정_In-Put'!$C:$C,$A46)*24-Q46)*60,0)","v":0},null,null,0,0,{"$f":"IF(SUMIFS('1월'!$AA$26:$AA$56,'1월'!$L$26:$L$56,$L46)+SUMIFS('2월'!$AA$26:$AA$56,'2월'!$L$26:$L$56,$L46)+SUMIFS('3월'!$AA$26:$AA$56,'3월'!$L$26:$L$56,$L46)>3120,1,IF($A46=\"\",\"\",IF(OR($E46=\"일\",$F46<>\"\"),1,0)*IF(S46+T46<>0,1,0)))","v":0},{"$f":"IFERROR(VLOOKUP($A46&1,'설정_In-Put'!$B:$L,11,0)*24,\"\")","v":""},null,null,0,0,0]
["2018-02-22",1,1,22,"목",{"$f":"IFERROR(VLOOKUP($A47,'관리자 Setting'!$K$6:$M$36,3,0),\"\")","v":""},null,null,{"$f":"IFERROR(IF(OR(E47=\"토\",E47=\"일\",F47<>\"\"),\"\",VLOOKUP(A47&0,'설정_In-Put'!$A:$L,6,0)),\"\")","v":""},null,4,8,{"$f":"IFERROR(VLOOKUP($A47,계획서_1분기!$A:$X,13,0),\"\")","v":0},0,{"$f":"IFERROR(VLOOKUP($A47,계획서_1분기!$A:$X,15,0),\"\")","v":0},0,{"$f":"INT(SUMIFS('설정_In-Put'!$K:$K,'설정_In-Put'!$C:$C,$A47)*24)","v":0},{"$f":"ROUND((SUMIFS('설정_In-Put'!$K:$K,'설정_In-Put'!$C:$C,$A47)*24-Q47)*60,0)","v":0},null,null,0,0,{"$f":"IF(SUMIFS('1월'!$AA$26:$AA$56,'1월'!$L$26:$L$56,$L47)+SUMIFS('2월'!$AA$26:$AA$56,'2월'!$L$26:$L$56,$L47)+SUMIFS('3월'!$AA$26:$AA$56,'3월'!$L$26:$L$56,$L47)>3120,1,IF($A47=\"\",\"\",IF(OR($E47=\"일\",$F47<>\"\"),1,0)*IF(S47+T47<>0,1,0)))","v":0},{"$f":"IFERROR(VLOOKUP($A47&1,'설정_In-Put'!$B:$L,11,0)*24,\"\")","v":""},null,null,0,0,0]
["2018-02-23",1,1,23,"금",{"$f":"IFERROR(VLOOKUP($A48,'관리자 Setting'!$K$6:$M$36,3,0),\"\")","v":""},null,null,{"$f":"IFERROR(IF(OR(E48=\"토\",E48=\"일\",F48<>\"\"),\"\",VLOOKUP(A48&0,'설정_In-Put'!$A:$L,6,0)),\"\")","v":""},null,4,8,{"$f":"IFERROR(VLOOKUP($A48,계획서_1분기!$A:$X,13,0),\"\")","v":0},0,{"$f":"IFERROR(VLOOKUP($A48,계획서_1분기!$A:$X,15,0),\"\")","v":0},0,{"$f":"INT(SUMIFS('설정_In-Put'!$K:$K,'설정_In-Put'!$C:$C,$A48)*24)","v":0},{"$f":"ROUND((SUMIFS('설정_In-Put'!$K:$K,'설정_In-Put'!$C:$C,$A48)*24-Q48)*60,0)","v":0},null,null,0,0,{"$f":"IF(SUMIFS('1월'!$AA$26:$AA$56,'1월'!$L$26:$L$56,$L48)+SUMIFS('2월'!$AA$26:$AA$56,'2월'!$L$26:$L$56,$L48)+SUMIFS('3월'!$AA$26:$AA$56,'3월'!$L$26:$L$56,$L48)>3120,1,IF($A48=\"\",\"\",IF(OR($E48=\"일\",$F48<>\"\"),1,0)*IF(S48+T48<>0,1,0)))","v":0},{"$f":"IFERROR(VLOOKUP($A48&1,'설정_In-Put'!$B:$L,11,0)*24,\"\")","v":""},null,null,0,0,0]
["2018-02-24",1,1,24,"토",{"$f":"IFERROR(VLOOKUP($A49,'관리자 Setting'!$K$6:$M$36,3,0),\"\")","v":""},null,null,{"$f":"IFERROR(IF(OR(E49=\"토\",E49=\"일\",F49<>\"\"),\"\",VLOOKUP(A49&0,'설정_In-Put'!$A:$L,6,0)),\"\")","v":""},null,4,8,{"$f":"IFERROR(VLOOKUP($A49,계획서_1분기!$A:$X,13,0),\"\")","v":0},0,{"$f":"IFERROR(VLOOKUP($A49,계획서_1분기!$A:$X,15,0),\"\")","v":0},0,{"$f":"INT(SUMIFS('설정_In-Put'!$K:$K,'설정_In-Put'!$C:$C,$A49)*24)","v":0},{"$f":"ROUND((SUMIFS('설정_In-Put'!$K:$K,'설정_In-Put'!$C:$C,$A49)*24-Q49)*60,0)","v":0},null,null,0,0,{"$f":"IF(SUMIFS('1월'!$AA$26:$AA$56,'1월'!$L$26:$L$56,$L49)+SUMIFS('2월'!$AA$26:$AA$56,'2월'!$L$26:$L$56,$L49)+SUMIFS('3월'!$AA$26:$AA$56,'3월'!$L$26:$L$56,$L49)>3120,1,IF($A49=\"\",\"\",IF(OR($E49=\"일\",$F49<>\"\"),1,0)*IF(S49+T49<>0,1,0)))","v":0},{"$f":"IFERROR(VLOOKUP($A49&1,'설정_In-Put'!$B:$L,11,0)*24,\"\")","v":""},null,null,0,0,0]
["2018-02-25",0,0,25,"일",{"$f":"IFERROR(VLOOKUP($A50,'관리자 Setting'!$K$6:$M$36,3,0),\"\")","v":""},null,null,{"$f":"IFERROR(IF(OR(E50=\"토\",E50=\"일\",F50<>\"\"),\"\",VLOOKUP(A50&0,'설정_In-Put'!$A:$L,6,0)),\"\")","v":""},null,4,8,{"$f":"IFERROR(VLOOKUP($A50,계획서_1분기!$A:$X,13,0),\"\")","v":0},0,{"$f":"IFERROR(VLOOKUP($A50,계획서_1분기!$A:$X,15,0),\"\")","v":0},0,{"$f":"INT(SUMIFS('설정_In-Put'!$K:$K,'설정_In-Put'!$C:$C,$A50)*24)","v":0},{"$f":"ROUND((SUMIFS('설정_In-Put'!$K:$K,'설정_In-Put'!$C:$C,$A50)*24-Q50)*60,0)","v":0},null,null,0,0,{"$f":"IF(SUMIFS('1월'!$AA$26:$AA$56,'1월'!$L$26:$L$56,$L50)+SUMIFS('2월'!$AA$26:$AA$56,'2월'!$L$26:$L$56,$L50)+SUMIFS('3월'!$AA$26:$AA$56,'3월'!$L$26:$L$56,$L50)>3120,1,IF($A50=\"\",\"\",IF(OR($E50=\"일\",$F50<>\"\"),1,0)*IF(S50+T50<>0,1,0)))","v":0},{"$f":"IFERROR(VLOOKUP($A50&1,'설정_In-Put'!$B:$L,11,0)*24,\"\")","v":""},null,null,0,0,0]
["2018-02-26",1,1,26,"월",{"$f":"IFERROR(VLOOKUP($A51,'관리자 Setting'!$K$6:$M$36,3,0),\"\")","v":""},null,null,{"$f":"IFERROR(IF(OR(E51=\"토\",E51=\"일\",F51<>\"\"),\"\",VLOOKUP(A51&0,'설정_In-Put'!$A:$L,6,0)),\"\")","v":""},null,5,9,{"$f":"IFERROR(VLOOKUP($A51,계획서_1분기!$A:$X,13,0),\"\")","v":0},0,{"$f":"IFERROR(VLOOKUP($A51,계획서_1분기!$A:$X,15,0),\"\")","v":0},0,{"$f":"INT(SUMIFS('설정_In-Put'!$K:$K,'설정_In-Put'!$C:$C,$A51)*24)","v":0},{"$f":"ROUND((SUMIFS('설정_In-Put'!$K:$K,'설정_In-Put'!$C:$C,$A51)*24-Q51)*60,0)","v":0},null,null,0,0,{"$f":"IF(SUMIFS('1월'!$AA$26:$AA$56,'1월'!$L$26:$L$56,$L51)+SUMIFS('2월'!$AA$26:$AA$56,'2월'!$L$26:$L$56,$L51)+SUMIFS('3월'!$AA$26:$AA$56,'3월'!$L$26:$L$56,$L51)>3120,1,IF($A51=\"\",\"\",IF(OR($E51=\"일\",$F51<>\"\"),1,0)*IF(S51+T51<>0,1,0)))","v":0},{"$f":"IFERROR(VLOOKUP($A51&1,'설정_In-Put'!$B:$L,11,0)*24,\"\")","v":""},null,null,0,0,0]
[{"$f":"IF(A51+1>EOMONTH($A$26,0),\"\",A51+1)","v":"2018-02-27"},1,1,27,"화",{"$f":"IFERROR(VLOOKUP($A52,'관리자 Setting'!$K$6:$M$36,3,0),\"\")","v":""},null,null,{"$f":"IFERROR(IF(OR(E52=\"토\",E52=\"일\",F52<>\"\"),\"\",VLOOKUP(A52&0,'설정_In-Put'!$A:$L,6,0)),\"\")","v":""},null,5,9,{"$f":"IFERROR(VLOOKUP($A52,계획서_1분기!$A:$X,13,0),\"\")","v":0},0,{"$f":"IFERROR(VLOOKUP($A52,계획서_1분기!$A:$X,15,0),\"\")","v":0},0,{"$f":"INT(SUMIFS('설정_In-Put'!$K:$K,'설정_In-Put'!$C:$C,$A52)*24)","v":0},{"$f":"ROUND((SUMIFS('설정_In-Put'!$K:$K,'설정_In-Put'!$C:$C,$A52)*24-Q52)*60,0)","v":0},null,null,0,0,{"$f":"IF(SUMIFS('1월'!$AA$26:$AA$56,'1월'!$L$26:$L$56,$L52)+SUMIFS('2월'!$AA$26:$AA$56,'2월'!$L$26:$L$56,$L52)+SUMIFS('3월'!$AA$26:$AA$56,'3월'!$L$26:$L$56,$L52)>3120,1,IF($A52=\"\",\"\",IF(OR($E52=\"일\",$F52<>\"\"),1,0)*IF(S52+T52<>0,1,0)))","v":0},{"$f":"IFERROR(VLOOKUP($A52&1,'설정_In-Put'!$B:$L,11,0)*24,\"\")","v":""},null,null,0,0,0]
[{"$f":"IFERROR(IF(A52+1>EOMONTH($A$26,0),\"\",A52+1),\"\")","v":"2018-02-28"},1,1,28,"수",{"$f":"IFERROR(VLOOKUP($A53,'관리자 Setting'!$K$6:$M$36,3,0),\"\")","v":""},null,null,{"$f":"IFERROR(IF(OR(E53=\"토\",E53=\"일\",F53<>\"\"),\"\",VLOOKUP(A53&0,'설정_In-Put'!$A:$L,6,0)),\"\")","v":""},null,5,9,{"$f":"IFERROR(VLOOKUP($A53,계획서_1분기!$A:$X,13,0),\"\")","v":0},0,{"$f":"IFERROR(VLOOKUP($A53,계획서_1분기!$A:$X,15,0),\"\")","v":0},0,{"$f":"INT(SUMIFS('설정_In-Put'!$K:$K,'설정_In-Put'!$C:$C,$A53)*24)","v":0},{"$f":"ROUND((SUMIFS('설정_In-Put'!$K:$K,'설정_In-Put'!$C:$C,$A53)*24-Q53)*60,0)","v":0},null,null,0,0,{"$f":"IF(SUMIFS('1월'!$AA$26:$AA$56,'1월'!$L$26:$L$56,$L53)+SUMIFS('2월'!$AA$26:$AA$56,'2월'!$L$26:$L$56,$L53)+SUMIFS('3월'!$AA$26:$AA$56,'3월'!$L$26:$L$56,$L53)>3120,1,IF($A53=\"\",\"\",IF(OR($E53=\"일\",$F53<>\"\"),1,0)*IF(S53+T53<>0,1,0)))","v":0},{"$f":"IFERROR(VLOOKUP($A53&1,'설정_In-Put'!$B:$L,11,0)*24,\"\")","v":""},null,null,0,0,0]
[{"$f":"IFERROR(IF(A53+1>EOMONTH($A$26,0),\"\",A53+1),\"\")","v":""},1,1,29,"",{"$f":"IFERROR(VLOOKUP($A54,'관리자 Setting'!$K$6:$M$36,3,0),\"\")","v":""},null,null,{"$f":"IFERROR(IF(OR(E54=\"토\",E54=\"일\",F54<>\"\"),\"\",VLOOKUP(A54&0,'설정_In-Put'!$A:$L,6,0)),\"\")","v":""},null,"","",{"$f":"IFERROR(VLOOKUP($A54,계획서_1분기!$A:$X,13,0),\"\")","v":0},0,{"$f":"IFERROR(VLOOKUP($A54,계획서_1분기!$A:$X,15,0),\"\")","v":0},0,{"$f":"INT(SUMIFS('설정_In-Put'!$K:$K,'설정_In-Put'!$C:$C,$A54)*24)","v":0},{"$f":"ROUND((SUMIFS('설정_In-Put'!$K:$K,'설정_In-Put'!$C:$C,$A54)*24-Q54)*60,0)","v":0},null,null,0,0,{"$f":"IF(SUMIFS('1월'!$AA$26:$AA$56,'1월'!$L$26:$L$56,$L54)+SUMIFS('2월'!$AA$26:$AA$56,'2월'!$L$26:$L$56,$L54)+SUMIFS('3월'!$AA$26:$AA$56,'3월'!$L$26:$L$56,$L54)>3120,1,IF($A54=\"\",\"\",IF(OR($E54=\"일\",$F54<>\"\"),1,0)*IF(S54+T54<>0,1,0)))","v":""},{"$f":"IFERROR(VLOOKUP($A54&1,'설정_In-Put'!$B:$L,11,0)*24,\"\")","v":""},null,null,0,0,0]
[{"$f":"IFERROR(IF(A54+1>EOMONTH($A$26,0),\"\",A54+1),\"\")","v":""},1,1,30,"",{"$f":"IFERROR(VLOOKUP($A55,'관리자 Setting'!$K$6:$M$36,3,0),\"\")","v":""},null,null,{"$f":"IFERROR(IF(OR(E55=\"토\",E55=\"일\",F55<>\"\"),\"\",VLOOKUP(A55&0,'설정_In-Put'!$A:$L,6,0)),\"\")","v":""},null,"","",{"$f":"IFERROR(VLOOKUP($A55,계획서_1분기!$A:$X,13,0),\"\")","v":0},0,{"$f":"IFERROR(VLOOKUP($A55,계획서_1분기!$A:$X,15,0),\"\")","v":0},0,{"$f":"INT(SUMIFS('설정_In-Put'!$K:$K,'설정_In-Put'!$C:$C,$A55)*24)","v":0},{"$f":"ROUND((SUMIFS('설정_In-Put'!$K:$K,'설정_In-Put'!$C:$C,$A55)*24-Q55)*60,0)","v":0},null,null,0,0,{"$f":"IF(SUMIFS('1월'!$AA$26:$AA$56,'1월'!$L$26:$L$56,$L55)+SUMIFS('2월'!$AA$26:$AA$56,'2월'!$L$26:$L$56,$L55)+SUMIFS('3월'!$AA$26:$AA$56,'3월'!$L$26:$L$56,$L55)>3120,1,IF($A55=\"\",\"\",IF(OR($E55=\"일\",$F55<>\"\"),1,0)*IF(S55+T55<>0,1,0)))","v":""},{"$f":"IFERROR(VLOOKUP($A55&1,'설정_In-Put'!$B:$L,11,0)*24,\"\")","v":""},null,null,0,0,0]
["",1,1,31,"",{"$f":"IFERROR(VLOOKUP($A56,'관리자 Setting'!$K$6:$M$36,3,0),\"\")","v":""},null,null,{"$f":"IFERROR(IF(OR(E56=\"토\",E56=\"일\",F56<>\"\"),\"\",VLOOKUP(A56&0,'설정_In-Put'!$A:$L,6,0)),\"\")","v":""},null,"","",{"$f":"IFERROR(VLOOKUP($A56,계획서_1분기!$A:$X,13,0),\"\")","v":0},0,{"$f":"IFERROR(VLOOKUP($A56,계획서_1분기!$A:$X,15,0),\"\")","v":0},0,{"$f":"INT(SUMIFS('설정_In-Put'!$K:$K,'설정_In-Put'!$C:$C,$A56)*24)","v":0},{"$f":"ROUND((SUMIFS('설정_In-Put'!$K:$K,'설정_In-Put'!$C:$C,$A56)*24-Q56)*60,0)","v":0},null,null,0,0,{"$f":"IF(SUMIFS('1월'!$AA$26:$AA$56,'1월'!$L$26:$L$56,$L56)+SUMIFS('2월'!$AA$26:$AA$56,'2월'!$L$26:$L$56,$L56)+SUMIFS('3월'!$AA$26:$AA$56,'3월'!$L$26:$L$56,$L56)>3120,1,IF($A56=\"\",\"\",IF(OR($E56=\"일\",$F56<>\"\"),1,0)*IF(S56+T56<>0,1,0)))","v":""},{"$f":"IFERROR(VLOOKUP($A56&1,'설정_In-Put'!$B:$L,11,0)*24,\"\")","v":""},null,null,0,0,0]

{"sheet":"3월","index":6,"n_rows":56,"n_cols":30,"rows_kept":56,"merged":[[1,3,2,5],[1,6,2,20],[1,21,2,23],[4,3,5,3],[4,4,5,6],[4,7,5,8],[4,9,5,11],[4,12,5,13],[4,14,5,15],[4,16,5,17],[4,18,5,19],[4,20,5,21],[4,22,5,23],[7,3,7,23],[8,3,8,4],[8,5,8,9],[8,10,8,12],[8,13,8,14],[8,15,8,16],[8,17,8,18],[8,20,8,23],[9,3,9,4],[9,5,9,7],[9,8,9,9],[9,10,9,12],[9,13,9,14],[9,15,9,16],[9,17,9,18],[9,20,9,23],[10,3,10,4],[10,5,10,7],[10,8,10,9],[10,10,10,12],[10,13,10,14],[10,15,10,16],[10,17,10,18],[10,20,10,23],[11,3,11,4],[11,5,11,7],[11,8,11,9],[11,10,11,12],[11,13,11,14],[11,15,11,16],[11,17,11,18],[11,20,11,23],[13,3,13,23],[14,3,15,4],[14,5,15,9],[14,10,14,13],[14,14,14,17],[14,18,15,18],[14,19,15,23],[15,10,15,11],[15,12,15,13],[15,14,15,15],[15,16,15,17],[16,3,16,4],[16,5,16,7],[16,8,16,9],[16,10,16,11],[16,12,16,13],[16,14,16,15],[16,16,16,17],[16,19,16,23],[17,3,17,4],[17,5,17,7],[17,8,17,9],[17,10,17,11],[17,12,17,13],[17,14,17,15],[17,16,17,17],[17,19,17,23],[18,3,18,4],[18,5,18,7],[18,8,18,9],[18,10,18,11],[18,12,18,13],[18,14,18,15],[18,16,18,17],[18,19,18,23],[20,3,20,23],[21,3,23,3],[21,4,23,4],[21,5,23,7],[21,8,23,9],[21,10,23,10],[21,11,23,11],[21,12,21,15],[21,16,22,17],[21,18,21,21],[21,22,23,22],[21,23,23,23],[22,12,22,13],[22,14,22,15],[22,18,22,19],[22,20,22,21],[25,5,25,7],[25,8,25,9],[26,5,26,7],[26,8,26,9],[27,5,27,7],[27,8,27,9],[28,5,28,7],[28,8,28,9],[29,5,29,7],[29,8,29,9],[30,5,30,7],[30,8,30,9],[31,5,31,7],[31,8,31,9],[32,5,32,7],[32,8,32,9],[33,5,33,7],[33,8,33,9],[34,5,34,7],[34,8,34,9],[35,5,35,7],[35,8,35,9],[36,5,36,7],[36,8,36,9],[37,5,37,7],[37,8,37,9],[38,5,38,7],[38,8,38,9],[39,5,39,7],[39,8,39,9],[40,5,40,7],[40,8,40,9],[41,5,41,7],[41,8,41,9],[42,5,42,7],[42,8,42,9],[43,5,43,7],[43,8,43,9],[44,5,44,7],[44,8,44,9],[45,5,45,7],[45,8,45,9],[46,5,46,7],[46,8,46,9],[47,5,47,7],[47,8,47,9],[48,5,48,7],[48,8,48,9],[49,5,49,7],[49,8,49,9],[50,5,50,7],[50,8,50,9],[51,5,51,7],[51,8,51,9],[52,5,52,7],[52,8,52,9],[53,5,53,7],[53,8,53,9],[54,5,54,7],[54,8,54,9],[55,5,55,7],[55,8,55,9]]}
[]
[{"$nulls":3},"전월",null,null,{"$f":"'관리자 Setting'!$R$3&\"년 \"&TEXT($A$6,\"00월 근태 현황 (\")&$B$6&\"분기)\"","v":"2018년 03월 근태 현황 (1분기)"},{"$nulls":14},"익월"]
[]
[]
["월","분기",null,"소속","무한도전",null,null,"부서명",null,{"$f":"계획서_1분기!$J$5","v":"무한본부"},null,null,"직급",null,{"$f":"계획서_1분기!$O$5","v":"1급"},null,"ERP 사번",null,{"$f":"계획서_1분기!$S$5","v":"0002"},null,"성명",null,{"$f":"IF(계획서_1분기!W5=0,\"\",계획서_1분기!W5)","v":"박명수"}]
[3,1]
[]
[{"$nulls":3},"───────────────　　분　기　근　무　현　황　　───────────────"]
[{"$nulls":3},"구분",null,"규정 및 참조",{"$nulls":4},"합계/평균",null,null,{"v":1,"d":"1월"},null,{"v":2,"d":"2월"},null,{"v":3,"d":"3월"},null,"CHK","비고",{"$nulls":5},"합/평",1,2,3]
[{"$nulls":3},"전체 근로",{"$nulls":6},{"$f":"INT(AA10/60)&\"시간 \"&TEXT(ROUND((AA10/60-INT(AA10/60))*60,0),\"00분\")","v":"0시간 00분"},null,null,{"$f":"INT(AB10/60)&\"시간 \"&TEXT(ROUND((AB10/60-INT(AB10/60))*60,0),\"00분\")","v":"0시간 00분"},null,{"$f":"INT(AC10/60)&\"시간 \"&TEXT(ROUND((AC10/60-INT(AC10/60))*60,0),\"00분\")","v":"0시간 00분"},null,{"$f":"INT(AD10/60)&\"시간 \"&TEXT(ROUND((AD10/60-INT(AD10/60))*60,0),\"00분\")","v":"0시간 00분"},{"$nulls":8},{"$f":"SUM(AB10:AD10)","v":0},{"$f":"'1월'!O17*60+'1월'!Q17","v":0},{"$f":"'2월'!O17*60+'2월'!Q17","v":0},{"$f":"'3월'!O17*60+'3월'!Q17","v":0}]
[{"$nulls":3},"정규 근로",null,"분기 필수 합계",null,null,{"$f":"IFERROR(VLOOKUP($B$6,'관리자 Setting'!$O$6:$R$10,2,0),\"\")","v":{"v":488,"d":"488 시간"}},null,"0시간 00분",null,null,{"$f":"INT(AB11/60)&\"시간 \"&TEXT(ROUND((AB11/60-INT(AB11/60))*60,0),\"00분\")","v":"0시간 00분"},null,{"$f":"INT(AC11/60)&\"시간 \"&TEXT(ROUND((AC11/60-INT(AC11/60))*60,0),\"00분\")","v":"0시간 00분"},null,{"$f":"INT(AD11/60)&\"시간 \"&TEXT(ROUND((AD11/60-INT(AD11/60))*60,0),\"00분\")","v":"0시간 00분"},null,{"$f":"IF(I11*60>AA11,1,0)","v":1},{"$f":"IF(T11=1,\"분기 필수 근로 시간 부족\",\"\")","v":"분기 필수 근로 시간 부족"},{"$nulls":5},{"$f":"SUM(AB11:AD11)","v":0},{"$f":"'1월'!O18*60+'1월'!Q18","v":0},{"$f":"'2월'!O18*60+'2월'!Q18","v":0},{"$f":"'3월'!O18*60+'3월'!Q18","v":0}]
[{"$nulls":3},"연장 근로",null,"월 평균 연장 근로",null,null,{"$f":"IFERROR(VLOOKUP($W$5,'관리자 Setting'!$C$3:$G$53,5,0),\"\")","v":{"v":35,"d":"35 시간"}},null,"0시간 00분",null,null,{"$f":"INT(AB12/60)&\"시간 \"&TEXT(ROUND((AB12/60-INT(AB12/60))*60,0),\"00분\")","v":"0시간 00분"},null,{"$f":"INT(AC12/60)&\"시간 \"&TEXT(ROUND((AC12/60-INT(AC12/60))*60,0),\"00분\")","v":"0시간 00분"},null,{"$f":"INT(AD12/60)&\"시간 \"&TEXT(ROUND((AD12/60-INT(AD12/60))*60,0),\"00분\")","v":"0시간 00분"},null,{"$f":"IF(OR($I$12*60<AA12,$I$12*60<AB12,$I$12*60<AC12,$I$12*60<AD12),1,0)","v":0},{"$f":"IF(T12=1,\"연장 근로 한도 초과\",\"\")","v":""},{"$nulls":5},{"$f":"AVERAGE(AB12:AD12)","v":0},{"$f":"'1월'!O19*60+'1월'!Q19","v":0},{"$f":"'2월'!O19*60+'2월'!Q19","v":0},{"$f":"'3월'!O19*60+'3월'!Q19","v":0}]
[]
[{"$nulls":3},"───────────────　　월　근　무　현　황　　───────────────"]
[{"$nulls":3},"구분",null,"규정 및 참조",{"$nulls":4},"근무 계획",{"$nulls":3},"근무 조정",{"$nulls":3},"CHK","비고"]
[{"$nulls":10},"시간",null,"분",null,"시간",null,"분"]
[{"$nulls":3},"전체 근로",{"$nulls":6},{"$f":"M25+O25","v":0},null,"분",null,{"$f":"Q25+X25","v":0},null,{"$f":"R25","v":{"v":0,"d":"0 분"}}]
[{"$nulls":3},"정규 근로",{"$nulls":6},{"$f":"M25","v":0},null,"분",null,{"$f":"S25+X25","v":0},null,{"$f":"T25","v":{"v":0,"d":"0 분"}}]
[{"$nulls":3},"연장 근로",null,"월 연장 근로 한도",null,null,{"$f":"IFERROR(VLOOKUP($W$5,'관리자 Setting'!$C$3:$G$53,5,0),\"\")","v":{"v":35,"d":"35 시간"}},null,{"$f":"O25","v":0},null,"분",null,{"$f":"U25","v":0},null,{"$f":"V25","v":{"v":0,"d":"0 분"}},null,{"$f":"IF($W$5=\"\",\"\",IF(I19*60<O19*60+Q19,1,0))","v":0},{"$f":"IF(S19=1,\"연장 근로 한도 시간 초과\",\"\")","v":""}]
[]
[{"$nulls":3},"───────────────　　일　/　주　간　근　무　현　황　　───────────────"]
[{"$nulls":3},"날짜","요일","참고",null,null,"상태",null,"주","주차","근무 계획",{"$nulls":3},"실\n근무시간",null,"조정",{"$nulls":3},"CHK","비고\n근무\n반영"]
[{"$nulls":12},"정규근로",null,"연장근로",{"$nulls":3},"정규근로",null,"연장근로"]
[{"$nulls":12},"시간","분","시간","분","시간","분","시간","분","시간","분",{"$nulls":4},"반영","실","연장"]
[{"$nulls":12},{"$f":"SUM(M26:M56)","v":0},0,{"$f":"SUM(O26:O56)","v":0},0,{"$f":"SUM(Q26:Q56)+INT(SUM(R26:R56)/60)","v":0},{"$f":"(SUM(R26:R56)/60-INT(SUM(R26:R56)/60))*60","v":0},{"$f":"SUM(S26:S56)+INT(SUM(T26:T56)/60)","v":0},{"$f":"(SUM(T26:T56)/60-INT(SUM(T26:T56)/60))*60","v":0},{"$f":"SUM(U26:U56)+INT(SUM(V26:V56)/60)","v":0},{"$f":"(SUM(V26:V56)/60-INT(SUM(V26:V56)/60))*60","v":0},null,{"$f":"SUM(X26:X56)","v":0}]
[{"$f":"DATE('관리자 Setting'!$R$3,$A$6,1)","v":"2018-03-01"},{"$f":"IF(OR($E26=\"일\",$F26<>\"\"),0,1)","v":0},{"$f":"IF(OR($E26=\"일\",$F26<>\"\"),0,1)","v":0},1,{"$f":"TEXT($A26,\"AAA\")","v":"목"},{"$f":"IFERROR(VLOOKUP($A26,'관리자 Setting'!$K$6:$M$36,3,0),\"\")","v":"삼일절"},null,null,{"$f":"IFERROR(IF(OR(E26=\"토\",E26=\"일\",F26<>\"\"),\"\",VLOOKUP(A26&0,'설정_In-Put'!$A:$L,6,0)),\"\")","v":""},null,{"$f":"IFERROR(L26-WEEKNUM(A26-D26+1)+1,\"\")","v":1},{"$f":"IFERROR(WEEKNUM(A26,2),\"\")","v":9},{"$f":"IFERROR(VLOOKUP($A26,계획서_1분기!$A:$X,13,0),\"\")","v":0},0,{"$f":"IFERROR(VLOOKUP($A26,계획서_1분기!$A:$X,15,0),\"\")","v":0},0,{"$f":"INT(SUMIFS('설정_In-Put'!$K:$K,'설정_In-Put'!$C:$C,$A26)*24)","v":0},{"$f":"ROUND((SUMIFS('설정_In-Put'!$K:$K,'설정_In-Put'!$C:$C,$A26)*24-Q26)*60,0)","v":0},null,null,{"$f":"INT(((Q26*60+R26)-(S26*60+T26))/60)","v":0},{"$f":"(((Q26*60+R26)-(S26*60+T26))/60-U26)*60","v":0},{"$f":"IF(SUMIFS('1월'!$AA$26:$AA$56,'1월'!$L$26:$L$56,$L26)+SUMIFS('2월'!$AA$26:$AA$56,'2월'!$L$26:$L$56,$L26)+SUMIFS('3월'!$AA$26:$AA$56,'3월'!$L$26:$L$56,$L26)>3120,1,IF($A26=\"\",\"\",IF(OR($E26=\"일\",$F26<>\"\"),1,0)*IF(S26+T26<>0,1,0)))","v":0},{"$f":"IFERROR(VLOOKUP($A26&1,'설정_In-Put'!$B:$L,11,0)*24,\"\")","v":""},null,null,{"$f":"SUM(S26,X26)*60+T26","v":0},{"$f":"S26*60+T26","v":0},{"$f":"U26*60+V26","v":0}]
[{"$f":"A26+1","v":"2018-03-02"},1,1,2,"금",{"$f":"IFERROR(VLOOKUP($A27,'관리자 Setting'!$K$6:$M$36,3,0),\"\")","v":""},null,null,{"$f":"IFERROR(IF(OR(E27=\"토\",E27=\"일\",F27<>\"\"),\"\",VLOOKUP(A27&0,'설정_In-Put'!$A:$L,6,0)),\"\")","v":""},null,1,9,{"$f":"IFERROR(VLOOKUP($A27,계획서_1분기!$A:$X,13,0),\"\")","v":0},0,{"$f":"IFERROR(VLOOKUP($A27,계획서_1분기!$A:$X,15,0),\"\")","v":0},0,{"$f":"INT(SUMIFS('설정_In-Put'!$K:$K,'설정_In-Put'!$C:$C,$A27)*24)","v":0},{"$f":"ROUND((SUMIFS('설정_In-Put'!$K:$K,'설정_In-Put'!$C:$C,$A27)*24-Q27)*60,0)","v":0},null,null,0,0,{"$f":"IF(SUMIFS('1월'!$AA$26:$AA$56,'1월'!$L$26:$L$56,$L27)+SUMIFS('2월'!$AA$26:$AA$56,'2월'!$L$26:$L$56,$L27)+SUMIFS('3월'!$AA$26:$AA$56,'3월'!$L$26:$L$56,$L27)>3120,1,IF($A27=\"\",\"\",IF(OR($E27=\"일\",$F27<>\"\"),1,0)*IF(S27+T27<>0,1,0)))","v":0},{"$f":"IFERROR(VLOOKUP($A27&1,'설정_In-Put'!$B:$L,11,0)*24,\"\")","v":""},null,null,{"$f":"SUM(S27,X27)*60+T27","v":0},{"$f":"S27*60+T27","v":0},{"$f":"U27*60+V27","v":0}]
[{"$f":"A27+1","v":"2018-03-03"},1,1,3,"토",{"$f":"IFERROR(VLOOKUP($A28,'관리자 Setting'!$K$6:$M$36,3,0),\"\")","v":""},null,null,{"$f":"IFERROR(IF(OR(E28=\"토\",E28=\"일\",F28<>\"\"),\"\",VLOOKUP(A28&0,'설정_In-Put'!$A:$L,6,0)),\"\")","v":""},null,1,9,{"$f":"IFERROR(VLOOKUP($A28,계획서_1분기!$A:$X,13,0),\"\")","v":0},0,{"$f":"IFERROR(VLOOKUP($A28,계획서_1분기!$A:$X,15,0),\"\")","v":0},0,{"$f":"INT(SUMIFS('설정_In-Put'!$K:$K,'설정_In-Put'!$C:$C,$A28)*24)","v":0},{"$f":"ROUND((SUMIFS('설정_In-Put'!$K:$K,'설정_In-Put'!$C:$C,$A28)*24-Q28)*60,0)","v":0},null,null,0,0,{"$f":"IF(SUMIFS('1월'!$AA$26:$AA$56,'1월'!$L$26:$L$56,$L28)+SUMIFS('2월'!$AA$26:$AA$56,'2월'!$L$26:$L$56,$L28)+SUMIFS('3월'!$AA$26:$AA$56,'3월'!$L$26:$L$56,$L28)>3120,1,IF($A28=\"\",\"\",IF(OR($E28=\"일\",$F28<>\"\"),1,0)*IF(S28+T28<>0,1,0)))","v":0},{"$f":"IFERROR(VLOOKUP($A28&1,'설정_In-Put'!$B:$L,11,0)*24,\"\")","v":""},null,null,0,0,0]
["2018-03-04",0,0,4,"일",{"$f":"IFERROR(VLOOKUP($A29,'관리자 Setting'!$K$6:$M$36,3,0),\"\")","v":""},null,null,{"$f":"IFERROR(IF(OR(E29=\"토\",E29=\"일\",F29<>\"\"),\"\",VLOOKUP(A29&0,'설정_In-Put'!$A:$L,6,0)),\"\")","v":""},null,1,9,{"$f":"IFERROR(VLOOKUP($A29,계획서_1분기!$A:$X,13,0),\"\")","v":0},0,{"$f":"IFERROR(VLOOKUP($A29,계획서_1분기!$A:$X,15,0),\"\")","v":0},0,{"$f":"INT(SUMIFS('설정_In-Put'!$K:$K,'설정_In-Put'!$C:$C,$A29)*24)","v":0},{"$f":"ROUND((SUMIFS('설정_In-Put'!$K:$K,'설정_In-Put'!$C:$C,$A29)*24-Q29)*60,0)","v":0},null,null,0,0,{"$f":"IF(SUMIFS('1월'!$AA$26:$AA$56,'1월'!$L$26:$L$56,$L29)+SUMIFS('2월'!$AA$26:$AA$56,'2월'!$L$26:$L$56,$L29)+SUMIFS('3월'!$AA$26:$AA$56,'3월'!$L$26:$L$56,$L29)>3120,1,IF($A29=\"\",\"\",IF(OR($E29=\"일\",$F29<>\"\"),1,0)*IF(S29+T29<>0,1,0)))","v":0},{"$f":"IFERROR(VLOOKUP($A29&1,'설정_In-Put'!$B:$L,11,0)*24,\"\")","v":""},null,null,0,0,0]
["2018-03-05",1,1,5,"월",{"$f":"IFERROR(VLOOKUP($A30,'관리자 Setting'!$K$6:$M$36,3,0),\"\")","v":""},null,null,{"$f":"IFERROR(IF(OR(E30=\"토\",E30=\"일\",F30<>\"\"),\"\",VLOOKUP(A30&0,'설정_In-Put'!$A:$L,6,0)),\"\")","v":""},null,2,10,{"$f":"IFERROR(VLOOKUP($A30,계획서_1분기!$A:$X,13,0),\"\")","v":0},0,{"$f":"IFERROR(VLOOKUP($A30,계획서_1분기!$A:$X,15,0),\"\")","v":0},0,{"$f":"INT(SUMIFS('설정_In-Put'!$K:$K,'설정_In-Put'!$C:$C,$A30)*24)","v":0},{"$f":"ROUND((SUMIFS('설정_In-Put'!$K:$K,'설정_In-Put'!$C:$C,$A30)*24-Q30)*60,0)","v":0},null,null,0,0,{"$f":"IF(SUMIFS('1월'!$AA$26:$AA$56,'1월'!$L$26:$L$56,$L30)+SUMIFS('2월'!$AA$26:$AA$56,'2월'!$L$26:$L$56,$L30)+SUMIFS('3월'!$AA$26:$AA$56,'3월'!$L$26:$L$56,$L30)>3120,1,IF($A30=\"\",\"\",IF(OR($E30=\"일\",$F30<>\"\"),1,0)*IF(S30+T30<>0,1,0)))","v":0},{"$f":"IFERROR(VLOOKUP($A30&1,'설정_In-Put'!$B:$L,11,0)*24,\"\")","v":""},null,null,0,0,0]
["2018-03-06",1,1,6,"화",{"$f":"IFERROR(VLOOKUP($A31,'관리자 Setting'!$K$6:$M$36,3,0),\"\")","v":""},null,null,{"$f":"IFERROR(IF(OR(E31=\"토\",E31=\"일\",F31<>\"\"),\"\",VLOOKUP(A31&0,'설정_In-Put'!$A:$L,6,0)),\"\")","v":""},null,2,10,{"$f":"IFERROR(VLOOKUP($A31,계획서_1분기!$A:$X,13,0),\"\")","v":0},0,{"$f":"IFERROR(VLOOKUP($A31,계획서_1분기!$A:$X,15,0),\"\")","v":0},0,{"$f":"INT(SUMIFS('설정_In-Put'!$K:$K,'설정_In-Put'!$C:$C,$A31)*24)","v":0},{"$f":"ROUND((SUMIFS('설정_In-Put'!$K:$K,'설정_In-Put'!$C:$C,$A31)*24-Q31)*60,0)","v":0},null,null,0,0,{"$f":"IF(SUMIFS('1월'!$AA$26:$AA$56,'1월'!$L$26:$L$56,$L31)+SUMIFS('2월'!$AA$26:$AA$56,'2월'!$L$26:$L$56,$L31)+SUMIFS('3월'!$AA$26:$AA$56,'3월'!$L$26:$L$56,$L31)>3120,1,IF($A31=\"\",\"\",IF(OR($E31=\"일\",$F31<>\"\"),1,0)*IF(S31+T31<>0,1,0)))","v":0},{"$f":"IFERROR(VLOOKUP($A31&1,'설정_In-Put'!$B:$L,11,0)*24,\"\")","v":""},null,null,0,0,0]
["2018-03-07",1,1,7,"수",{"$f":"IFERROR(VLOOKUP($A32,'관리자 Setting'!$K$6:$M$36,3,0),\"\")","v":""},null,null,{"$f":"IFERROR(IF(OR(E32=\"토\",E32=\"일\",F32<>\"\"),\"\",VLOOKUP(A32&0,'설정_In-Put'!$A:$L,6,0)),\"\")","v":""},null,2,10,{"$f":"IFERROR(VLOOKUP($A32,계획서_1분기!$A:$X,13,0),\"\")","v":0},0,{"$f":"IFERROR(VLOOKUP($A32,계획서_1분기!$A:$X,15,0),\"\")","v":0},0,{"$f":"INT(SUMIFS('설정_In-Put'!$K:$K,'설정_In-Put'!$C:$C,$A32)*24)","v":0},{"$f":"ROUND((SUMIFS('설정_In-Put'!$K:$K,'설정_In-Put'!$C:$C,$A32)*24-Q32)*60,0)","v":0},null,null,0,0,{"$f":"IF(SUMIFS('1월'!$AA$26:$AA$56,'1월'!$L$26:$L$56,$L32)+SUMIFS('2월'!$AA$26:$AA$56,'2월'!$L$26:$L$56,$L32)+SUMIFS('3월'!$AA$26:$AA$56,'3월'!$L$26:$L$56,$L32)>3120,1,IF($A32=\"\",\"\",IF(OR($E32=\"일\",$F32<>\"\"),1,0)*IF(S32+T32<>0,1,0)))","v":0},{"$f":"IFERROR(VLOOKUP($A32&1,'설정_In-Put'!$B:$L,11,0)*24,\"\")","v":""},null,null,0,0,0]
["2018-03-08",1,1,8,"목",{"$f":"IFERROR(VLOOKUP($A33,'관리자 Setting'!$K$6:$M$36,3,0),\"\")","v":""},null,null,{"$f":"IFERROR(IF(OR(E33=\"토\",E33=\"일\",F33<>\"\"),\"\",VLOOKUP(A33&0,'설정_In-Put'!$A:$L,6,0)),\"\")","v":""},null,2,10,{"$f":"IFERROR(VLOOKUP($A33,계획서_1분기!$A:$X,13,0),\"\")","v":0},0,{"$f":"IFERROR(VLOOKUP($A33,계획서_1분기!$A:$X,15,0),\"\")","v":0},0,{"$f":"INT(SUMIFS('설정_In-Put'!$K:$K,'설정_In-Put'!$C:$C,$A33)*24)","v":0},{"$f":"ROUND((SUMIFS('설정_In-Put'!$K:$K,'설정_In-Put'!$C:$C,$A33)*24-Q33)*60,0)","v":0},null,null,0,0,{"$f":"IF(SUMIFS('1월'!$AA$26:$AA$56,'1월'!$L$26:$L$56,$L33)+SUMIFS('2월'!$AA$26:$AA$56,'2월'!$L$26:$L$56,$L33)+SUMIFS('3월'!$AA$26:$AA$56,'3월'!$L$26:$L$56,$L33)>3120,1,IF($A33=\"\",\"\",IF(OR($E33=\"일\",$F33<>\"\"),1,0)*IF(S33+T33<>0,1,0)))","v":0},{"$f":"IFERROR(VLOOKUP($A33&1,'설정_In-Put'!$B:$L,11,0)*24,\"\")","v":""},null,null,0,0,0]
["2018-03-09",1,1,9,"금",{"$f":"IFERROR(VLOOKUP($A34,'관리자 Setting'!$K$6:$M$36,3,0),\"\")","v":""},null,null,{"$f":"IFERROR(IF(OR(E34=\"토\",E34=\"일\",F34<>\"\"),\"\",VLOOKUP(A34&0,'설정_In-Put'!$A:$L,6,0)),\"\")","v":""},null,2,10,{"$f":"IFERROR(VLOOKUP($A34,계획서_1분기!$A:$X,13,0),\"\")","v":0},0,{"$f":"IFERROR(VLOOKUP($A34,계획서_1분기!$A:$X,15,0),\"\")","v":0},0,{"$f":"INT(SUMIFS('설정_In-Put'!$K:$K,'설정_In-Put'!$C:$C,$A34)*24)","v":0},{"$f":"ROUND((SUMIFS('설정_In-Put'!$K:$K,'설정_In-Put'!$C:$C,$A34)*24-Q34)*60,0)","v":0},null,null,0,0,{"$f":"IF(SUMIFS('1월'!$AA$26:$AA$56,'1월'!$L$26:$L$56,$L34)+SUMIFS('2월'!$AA$26:$AA$56,'2월'!$L$26:$L$56,$L34)+SUMIFS('3월'!$AA$26:$AA$56,'3월'!$L$26:$L$56,$L34)>3120,1,IF($A34=\"\",\"\",IF(OR($E34=\"일\",$F34<>\"\"),1,0)*IF(S34+T34<>0,1,0)))","v":0},{"$f":"IFERROR(VLOOKUP($A34&1,'설정_In-Put'!$B:$L,11,0)*24,\"\")","v":""},null,null,0,0,0]
["2018-03-10",1,1,10,"토",{"$f":"IFERROR(VLOOKUP($A35,'관리자 Setting'!$K$6:$M$36,3,0),\"\")","v":""},null,null,{"$f":"IFERROR(IF(OR(E35=\"토\",E35=\"일\",F35<>\"\"),\"\",VLOOKUP(A35&0,'설정_In-Put'!$A:$L,6,0)),\"\")","v":""},null,2,10,{"$f":"IFERROR(VLOOKUP($A35,계획서_1분기!$A:$X,13,0),\"\")","v":0},0,{"$f":"IFERROR(VLOOKUP($A35,계획서_1분기!$A:$X,15,0),\"\")","v":0},0,{"$f":"INT(SUMIFS('설정_In-Put'!$K:$K,'설정_In-Put'!$C:$C,$A35)*24)","v":0},{"$f":"ROUND((SUMIFS('설정_In-Put'!$K:$K,'설정_In-Put'!$C:$C,$A35)*24-Q35)*60,0)","v":0},null,null,0,0,{"$f":"IF(SUMIFS('1월'!$AA$26:$AA$56,'1월'!$L$26:$L$56,$L35)+SUMIFS('2월'!$AA$26:$AA$56,'2월'!$L$26:$L$56,$L35)+SUMIFS('3월'!$AA$26:$AA$56,'3월'!$L$26:$L$56,$L35)>3120,1,IF($A35=\"\",\"\",IF(OR($E35=\"일\",$F35<>\"\"),1,0)*IF(S35+T35<>0,1,0)))","v":0},{"$f":"IFERROR(VLOOKUP($A35&1,'설정_In-Put'!$B:$L,11,0)*24,\"\")","v":""},null,null,0,0,0]
["2018-03-11",0,0,11,"일",{"$f":"IFERROR(VLOOKUP($A36,'관리자 Setting'!$K$6:$M$36,3,0),\"\")","v":""},null,null,{"$f":"IFERROR(IF(OR(E36=\"토\",E36=\"일\",F36<>\"\"),\"\",VLOOKUP(A36&0,'설정_In-Put'!$A:$L,6,0)),\"\")","v":""},null,2,10,{"$f":"IFERROR(VLOOKUP($A36,계획서_1분기!$A:$X,13,0),\"\")","v":0},0,{"$f":"IFERROR(VLOOKUP($A36,계획서_1분기!$A:$X,15,0),\"\")","v":0},0,{"$f":"INT(SUMIFS('설정_In-Put'!$K:$K,'설정_In-Put'!$C:$C,$A36)*24)","v":0},{"$f":"ROUND((SUMIFS('설정_In-Put'!$K:$K,'설정_In-Put'!$C:$C,$A36)*24-Q36)*60,0)","v":0},null,null,0,0,{"$f":"IF(SUMIFS('1월'!$AA$26:$AA$56,'1월'!$L$26:$L$56,$L36)+SUMIFS('2월'!$AA$26:$AA$56,'2월'!$L$26:$L$56,$L36)+SUMIFS('3월'!$AA$26:$AA$56,'3월'!$L$26:$L$56,$L36)>3120,1,IF($A36=\"\",\"\",IF(OR($E36=\"일\",$F36<>\"\"),1,0)*IF(S36+T36<>0,1,0)))","v":0},{"$f":"IFERROR(VLOOKUP($A36&1,'설정_In-Put'!$B:$L,11,0)*24,\"\")","v":""},null,null,0,0,0]
["2018-03-12",1,1,12,"월",{"$f":"IFERROR(VLOOKUP($A37,'관리자 Setting'!$K$6:$M$36,3,0),\"\")","v":""},null,null,{"$f":"IFERROR(IF(OR(E37=\"토\",E37=\"일\",F37<>\"\"),\"\",VLOOKUP(A37&0,'설정_In-Put'!$A:$L,6,0)),\"\")","v":""},null,3,11,{"$f":"IFERROR(VLOOKUP($A37,계획서_1분기!$A:$X,13,0),\"\")","v":0},0,{"$f":"IFERROR(VLOOKUP($A37,계획서_1분기!$A:$X,15,0),\"\")","v":0},0,{"$f":"INT(SUMIFS('설정_In-Put'!$K:$K,'설정_In-Put'!$C:$C,$A37)*24)","v":0},{"$f":"ROUND((SUMIFS('설정_In-Put'!$K:$K,'설정_In-Put'!$C:$C,$A37)*24-Q37)*60,0)","v":0},null,null,0,0,{"$f":"IF(SUMIFS('1월'!$AA$26:$AA$56,'1월'!$L$26:$L$56,$L37)+SUMIFS('2월'!$AA$26:$AA$56,'2월'!$L$26:$L$56,$L37)+SUMIFS('3월'!$AA$26:$AA$56,'3월'!$L$26:$L$56,$L37)>3120,1,IF($A37=\"\",\"\",IF(OR($E37=\"일\",$F37<>\"\"),1,0)*IF(S37+T37<>0,1,0)))","v":0},{"$f":"IFERROR(VLOOKUP($A37&1,'설정_In-Put'!$B:$L,11,0)*24,\"\")","v":""},null,null,0,0,0]
["2018-03-13",1,1,13,"화",{"$f":"IFERROR(VLOOKUP($A38,'관리자 Setting'!$K$6:$M$36,3,0),\"\")","v":""},null,null,{"$f":"IFERROR(IF(OR(E38=\"토\",E38=\"일\",F38<>\"\"),\"\",VLOOKUP(A38&0,'설정_In-Put'!$A:$L,6,0)),\"\")","v":""},null,3,11,{"$f":"IFERROR(VLOOKUP($A38,계획서_1분기!$A:$X,13,0),\"\")","v":0},0,{"$f":"IFERROR(VLOOKUP($A38,계획서_1분기!$A:$X,15,0),\"\")","v":0},0,{"$f":"INT(SUMIFS('설정_In-Put'!$K:$K,'설정_In-Put'!$C:$C,$A38)*24)","v":0},{"$f":"ROUND((SUMIFS('설정_In-Put'!$K:$K,'설정_In-Put'!$C:$C,$A38)*24-Q38)*60,0)","v":0},null,null,0,0,{"$f":"IF(SUMIFS('1월'!$AA$26:$AA$56,'1월'!$L$26:$L$56,$L38)+SUMIFS('2월'!$AA$26:$AA$56,'2월'!$L$26:$L$56,$L38)+SUMIFS('3월'!$AA$26:$AA$56,'3월'!$L$26:$L$56,$L38)>3120,1,IF($A38=\"\",\"\",IF(OR($E38=\"일\",$F38<>\"\"),1,0)*IF(S38+T38<>0,1,0)))","v":0},{"$f":"IFERROR(VLOOKUP($A38&1,'설정_In-Put'!$B:$L,11,0)*24,\"\")","v":""},null,null,0,0,0]
["2018-03-14",1,1,14,"수",{"$f":"IFERROR(VLOOKUP($A39,'관리자 Setting'!$K$6:$M$36,3,0),\"\")","v":""},null,null,{"$f":"IFERROR(IF(OR(E39=\"토\",E39=\"일\",F39<>\"\"),\"\",VLOOKUP(A39&0,'설정_In-Put'!$A:$L,6,0)),\"\")","v":""},null,3,11,{"$f":"IFERROR(VLOOKUP($A39,계획서_1분기!$A:$X,13,0),\"\")","v":0},0,{"$f":"IFERROR(VLOOKUP($A39,계획서_1분기!$A:$X,15,0),\"\")","v":0},0,{"$f":"INT(SUMIFS('설정_In-Put'!$K:$K,'설정_In-Put'!$C:$C,$A39)*24)","v":0},{"$f":"ROUND((SUMIFS('설정_In-Put'!$K:$K,'설정_In-Put'!$C:$C,$A39)*24-Q39)*60,0)","v":0},null,null,0,0,{"$f":"IF(SUMIFS('1월'!$AA$26:$AA$56,'1월'!$L$26:$L$56,$L39)+SUMIFS('2월'!$AA$26:$AA$56,'2월'!$L$26:$L$56,$L39)+SUMIFS('3월'!$AA$26:$AA$56,'3월'!$L$26:$L$56,$L39)>3120,1,IF($A39=\"\",\"\",IF(OR($E39=\"일\",$F39<>\"\"),1,0)*IF(S39+T39<>0,1,0)))","v":0},{"$f":"IFERROR(VLOOKUP($A39&1,'설정_In-Put'!$B:$L,11,0)*24,\"\")","v":""},null,null,0,0,0]
["2018-03-15",1,1,15,"목",{"$f":"IFERROR(VLOOKUP($A40,'관리자 Setting'!$K$6:$M$36,3,0),\"\")","v":""},null,null,{"$f":"IFERROR(IF(OR(E40=\"토\",E40=\"일\",F40<>\"\"),\"\",VLOOKUP(A40&0,'설정_In-Put'!$A:$L,6,0)),\"\")","v":""},null,3,11,{"$f":"IFERROR(VLOOKUP($A40,계획서_1분기!$A:$X,13,0),\"\")","v":0},0,{"$f":"IFERROR(VLOOKUP($A40,계획서_1분기!$A:$X,15,0),\"\")","v":0},0,{"$f":"INT(SUMIFS('설정_In-Put'!$K:$K,'설정_In-Put'!$C:$C,$A40)*24)","v":0},{"$f":"ROUND((SUMIFS('설정_In-Put'!$K:$K,'설정_In-Put'!$C:$C,$A40)*24-Q40)*60,0)","v":0},null,null,0,0,{"$f":"IF(SUMIFS('1월'!$AA$26:$AA$56,'1월'!$L$26:$L$56,$L40)+SUMIFS('2월'!$AA$26:$AA$56,'2월'!$L$26:$L$56,$L40)+SUMIFS('3월'!$AA$26:$AA$56,'3월'!$L$26:$L$56,$L40)>3120,1,IF($A40=\"\",\"\",IF(OR($E40=\"일\",$F40<>\"\"),1,0)*IF(S40+T40<>0,1,0)))","v":0},{"$f":"IFERROR(VLOOKUP($A40&1,'설정_In-Put'!$B:$L,11,0)*24,\"\")","v":""},null,null,0,0,0]
["2018-03-16",1,1,16,"금",{"$f":"IFERROR(VLOOKUP($A41,'관리자 Setting'!$K$6:$M$36,3,0),\"\")","v":""},null,null,{"$f":"IFERROR(IF(OR(E41=\"토\",E41=\"일\",F41<>\"\"),\"\",VLOOKUP(A41&0,'설정_In-Put'!$A:$L,6,0)),\"\")","v":""},null,3,11,{"$f":"IFERROR(VLOOKUP($A41,계획서_1분기!$A:$X,13,0),\"\")","v":0},0,{"$f":"IFERROR(VLOOKUP($A41,계획서_1분기!$A:$X,15,0),\"\")","v":0},0,{"$f":"INT(SUMIFS('설정_In-Put'!$K:$K,'설정_In-Put'!$C:$C,$A41)*24)","v":0},{"$f":"ROUND((SUMIFS('설정_In-Put'!$K:$K,'설정_In-Put'!$C:$C,$A41)*24-Q41)*60,0)","v":0},null,null,0,0,{"$f":"IF(SUMIFS('1월'!$AA$26:$AA$56,'1월'!$L$26:$L$56,$L41)+SUMIFS('2월'!$AA$26:$AA$56,'2월'!$L$26:$L$56,$L41)+SUMIFS('3월'!$AA$26:$AA$56,'3월'!$L$26:$L$56,$L41)>3120,1,IF($A41=\"\",\"\",IF(OR($E41=\"일\",$F41<>\"\"),1,0)*IF(S41+T41<>0,1,0)))","v":0},{"$f":"IFERROR(VLOOKUP($A41&1,'설정_In-Put'!$B:$L,11,0)*24,\"\")","v":""},null,null,0,0,0]
["2018-03-17",1,1,17,"토",{"$f":"IFERROR(VLOOKUP($A42,'관리자 Setting'!$K$6:$M$36,3,0),\"\")","v":""},null,null,{"$f":"IFERROR(IF(OR(E42=\"토\",E42=\"일\",F42<>\"\"),\"\",VLOOKUP(A42&0,'설정_In-Put'!$A:$L,6,0)),\"\")","v":""},null,3,11,{"$f":"IFERROR(VLOOKUP($A42,계획서_1분기!$A:$X,13,0),\"\")","v":0},0,{"$f":"IFERROR(VLOOKUP($A42,계획서_1분기!$A:$X,15,0),\"\")","v":0},0,{"$f":"INT(SUMIFS('설정_In-Put'!$K:$K,'설정_In-Put'!$C:$C,$A42)*24)","v":0},{"$f":"ROUND((SUMIFS('설정_In-Put'!$K:$K,'설정_In-Put'!$C:$C,$A42)*24-Q42)*60,0)","v":0},null,null,0,0,{"$f":"IF(SUMIFS('1월'!$AA$26:$AA$56,'1월'!$L$26:$L$56,$L42)+SUMIFS('2월'!$AA$26:$AA$56,'2월'!$L$26:$L$56,$L42)+SUMIFS('3월'!$AA$26:$AA$56,'3월'!$L$26:$L$56,$L42)>3120,1,IF($A42=\"\",\"\",IF(OR($E42=\"일\",$F42<>\"\"),1,0)*IF(S42+T42<>0,1,0)))","v":0},{"$f":"IFERROR(VLOOKUP($A42&1,'설정_In-Put'!$B:$L,11,0)*24,\"\")","v":""},null,null,0,0,0]
["2018-03-18",0,0,18,"일",{"$f":"IFERROR(VLOOKUP($A43,'관리자 Setting'!$K$6:$M$36,3,0),\"\")","v":""},null,null,{"$f":"IFERROR(IF(OR(E43=\"토\",E43=\"일\",F43<>\"\"),\"\",VLOOKUP(A43&0,'설정_In-Put'!$A:$L,6,0)),\"\")","v":""},null,3,11,{"$f":"IFERROR(VLOOKUP($A43,계획서_1분기!$A:$X,13,0),\"\")","v":0},0,{"$f":"IFERROR(VLOOKUP($A43,계획서_1분기!$A:$X,15,0),\"\")","v":0},0,{"$f":"INT(SUMIFS('설정_In-Put'!$K:$K,'설정_In-Put'!$C:$C,$A43)*24)","v":0},{"$f":"ROUND((SUMIFS('설정_In-Put'!$K:$K,'설정_In-Put'!$C:$C,$A43)*24-Q43)*60,0)","v":0},null,null,0,0,{"$f":"IF(SUMIFS('1월'!$AA$26:$AA$56,'1월'!$L$26:$L$56,$L43)+SUMIFS('2월'!$AA$26:$AA$56,'2월'!$L$26:$L$56,$L43)+SUMIFS('3월'!$AA$26:$AA$56,'3월'!$L$26:$L$56,$L43)>3120,1,IF($A43=\"\",\"\",IF(OR($E43=\"일\",$F43<>\"\"),1,0)*IF(S43+T43<>0,1,0)))","v":0},{"$f":"IFERROR(VLOOKUP($A43&1,'설정_In-Put'!$B:$L,11,0)*24,\"\")","v":""},null,null,0,0,0]
["2018-03-19",1,1,19,"월",{"$f":"IFERROR(VLOOKUP($A44,'관리자 Setting'!$K$6:$M$36,3,0),\"\")","v":""},null,null,{"$f":"IFERROR(IF(OR(E44=\"토\",E44=\"일\",F44<>\"\"),\"\",VLOOKUP(A44&0,'설정_In-Put'!$A:$L,6,0)),\"\")","v":""},null,4,12,{"$f":"IFERROR(VLOOKUP($A44,계획서_1분기!$A:$X,13,0),\"\")","v":0},0,{"$f":"IFERROR(VLOOKUP($A44,계획서_1분기!$A:$X,15,0),\"\")","v":0},0,{"$f":"INT(SUMIFS('설정_In-Put'!$K:$K,'설정_In-Put'!$C:$C,$A44)*24)","v":0},{"$f":"ROUND((SUMIFS('설정_In-Put'!$K:$K,'설정_In-Put'!$C:$C,$A44)*24-Q44)*60,0)","v":0},null,null,0,0,{"$f":"IF(SUMIFS('1월'!$AA$26:$AA$56,'1월'!$L$26:$L$56,$L44)+SUMIFS('2월'!$AA$26:$AA$56,'2월'!$L$26:$L$56,$L44)+SUMIFS('3월'!$AA$26:$AA$56,'3월'!$L$26:$L$56,$L44)>3120,1,IF($A44=\"\",\"\",IF(OR($E44=\"일\",$F44<>\"\"),1,0)*IF(S44+T44<>0,1,0)))","v":0},{"$f":"IFERROR(VLOOKUP($A44&1,'설정_In-Put'!$B:$L,11,0)*24,\"\")","v":""},null,null,0,0,0]
["2018-03-20",1,1,20,"화",{"$f":"IFERROR(VLOOKUP($A45,'관리자 Setting'!$K$6:$M$36,3,0),\"\")","v":""},null,null,{"$f":"IFERROR(IF(OR(E45=\"토\",E45=\"일\",F45<>\"\"),\"\",VLOOKUP(A45&0,'설정_In-Put'!$A:$L,6,0)),\"\")","v":""},null,4,12,{"$f":"IFERROR(VLOOKUP($A45,계획서_1분기!$A:$X,13,0),\"\")","v":0},0,{"$f":"IFERROR(VLOOKUP($A45,계획서_1분기!$A:$X,15,0),\"\")","v":0},0,{"$f":"INT(SUMIFS('설정_In-Put'!$K:$K,'설정_In-Put'!$C:$C,$A45)*24)","v":0},{"$f":"ROUND((SUMIFS('설정_In-Put'!$K:$K,'설정_In-Put'!$C:$C,$A45)*24-Q45)*60,0)","v":0},null,null,0,0,{"$f":"IF(SUMIFS('1월'!$AA$26:$AA$56,'1월'!$L$26:$L$56,$L45)+SUMIFS('2월'!$AA$26:$AA$56,'2월'!$L$26:$L$56,$L45)+SUMIFS('3월'!$AA$26:$AA$56,'3월'!$L$26:$L$56,$L45)>3120,1,IF($A45=\"\",\"\",IF(OR($E45=\"일\",$F45<>\"\"),1,0)*IF(S45+T45<>0,1,0)))","v":0},{"$f":"IFERROR(VLOOKUP($A45&1,'설정_In-Put'!$B:$L,11,0)*24,\"\")","v":""},null,null,0,0,0]
["2018-03-21",1,1,21,"수",{"$f":"IFERROR(VLOOKUP($A46,'관리자 Setting'!$K$6:$M$36,3,0),\"\")","v":""},null,null,{"$f":"IFERROR(IF(OR(E46=\"토\",E46=\"일\",F46<>\"\"),\"\",VLOOKUP(A46&0,'설정_In-Put'!$A:$L,6,0)),\"\")","v":""},null,4,12,{"$f":"IFERROR(VLOOKUP($A46,계획서_1분기!$A:$X,13,0),\"\")","v":0},0,{"$f":"IFERROR(VLOOKUP($A46,계획서_1분기!$A:$X,15,0),\"\")","v":0},0,{"$f":"INT(SUMIFS('설정_In-Put'!$K:$K,'설정_In-Put'!$C:$C,$A46)*24)","v":0},{"$f":"ROUND((SUMIFS('설정_In-Put'!$K:$K,'설정_In-Put'!$C:$C,$A46)*24-Q46)*60,0)","v":0},null,null,0,0,{"$f":"IF(SUMIFS('1월'!$AA$26:$AA$56,'1월'!$L$26:$L$56,$L46)+SUMIFS('2월'!$AA$26:$AA$56,'2월'!$L$26:$L$56,$L46)+SUMIFS('3월'!$AA$26:$AA$56,'3월'!$L$26:$L$56,$L46)>3120,1,IF($A46=\"\",\"\",IF(OR($E46=\"일\",$F46<>\"\"),1,0)*IF(S46+T46<>0,1,0)))","v":0},{"$f":"IFERROR(VLOOKUP($A46&1,'설정_In-Put'!$B:$L,11,0)*24,\"\")","v":""},null,null,0,0,0]
["2018-03-22",1,1,22,"목",{"$f":"IFERROR(VLOOKUP($A47,'관리자 Setting'!$K$6:$M$36,3,0),\"\")","v":""},null,null,{"$f":"IFERROR(IF(OR(E47=\"토\",E47=\"일\",F47<>\"\"),\"\",VLOOKUP(A47&0,'설정_In-Put'!$A:$L,6,0)),\"\")","v":""},null,4,12,{"$f":"IFERROR(VLOOKUP($A47,계획서_1분기!$A:$X,13,0),\"\")","v":0},0,{"$f":"IFERROR(VLOOKUP($A47,계획서_1분기!$A:$X,15,0),\"\")","v":0},0,{"$f":"INT(SUMIFS('설정_In-Put'!$K:$K,'설정_In-Put'!$C:$C,$A47)*24)","v":0},{"$f":"ROUND((SUMIFS('설정_In-Put'!$K:$K,'설정_In-Put'!$C:$C,$A47)*24-Q47)*60,0)","v":0},null,null,0,0,{"$f":"IF(SUMIFS('1월'!$AA$26:$AA$56,'1월'!$L$26:$L$56,$L47)+SUMIFS('2월'!$AA$26:$AA$56,'2월'!$L$26:$L$56,$L47)+SUMIFS('3월'!$AA$26:$AA$56,'3월'!$L$26:$L$56,$L47)>3120,1,IF($A47=\"\",\"\",IF(OR($E47=\"일\",$F47<>\"\"),1,0)*IF(S47+T47<>0,1,0)))","v":0},{"$f":"IFERROR(VLOOKUP($A47&1,'설정_In-Put'!$B:$L,11,0)*24,\"\")","v":""},null,null,0,0,0]
["2018-03-23",1,1,23,"금",{"$f":"IFERROR(VLOOKUP($A48,'관리자 Setting'!$K$6:$M$36,3,0),\"\")","v":""},null,null,{"$f":"IFERROR(IF(OR(E48=\"토\",E48=\"일\",F48<>\"\"),\"\",VLOOKUP(A48&0,'설정_In-Put'!$A:$L,6,0)),\"\")","v":""},null,4,12,{"$f":"IFERROR(VLOOKUP($A48,계획서_1분기!$A:$X,13,0),\"\")","v":0},0,{"$f":"IFERROR(VLOOKUP($A48,계획서_1분기!$A:$X,15,0),\"\")","v":0},0,{"$f":"INT(SUMIFS('설정_In-Put'!$K:$K,'설정_In-Put'!$C:$C,$A48)*24)","v":0},{"$f":"ROUND((SUMIFS('설정_In-Put'!$K:$K,'설정_In-Put'!$C:$C,$A48)*24-Q48)*60,0)","v":0},null,null,0,0,{"$f":"IF(SUMIFS('1월'!$AA$26:$AA$56,'1월'!$L$26:$L$56,$L48)+SUMIFS('2월'!$AA$26:$AA$56,'2월'!$L$26:$L$56,$L48)+SUMIFS('3월'!$AA$26:$AA$56,'3월'!$L$26:$L$56,$L48)>3120,1,IF($A48=\"\",\"\",IF(OR($E48=\"일\",$F48<>\"\"),1,0)*IF(S48+T48<>0,1,0)))","v":0},{"$f":"IFERROR(VLOOKUP($A48&1,'설정_In-Put'!$B:$L,11,0)*24,\"\")","v":""},null,null,0,0,0]
["2018-03-24",1,1,24,"토",{"$f":"IFERROR(VLOOKUP($A49,'관리자 Setting'!$K$6:$M$36,3,0),\"\")","v":""},null,null,{"$f":"IFERROR(IF(OR(E49=\"토\",E49=\"일\",F49<>\"\"),\"\",VLOOKUP(A49&0,'설정_In-Put'!$A:$L,6,0)),\"\")","v":""},null,4,12,{"$f":"IFERROR(VLOOKUP($A49,계획서_1분기!$A:$X,13,0),\"\")","v":0},0,{"$f":"IFERROR(VLOOKUP($A49,계획서_1분기!$A:$X,15,0),\"\")","v":0},0,{"$f":"INT(SUMIFS('설정_In-Put'!$K:$K,'설정_In-Put'!$C:$C,$A49)*24)","v":0},{"$f":"ROUND((SUMIFS('설정_In-Put'!$K:$K,'설정_In-Put'!$C:$C,$A49)*24-Q49)*60,0)","v":0},null,null,0,0,{"$f":"IF(SUMIFS('1월'!$AA$26:$AA$56,'1월'!$L$26:$L$56,$L49)+SUMIFS('2월'!$AA$26:$AA$56,'2월'!$L$26:$L$56,$L49)+SUMIFS('3월'!$AA$26:$AA$56,'3월'!$L$26:$L$56,$L49)>3120,1,IF($A49=\"\",\"\",IF(OR($E49=\"일\",$F49<>\"\"),1,0)*IF(S49+T49<>0,1,0)))","v":0},{"$f":"IFERROR(VLOOKUP($A49&1,'설정_In-Put'!$B:$L,11,0)*24,\"\")","v":""},null,null,0,0,0]
["2018-03-25",0,0,25,"일",{"$f":"IFERROR(VLOOKUP($A50,'관리자 Setting'!$K$6:$M$36,3,0),\"\")","v":""},null,null,{"$f":"IFERROR(IF(OR(E50=\"토\",E50=\"일\",F50<>\"\"),\"\",VLOOKUP(A50&0,'설정_In-Put'!$A:$L,6,0)),\"\")","v":""},null,4,12,{"$f":"IFERROR(VLOOKUP($A50,계획서_1분기!$A:$X,13,0),\"\")","v":0},0,{"$f":"IFERROR(VLOOKUP($A50,계획서_1분기!$A:$X,15,0),\"\")","v":0},0,{"$f":"INT(SUMIFS('설정_In-Put'!$K:$K,'설정_In-Put'!$C:$C,$A50)*24)","v":0},{"$f":"ROUND((SUMIFS('설정_In-Put'!$K:$K,'설정_In-Put'!$C:$C,$A50)*24-Q50)*60,0)","v":0},null,null,0,0,{"$f":"IF(SUMIFS('1월'!$AA$26:$AA$56,'1월'!$L$26:$L$56,$L50)+SUMIFS('2월'!$AA$26:$AA$56,'2월'!$L$26:$L$56,$L50)+SUMIFS('3월'!$AA$26:$AA$56,'3월'!$L$26:$L$56,$L50)>3120,1,IF($A50=\"\",\"\",IF(OR($E50=\"일\",$F50<>\"\"),1,0)*IF(S50+T50<>0,1,0)))","v":0},{"$f":"IFERROR(VLOOKUP($A50&1,'설정_In-Put'!$B:$L,11,0)*24,\"\")","v":""},null,null,0,0,0]
["2018-03-26",1,1,26,"월",{"$f":"IFERROR(VLOOKUP($A51,'관리자 Setting'!$K$6:$M$36,3,0),\"\")","v":""},null,null,{"$f":"IFERROR(IF(OR(E51=\"토\",E51=\"일\",F51<>\"\"),\"\",VLOOKUP(A51&0,'설정_In-Put'!$A:$L,6,0)),\"\")","v":""},null,5,13,{"$f":"IFERROR(VLOOKUP($A51,계획서_1분기!$A:$X,13,0),\"\")","v":0},0,{"$f":"IFERROR(VLOOKUP($A51,계획서_1분기!$A:$X,15,0),\"\")","v":0},0,{"$f":"INT(SUMIFS('설정_In-Put'!$K:$K,'설정_In-Put'!$C:$C,$A51)*24)","v":0},{"$f":"ROUND((SUMIFS('설정_In-Put'!$K:$K,'설정_In-Put'!$C:$C,$A51)*24-Q51)*60,0)","v":0},null,null,0,0,{"$f":"IF(SUMIFS('1월'!$AA$26:$AA$56,'1월'!$L$26:$L$56,$L51)+SUMIFS('2월'!$AA$26:$AA$56,'2월'!$L$26:$L$56,$L51)+SUMIFS('3월'!$AA$26:$AA$56,'3월'!$L$26:$L$56,$L51)>3120,1,IF($A51=\"\",\"\",IF(OR($E51=\"일\",$F51<>\"\"),1,0)*IF(S51+T51<>0,1,0)))","v":0},{"$f":"IFERROR(VLOOKUP($A51&1,'설정_In-Put'!$B:$L,11,0)*24,\"\")","v":""},null,null,0,0,0]
[{"$f":"IF(A51+1>EOMONTH($A$26,0),\"\",A51+1)","v":"2018-03-27"},1,1,27,"화",{"$f":"IFERROR(VLOOKUP($A52,'관리자 Setting'!$K$6:$M$36,3,0),\"\")","v":""},null,null,{"$f":"IFERROR(IF(OR(E52=\"토\",E52=\"일\",F52<>\"\"),\"\",VLOOKUP(A52&0,'설정_In-Put'!$A:$L,6,0)),\"\")","v":""},null,5,13,{"$f":"IFERROR(VLOOKUP($A52,계획서_1분기!$A:$X,13,0),\"\")","v":0},0,{"$f":"IFERROR(VLOOKUP($A52,계획서_1분기!$A:$X,15,0),\"\")","v":0},0,{"$f":"INT(SUMIFS('설정_In-Put'!$K:$K,'설정_In-Put'!$C:$C,$A52)*24)","v":0},{"$f":"ROUND((SUMIFS('설정_In-Put'!$K:$K,'설정_In-Put'!$C:$C,$A52)*24-Q52)*60,0)","v":0},null,null,0,0,{"$f":"IF(SUMIFS('1월'!$AA$26:$AA$56,'1월'!$L$26:$L$56,$L52)+SUMIFS('2월'!$AA$26:$AA$56,'2월'!$L$26:$L$56,$L52)+SUMIFS('3월'!$AA$26:$AA$56,'3월'!$L$26:$L$56,$L52)>3120,1,IF($A52=\"\",\"\",IF(OR($E52=\"일\",$F52<>\"\"),1,0)*IF(S52+T52<>0,1,0)))","v":0},{"$f":"IFERROR(VLOOKUP($A52&1,'설정_In-Put'!$B:$L,11,0)*24,\"\")","v":""},null,null,0,0,0]
[{"$f":"IFERROR(IF(A52+1>EOMONTH($A$26,0),\"\",A52+1),\"\")","v":"2018-03-28"},1,1,28,"수",{"$f":"IFERROR(VLOOKUP($A53,'관리자 Setting'!$K$6:$M$36,3,0),\"\")","v":""},null,null,{"$f":"IFERROR(IF(OR(E53=\"토\",E53=\"일\",F53<>\"\"),\"\",VLOOKUP(A53&0,'설정_In-Put'!$A:$L,6,0)),\"\")","v":""},null,5,13,{"$f":"IFERROR(VLOOKUP($A53,계획서_1분기!$A:$X,13,0),\"\")","v":0},0,{"$f":"IFERROR(VLOOKUP($A53,계획서_1분기!$A:$X,15,0),\"\")","v":0},0,{"$f":"INT(SUMIFS('설정_In-Put'!$K:$K,'설정_In-Put'!$C:$C,$A53)*24)","v":0},{"$f":"ROUND((SUMIFS('설정_In-Put'!$K:$K,'설정_In-Put'!$C:$C,$A53)*24-Q53)*60,0)","v":0},null,null,0,0,{"$f":"IF(SUMIFS('1월'!$AA$26:$AA$56,'1월'!$L$26:$L$56,$L53)+SUMIFS('2월'!$AA$26:$AA$56,'2월'!$L$26:$L$56,$L53)+SUMIFS('3월'!$AA$26:$AA$56,'3월'!$L$26:$L$56,$L53)>3120,1,IF($A53=\"\",\"\",IF(OR($E53=\"일\",$F53<>\"\"),1,0)*IF(S53+T53<>0,1,0)))","v":0},{"$f":"IFERROR(VLOOKUP($A53&1,'설정_In-Put'!$B:$L,11,0)*24,\"\")","v":""},null,null,0,0,0]
[{"$f":"IFERROR(IF(A53+1>EOMONTH($A$26,0),\"\",A53+1),\"\")","v":"2018-03-29"},1,1,29,"목",{"$f":"IFERROR(VLOOKUP($A54,'관리자 Setting'!$K$6:$M$36,3,0),\"\")","v":""},null,null,{"$f":"IFERROR(IF(OR(E54=\"토\",E54=\"일\",F54<>\"\"),\"\",VLOOKUP(A54&0,'설정_In-Put'!$A:$L,6,0)),\"\")","v":""},null,5,13,{"$f":"IFERROR(VLOOKUP($A54,계획서_1분기!$A:$X,13,0),\"\")","v":0},0,{"$f":"IFERROR(VLOOKUP($A54,계획서_1분기!$A:$X,15,0),\"\")","v":0},0,{"$f":"INT(SUMIFS('설정_In-Put'!$K:$K,'설정_In-Put'!$C:$C,$A54)*24)","v":0},{"$f":"ROUND((SUMIFS('설정_In-Put'!$K:$K,'설정_In-Put'!$C:$C,$A54)*24-Q54)*60,0)","v":0},null,null,0,0,{"$f":"IF(SUMIFS('1월'!$AA$26:$AA$56,'1월'!$L$26:$L$56,$L54)+SUMIFS('2월'!$AA$26:$AA$56,'2월'!$L$26:$L$56,$L54)+SUMIFS('3월'!$AA$26:$AA$56,'3월'!$L$26:$L$56,$L54)>3120,1,IF($A54=\"\",\"\",IF(OR($E54=\"일\",$F54<>\"\"),1,0)*IF(S54+T54<>0,1,0)))","v":0},{"$f":"IFERROR(VLOOKUP($A54&1,'설정_In-Put'!$B:$L,11,0)*24,\"\")","v":""},null,null,0,0,0]
[{"$f":"IFERROR(IF(A54+1>EOMONTH($A$26,0),\"\",A54+1),\"\")","v":"2018-03-30"},1,1,30,"금",{"$f":"IFERROR(VLOOKUP($A55,'관리자 Setting'!$K$6:$M$36,3,0),\"\")","v":""},null,null,{"$f":"IFERROR(IF(OR(E55=\"토\",E55=\"일\",F55<>\"\"),\"\",VLOOKUP(A55&0,'설정_In-Put'!$A:$L,6,0)),\"\")","v":""},null,5,13,{"$f":"IFERROR(VLOOKUP($A55,계획서_1분기!$A:$X,13,0),\"\")","v":0},0,{"$f":"IFERROR(VLOOKUP($A55,계획서_1분기!$A:$X,15,0),\"\")","v":0},0,{"$f":"INT(SUMIFS('설정_In-Put'!$K:$K,'설정_In-Put'!$C:$C,$A55)*24)","v":0},{"$f":"ROUND((SUMIFS('설정_In-Put'!$K:$K,'설정_In-Put'!$C:$C,$A55)*24-Q55)*60,0)","v":0},null,null,0,0,{"$f":"IF(SUMIFS('1월'!$AA$26:$AA$56,'1월'!$L$26:$L$56,$L55)+SUMIFS('2월'!$AA$26:$AA$56,'2월'!$L$26:$L$56,$L55)+SUMIFS('3월'!$AA$26:$AA$56,'3월'!$L$26:$L$56,$L55)>3120,1,IF($A55=\"\",\"\",IF(OR($E55=\"일\",$F55<>\"\"),1,0)*IF(S55+T55<>0,1,0)))","v":0},{"$f":"IFERROR(VLOOKUP($A55&1,'설정_In-Put'!$B:$L,11,0)*24,\"\")","v":""},null,null,0,0,0]
["2018-03-31",1,1,31,"토",{"$f":"IFERROR(VLOOKUP($A56,'관리자 Setting'!$K$6:$M$36,3,0),\"\")","v":""},null,null,{"$f":"IFERROR(IF(OR(E56=\"토\",E56=\"일\",F56<>\"\"),\"\",VLOOKUP(A56&0,'설정_In-Put'!$A:$L,6,0)),\"\")","v":""},null,5,13,{"$f":"IFERROR(VLOOKUP($A56,계획서_1분기!$A:$X,13,0),\"\")","v":0},0,{"$f":"IFERROR(VLOOKUP($A56,계획서_1분기!$A:$X,15,0),\"\")","v":0},0,{"$f":"INT(SUMIFS('설정_In-Put'!$K:$K,'설정_In-Put'!$C:$C,$A56)*24)","v":0},{"$f":"ROUND((SUMIFS('설정_In-Put'!$K:$K,'설정_In-Put'!$C:$C,$A56)*24-Q56)*60,0)","v":0},null,null,0,0,{"$f":"IF(SUMIFS('1월'!$AA$26:$AA$56,'1월'!$L$26:$L$56,$L56)+SUMIFS('2월'!$AA$26:$AA$56,'2월'!$L$26:$L$56,$L56)+SUMIFS('3월'!$AA$26:$AA$56,'3월'!$L$26:$L$56,$L56)>3120,1,IF($A56=\"\",\"\",IF(OR($E56=\"일\",$F56<>\"\"),1,0)*IF(S56+T56<>0,1,0)))","v":0},{"$f":"IFERROR(VLOOKUP($A56&1,'설정_In-Put'!$B:$L,11,0)*24,\"\")","v":""},null,null,0,0,0]

{"sheet":"계획서_2분기","index":7,"n_rows":107,"n_cols":23,"rows_kept":107,"merged":[[1,3,2,23],[4,3,5,3],[4,4,5,6],[4,7,5,8],[4,9,5,11],[4,12,5,13],[4,14,5,15],[4,16,5,17],[4,18,5,19],[4,20,5,21],[4,22,5,23],[7,3,7,23],[8,3,8,4],[8,5,8,9],[8,10,8,11],[8,12,8,13],[8,14,8,15],[8,16,8,17],[8,19,8,23],[9,3,9,4],[9,5,9,7],[9,8,9,9],[9,10,9,11],[9,12,9,13],[9,14,9,15],[9,16,9,17],[9,19,9,23],[10,3,10,4],[10,5,10,7],[10,8,10,9],[10,10,10,11],[10,12,10,13],[10,14,10,15],[10,16,10,17],[10,19,10,23],[12,3,12,23],[13,3,14,3],[13,4,13,6],[13,7,14,9],[13,10,14,10],[13,11,14,11],[13,12,14,13],[13,14,14,15],[13,16,14,17],[13,18,14,18],[13,19,14,23],[15,7,15,9],[15,12,15,13],[15,14,15,15],[15,16,15,17],[15,19,15,23],[16,7,16,9],[16,12,16,13],[16,14,16,15],[16,16,16,17],[16,19,16,23],[17,7,17,9],[17,12,17,13],[17,14,17,15],[17,16,17,17],[17,19,17,23],[18,7,18,9],[18,12,18,13],[18,14,18,15],[18,16,18,17],[18,19,18,23],[19,7,19,9],[19,12,19,13],[19,14,19,15],[19,16,19,17],[19,19,19,23],[20,7,20,9],[20,12,20,13],[20,14,20,15],[20,16,20,17],[20,19,20,23],[21,7,21,9],[21,12,21,13],[21,14,21,15],[21,16,21,17],[21,19,21,23],[22,7,22,9],[22,12,22,13],[22,14,22,15],[22,16,22,17],[22,19,22,23],[23,7,23,9],[23,12,23,13],[23,14,23,15],[23,16,23,17],[23,19,23,23],[24,7,24,9],[24,12,24,13],[24,14,24,15],[24,16,24,17],[24,19,24,23],[25,7,25,9],[25,12,25,13],[25,14,25,15],[25,16,25,17],[25,19,25,23],[26,7,26,9],[26,12,26,13],[26,14,26,15],[26,16,26,17],[26,19,26,23],[27,7,27,9],[27,12,27,13],[27,14,27,15],[27,16,27,17],[27,19,27,23],[28,7,28,9],[28,12,28,13],[28,14,28,15],[28,16,28,17],[28,19,28,23],[29,7,29,9],[29,12,29,13],[29,14,29,15],[29,16,29,17],[29,19,29,23],[30,7,30,9],[30,12,30,13],[30,14,30,15],[30,16,30,17],[30,19,30,23],[31,7,31,9],[31,12,31,13],[31,14,31,15],[31,16,31,17],[31,19,31,23],[32,7,32,9],[32,12,32,13],[32,14,32,15],[32,16,32,17],[32,19,32,23],[33,7,33,9],[33,12,33,13],[33,14,33,15],[33,16,33,17],[33,19,33,23],[34,7,34,9],[34,12,34,13],[34,14,34,15],[34,16,34,17],[34,19,34,23],[35,7,35,9],[35,12,35,13],[35,14,35,15],[35,16,35,17],[35,19,35,23],[36,7,36,9],[36,12,36,13],[36,14,36,15],[36,16,36,17],[36,19,36,23],[37,7,37,9],[37,12,37,13],[37,14,37,15],[37,16,37,17],[37,19,37,23],[38,7,38,9],[38,12,38,13],[38,14,38,15],[38,16,38,17],[38,19,38,23],[39,7,39,9],[39,12,39,13],[39,14,39,15],[39,16,39,17],[39,19,39,23],[40,7,40,9],[40,12,40,13],[40,14,40,15],[40,16,40,17],[40,19,40,23],[41,7,41,9],[41,12,41,13],[41,14,41,15],[41,16,41,17],[41,19,41,23],[42,7,42,9],[42,12,42,13],[42,14,42,15],[42,16,42,17],[42,19,42,23],[43,7,43,9],[43,12,43,13],[43,14,43,15],[43,16,43,17],[43,19,43,23],[44,7,44,9],[44,12,44,13],[44,14,44,15],[44,16,44,17],[44,19,44,23],[45,7,45,9],[45,12,45,13],[45,14,45,15],[45,16,45,17],[45,19,45,23],[46,7,46,9],[46,12,46,13],[46,14,46,15],[46,16,46,17],[46,19,46,23],[47,7,47,9],[47,12,47,13],[47,14,47,15],[47,16,47,17],[47,19,47,23],[48,7,48,9],[48,12,48,13],[48,14,48,15],[48,16,48,17],[48,19,48,23],[49,7,49,9],[49,12,49,13],[49,14,49,15],[49,16,49,17],[49,19,49,23],[50,7,50,9],[50,12,50,13],[50,14,50,15],[50,16,50,17],[50,19,50,23],[51,7,51,9],[51,12,51,13],[51,14,51,15],[51,16,51,17],[51,19,51,23],[52,7,52,9],[52,12,52,13],[52,14,52,15],[52,16,52,17],[52,19,52,23],[53,7,53,9],[53,12,53,13],[53,14,53,15],[53,16,53,17],[53,19,53,23],[54,7,54,9],[54,12,54,13],[54,14,54,15],[54,16,54,17],[54,19,54,23],[55,7,55,9],[55,12,55,13],[55,14,55,15],[55,16,55,17],[55,19,55,23],[56,7,56,9],[56,12,56,13],[56,14,56,15],[56,16,56,17],[56,19,56,23],[57,7,57,9],[57,12,57,13],[57,14,57,15],[57,16,57,17],[57,19,57,23],[58,7,58,9],[58,12,58,13],[58,14,58,15],[58,16,58,17],[58,19,58,23],[59,7,59,9],[59,12,59,13],[59,14,59,15],[59,16,59,17],[59,19,59,23],[60,7,60,9],[60,12,60,13],[60,14,60,15],[60,16,60,17],[60,19,60,23],[61,7,61,9],[61,12,61,13],[61,14,61,15],[61,16,61,17],[61,19,61,23],[62,7,62,9],[62,12,62,13],[62,14,62,15],[62,16,62,17],[62,19,62,23],[63,7,63,9],[63,12,63,13],[63,14,63,15],[63,16,63,17],[63,19,63,23],[64,7,64,9],[64,12,64,13],[64,14,64,15],[64,16,64,17],[64,19,64,23],[65,7,65,9],[65,12,65,13],[65,14,65,15],[65,16,65,17],[65,19,65,23],[66,7,66,9],[66,12,66,13],[66,14,66,15],[66,16,66,17],[66,19,66,23],[67,7,67,9],[67,12,67,13],[67,14,67,15],[67,16,67,17],[67,19,67,23],[68,7,68,9],[68,12,68,13],[68,14,68,15],[68,16,68,17],[68,19,68,23],[69,7,69,9],[69,12,69,13],[69,14,69,15],[69,16,69,17],[69,19,69,23],[70,7,70,9],[70,12,70,13],[70,14,70,15],[70,16,70,17],[70,19,70,23],[71,7,71,9],[71,12,71,13],[71,14,71,15],[71,16,71,17],[71,19,71,23],[72,7,72,9],[72,12,72,13],[72,14,72,15],[72,16,72,17],[72,19,72,23],[73,7,73,9],[73,12,73,13],[73,14,73,15],[73,16,73,17],[73,19,73,23],[74,7,74,9],[74,12,74,13],[74,14,74,15],[74,16,74,17],[74,19,74,23],[75,7,75,9],[75,12,75,13],[75,14,75,15],[75,16,75,17],[75,19,75,23],[76,7,76,9],[76,12,76,13],[76,14,76,15],[76,16,76,17],[76,19,76,23],[77,7,77,9],[77,12,77,13],[77,14,77,15],[77,16,77,17],[77,19,77,23],[78,7,78,9],[78,12,78,13],[78,14,78,15],[78,16,78,17],[78,19,78,23],[79,7,79,9],[79,12,79,13],[79,14,79,15],[79,16,79,17],[79,19,79,23],[80,7,80,9],[80,12,80,13],[80,14,80,15],[80,16,80,17],[80,19,80,23],[81,7,81,9],[81,12,81,13],[81,14,81,15],[81,16,81,17],[81,19,81,23],[82,7,82,9],[82,12,82,13],[82,14,82,15],[82,16,82,17],[82,19,82,23],[83,7,83,9],[83,12,83,13],[83,14,83,15],[83,16,83,17],[83,19,83,23],[84,7,84,9],[84,12,84,13],[84,14,84,15],[84,16,84,17],[84,19,84,23],[85,7,85,9],[85,12,85,13],[85,14,85,15],[85,16,85,17],[85,19,85,23],[86,7,86,9],[86,12,86,13],[86,14,86,15],[86,16,86,17],[86,19,86,23],[87,7,87,9],[87,12,87,13],[87,14,87,15],[87,16,87,17],[87,19,87,23],[88,7,88,9],[88,12,88,13],[88,14,88,15],[88,16,88,17],[88,19,88,23],[89,7,89,9],[89,12,89,13],[89,14,89,15],[89,16,89,17],[89,19,89,23],[90,7,90,9],[90,12,90,13],[90,14,90,15],[90,16,90,17],[90,19,90,23],[91,7,91,9],[91,12,91,13],[91,14,91,15],[91,16,91,17],[91,19,91,23],[92,7,92,9],[92,12,92,13],[92,14,92,15],[92,16,92,17],[92,19,92,23],[93,7,93,9],[93,12,93,13],[93,14,93,15],[93,16,93,17],[93,19,93,23],[94,7,94,9],[94,12,94,13],[94,14,94,15],[94,16,94,17],[94,19,94,23],[95,7,95,9],[95,12,95,13],[95,14,95,15],[95,16,95,17],[95,19,95,23],[96,7,96,9],[96,12,96,13],[96,14,96,15],[96,16,96,17],[96,19,96,23],[97,7,97,9],[97,12,97,13],[97,14,97,15],[97,16,97,17],[97,19,97,23],[98,7,98,9],[98,12,98,13],[98,14,98,15],[98,16,98,17],[98,19,98,23],[99,7,99,9],[99,12,99,13],[99,14,99,15],[99,16,99,17],[99,19,99,23],[100,7,100,9],[100,12,100,13],[100,14,100,15],[100,16,100,17],[100,19,100,23],[101,7,101,9],[101,12,101,13],[101,14,101,15],[101,16,101,17],[101,19,101,23],[102,7,102,9],[102,12,102,13],[102,14,102,15],[102,16,102,17],[102,19,102,23],[103,7,103,9],[103,12,103,13],[103,14,103,15],[103,16,103,17],[103,19,103,23],[104,7,104,9],[104,12,104,13],[104,14,104,15],[104,16,104,17],[104,19,104,23],[105,7,105,9],[105,12,105,13],[105,14,105,15],[105,16,105,17],[105,19,105,23],[106,7,106,9],[106,12,106,13],[106,14,106,15],[106,16,106,17],[106,19,106,23]]}
[]
[null,2,null,{"$f":"'관리자 Setting'!$R$3&\"년 \"&계획서_2분기!$B$2&\"분기 탄력 근무 계획\"","v":"2018년 2분기 탄력 근무 계획"}]
[]
[]
[{"$nulls":3},"소속","무한도전",null,null,"부서명",null,{"$f":"IFERROR(VLOOKUP($W$5,'관리자 Setting'!$C$4:$G$53,4,0),\"\")","v":"무한본부"},null,null,"직급",null,{"$f":"IFERROR(VLOOKUP($W$5,'관리자 Setting'!$C$4:$G$53,3,0),\"\")","v":"1급"},null,"ERP 사번",null,{"$f":"IFERROR(VLOOKUP($W$5,'관리자 Setting'!$C$4:$G$53,2,0),\"\")","v":"0002"},null,"성명",null,"박명수"]
[]
[]
[{"$nulls":3},"───────────────　　월　/　분　기　계　획　현　황　　───────────────"]
[{"$nulls":3},"구분",null,"규정",{"$nulls":4},"합계/평균",null,{"v":4,"d":"4월"},null,{"v":5,"d":"5월"},null,{"v":6,"d":"6월"},null,"CHK","비고"]
[{"$nulls":3},"정규 근로",null,"분기 필수 합계",null,null,{"$f":"IFERROR(VLOOKUP($B$2,'관리자 Setting'!$O$6:$R$10,2,0),\"\")","v":488},null,{"$f":"IFERROR(IF(SUM(M10:R10)=0,\"\",SUM(M10:R10)),\"\")","v":""},null,{"$f":"SUMIFS($M$16:$M$107,$E$16:$E$107,M$9)","v":0},null,0,null,0,null,{"$f":"IF(K10<>I10,1,0)","v":1},{"$f":"IF(K10<I10,\"필수 근로 시간 부족\",IF(K10>I10,\"평균 주 40시간 초과\",\"\"))","v":"평균 주 40시간 초과"}]
[{"$nulls":3},"연장 근로",null,"월 평균 연장 근로",null,null,{"$f":"IFERROR(VLOOKUP($W$5,'관리자 Setting'!$C$3:$G$53,5,0),\"\")","v":35},null,{"$f":"IFERROR(AVERAGE(M11:R11),\"\")","v":{"v":0,"d":"0.0"}},null,{"$f":"SUMIFS($O$16:$O$107,$E$16:$E$107,M$9)","v":0},null,0,null,0,null,{"$f":"IF(K11>I11,1,0)","v":0},{"$f":"IF(S11=0,\"\",\"연장 근로시간 한도 초과\")","v":""}]
[]
[{"$nulls":3},"───────────────　　일　/　주　간　계　획　현　황　　───────────────"]
[{"$nulls":3},"No","날짜",null,null,"참고",null,null,"월\n주","연\n주차","정규\n근로 시간",null,"연장\n근로 시간",null,"총\n근로 시간",null,"CHK","비고"]
[{"$nulls":4},"월","일","요일"]
[{"$f":"IFERROR(VLOOKUP($B$2,'관리자 Setting'!$O$6:$R$10,3,0),\"\")","v":"2018-04-01"},{"$f":"IF(OR(G16=\"일\",H16<>\"\"),1,0)","v":1},{"$f":"IF(AND(G16<>\"토\",G16<>\"일\",H16<>\"\"),1,0)","v":0},1,{"$f":"IFERROR(MONTH(A16),\"\")","v":4},{"$f":"IFERROR(DAY(A16),\"\")","v":1},{"$f":"TEXT($A16,\"AAA\")","v":"일"},{"$f":"IFERROR(VLOOKUP($A16,'관리자 Setting'!$K$6:$M$36,3,0),\"\")","v":""},null,null,{"$f":"IFERROR(L16-WEEKNUM(A16-F16+1)+1,\"\")","v":0},{"$f":"IFERROR(WEEKNUM(A16,2),\"\")","v":13},{"$nulls":4},{"$f":"IF(SUM(M16:P16)=0,\"\",SUM(M16:P16))","v":""},null,{"$f":"IF(AND($B16=1,$M16<>0),3,IF(SUMIFS($M$16:$M$107,$L$16:$L$107,$L16)+SUMIFS($C$16:$C$107,$L$16:$L$107,$L16)*8>52,2,IF(SUMIFS($O$16:$O$107,$L$16:$L$107,L16)>12,1,0)))","v":0},{"$f":"IF(S16>=3,\"휴일 정규 근로 계획 불가\",IF(S16=2,\"정규 근로 주 52시간 한도 초과\",IF(S16=1,\"연장 근로 주 12시간 한도 초과\",\"\")))","v":""}]
[{"$f":"A16+1","v":"2018-04-02"},0,0,2,{"$f":"IFERROR(MONTH(A17),\"\")","v":4},{"$f":"IFERROR(DAY(A17),\"\")","v":2},"월",{"$f":"IFERROR(VLOOKUP($A17,'관리자 Setting'!$K$6:$M$36,3,0),\"\")","v":""},null,null,1,{"$f":"IFERROR(WEEKNUM(A17,2),\"\")","v":14},{"$nulls":4},"",null,0,{"$f":"IF(S17>=3,\"휴일 정규 근로 불가\",IF(S17=2,\"정규 근로 주 52시간 한도 초과\",IF(S17=1,\"연장 근로 주 12시간 한도 초과\",\"\")))","v":""}]
[{"$f":"A17+1","v":"2018-04-03"},0,0,3,4,3,"화",{"$f":"IFERROR(VLOOKUP($A18,'관리자 Setting'!$K$6:$M$36,3,0),\"\")","v":""},null,null,1,14,{"$nulls":4},"",null,0,""]
["2018-04-04",0,0,4,4,4,"수",{"$f":"IFERROR(VLOOKUP($A19,'관리자 Setting'!$K$6:$M$36,3,0),\"\")","v":""},null,null,1,14,{"$nulls":4},"",null,0,""]
["2018-04-05",0,0,5,4,5,"목",{"$f":"IFERROR(VLOOKUP($A20,'관리자 Setting'!$K$6:$M$36,3,0),\"\")","v":""},null,null,1,14,{"$nulls":4},"",null,0,""]
["2018-04-06",0,0,6,4,6,"금",{"$f":"IFERROR(VLOOKUP($A21,'관리자 Setting'!$K$6:$M$36,3,0),\"\")","v":""},null,null,1,14,{"$nulls":4},"",null,0,""]
["2018-04-07",0,0,7,4,7,"토",{"$f":"IFERROR(VLOOKUP($A22,'관리자 Setting'!$K$6:$M$36,3,0),\"\")","v":""},null,null,1,14,{"$nulls":4},"",null,0,""]
["2018-04-08",1,0,8,4,8,"일",{"$f":"IFERROR(VLOOKUP($A23,'관리자 Setting'!$K$6:$M$36,3,0),\"\")","v":""},null,null,1,14,{"$nulls":4},"",null,0,""]
["2018-04-09",0,0,9,4,9,"월",{"$f":"IFERROR(VLOOKUP($A24,'관리자 Setting'!$K$6:$M$36,3,0),\"\")","v":""},null,null,2,15,{"$nulls":4},"",null,0,""]
["2018-04-10",0,0,10,4,10,"화",{"$f":"IFERROR(VLOOKUP($A25,'관리자 Setting'!$K$6:$M$36,3,0),\"\")","v":""},null,null,2,15,{"$nulls":4},"",null,0,""]
["2018-04-11",0,0,11,4,11,"수",{"$f":"IFERROR(VLOOKUP($A26,'관리자 Setting'!$K$6:$M$36,3,0),\"\")","v":""},null,null,2,15,{"$nulls":4},"",null,0,""]
["2018-04-12",0,0,12,4,12,"목",{"$f":"IFERROR(VLOOKUP($A27,'관리자 Setting'!$K$6:$M$36,3,0),\"\")","v":""},null,null,2,15,{"$nulls":4},"",null,{"$f":"IF(AND($B27=1,$M27<>0),3,IF(SUMIFS($M$16:$M$107,$L$16:$L$107,$L27)+SUMIFS($C$16:$C$107,$L$16:$L$107,$L27)*8>52,2,IF(SUMIFS($O$16:$O$107,$L$16:$L$107,L27)>12,1,0)))","v":0},""]
["2018-04-13",0,0,13,4,13,"금",{"$f":"IFERROR(VLOOKUP($A28,'관리자 Setting'!$K$6:$M$36,3,0),\"\")","v":""},null,null,2,15,{"$nulls":4},"",null,0,""]
["2018-04-14",0,0,14,4,14,"토",{"$f":"IFERROR(VLOOKUP($A29,'관리자 Setting'!$K$6:$M$36,3,0),\"\")","v":""},null,null,2,15,{"$nulls":4},"",null,0,""]
["2018-04-15",1,0,15,4,15,"일",{"$f":"IFERROR(VLOOKUP($A30,'관리자 Setting'!$K$6:$M$36,3,0),\"\")","v":""},null,null,2,15,{"$nulls":4},"",null,0,""]
["2018-04-16",0,0,16,4,16,"월",{"$f":"IFERROR(VLOOKUP($A31,'관리자 Setting'!$K$6:$M$36,3,0),\"\")","v":""},null,null,3,16,{"$nulls":4},"",null,0,""]
["2018-04-17",0,0,17,4,17,"화",{"$f":"IFERROR(VLOOKUP($A32,'관리자 Setting'!$K$6:$M$36,3,0),\"\")","v":""},null,null,3,16,{"$nulls":4},"",null,0,""]
["2018-04-18",0,0,18,4,18,"수",{"$f":"IFERROR(VLOOKUP($A33,'관리자 Setting'!$K$6:$M$36,3,0),\"\")","v":""},null,null,3,16,{"$nulls":4},"",null,0,""]
["2018-04-19",0,0,19,4,19,"목",{"$f":"IFERROR(VLOOKUP($A34,'관리자 Setting'!$K$6:$M$36,3,0),\"\")","v":""},null,null,3,16,{"$nulls":4},"",null,0,""]
["2018-04-20",0,0,20,4,20,"금",{"$f":"IFERROR(VLOOKUP($A35,'관리자 Setting'!$K$6:$M$36,3,0),\"\")","v":""},null,null,3,16,{"$nulls":4},"",null,0,""]
["2018-04-21",0,0,21,4,21,"토",{"$f":"IFERROR(VLOOKUP($A36,'관리자 Setting'!$K$6:$M$36,3,0),\"\")","v":""},null,null,3,16,{"$nulls":4},"",null,0,""]
["2018-04-22",1,0,22,4,22,"일",{"$f":"IFERROR(VLOOKUP($A37,'관리자 Setting'!$K$6:$M$36,3,0),\"\")","v":""},null,null,3,16,{"$nulls":4},"",null,0,""]
["2018-04-23",0,0,23,4,23,"월",{"$f":"IFERROR(VLOOKUP($A38,'관리자 Setting'!$K$6:$M$36,3,0),\"\")","v":""},null,null,4,17,{"$nulls":4},"",null,0,""]
["2018-04-24",0,0,24,4,24,"화",{"$f":"IFERROR(VLOOKUP($A39,'관리자 Setting'!$K$6:$M$36,3,0),\"\")","v":""},null,null,4,17,{"$nulls":4},"",null,0,""]
["2018-04-25",0,0,25,4,25,"수",{"$f":"IFERROR(VLOOKUP($A40,'관리자 Setting'!$K$6:$M$36,3,0),\"\")","v":""},null,null,4,17,{"$nulls":4},"",null,0,""]
["2018-04-26",0,0,26,4,26,"목",{"$f":"IFERROR(VLOOKUP($A41,'관리자 Setting'!$K$6:$M$36,3,0),\"\")","v":""},null,null,4,17,{"$nulls":4},"",null,0,""]
["2018-04-27",0,0,27,4,27,"금",{"$f":"IFERROR(VLOOKUP($A42,'관리자 Setting'!$K$6:$M$36,3,0),\"\")","v":""},null,null,4,17,{"$nulls":4},"",null,0,""]
["2018-04-28",0,0,28,4,28,"토",{"$f":"IFERROR(VLOOKUP($A43,'관리자 Setting'!$K$6:$M$36,3,0),\"\")","v":""},null,null,4,17,{"$nulls":4},"",null,0,""]
["2018-04-29",1,0,29,4,29,"일",{"$f":"IFERROR(VLOOKUP($A44,'관리자 Setting'!$K$6:$M$36,3,0),\"\")","v":""},null,null,4,17,{"$nulls":4},"",null,0,""]
["2018-04-30",0,0,30,4,30,"월",{"$f":"IFERROR(VLOOKUP($A45,'관리자 Setting'!$K$6:$M$36,3,0),\"\")","v":""},null,null,5,18,{"$nulls":4},"",null,0,""]
["2018-05-01",0,0,31,5,1,"화",{"$f":"IFERROR(VLOOKUP($A46,'관리자 Setting'!$K$6:$M$36,3,0),\"\")","v":""},null,null,1,18,{"$nulls":4},"",null,0,""]
["2018-05-02",0,0,32,5,2,"수",{"$f":"IFERROR(VLOOKUP($A47,'관리자 Setting'!$K$6:$M$36,3,0),\"\")","v":""},null,null,1,18,{"$nulls":4},"",null,0,""]
["2018-05-03",{"$f":"IF(OR(G48=\"일\",H48<>\"\"),1,0)","v":0},0,33,5,3,"목",{"$f":"IFERROR(VLOOKUP($A48,'관리자 Setting'!$K$6:$M$36,3,0),\"\")","v":""},null,null,1,18,{"$nulls":4},{"$f":"IF(SUM(M48:P48)=0,\"\",SUM(M48:P48))","v":""},null,0,""]
["2018-05-04",0,0,34,5,4,"금",{"$f":"IFERROR(VLOOKUP($A49,'관리자 Setting'!$K$6:$M$36,3,0),\"\")","v":""},null,null,1,18,{"$nulls":4},"",null,0,""]
["2018-05-05",1,0,35,5,5,"토",{"$f":"IFERROR(VLOOKUP($A50,'관리자 Setting'!$K$6:$M$36,3,0),\"\")","v":"어린이날"},null,null,1,18,{"$nulls":4},"",null,0,""]
["2018-05-06",1,0,36,5,6,"일",{"$f":"IFERROR(VLOOKUP($A51,'관리자 Setting'!$K$6:$M$36,3,0),\"\")","v":""},null,null,1,18,{"$nulls":4},"",null,0,""]
["2018-05-07",1,1,37,5,7,"월",{"$f":"IFERROR(VLOOKUP($A52,'관리자 Setting'!$K$6:$M$36,3,0),\"\")","v":"대체공휴일"},null,null,2,19,{"$nulls":4},"",null,0,""]
["2018-05-08",0,0,38,5,8,"화",{"$f":"IFERROR(VLOOKUP($A53,'관리자 Setting'!$K$6:$M$36,3,0),\"\")","v":""},null,null,2,19,{"$nulls":4},"",null,0,""]
["2018-05-09",0,0,39,5,9,"수",{"$f":"IFERROR(VLOOKUP($A54,'관리자 Setting'!$K$6:$M$36,3,0),\"\")","v":""},null,null,2,19,{"$nulls":4},"",null,0,""]
["2018-05-10",0,0,40,5,10,"목",{"$f":"IFERROR(VLOOKUP($A55,'관리자 Setting'!$K$6:$M$36,3,0),\"\")","v":""},null,null,2,19,{"$nulls":4},"",null,0,""]
["2018-05-11",0,0,41,5,11,"금",{"$f":"IFERROR(VLOOKUP($A56,'관리자 Setting'!$K$6:$M$36,3,0),\"\")","v":""},null,null,2,19,{"$nulls":4},"",null,0,""]
["2018-05-12",0,0,42,5,12,"토",{"$f":"IFERROR(VLOOKUP($A57,'관리자 Setting'!$K$6:$M$36,3,0),\"\")","v":""},null,null,2,19,{"$nulls":4},"",null,0,""]
["2018-05-13",1,0,43,5,13,"일",{"$f":"IFERROR(VLOOKUP($A58,'관리자 Setting'!$K$6:$M$36,3,0),\"\")","v":""},null,null,2,19,{"$nulls":4},"",null,0,""]
["2018-05-14",0,0,44,5,14,"월",{"$f":"IFERROR(VLOOKUP($A59,'관리자 Setting'!$K$6:$M$36,3,0),\"\")","v":""},null,null,3,20,{"$nulls":4},"",null,0,""]
["2018-05-15",0,0,45,5,15,"화",{"$f":"IFERROR(VLOOKUP($A60,'관리자 Setting'!$K$6:$M$36,3,0),\"\")","v":""},null,null,3,20,{"$nulls":4},"",null,0,""]
["2018-05-16",0,0,46,5,16,"수",{"$f":"IFERROR(VLOOKUP($A61,'관리자 Setting'!$K$6:$M$36,3,0),\"\")","v":""},null,null,3,20,{"$nulls":4},"",null,0,""]
["2018-05-17",0,0,47,5,17,"목",{"$f":"IFERROR(VLOOKUP($A62,'관리자 Setting'!$K$6:$M$36,3,0),\"\")","v":""},null,null,3,20,{"$nulls":4},"",null,0,""]
["2018-05-18",0,0,48,5,18,"금",{"$f":"IFERROR(VLOOKUP($A63,'관리자 Setting'!$K$6:$M$36,3,0),\"\")","v":""},null,null,3,20,{"$nulls":4},"",null,0,""]
["2018-05-19",0,0,49,5,19,"토",{"$f":"IFERROR(VLOOKUP($A64,'관리자 Setting'!$K$6:$M$36,3,0),\"\")","v":""},null,null,3,20,{"$nulls":4},"",null,0,""]
["2018-05-20",1,0,50,5,20,"일",{"$f":"IFERROR(VLOOKUP($A65,'관리자 Setting'!$K$6:$M$36,3,0),\"\")","v":""},null,null,3,20,{"$nulls":4},"",null,0,""]
["2018-05-21",0,0,51,5,21,"월",{"$f":"IFERROR(VLOOKUP($A66,'관리자 Setting'!$K$6:$M$36,3,0),\"\")","v":""},null,null,4,21,{"$nulls":4},"",null,0,""]
["2018-05-22",1,1,52,5,22,"화",{"$f":"IFERROR(VLOOKUP($A67,'관리자 Setting'!$K$6:$M$36,3,0),\"\")","v":"부처님오신날"},null,null,4,21,{"$nulls":4},"",null,0,""]
["2018-05-23",0,0,53,5,23,"수",{"$f":"IFERROR(VLOOKUP($A68,'관리자 Setting'!$K$6:$M$36,3,0),\"\")","v":""},null,null,4,21,{"$nulls":4},"",null,0,""]
["2018-05-24",0,0,54,5,24,"목",{"$f":"IFERROR(VLOOKUP($A69,'관리자 Setting'!$K$6:$M$36,3,0),\"\")","v":""},null,null,4,21,{"$nulls":4},"",null,0,""]
["2018-05-25",0,0,55,5,25,"금",{"$f":"IFERROR(VLOOKUP($A70,'관리자 Setting'!$K$6:$M$36,3,0),\"\")","v":""},null,null,4,21,{"$nulls":4},"",null,0,""]
["2018-05-26",0,0,56,5,26,"토",{"$f":"IFERROR(VLOOKUP($A71,'관리자 Setting'!$K$6:$M$36,3,0),\"\")","v":""},null,null,4,21,{"$nulls":4},"",null,0,""]
["2018-05-27",1,0,57,5,27,"일",{"$f":"IFERROR(VLOOKUP($A72,'관리자 Setting'!$K$6:$M$36,3,0),\"\")","v":""},null,null,4,21,{"$nulls":4},"",null,0,""]
["2018-05-28",0,0,58,5,28,"월",{"$f":"IFERROR(VLOOKUP($A73,'관리자 Setting'!$K$6:$M$36,3,0),\"\")","v":""},null,null,5,22,{"$nulls":4},"",null,0,""]
["2018-05-29",0,0,59,5,29,"화",{"$f":"IFERROR(VLOOKUP($A74,'관리자 Setting'!$K$6:$M$36,3,0),\"\")","v":""},null,null,5,22,{"$nulls":4},"",null,0,""]
["2018-05-30",0,0,60,5,30,"수",{"$f":"IFERROR(VLOOKUP($A75,'관리자 Setting'!$K$6:$M$36,3,0),\"\")","v":""},null,null,5,22,{"$nulls":4},"",null,0,""]
["2018-05-31",0,0,61,5,31,"목",{"$f":"IFERROR(VLOOKUP($A76,'관리자 Setting'!$K$6:$M$36,3,0),\"\")","v":""},null,null,5,22,{"$nulls":4},"",null,0,""]
["2018-06-01",0,0,62,6,1,"금",{"$f":"IFERROR(VLOOKUP($A77,'관리자 Setting'!$K$6:$M$36,3,0),\"\")","v":""},null,null,1,22,{"$nulls":4},"",null,0,""]
["2018-06-02",0,0,63,6,2,"토",{"$f":"IFERROR(VLOOKUP($A78,'관리자 Setting'!$K$6:$M$36,3,0),\"\")","v":""},null,null,1,22,{"$nulls":4},"",null,0,""]
["2018-06-03",1,0,64,6,3,"일",{"$f":"IFERROR(VLOOKUP($A79,'관리자 Setting'!$K$6:$M$36,3,0),\"\")","v":""},null,null,1,22,{"$nulls":4},"",null,0,""]
["2018-06-04",{"$f":"IF(OR(G80=\"일\",H80<>\"\"),1,0)","v":0},{"$f":"IF(AND(G80<>\"토\",G80<>\"일\",H80<>\"\"),1,0)","v":0},65,6,4,{"$f":"TEXT($A80,\"AAA\")","v":"월"},{"$f":"IFERROR(VLOOKUP($A80,'관리자 Setting'!$K$6:$M$36,3,0),\"\")","v":""},null,null,{"$f":"IFERROR(L80-WEEKNUM(A80-F80+1)+1,\"\")","v":2},23,{"$nulls":4},"",null,{"$f":"IF(AND($B80=1,$M80<>0),3,IF(SUMIFS($M$16:$M$107,$L$16:$L$107,$L80)+SUMIFS($C$16:$C$107,$L$16:$L$107,$L80)*8>52,2,IF(SUMIFS($O$16:$O$107,$L$16:$L$107,L80)>12,1,0)))","v":0},""]
["2018-06-05",0,0,66,{"$f":"IFERROR(MONTH(A81),\"\")","v":6},{"$f":"IFERROR(DAY(A81),\"\")","v":5},"화",{"$f":"IFERROR(VLOOKUP($A81,'관리자 Setting'!$K$6:$M$36,3,0),\"\")","v":""},null,null,2,{"$f":"IFERROR(WEEKNUM(A81,2),\"\")","v":23},{"$nulls":4},"",null,0,{"$f":"IF(S81>=3,\"휴일 정규 근로 불가\",IF(S81=2,\"정규 근로 주 52시간 한도 초과\",IF(S81=1,\"연장 근로 주 12시간 한도 초과\",\"\")))","v":""}]
[{"$f":"A81+1","v":"2018-06-06"},1,1,67,6,6,"수",{"$f":"IFERROR(VLOOKUP($A82,'관리자 Setting'!$K$6:$M$36,3,0),\"\")","v":"현충일"},null,null,2,23,{"$nulls":4},"",null,0,""]
["2018-06-07",0,0,68,6,7,"목",{"$f":"IFERROR(VLOOKUP($A83,'관리자 Setting'!$K$6:$M$36,3,0),\"\")","v":""},null,null,2,23,{"$nulls":4},"",null,0,""]
["2018-06-08",0,0,69,6,8,"금",{"$f":"IFERROR(VLOOKUP($A84,'관리자 Setting'!$K$6:$M$36,3,0),\"\")","v":""},null,null,2,23,{"$nulls":4},"",null,0,""]
["2018-06-09",0,0,70,6,9,"토",{"$f":"IFERROR(VLOOKUP($A85,'관리자 Setting'!$K$6:$M$36,3,0),\"\")","v":""},null,null,2,23,{"$nulls":4},"",null,0,""]
["2018-06-10",1,0,71,6,10,"일",{"$f":"IFERROR(VLOOKUP($A86,'관리자 Setting'!$K$6:$M$36,3,0),\"\")","v":""},null,null,2,23,{"$nulls":4},"",null,0,""]
["2018-06-11",0,0,72,6,11,"월",{"$f":"IFERROR(VLOOKUP($A87,'관리자 Setting'!$K$6:$M$36,3,0),\"\")","v":""},null,null,3,24,{"$nulls":4},"",null,0,""]
["2018-06-12",0,0,73,6,12,"화",{"$f":"IFERROR(VLOOKUP($A88,'관리자 Setting'!$K$6:$M$36,3,0),\"\")","v":""},null,null,3,24,{"$nulls":4},"",null,0,""]
["2018-06-13",1,1,74,6,13,"수",{"$f":"IFERROR(VLOOKUP($A89,'관리자 Setting'!$K$6:$M$36,3,0),\"\")","v":"지방선거"},null,null,3,24,{"$nulls":4},"",null,0,""]
["2018-06-14",0,0,75,6,14,"목",{"$f":"IFERROR(VLOOKUP($A90,'관리자 Setting'!$K$6:$M$36,3,0),\"\")","v":""},null,null,3,24,{"$nulls":4},"",null,0,""]
["2018-06-15",0,0,76,6,15,"금",{"$f":"IFERROR(VLOOKUP($A91,'관리자 Setting'!$K$6:$M$36,3,0),\"\")","v":""},null,null,3,24,{"$nulls":4},"",null,0,""]
["2018-06-16",0,0,77,6,16,"토",{"$f":"IFERROR(VLOOKUP($A92,'관리자 Setting'!$K$6:$M$36,3,0),\"\")","v":""},null,null,3,24,{"$nulls":4},"",null,0,""]
["2018-06-17",1,0,78,6,17,"일",{"$f":"IFERROR(VLOOKUP($A93,'관리자 Setting'!$K$6:$M$36,3,0),\"\")","v":""},null,null,3,24,{"$nulls":4},"",null,0,""]
["2018-06-18",0,0,79,6,18,"월",{"$f":"IFERROR(VLOOKUP($A94,'관리자 Setting'!$K$6:$M$36,3,0),\"\")","v":""},null,null,4,25,{"$nulls":4},"",null,0,""]
["2018-06-19",0,0,80,6,19,"화",{"$f":"IFERROR(VLOOKUP($A95,'관리자 Setting'!$K$6:$M$36,3,0),\"\")","v":""},null,null,4,25,{"$nulls":4},"",null,0,""]
["2018-06-20",0,0,81,6,20,"수",{"$f":"IFERROR(VLOOKUP($A96,'관리자 Setting'!$K$6:$M$36,3,0),\"\")","v":""},null,null,4,25,{"$nulls":4},"",null,0,""]
["2018-06-21",0,0,82,6,21,"목",{"$f":"IFERROR(VLOOKUP($A97,'관리자 Setting'!$K$6:$M$36,3,0),\"\")","v":""},null,null,4,25,{"$nulls":4},"",null,0,""]
["2018-06-22",0,0,83,6,22,"금",{"$f":"IFERROR(VLOOKUP($A98,'관리자 Setting'!$K$6:$M$36,3,0),\"\")","v":""},null,null,4,25,{"$nulls":4},"",null,0,""]
["2018-06-23",0,0,84,6,23,"토",{"$f":"IFERROR(VLOOKUP($A99,'관리자 Setting'!$K$6:$M$36,3,0),\"\")","v":""},null,null,4,25,{"$nulls":4},"",null,0,""]
["2018-06-24",1,0,85,6,24,"일",{"$f":"IFERROR(VLOOKUP($A100,'관리자 Setting'!$K$6:$M$36,3,0),\"\")","v":""},null,null,4,25,{"$nulls":4},"",null,0,""]
["2018-06-25",0,0,86,6,25,"월",{"$f":"IFERROR(VLOOKUP($A101,'관리자 Setting'!$K$6:$M$36,3,0),\"\")","v":""},null,null,5,26,{"$nulls":4},"",null,0,""]
["2018-06-26",0,0,87,6,26,"화",{"$f":"IFERROR(VLOOKUP($A102,'관리자 Setting'!$K$6:$M$36,3,0),\"\")","v":""},null,null,5,26,{"$nulls":4},"",null,0,""]
[{"$f":"IFERROR(IF(A102+1>VLOOKUP($B$2,'관리자 Setting'!$O$6:$R$10,4,0),\"\",A102+1),\"\")","v":"2018-06-27"},0,0,88,6,27,"수",{"$f":"IFERROR(VLOOKUP($A103,'관리자 Setting'!$K$6:$M$36,3,0),\"\")","v":""},null,null,5,26,{"$nulls":4},"",null,0,""]
[{"$f":"IFERROR(IF(A103+1>VLOOKUP($B$2,'관리자 Setting'!$O$6:$R$10,4,0),\"\",A103+1),\"\")","v":"2018-06-28"},0,0,89,6,28,"목",{"$f":"IFERROR(VLOOKUP($A104,'관리자 Setting'!$K$6:$M$36,3,0),\"\")","v":""},null,null,5,26,{"$nulls":4},"",null,0,""]
[{"$f":"IFERROR(IF(A104+1>VLOOKUP($B$2,'관리자 Setting'!$O$6:$R$10,4,0),\"\",A104+1),\"\")","v":"2018-06-29"},0,0,90,6,29,"금",{"$f":"IFERROR(VLOOKUP($A105,'관리자 Setting'!$K$6:$M$36,3,0),\"\")","v":""},null,null,5,26,{"$nulls":4},"",null,0,""]
[{"$f":"IFERROR(IF(A105+1>VLOOKUP($B$2,'관리자 Setting'!$O$6:$R$10,4,0),\"\",A105+1),\"\")","v":"2018-06-30"},0,0,91,6,30,"토",{"$f":"IFERROR(VLOOKUP($A106,'관리자 Setting'!$K$6:$M$36,3,0),\"\")","v":""},null,null,5,26,{"$nulls":4},"",null,0,""]
[{"$f":"IFERROR(IF(A106+1>VLOOKUP($B$2,'관리자 Setting'!$O$6:$R$10,4,0),\"\",A106+1),\"\")","v":""},0,0,92,"","","",{"$f":"IFERROR(VLOOKUP($A107,'관리자 Setting'!$K$6:$M$36,3,0),\"\")","v":""},null,null,"","",{"$nulls":4},"",null,0,""]

{"sheet":"4월","index":8,"n_rows":58,"n_cols":30,"rows_kept":58,"merged":[[1,3,2,5],[1,6,2,20],[1,21,2,23],[4,3,5,3],[4,4,5,6],[4,7,5,8],[4,9,5,11],[4,12,5,13],[4,14,5,15],[4,16,5,17],[4,18,5,19],[4,20,5,21],[4,22,5,23],[7,3,7,23],[8,3,8,4],[8,5,8,9],[8,10,8,12],[8,13,8,14],[8,15,8,16],[8,17,8,18],[8,20,8,23],[9,3,9,4],[9,5,9,7],[9,8,9,9],[9,10,9,12],[9,13,9,14],[9,15,9,16],[9,17,9,18],[9,20,9,23],[10,3,10,4],[10,5,10,7],[10,8,10,9],[10,10,10,12],[10,13,10,14],[10,15,10,16],[10,17,10,18],[10,19,10,23],[11,3,11,4],[11,5,11,7],[11,8,11,9],[11,10,11,12],[11,13,11,14],[11,15,11,16],[11,17,11,18],[11,20,11,23],[13,3,13,23],[14,3,15,4],[14,5,15,9],[14,10,14,13],[14,14,14,17],[14,18,15,18],[14,19,15,23],[15,10,15,11],[15,12,15,13],[15,14,15,15],[15,16,15,17],[16,3,16,4],[16,5,16,7],[16,8,16,9],[16,10,16,11],[16,12,16,13],[16,14,16,15],[16,16,16,17],[16,19,16,23],[17,3,17,4],[17,5,17,7],[17,8,17,9],[17,10,17,11],[17,12,17,13],[17,14,17,15],[17,16,17,17],[17,19,17,23],[18,3,18,4],[18,5,18,7],[18,8,18,9],[18,10,18,11],[18,12,18,13],[18,14,18,15],[18,16,18,17],[18,19,18,23],[20,3,20,23],[21,3,23,3],[21,4,23,4],[21,5,23,7],[21,8,23,9],[21,10,23,10],[21,11,23,11],[21,12,21,15],[21,16,22,17],[21,18,21,21],[21,22,23,22],[21,23,23,23],[22,12,22,13],[22,14,22,15],[22,18,22,19],[22,20,22,21],[25,5,25,7],[25,8,25,9],[26,5,26,7],[26,8,26,9],[27,5,27,7],[27,8,27,9],[28,5,28,7],[28,8,28,9],[29,5,29,7],[29,8,29,9],[30,5,30,7],[30,8,30,9],[31,5,31,7],[31,8,31,9],[32,5,32,7],[32,8,32,9],[33,5,33,7],[33,8,33,9],[34,5,34,7],[34,8,34,9],[35,5,35,7],[35,8,35,9],[36,5,36,7],[36,8,36,9],[37,5,37,7],[37,8,37,9],[38,5,38,7],[38,8,38,9],[39,5,39,7],[39,8,39,9],[40,5,40,7],[40,8,40,9],[41,5,41,7],[41,8,41,9],[42,5,42,7],[42,8,42,9],[43,5,43,7],[43,8,43,9],[44,5,44,7],[44,8,44,9],[45,5,45,7],[45,8,45,9],[46,5,46,7],[46,8,46,9],[47,5,47,7],[47,8,47,9],[48,5,48,7],[48,8,48,9],[49,5,49,7],[49,8,49,9],[50,5,50,7],[50,8,50,9],[51,5,51,7],[51,8,51,9],[52,5,52,7],[52,8,52,9],[53,5,53,7],[53,8,53,9],[54,5,54,7],[54,8,54,9],[55,5,55,7],[55,8,55,9]]}
[]
[{"$nulls":3},"전월",null,null,{"$f":"'관리자 Setting'!$R$3&\"년 \"&TEXT($A$6,\"00월 근태 현황 (\")&$B$6&\"분기)\"","v":"2018년 04월 근태 현황 (2분기)"},{"$nulls":14},"익월"]
[]
[]
["월","분기",null,"소속","무한도전",null,null,"부서명",null,{"$f":"계획서_2분기!$J$5","v":"무한본부"},null,null,"직급",null,{"$f":"계획서_2분기!$O$5","v":"1급"},null,"ERP 사번",null,{"$f":"계획서_2분기!$S$5","v":"0002"},null,"성명",null,{"$f":"IF(계획서_2분기!W5=0,\"\",계획서_2분기!W5)","v":"박명수"}]
[4,2]
[]
[{"$nulls":3},"───────────────　　분　기　근　무　현　황　　───────────────"]
[{"$nulls":3},"구분",null,"규정 및 참조",{"$nulls":4},"합계/평균",null,null,{"v":4,"d":"4월"},null,{"v":5,"d":"5월"},null,{"v":6,"d":"6월"},null,"CHK","비고",{"$nulls":5},"합/평",1,2,3]
[{"$nulls":3},"전체 근로",{"$nulls":6},{"$f":"INT(AA10/60)&\"시간 \"&TEXT(ROUND((AA10/60-INT(AA10/60))*60,0),\"00분\")","v":"0시간 00분"},null,null,{"$f":"INT(AB10/60)&\"시간 \"&TEXT(ROUND((AB10/60-INT(AB10/60))*60,0),\"00분\")","v":"0시간 00분"},{"$nulls":12},{"$f":"SUM(AB10:AD10)","v":0},{"$f":"'4월'!O17*60+'4월'!Q17","v":0}]
[{"$nulls":3},"정규 근로",null,"분기 필수 합계",null,null,{"$f":"IFERROR(VLOOKUP($B$6,'관리자 Setting'!$O$6:$R$10,2,0),\"\")","v":{"v":488,"d":"488 시간"}},null,"0시간 00분",null,null,{"$f":"INT(AB11/60)&\"시간 \"&TEXT(ROUND((AB11/60-INT(AB11/60))*60,0),\"00분\")","v":"0시간 00분"},{"$nulls":5},{"$f":"IF(I11*60>AB11,\"분기 필수 \"&INT((I11*60-AB11)/60)&\"시간 \"&TEXT(ROUND(((I11*60-AB11)/60-INT((I11*60-AB11)/60))*60,0),\"00분 남음\"),\"\")","v":"분기 필수 488시간 00분 남음"},{"$nulls":6},{"$f":"SUM(AB11:AD11)","v":0},{"$f":"'4월'!O18*60+'4월'!Q18","v":0}]
[{"$nulls":3},"연장 근로",null,"월 평균 연장 근로",null,null,{"$f":"IFERROR(VLOOKUP($W$5,'관리자 Setting'!$C$3:$G$53,5,0),\"\")","v":{"v":35,"d":"35 시간"}},null,"0시간 00분",null,null,{"$f":"INT(AB12/60)&\"시간 \"&TEXT(ROUND((AB12/60-INT(AB12/60))*60,0),\"00분\")","v":"0시간 00분"},{"$nulls":5},{"$f":"IF($I$12*60<AB12,1,0)","v":0},{"$f":"IF(T12=1,\"연장 근로 한도 초과\",\"\")","v":""},{"$nulls":5},{"$f":"AVERAGE(AB12:AD12)","v":0},{"$f":"'4월'!O19*60+'4월'!Q19","v":0}]
[]
[{"$nulls":3},"───────────────　　월　근　무　현　황　　───────────────"]
[{"$nulls":3},"구분",null,"규정 및 참조",{"$nulls":4},"근무 계획",{"$nulls":3},"근무 조정",{"$nulls":3},"CHK","비고"]
[{"$nulls":10},"시간",null,"분",null,"시간",null,"분"]
[{"$nulls":3},"전체 근로",{"$nulls":6},{"$f":"M25+O25","v":0},null,"분",null,{"$f":"Q25+X25","v":0},null,{"$f":"R25","v":{"v":0,"d":"0 분"}}]
[{"$nulls":3},"정규 근로",{"$nulls":6},{"$f":"M25","v":0},null,"분",null,{"$f":"S25+X25","v":0},null,{"$f":"T25","v":{"v":0,"d":"0 분"}}]
[{"$nulls":3},"연장 근로",null,"월 연장 근로 한도",null,null,{"$f":"IFERROR(VLOOKUP($W$5,'관리자 Setting'!$C$3:$G$53,5,0),\"\")","v":{"v":35,"d":"35 시간"}},null,{"$f":"O25","v":0},null,"분",null,{"$f":"U25","v":0},null,{"$f":"V25","v":{"v":0,"d":"0 분"}},null,{"$f":"IF($W$5=\"\",\"\",IF(I19*60<O19*60+Q19,1,0))","v":0},{"$f":"IF(S19=1,\"연장 근로 한도 시간 초과\",\"\")","v":""}]
[]
[{"$nulls":3},"───────────────　　일　/　주　간　근　무　현　황　　───────────────"]
[{"$nulls":3},"날짜","요일","참고",null,null,"상태",null,"주","주차","근무 계획",{"$nulls":3},"실\n근무시간",null,"조정",{"$nulls":3},"CHK","비고\n근무\n반영"]
[{"$nulls":12},"정규근로",null,"연장근로",{"$nulls":3},"정규근로",null,"연장근로"]
[{"$nulls":12},"시간","분","시간","분","시간","분","시간","분","시간","분",{"$nulls":4},"반영","실","연장"]
[{"$nulls":12},{"$f":"SUM(M26:M56)","v":0},0,{"$f":"SUM(O26:O56)","v":0},0,{"$f":"SUM(Q26:Q56)+INT(SUM(R26:R56)/60)","v":0},{"$f":"(SUM(R26:R56)/60-INT(SUM(R26:R56)/60))*60","v":0},{"$f":"SUM(S26:S56)+INT(SUM(T26:T56)/60)","v":0},{"$f":"(SUM(T26:T56)/60-INT(SUM(T26:T56)/60))*60","v":0},{"$f":"SUM(U26:U56)+INT(SUM(V26:V56)/60)","v":0},{"$f":"(SUM(V26:V56)/60-INT(SUM(V26:V56)/60))*60","v":0},null,{"$f":"SUM(X26:X56)","v":0}]
[{"$f":"DATE('관리자 Setting'!$R$3,$A$6,1)","v":"2018-04-01"},{"$f":"IF(OR($E26=\"일\",$F26<>\"\"),0,1)","v":0},{"$f":"IF(OR($E26=\"일\",$F26<>\"\"),0,1)","v":0},1,{"$f":"TEXT($A26,\"AAA\")","v":"일"},{"$f":"IFERROR(VLOOKUP($A26,'관리자 Setting'!$K$6:$M$36,3,0),\"\")","v":""},null,null,{"$f":"IFERROR(IF(OR(E26=\"토\",E26=\"일\",F26<>\"\"),\"\",VLOOKUP(A26&0,'설정_In-Put'!$A:$L,6,0)),\"\")","v":""},null,{"$f":"IFERROR(L26-WEEKNUM(A26-D26+1)+1,\"\")","v":0},{"$f":"IFERROR(WEEKNUM(A26,2),\"\")","v":13},{"$f":"IFERROR(VLOOKUP($A26,계획서_2분기!$A:$X,13,0),\"\")","v":0},0,{"$f":"IFERROR(VLOOKUP($A26,계획서_2분기!$A:$X,15,0),\"\")","v":0},0,{"$f":"INT(SUMIFS('설정_In-Put'!$K:$K,'설정_In-Put'!$C:$C,'4월'!$A26)*24)","v":0},{"$f":"ROUND((SUMIFS('설정_In-Put'!$K:$K,'설정_In-Put'!$C:$C,'4월'!$A26)*24-Q26)*60,0)","v":0},null,null,{"$f":"INT(((Q26*60+R26)-(S26*60+T26))/60)","v":0},{"$f":"(((Q26*60+R26)-(S26*60+T26))/60-U26)*60","v":0},{"$f":"IF(SUMIFS('4월'!$AA$26:$AA$56,'4월'!$L$26:$L$56,$L26)+SUMIFS('5월'!$AA$26:$AA$56,'5월'!$L$26:$L$56,$L26)+SUMIFS('6월'!$AA$26:$AA$56,'6월'!$L$26:$L$56,$L26)>3120,1,IF($A26=\"\",\"\",IF(OR($E26=\"일\",$F26<>\"\"),1,0)*IF(S26+T26<>0,1,0)))","v":0},{"$f":"IFERROR(VLOOKUP($A26&1,'설정_In-Put'!$B:$L,11,0)*24,\"\")","v":""},null,null,{"$f":"SUM(S26,X26)*60+T26","v":0},{"$f":"S26*60+T26","v":0},{"$f":"U26*60+V26","v":0}]
[{"$f":"A26+1","v":"2018-04-02"},1,1,2,"월",{"$f":"IFERROR(VLOOKUP($A27,'관리자 Setting'!$K$6:$M$36,3,0),\"\")","v":""},null,null,{"$f":"IFERROR(IF(OR(E27=\"토\",E27=\"일\",F27<>\"\"),\"\",VLOOKUP(A27&0,'설정_In-Put'!$A:$L,6,0)),\"\")","v":""},null,1,14,{"$f":"IFERROR(VLOOKUP($A27,계획서_2분기!$A:$X,13,0),\"\")","v":0},0,{"$f":"IFERROR(VLOOKUP($A27,계획서_2분기!$A:$X,15,0),\"\")","v":0},0,{"$f":"INT(SUMIFS('설정_In-Put'!$K:$K,'설정_In-Put'!$C:$C,'4월'!$A27)*24)","v":0},{"$f":"ROUND((SUMIFS('설정_In-Put'!$K:$K,'설정_In-Put'!$C:$C,'4월'!$A27)*24-Q27)*60,0)","v":0},null,null,0,0,{"$f":"IF(SUMIFS('4월'!$AA$26:$AA$56,'4월'!$L$26:$L$56,$L27)+SUMIFS('5월'!$AA$26:$AA$56,'5월'!$L$26:$L$56,$L27)+SUMIFS('6월'!$AA$26:$AA$56,'6월'!$L$26:$L$56,$L27)>3120,1,IF($A27=\"\",\"\",IF(OR($E27=\"일\",$F27<>\"\"),1,0)*IF(S27+T27<>0,1,0)))","v":0},{"$f":"IFERROR(VLOOKUP($A27&1,'설정_In-Put'!$B:$L,11,0)*24,\"\")","v":""},null,null,{"$f":"SUM(S27,X27)*60+T27","v":0},{"$f":"S27*60+T27","v":0},{"$f":"U27*60+V27","v":0}]
[{"$f":"A27+1","v":"2018-04-03"},1,1,3,"화",{"$f":"IFERROR(VLOOKUP($A28,'관리자 Setting'!$K$6:$M$36,3,0),\"\")","v":""},null,null,{"$f":"IFERROR(IF(OR(E28=\"토\",E28=\"일\",F28<>\"\"),\"\",VLOOKUP(A28&0,'설정_In-Put'!$A:$L,6,0)),\"\")","v":""},null,1,14,{"$f":"IFERROR(VLOOKUP($A28,계획서_2분기!$A:$X,13,0),\"\")","v":0},0,{"$f":"IFERROR(VLOOKUP($A28,계획서_2분기!$A:$X,15,0),\"\")","v":0},0,{"$f":"INT(SUMIFS('설정_In-Put'!$K:$K,'설정_In-Put'!$C:$C,'4월'!$A28)*24)","v":0},{"$f":"ROUND((SUMIFS('설정_In-Put'!$K:$K,'설정_In-Put'!$C:$C,'4월'!$A28)*24-Q28)*60,0)","v":0},null,null,0,0,{"$f":"IF(SUMIFS('4월'!$AA$26:$AA$56,'4월'!$L$26:$L$56,$L28)+SUMIFS('5월'!$AA$26:$AA$56,'5월'!$L$26:$L$56,$L28)+SUMIFS('6월'!$AA$26:$AA$56,'6월'!$L$26:$L$56,$L28)>3120,1,IF($A28=\"\",\"\",IF(OR($E28=\"일\",$F28<>\"\"),1,0)*IF(S28+T28<>0,1,0)))","v":0},{"$f":"IFERROR(VLOOKUP($A28&1,'설정_In-Put'!$B:$L,11,0)*24,\"\")","v":""},null,null,0,0,0]
["2018-04-04",1,1,4,"수",{"$f":"IFERROR(VLOOKUP($A29,'관리자 Setting'!$K$6:$M$36,3,0),\"\")","v":""},null,null,{"$f":"IFERROR(IF(OR(E29=\"토\",E29=\"일\",F29<>\"\"),\"\",VLOOKUP(A29&0,'설정_In-Put'!$A:$L,6,0)),\"\")","v":""},null,1,14,{"$f":"IFERROR(VLOOKUP($A29,계획서_2분기!$A:$X,13,0),\"\")","v":0},0,{"$f":"IFERROR(VLOOKUP($A29,계획서_2분기!$A:$X,15,0),\"\")","v":0},0,{"$f":"INT(SUMIFS('설정_In-Put'!$K:$K,'설정_In-Put'!$C:$C,'4월'!$A29)*24)","v":0},{"$f":"ROUND((SUMIFS('설정_In-Put'!$K:$K,'설정_In-Put'!$C:$C,'4월'!$A29)*24-Q29)*60,0)","v":0},null,null,0,0,{"$f":"IF(SUMIFS('4월'!$AA$26:$AA$56,'4월'!$L$26:$L$56,$L29)+SUMIFS('5월'!$AA$26:$AA$56,'5월'!$L$26:$L$56,$L29)+SUMIFS('6월'!$AA$26:$AA$56,'6월'!$L$26:$L$56,$L29)>3120,1,IF($A29=\"\",\"\",IF(OR($E29=\"일\",$F29<>\"\"),1,0)*IF(S29+T29<>0,1,0)))","v":0},{"$f":"IFERROR(VLOOKUP($A29&1,'설정_In-Put'!$B:$L,11,0)*24,\"\")","v":""},null,null,0,0,0]
["2018-04-05",1,1,5,"목",{"$f":"IFERROR(VLOOKUP($A30,'관리자 Setting'!$K$6:$M$36,3,0),\"\")","v":""},null,null,{"$f":"IFERROR(IF(OR(E30=\"토\",E30=\"일\",F30<>\"\"),\"\",VLOOKUP(A30&0,'설정_In-Put'!$A:$L,6,0)),\"\")","v":""},null,1,14,{"$f":"IFERROR(VLOOKUP($A30,계획서_2분기!$A:$X,13,0),\"\")","v":0},0,{"$f":"IFERROR(VLOOKUP($A30,계획서_2분기!$A:$X,15,0),\"\")","v":0},0,{"$f":"INT(SUMIFS('설정_In-Put'!$K:$K,'설정_In-Put'!$C:$C,'4월'!$A30)*24)","v":0},{"$f":"ROUND((SUMIFS('설정_In-Put'!$K:$K,'설정_In-Put'!$C:$C,'4월'!$A30)*24-Q30)*60,0)","v":0},null,null,0,0,{"$f":"IF(SUMIFS('4월'!$AA$26:$AA$56,'4월'!$L$26:$L$56,$L30)+SUMIFS('5월'!$AA$26:$AA$56,'5월'!$L$26:$L$56,$L30)+SUMIFS('6월'!$AA$26:$AA$56,'6월'!$L$26:$L$56,$L30)>3120,1,IF($A30=\"\",\"\",IF(OR($E30=\"일\",$F30<>\"\"),1,0)*IF(S30+T30<>0,1,0)))","v":0},{"$f":"IFERROR(VLOOKUP($A30&1,'설정_In-Put'!$B:$L,11,0)*24,\"\")","v":""},null,null,0,0,0]
["2018-04-06",1,1,6,"금",{"$f":"IFERROR(VLOOKUP($A31,'관리자 Setting'!$K$6:$M$36,3,0),\"\")","v":""},null,null,{"$f":"IFERROR(IF(OR(E31=\"토\",E31=\"일\",F31<>\"\"),\"\",VLOOKUP(A31&0,'설정_In-Put'!$A:$L,6,0)),\"\")","v":""},null,1,14,{"$f":"IFERROR(VLOOKUP($A31,계획서_2분기!$A:$X,13,0),\"\")","v":0},0,{"$f":"IFERROR(VLOOKUP($A31,계획서_2분기!$A:$X,15,0),\"\")","v":0},0,{"$f":"INT(SUMIFS('설정_In-Put'!$K:$K,'설정_In-Put'!$C:$C,'4월'!$A31)*24)","v":0},{"$f":"ROUND((SUMIFS('설정_In-Put'!$K:$K,'설정_In-Put'!$C:$C,'4월'!$A31)*24-Q31)*60,0)","v":0},null,null,0,0,{"$f":"IF(SUMIFS('4월'!$AA$26:$AA$56,'4월'!$L$26:$L$56,$L31)+SUMIFS('5월'!$AA$26:$AA$56,'5월'!$L$26:$L$56,$L31)+SUMIFS('6월'!$AA$26:$AA$56,'6월'!$L$26:$L$56,$L31)>3120,1,IF($A31=\"\",\"\",IF(OR($E31=\"일\",$F31<>\"\"),1,0)*IF(S31+T31<>0,1,0)))","v":0},{"$f":"IFERROR(VLOOKUP($A31&1,'설정_In-Put'!$B:$L,11,0)*24,\"\")","v":""},null,null,0,0,0]
["2018-04-07",1,1,7,"토",{"$f":"IFERROR(VLOOKUP($A32,'관리자 Setting'!$K$6:$M$36,3,0),\"\")","v":""},null,null,{"$f":"IFERROR(IF(OR(E32=\"토\",E32=\"일\",F32<>\"\"),\"\",VLOOKUP(A32&0,'설정_In-Put'!$A:$L,6,0)),\"\")","v":""},null,1,14,{"$f":"IFERROR(VLOOKUP($A32,계획서_2분기!$A:$X,13,0),\"\")","v":0},0,{"$f":"IFERROR(VLOOKUP($A32,계획서_2분기!$A:$X,15,0),\"\")","v":0},0,{"$f":"INT(SUMIFS('설정_In-Put'!$K:$K,'설정_In-Put'!$C:$C,'4월'!$A32)*24)","v":0},{"$f":"ROUND((SUMIFS('설정_In-Put'!$K:$K,'설정_In-Put'!$C:$C,'4월'!$A32)*24-Q32)*60,0)","v":0},null,null,0,0,{"$f":"IF(SUMIFS('4월'!$AA$26:$AA$56,'4월'!$L$26:$L$56,$L32)+SUMIFS('5월'!$AA$26:$AA$56,'5월'!$L$26:$L$56,$L32)+SUMIFS('6월'!$AA$26:$AA$56,'6월'!$L$26:$L$56,$L32)>3120,1,IF($A32=\"\",\"\",IF(OR($E32=\"일\",$F32<>\"\"),1,0)*IF(S32+T32<>0,1,0)))","v":0},{"$f":"IFERROR(VLOOKUP($A32&1,'설정_In-Put'!$B:$L,11,0)*24,\"\")","v":""},null,null,0,0,0]
["2018-04-08",0,0,8,"일",{"$f":"IFERROR(VLOOKUP($A33,'관리자 Setting'!$K$6:$M$36,3,0),\"\")","v":""},null,null,{"$f":"IFERROR(IF(OR(E33=\"토\",E33=\"일\",F33<>\"\"),\"\",VLOOKUP(A33&0,'설정_In-Put'!$A:$L,6,0)),\"\")","v":""},null,1,14,{"$f":"IFERROR(VLOOKUP($A33,계획서_2분기!$A:$X,13,0),\"\")","v":0},0,{"$f":"IFERROR(VLOOKUP($A33,계획서_2분기!$A:$X,15,0),\"\")","v":0},0,{"$f":"INT(SUMIFS('설정_In-Put'!$K:$K,'설정_In-Put'!$C:$C,'4월'!$A33)*24)","v":0},{"$f":"ROUND((SUMIFS('설정_In-Put'!$K:$K,'설정_In-Put'!$C:$C,'4월'!$A33)*24-Q33)*60,0)","v":0},null,null,0,0,{"$f":"IF(SUMIFS('4월'!$AA$26:$AA$56,'4월'!$L$26:$L$56,$L33)+SUMIFS('5월'!$AA$26:$AA$56,'5월'!$L$26:$L$56,$L33)+SUMIFS('6월'!$AA$26:$AA$56,'6월'!$L$26:$L$56,$L33)>3120,1,IF($A33=\"\",\"\",IF(OR($E33=\"일\",$F33<>\"\"),1,0)*IF(S33+T33<>0,1,0)))","v":0},{"$f":"IFERROR(VLOOKUP($A33&1,'설정_In-Put'!$B:$L,11,0)*24,\"\")","v":""},null,null,0,0,0]
["2018-04-09",1,1,9,"월",{"$f":"IFERROR(VLOOKUP($A34,'관리자 Setting'!$K$6:$M$36,3,0),\"\")","v":""},null,null,{"$f":"IFERROR(IF(OR(E34=\"토\",E34=\"일\",F34<>\"\"),\"\",VLOOKUP(A34&0,'설정_In-Put'!$A:$L,6,0)),\"\")","v":""},null,2,15,{"$f":"IFERROR(VLOOKUP($A34,계획서_2분기!$A:$X,13,0),\"\")","v":0},0,{"$f":"IFERROR(VLOOKUP($A34,계획서_2분기!$A:$X,15,0),\"\")","v":0},0,{"$f":"INT(SUMIFS('설정_In-Put'!$K:$K,'설정_In-Put'!$C:$C,'4월'!$A34)*24)","v":0},{"$f":"ROUND((SUMIFS('설정_In-Put'!$K:$K,'설정_In-Put'!$C:$C,'4월'!$A34)*24-Q34)*60,0)","v":0},null,null,0,0,{"$f":"IF(SUMIFS('4월'!$AA$26:$AA$56,'4월'!$L$26:$L$56,$L34)+SUMIFS('5월'!$AA$26:$AA$56,'5월'!$L$26:$L$56,$L34)+SUMIFS('6월'!$AA$26:$AA$56,'6월'!$L$26:$L$56,$L34)>3120,1,IF($A34=\"\",\"\",IF(OR($E34=\"일\",$F34<>\"\"),1,0)*IF(S34+T34<>0,1,0)))","v":0},{"$f":"IFERROR(VLOOKUP($A34&1,'설정_In-Put'!$B:$L,11,0)*24,\"\")","v":""},null,null,0,0,0]
["2018-04-10",1,1,10,"화",{"$f":"IFERROR(VLOOKUP($A35,'관리자 Setting'!$K$6:$M$36,3,0),\"\")","v":""},null,null,{"$f":"IFERROR(IF(OR(E35=\"토\",E35=\"일\",F35<>\"\"),\"\",VLOOKUP(A35&0,'설정_In-Put'!$A:$L,6,0)),\"\")","v":""},null,2,15,{"$f":"IFERROR(VLOOKUP($A35,계획서_2분기!$A:$X,13,0),\"\")","v":0},0,{"$f":"IFERROR(VLOOKUP($A35,계획서_2분기!$A:$X,15,0),\"\")","v":0},0,{"$f":"INT(SUMIFS('설정_In-Put'!$K:$K,'설정_In-Put'!$C:$C,'4월'!$A35)*24)","v":0},{"$f":"ROUND((SUMIFS('설정_In-Put'!$K:$K,'설정_In-Put'!$C:$C,'4월'!$A35)*24-Q35)*60,0)","v":0},null,null,0,0,{"$f":"IF(SUMIFS('4월'!$AA$26:$AA$56,'4월'!$L$26:$L$56,$L35)+SUMIFS('5월'!$AA$26:$AA$56,'5월'!$L$26:$L$56,$L35)+SUMIFS('6월'!$AA$26:$AA$56,'6월'!$L$26:$L$56,$L35)>3120,1,IF($A35=\"\",\"\",IF(OR($E35=\"일\",$F35<>\"\"),1,0)*IF(S35+T35<>0,1,0)))","v":0},{"$f":"IFERROR(VLOOKUP($A35&1,'설정_In-Put'!$B:$L,11,0)*24,\"\")","v":""},null,null,0,0,0]
["2018-04-11",1,1,11,"수",{"$f":"IFERROR(VLOOKUP($A36,'관리자 Setting'!$K$6:$M$36,3,0),\"\")","v":""},null,null,{"$f":"IFERROR(IF(OR(E36=\"토\",E36=\"일\",F36<>\"\"),\"\",VLOOKUP(A36&0,'설정_In-Put'!$A:$L,6,0)),\"\")","v":""},null,2,15,{"$f":"IFERROR(VLOOKUP($A36,계획서_2분기!$A:$X,13,0),\"\")","v":0},0,{"$f":"IFERROR(VLOOKUP($A36,계획서_2분기!$A:$X,15,0),\"\")","v":0},0,{"$f":"INT(SUMIFS('설정_In-Put'!$K:$K,'설정_In-Put'!$C:$C,'4월'!$A36)*24)","v":0},{"$f":"ROUND((SUMIFS('설정_In-Put'!$K:$K,'설정_In-Put'!$C:$C,'4월'!$A36)*24-Q36)*60,0)","v":0},null,null,0,0,{"$f":"IF(SUMIFS('4월'!$AA$26:$AA$56,'4월'!$L$26:$L$56,$L36)+SUMIFS('5월'!$AA$26:$AA$56,'5월'!$L$26:$L$56,$L36)+SUMIFS('6월'!$AA$26:$AA$56,'6월'!$L$26:$L$56,$L36)>3120,1,IF($A36=\"\",\"\",IF(OR($E36=\"일\",$F36<>\"\"),1,0)*IF(S36+T36<>0,1,0)))","v":0},{"$f":"IFERROR(VLOOKUP($A36&1,'설정_In-Put'!$B:$L,11,0)*24,\"\")","v":""},null,null,0,0,0]
["2018-04-12",1,1,12,"목",{"$f":"IFERROR(VLOOKUP($A37,'관리자 Setting'!$K$6:$M$36,3,0),\"\")","v":""},null,null,{"$f":"IFERROR(IF(OR(E37=\"토\",E37=\"일\",F37<>\"\"),\"\",VLOOKUP(A37&0,'설정_In-Put'!$A:$L,6,0)),\"\")","v":""},null,2,15,{"$f":"IFERROR(VLOOKUP($A37,계획서_2분기!$A:$X,13,0),\"\")","v":0},0,{"$f":"IFERROR(VLOOKUP($A37,계획서_2분기!$A:$X,15,0),\"\")","v":0},0,{"$f":"INT(SUMIFS('설정_In-Put'!$K:$K,'설정_In-Put'!$C:$C,'4월'!$A37)*24)","v":0},{"$f":"ROUND((SUMIFS('설정_In-Put'!$K:$K,'설정_In-Put'!$C:$C,'4월'!$A37)*24-Q37)*60,0)","v":0},null,null,0,0,{"$f":"IF(SUMIFS('4월'!$AA$26:$AA$56,'4월'!$L$26:$L$56,$L37)+SUMIFS('5월'!$AA$26:$AA$56,'5월'!$L$26:$L$56,$L37)+SUMIFS('6월'!$AA$26:$AA$56,'6월'!$L$26:$L$56,$L37)>3120,1,IF($A37=\"\",\"\",IF(OR($E37=\"일\",$F37<>\"\"),1,0)*IF(S37+T37<>0,1,0)))","v":0},{"$f":"IFERROR(VLOOKUP($A37&1,'설정_In-Put'!$B:$L,11,0)*24,\"\")","v":""},null,null,0,0,0]
["2018-04-13",1,1,13,"금",{"$f":"IFERROR(VLOOKUP($A38,'관리자 Setting'!$K$6:$M$36,3,0),\"\")","v":""},null,null,{"$f":"IFERROR(IF(OR(E38=\"토\",E38=\"일\",F38<>\"\"),\"\",VLOOKUP(A38&0,'설정_In-Put'!$A:$L,6,0)),\"\")","v":""},null,2,15,{"$f":"IFERROR(VLOOKUP($A38,계획서_2분기!$A:$X,13,0),\"\")","v":0},0,{"$f":"IFERROR(VLOOKUP($A38,계획서_2분기!$A:$X,15,0),\"\")","v":0},0,{"$f":"INT(SUMIFS('설정_In-Put'!$K:$K,'설정_In-Put'!$C:$C,'4월'!$A38)*24)","v":0},{"$f":"ROUND((SUMIFS('설정_In-Put'!$K:$K,'설정_In-Put'!$C:$C,'4월'!$A38)*24-Q38)*60,0)","v":0},null,null,0,0,{"$f":"IF(SUMIFS('4월'!$AA$26:$AA$56,'4월'!$L$26:$L$56,$L38)+SUMIFS('5월'!$AA$26:$AA$56,'5월'!$L$26:$L$56,$L38)+SUMIFS('6월'!$AA$26:$AA$56,'6월'!$L$26:$L$56,$L38)>3120,1,IF($A38=\"\",\"\",IF(OR($E38=\"일\",$F38<>\"\"),1,0)*IF(S38+T38<>0,1,0)))","v":0},{"$f":"IFERROR(VLOOKUP($A38&1,'설정_In-Put'!$B:$L,11,0)*24,\"\")","v":""},null,null,0,0,0]
["2018-04-14",1,1,14,"토",{"$f":"IFERROR(VLOOKUP($A39,'관리자 Setting'!$K$6:$M$36,3,0),\"\")","v":""},null,null,{"$f":"IFERROR(IF(OR(E39=\"토\",E39=\"일\",F39<>\"\"),\"\",VLOOKUP(A39&0,'설정_In-Put'!$A:$L,6,0)),\"\")","v":""},null,2,15,{"$f":"IFERROR(VLOOKUP($A39,계획서_2분기!$A:$X,13,0),\"\")","v":0},0,{"$f":"IFERROR(VLOOKUP($A39,계획서_2분기!$A:$X,15,0),\"\")","v":0},0,{"$f":"INT(SUMIFS('설정_In-Put'!$K:$K,'설정_In-Put'!$C:$C,'4월'!$A39)*24)","v":0},{"$f":"ROUND((SUMIFS('설정_In-Put'!$K:$K,'설정_In-Put'!$C:$C,'4월'!$A39)*24-Q39)*60,0)","v":0},null,null,0,0,{"$f":"IF(SUMIFS('4월'!$AA$26:$AA$56,'4월'!$L$26:$L$56,$L39)+SUMIFS('5월'!$AA$26:$AA$56,'5월'!$L$26:$L$56,$L39)+SUMIFS('6월'!$AA$26:$AA$56,'6월'!$L$26:$L$56,$L39)>3120,1,IF($A39=\"\",\"\",IF(OR($E39=\"일\",$F39<>\"\"),1,0)*IF(S39+T39<>0,1,0)))","v":0},{"$f":"IFERROR(VLOOKUP($A39&1,'설정_In-Put'!$B:$L,11,0)*24,\"\")","v":""},null,null,0,0,0]
["2018-04-15",0,0,15,"일",{"$f":"IFERROR(VLOOKUP($A40,'관리자 Setting'!$K$6:$M$36,3,0),\"\")","v":""},null,null,{"$f":"IFERROR(IF(OR(E40=\"토\",E40=\"일\",F40<>\"\"),\"\",VLOOKUP(A40&0,'설정_In-Put'!$A:$L,6,0)),\"\")","v":""},null,2,15,{"$f":"IFERROR(VLOOKUP($A40,계획서_2분기!$A:$X,13,0),\"\")","v":0},0,{"$f":"IFERROR(VLOOKUP($A40,계획서_2분기!$A:$X,15,0),\"\")","v":0},0,{"$f":"INT(SUMIFS('설정_In-Put'!$K:$K,'설정_In-Put'!$C:$C,'4월'!$A40)*24)","v":0},{"$f":"ROUND((SUMIFS('설정_In-Put'!$K:$K,'설정_In-Put'!$C:$C,'4월'!$A40)*24-Q40)*60,0)","v":0},null,null,0,0,{"$f":"IF(SUMIFS('4월'!$AA$26:$AA$56,'4월'!$L$26:$L$56,$L40)+SUMIFS('5월'!$AA$26:$AA$56,'5월'!$L$26:$L$56,$L40)+SUMIFS('6월'!$AA$26:$AA$56,'6월'!$L$26:$L$56,$L40)>3120,1,IF($A40=\"\",\"\",IF(OR($E40=\"일\",$F40<>\"\"),1,0)*IF(S40+T40<>0,1,0)))","v":0},{"$f":"IFERROR(VLOOKUP($A40&1,'설정_In-Put'!$B:$L,11,0)*24,\"\")","v":""},null,null,0,0,0]
["2018-04-16",1,1,16,"월",{"$f":"IFERROR(VLOOKUP($A41,'관리자 Setting'!$K$6:$M$36,3,0),\"\")","v":""},null,null,{"$f":"IFERROR(IF(OR(E41=\"토\",E41=\"일\",F41<>\"\"),\"\",VLOOKUP(A41&0,'설정_In-Put'!$A:$L,6,0)),\"\")","v":""},null,3,16,{"$f":"IFERROR(VLOOKUP($A41,계획서_2분기!$A:$X,13,0),\"\")","v":0},0,{"$f":"IFERROR(VLOOKUP($A41,계획서_2분기!$A:$X,15,0),\"\")","v":0},0,{"$f":"INT(SUMIFS('설정_In-Put'!$K:$K,'설정_In-Put'!$C:$C,'4월'!$A41)*24)","v":0},{"$f":"ROUND((SUMIFS('설정_In-Put'!$K:$K,'설정_In-Put'!$C:$C,'4월'!$A41)*24-Q41)*60,0)","v":0},null,null,0,0,{"$f":"IF(SUMIFS('4월'!$AA$26:$AA$56,'4월'!$L$26:$L$56,$L41)+SUMIFS('5월'!$AA$26:$AA$56,'5월'!$L$26:$L$56,$L41)+SUMIFS('6월'!$AA$26:$AA$56,'6월'!$L$26:$L$56,$L41)>3120,1,IF($A41=\"\",\"\",IF(OR($E41=\"일\",$F41<>\"\"),1,0)*IF(S41+T41<>0,1,0)))","v":0},{"$f":"IFERROR(VLOOKUP($A41&1,'설정_In-Put'!$B:$L,11,0)*24,\"\")","v":""},null,null,0,0,0]
["2018-04-17",1,1,17,"화",{"$f":"IFERROR(VLOOKUP($A42,'관리자 Setting'!$K$6:$M$36,3,0),\"\")","v":""},null,null,{"$f":"IFERROR(IF(OR(E42=\"토\",E42=\"일\",F42<>\"\"),\"\",VLOOKUP(A42&0,'설정_In-Put'!$A:$L,6,0)),\"\")","v":""},null,3,16,{"$f":"IFERROR(VLOOKUP($A42,계획서_2분기!$A:$X,13,0),\"\")","v":0},0,{"$f":"IFERROR(VLOOKUP($A42,계획서_2분기!$A:$X,15,0),\"\")","v":0},0,{"$f":"INT(SUMIFS('설정_In-Put'!$K:$K,'설정_In-Put'!$C:$C,'4월'!$A42)*24)","v":0},{"$f":"ROUND((SUMIFS('설정_In-Put'!$K:$K,'설정_In-Put'!$C:$C,'4월'!$A42)*24-Q42)*60,0)","v":0},null,null,0,0,{"$f":"IF(SUMIFS('4월'!$AA$26:$AA$56,'4월'!$L$26:$L$56,$L42)+SUMIFS('5월'!$AA$26:$AA$56,'5월'!$L$26:$L$56,$L42)+SUMIFS('6월'!$AA$26:$AA$56,'6월'!$L$26:$L$56,$L42)>3120,1,IF($A42=\"\",\"\",IF(OR($E42=\"일\",$F42<>\"\"),1,0)*IF(S42+T42<>0,1,0)))","v":0},{"$f":"IFERROR(VLOOKUP($A42&1,'설정_In-Put'!$B:$L,11,0)*24,\"\")","v":""},null,null,0,0,0]
["2018-04-18",1,1,18,"수",{"$f":"IFERROR(VLOOKUP($A43,'관리자 Setting'!$K$6:$M$36,3,0),\"\")","v":""},null,null,{"$f":"IFERROR(IF(OR(E43=\"토\",E43=\"일\",F43<>\"\"),\"\",VLOOKUP(A43&0,'설정_In-Put'!$A:$L,6,0)),\"\")","v":""},null,3,16,{"$f":"IFERROR(VLOOKUP($A43,계획서_2분기!$A:$X,13,0),\"\")","v":0},0,{"$f":"IFERROR(VLOOKUP($A43,계획서_2분기!$A:$X,15,0),\"\")","v":0},0,{"$f":"INT(SUMIFS('설정_In-Put'!$K:$K,'설정_In-Put'!$C:$C,'4월'!$A43)*24)","v":0},{"$f":"ROUND((SUMIFS('설정_In-Put'!$K:$K,'설정_In-Put'!$C:$C,'4월'!$A43)*24-Q43)*60,0)","v":0},null,null,0,0,{"$f":"IF(SUMIFS('4월'!$AA$26:$AA$56,'4월'!$L$26:$L$56,$L43)+SUMIFS('5월'!$AA$26:$AA$56,'5월'!$L$26:$L$56,$L43)+SUMIFS('6월'!$AA$26:$AA$56,'6월'!$L$26:$L$56,$L43)>3120,1,IF($A43=\"\",\"\",IF(OR($E43=\"일\",$F43<>\"\"),1,0)*IF(S43+T43<>0,1,0)))","v":0},{"$f":"IFERROR(VLOOKUP($A43&1,'설정_In-Put'!$B:$L,11,0)*24,\"\")","v":""},null,null,0,0,0]
["2018-04-19",1,1,19,"목",{"$f":"IFERROR(VLOOKUP($A44,'관리자 Setting'!$K$6:$M$36,3,0),\"\")","v":""},null,null,{"$f":"IFERROR(IF(OR(E44=\"토\",E44=\"일\",F44<>\"\"),\"\",VLOOKUP(A44&0,'설정_In-Put'!$A:$L,6,0)),\"\")","v":""},null,3,16,{"$f":"IFERROR(VLOOKUP($A44,계획서_2분기!$A:$X,13,0),\"\")","v":0},0,{"$f":"IFERROR(VLOOKUP($A44,계획서_2분기!$A:$X,15,0),\"\")","v":0},0,{"$f":"INT(SUMIFS('설정_In-Put'!$K:$K,'설정_In-Put'!$C:$C,'4월'!$A44)*24)","v":0},{"$f":"ROUND((SUMIFS('설정_In-Put'!$K:$K,'설정_In-Put'!$C:$C,'4월'!$A44)*24-Q44)*60,0)","v":0},null,null,0,0,{"$f":"IF(SUMIFS('4월'!$AA$26:$AA$56,'4월'!$L$26:$L$56,$L44)+SUMIFS('5월'!$AA$26:$AA$56,'5월'!$L$26:$L$56,$L44)+SUMIFS('6월'!$AA$26:$AA$56,'6월'!$L$26:$L$56,$L44)>3120,1,IF($A44=\"\",\"\",IF(OR($E44=\"일\",$F44<>\"\"),1,0)*IF(S44+T44<>0,1,0)))","v":0},{"$f":"IFERROR(VLOOKUP($A44&1,'설정_In-Put'!$B:$L,11,0)*24,\"\")","v":""},null,null,0,0,0]
["2018-04-20",1,1,20,"금",{"$f":"IFERROR(VLOOKUP($A45,'관리자 Setting'!$K$6:$M$36,3,0),\"\")","v":""},null,null,{"$f":"IFERROR(IF(OR(E45=\"토\",E45=\"일\",F45<>\"\"),\"\",VLOOKUP(A45&0,'설정_In-Put'!$A:$L,6,0)),\"\")","v":""},null,3,16,{"$f":"IFERROR(VLOOKUP($A45,계획서_2분기!$A:$X,13,0),\"\")","v":0},0,{"$f":"IFERROR(VLOOKUP($A45,계획서_2분기!$A:$X,15,0),\"\")","v":0},0,{"$f":"INT(SUMIFS('설정_In-Put'!$K:$K,'설정_In-Put'!$C:$C,'4월'!$A45)*24)","v":0},{"$f":"ROUND((SUMIFS('설정_In-Put'!$K:$K,'설정_In-Put'!$C:$C,'4월'!$A45)*24-Q45)*60,0)","v":0},null,null,0,0,{"$f":"IF(SUMIFS('4월'!$AA$26:$AA$56,'4월'!$L$26:$L$56,$L45)+SUMIFS('5월'!$AA$26:$AA$56,'5월'!$L$26:$L$56,$L45)+SUMIFS('6월'!$AA$26:$AA$56,'6월'!$L$26:$L$56,$L45)>3120,1,IF($A45=\"\",\"\",IF(OR($E45=\"일\",$F45<>\"\"),1,0)*IF(S45+T45<>0,1,0)))","v":0},{"$f":"IFERROR(VLOOKUP($A45&1,'설정_In-Put'!$B:$L,11,0)*24,\"\")","v":""},null,null,0,0,0]
["2018-04-21",1,1,21,"토",{"$f":"IFERROR(VLOOKUP($A46,'관리자 Setting'!$K$6:$M$36,3,0),\"\")","v":""},null,null,{"$f":"IFERROR(IF(OR(E46=\"토\",E46=\"일\",F46<>\"\"),\"\",VLOOKUP(A46&0,'설정_In-Put'!$A:$L,6,0)),\"\")","v":""},null,3,16,{"$f":"IFERROR(VLOOKUP($A46,계획서_2분기!$A:$X,13,0),\"\")","v":0},0,{"$f":"IFERROR(VLOOKUP($A46,계획서_2분기!$A:$X,15,0),\"\")","v":0},0,{"$f":"INT(SUMIFS('설정_In-Put'!$K:$K,'설정_In-Put'!$C:$C,'4월'!$A46)*24)","v":0},{"$f":"ROUND((SUMIFS('설정_In-Put'!$K:$K,'설정_In-Put'!$C:$C,'4월'!$A46)*24-Q46)*60,0)","v":0},null,null,0,0,{"$f":"IF(SUMIFS('4월'!$AA$26:$AA$56,'4월'!$L$26:$L$56,$L46)+SUMIFS('5월'!$AA$26:$AA$56,'5월'!$L$26:$L$56,$L46)+SUMIFS('6월'!$AA$26:$AA$56,'6월'!$L$26:$L$56,$L46)>3120,1,IF($A46=\"\",\"\",IF(OR($E46=\"일\",$F46<>\"\"),1,0)*IF(S46+T46<>0,1,0)))","v":0},{"$f":"IFERROR(VLOOKUP($A46&1,'설정_In-Put'!$B:$L,11,0)*24,\"\")","v":""},null,null,0,0,0]
["2018-04-22",0,0,22,"일",{"$f":"IFERROR(VLOOKUP($A47,'관리자 Setting'!$K$6:$M$36,3,0),\"\")","v":""},null,null,{"$f":"IFERROR(IF(OR(E47=\"토\",E47=\"일\",F47<>\"\"),\"\",VLOOKUP(A47&0,'설정_In-Put'!$A:$L,6,0)),\"\")","v":""},null,3,16,{"$f":"IFERROR(VLOOKUP($A47,계획서_2분기!$A:$X,13,0),\"\")","v":0},0,{"$f":"IFERROR(VLOOKUP($A47,계획서_2분기!$A:$X,15,0),\"\")","v":0},0,{"$f":"INT(SUMIFS('설정_In-Put'!$K:$K,'설정_In-Put'!$C:$C,'4월'!$A47)*24)","v":0},{"$f":"ROUND((SUMIFS('설정_In-Put'!$K:$K,'설정_In-Put'!$C:$C,'4월'!$A47)*24-Q47)*60,0)","v":0},null,null,0,0,{"$f":"IF(SUMIFS('4월'!$AA$26:$AA$56,'4월'!$L$26:$L$56,$L47)+SUMIFS('5월'!$AA$26:$AA$56,'5월'!$L$26:$L$56,$L47)+SUMIFS('6월'!$AA$26:$AA$56,'6월'!$L$26:$L$56,$L47)>3120,1,IF($A47=\"\",\"\",IF(OR($E47=\"일\",$F47<>\"\"),1,0)*IF(S47+T47<>0,1,0)))","v":0},{"$f":"IFERROR(VLOOKUP($A47&1,'설정_In-Put'!$B:$L,11,0)*24,\"\")","v":""},null,null,0,0,0]
["2018-04-23",1,1,23,"월",{"$f":"IFERROR(VLOOKUP($A48,'관리자 Setting'!$K$6:$M$36,3,0),\"\")","v":""},null,null,{"$f":"IFERROR(IF(OR(E48=\"토\",E48=\"일\",F48<>\"\"),\"\",VLOOKUP(A48&0,'설정_In-Put'!$A:$L,6,0)),\"\")","v":""},null,4,17,{"$f":"IFERROR(VLOOKUP($A48,계획서_2분기!$A:$X,13,0),\"\")","v":0},0,{"$f":"IFERROR(VLOOKUP($A48,계획서_2분기!$A:$X,15,0),\"\")","v":0},0,{"$f":"INT(SUMIFS('설정_In-Put'!$K:$K,'설정_In-Put'!$C:$C,'4월'!$A48)*24)","v":0},{"$f":"ROUND((SUMIFS('설정_In-Put'!$K:$K,'설정_In-Put'!$C:$C,'4월'!$A48)*24-Q48)*60,0)","v":0},null,null,0,0,{"$f":"IF(SUMIFS('4월'!$AA$26:$AA$56,'4월'!$L$26:$L$56,$L48)+SUMIFS('5월'!$AA$26:$AA$56,'5월'!$L$26:$L$56,$L48)+SUMIFS('6월'!$AA$26:$AA$56,'6월'!$L$26:$L$56,$L48)>3120,1,IF($A48=\"\",\"\",IF(OR($E48=\"일\",$F48<>\"\"),1,0)*IF(S48+T48<>0,1,0)))","v":0},{"$f":"IFERROR(VLOOKUP($A48&1,'설정_In-Put'!$B:$L,11,0)*24,\"\")","v":""},null,null,0,0,0]
["2018-04-24",1,1,24,"화",{"$f":"IFERROR(VLOOKUP($A49,'관리자 Setting'!$K$6:$M$36,3,0),\"\")","v":""},null,null,{"$f":"IFERROR(IF(OR(E49=\"토\",E49=\"일\",F49<>\"\"),\"\",VLOOKUP(A49&0,'설정_In-Put'!$A:$L,6,0)),\"\")","v":""},null,4,17,{"$f":"IFERROR(VLOOKUP($A49,계획서_2분기!$A:$X,13,0),\"\")","v":0},0,{"$f":"IFERROR(VLOOKUP($A49,계획서_2분기!$A:$X,15,0),\"\")","v":0},0,{"$f":"INT(SUMIFS('설정_In-Put'!$K:$K,'설정_In-Put'!$C:$C,'4월'!$A49)*24)","v":0},{"$f":"ROUND((SUMIFS('설정_In-Put'!$K:$K,'설정_In-Put'!$C:$C,'4월'!$A49)*24-Q49)*60,0)","v":0},null,null,0,0,{"$f":"IF(SUMIFS('4월'!$AA$26:$AA$56,'4월'!$L$26:$L$56,$L49)+SUMIFS('5월'!$AA$26:$AA$56,'5월'!$L$26:$L$56,$L49)+SUMIFS('6월'!$AA$26:$AA$56,'6월'!$L$26:$L$56,$L49)>3120,1,IF($A49=\"\",\"\",IF(OR($E49=\"일\",$F49<>\"\"),1,0)*IF(S49+T49<>0,1,0)))","v":0},{"$f":"IFERROR(VLOOKUP($A49&1,'설정_In-Put'!$B:$L,11,0)*24,\"\")","v":""},null,null,0,0,0]
["2018-04-25",1,1,25,"수",{"$f":"IFERROR(VLOOKUP($A50,'관리자 Setting'!$K$6:$M$36,3,0),\"\")","v":""},null,null,{"$f":"IFERROR(IF(OR(E50=\"토\",E50=\"일\",F50<>\"\"),\"\",VLOOKUP(A50&0,'설정_In-Put'!$A:$L,6,0)),\"\")","v":""},null,4,17,{"$f":"IFERROR(VLOOKUP($A50,계획서_2분기!$A:$X,13,0),\"\")","v":0},0,{"$f":"IFERROR(VLOOKUP($A50,계획서_2분기!$A:$X,15,0),\"\")","v":0},0,{"$f":"INT(SUMIFS('설정_In-Put'!$K:$K,'설정_In-Put'!$C:$C,'4월'!$A50)*24)","v":0},{"$f":"ROUND((SUMIFS('설정_In-Put'!$K:$K,'설정_In-Put'!$C:$C,'4월'!$A50)*24-Q50)*60,0)","v":0},null,null,0,0,{"$f":"IF(SUMIFS('4월'!$AA$26:$AA$56,'4월'!$L$26:$L$56,$L50)+SUMIFS('5월'!$AA$26:$AA$56,'5월'!$L$26:$L$56,$L50)+SUMIFS('6월'!$AA$26:$AA$56,'6월'!$L$26:$L$56,$L50)>3120,1,IF($A50=\"\",\"\",IF(OR($E50=\"일\",$F50<>\"\"),1,0)*IF(S50+T50<>0,1,0)))","v":0},{"$f":"IFERROR(VLOOKUP($A50&1,'설정_In-Put'!$B:$L,11,0)*24,\"\")","v":""},null,null,0,0,0]
["2018-04-26",1,1,26,"목",{"$f":"IFERROR(VLOOKUP($A51,'관리자 Setting'!$K$6:$M$36,3,0),\"\")","v":""},null,null,{"$f":"IFERROR(IF(OR(E51=\"토\",E51=\"일\",F51<>\"\"),\"\",VLOOKUP(A51&0,'설정_In-Put'!$A:$L,6,0)),\"\")","v":""},null,4,17,{"$f":"IFERROR(VLOOKUP($A51,계획서_2분기!$A:$X,13,0),\"\")","v":0},0,{"$f":"IFERROR(VLOOKUP($A51,계획서_2분기!$A:$X,15,0),\"\")","v":0},0,{"$f":"INT(SUMIFS('설정_In-Put'!$K:$K,'설정_In-Put'!$C:$C,'4월'!$A51)*24)","v":0},{"$f":"ROUND((SUMIFS('설정_In-Put'!$K:$K,'설정_In-Put'!$C:$C,'4월'!$A51)*24-Q51)*60,0)","v":0},null,null,0,0,{"$f":"IF(SUMIFS('4월'!$AA$26:$AA$56,'4월'!$L$26:$L$56,$L51)+SUMIFS('5월'!$AA$26:$AA$56,'5월'!$L$26:$L$56,$L51)+SUMIFS('6월'!$AA$26:$AA$56,'6월'!$L$26:$L$56,$L51)>3120,1,IF($A51=\"\",\"\",IF(OR($E51=\"일\",$F51<>\"\"),1,0)*IF(S51+T51<>0,1,0)))","v":0},{"$f":"IFERROR(VLOOKUP($A51&1,'설정_In-Put'!$B:$L,11,0)*24,\"\")","v":""},null,null,0,0,0]
[{"$f":"IF(A51+1>EOMONTH($A$26,0),\"\",A51+1)","v":"2018-04-27"},1,1,27,"금",{"$f":"IFERROR(VLOOKUP($A52,'관리자 Setting'!$K$6:$M$36,3,0),\"\")","v":""},null,null,{"$f":"IFERROR(IF(OR(E52=\"토\",E52=\"일\",F52<>\"\"),\"\",VLOOKUP(A52&0,'설정_In-Put'!$A:$L,6,0)),\"\")","v":""},null,4,17,{"$f":"IFERROR(VLOOKUP($A52,계획서_2분기!$A:$X,13,0),\"\")","v":0},0,{"$f":"IFERROR(VLOOKUP($A52,계획서_2분기!$A:$X,15,0),\"\")","v":0},0,{"$f":"INT(SUMIFS('설정_In-Put'!$K:$K,'설정_In-Put'!$C:$C,'4월'!$A52)*24)","v":0},{"$f":"ROUND((SUMIFS('설정_In-Put'!$K:$K,'설정_In-Put'!$C:$C,'4월'!$A52)*24-Q52)*60,0)","v":0},null,null,0,0,{"$f":"IF(SUMIFS('4월'!$AA$26:$AA$56,'4월'!$L$26:$L$56,$L52)+SUMIFS('5월'!$AA$26:$AA$56,'5월'!$L$26:$L$56,$L52)+SUMIFS('6월'!$AA$26:$AA$56,'6월'!$L$26:$L$56,$L52)>3120,1,IF($A52=\"\",\"\",IF(OR($E52=\"일\",$F52<>\"\"),1,0)*IF(S52+T52<>0,1,0)))","v":0},{"$f":"IFERROR(VLOOKUP($A52&1,'설정_In-Put'!$B:$L,11,0)*24,\"\")","v":""},null,null,0,0,0]
[{"$f":"IFERROR(IF(A52+1>EOMONTH($A$26,0),\"\",A52+1),\"\")","v":"2018-04-28"},1,1,28,"토",{"$f":"IFERROR(VLOOKUP($A53,'관리자 Setting'!$K$6:$M$36,3,0),\"\")","v":""},null,null,{"$f":"IFERROR(IF(OR(E53=\"토\",E53=\"일\",F53<>\"\"),\"\",VLOOKUP(A53&0,'설정_In-Put'!$A:$L,6,0)),\"\")","v":""},null,4,17,{"$f":"IFERROR(VLOOKUP($A53,계획서_2분기!$A:$X,13,0),\"\")","v":0},0,{"$f":"IFERROR(VLOOKUP($A53,계획서_2분기!$A:$X,15,0),\"\")","v":0},0,{"$f":"INT(SUMIFS('설정_In-Put'!$K:$K,'설정_In-Put'!$C:$C,'4월'!$A53)*24)","v":0},{"$f":"ROUND((SUMIFS('설정_In-Put'!$K:$K,'설정_In-Put'!$C:$C,'4월'!$A53)*24-Q53)*60,0)","v":0},null,null,0,0,{"$f":"IF(SUMIFS('4월'!$AA$26:$AA$56,'4월'!$L$26:$L$56,$L53)+SUMIFS('5월'!$AA$26:$AA$56,'5월'!$L$26:$L$56,$L53)+SUMIFS('6월'!$AA$26:$AA$56,'6월'!$L$26:$L$56,$L53)>3120,1,IF($A53=\"\",\"\",IF(OR($E53=\"일\",$F53<>\"\"),1,0)*IF(S53+T53<>0,1,0)))","v":0},{"$f":"IFERROR(VLOOKUP($A53&1,'설정_In-Put'!$B:$L,11,0)*24,\"\")","v":""},null,null,0,0,0]
[{"$f":"IFERROR(IF(A53+1>EOMONTH($A$26,0),\"\",A53+1),\"\")","v":"2018-04-29"},0,0,29,"일",{"$f":"IFERROR(VLOOKUP($A54,'관리자 Setting'!$K$6:$M$36,3,0),\"\")","v":""},null,null,{"$f":"IFERROR(IF(OR(E54=\"토\",E54=\"일\",F54<>\"\"),\"\",VLOOKUP(A54&0,'설정_In-Put'!$A:$L,6,0)),\"\")","v":""},null,4,17,{"$f":"IFERROR(VLOOKUP($A54,계획서_2분기!$A:$X,13,0),\"\")","v":0},0,{"$f":"IFERROR(VLOOKUP($A54,계획서_2분기!$A:$X,15,0),\"\")","v":0},0,{"$f":"INT(SUMIFS('설정_In-Put'!$K:$K,'설정_In-Put'!$C:$C,'4월'!$A54)*24)","v":0},{"$f":"ROUND((SUMIFS('설정_In-Put'!$K:$K,'설정_In-Put'!$C:$C,'4월'!$A54)*24-Q54)*60,0)","v":0},null,null,0,0,{"$f":"IF(SUMIFS('4월'!$AA$26:$AA$56,'4월'!$L$26:$L$56,$L54)+SUMIFS('5월'!$AA$26:$AA$56,'5월'!$L$26:$L$56,$L54)+SUMIFS('6월'!$AA$26:$AA$56,'6월'!$L$26:$L$56,$L54)>3120,1,IF($A54=\"\",\"\",IF(OR($E54=\"일\",$F54<>\"\"),1,0)*IF(S54+T54<>0,1,0)))","v":0},{"$f":"IFERROR(VLOOKUP($A54&1,'설정_In-Put'!$B:$L,11,0)*24,\"\")","v":""},null,null,0,0,0]
[{"$f":"IFERROR(IF(A54+1>EOMONTH($A$26,0),\"\",A54+1),\"\")","v":"2018-04-30"},1,1,30,"월",{"$f":"IFERROR(VLOOKUP($A55,'관리자 Setting'!$K$6:$M$36,3,0),\"\")","v":""},null,null,{"$f":"IFERROR(IF(OR(E55=\"토\",E55=\"일\",F55<>\"\"),\"\",VLOOKUP(A55&0,'설정_In-Put'!$A:$L,6,0)),\"\")","v":""},null,5,18,{"$f":"IFERROR(VLOOKUP($A55,계획서_2분기!$A:$X,13,0),\"\")","v":0},0,{"$f":"IFERROR(VLOOKUP($A55,계획서_2분기!$A:$X,15,0),\"\")","v":0},0,{"$f":"INT(SUMIFS('설정_In-Put'!$K:$K,'설정_In-Put'!$C:$C,'4월'!$A55)*24)","v":0},{"$f":"ROUND((SUMIFS('설정_In-Put'!$K:$K,'설정_In-Put'!$C:$C,'4월'!$A55)*24-Q55)*60,0)","v":0},null,null,0,0,{"$f":"IF(SUMIFS('4월'!$AA$26:$AA$56,'4월'!$L$26:$L$56,$L55)+SUMIFS('5월'!$AA$26:$AA$56,'5월'!$L$26:$L$56,$L55)+SUMIFS('6월'!$AA$26:$AA$56,'6월'!$L$26:$L$56,$L55)>3120,1,IF($A55=\"\",\"\",IF(OR($E55=\"일\",$F55<>\"\"),1,0)*IF(S55+T55<>0,1,0)))","v":0},{"$f":"IFERROR(VLOOKUP($A55&1,'설정_In-Put'!$B:$L,11,0)*24,\"\")","v":""},null,null,0,0,0]
["",1,1,31,"",{"$f":"IFERROR(VLOOKUP($A56,'관리자 Setting'!$K$6:$M$36,3,0),\"\")","v":""},null,null,{"$f":"IFERROR(IF(OR(E56=\"토\",E56=\"일\",F56<>\"\"),\"\",VLOOKUP(A56&0,'설정_In-Put'!$A:$L,6,0)),\"\")","v":""},null,"","",{"$f":"IFERROR(VLOOKUP($A56,계획서_2분기!$A:$X,13,0),\"\")","v":0},0,{"$f":"IFERROR(VLOOKUP($A56,계획서_2분기!$A:$X,15,0),\"\")","v":0},0,{"$f":"INT(SUMIFS('설정_In-Put'!$K:$K,'설정_In-Put'!$C:$C,'4월'!$A56)*24)","v":0},{"$f":"ROUND((SUMIFS('설정_In-Put'!$K:$K,'설정_In-Put'!$C:$C,'4월'!$A56)*24-Q56)*60,0)","v":0},null,null,0,0,{"$f":"IF(SUMIFS('4월'!$AA$26:$AA$56,'4월'!$L$26:$L$56,$L56)+SUMIFS('5월'!$AA$26:$AA$56,'5월'!$L$26:$L$56,$L56)+SUMIFS('6월'!$AA$26:$AA$56,'6월'!$L$26:$L$56,$L56)>3120,1,IF($A56=\"\",\"\",IF(OR($E56=\"일\",$F56<>\"\"),1,0)*IF(S56+T56<>0,1,0)))","v":""},{"$f":"IFERROR(VLOOKUP($A56&1,'설정_In-Put'!$B:$L,11,0)*24,\"\")","v":""},null,null,0,0,0]
[]
[" "]

{"sheet":"5월","index":9,"n_rows":56,"n_cols":30,"rows_kept":56,"merged":[[1,3,2,5],[1,6,2,20],[1,21,2,23],[4,3,5,3],[4,4,5,6],[4,7,5,8],[4,9,5,11],[4,12,5,13],[4,14,5,15],[4,16,5,17],[4,18,5,19],[4,20,5,21],[4,22,5,23],[7,3,7,23],[8,3,8,4],[8,5,8,9],[8,10,8,12],[8,13,8,14],[8,15,8,16],[8,17,8,18],[8,20,8,23],[9,3,9,4],[9,5,9,7],[9,8,9,9],[9,10,9,12],[9,13,9,14],[9,15,9,16],[9,17,9,18],[9,20,9,23],[10,3,10,4],[10,5,10,7],[10,8,10,9],[10,10,10,12],[10,13,10,14],[10,15,10,16],[10,17,10,18],[10,19,10,23],[11,3,11,4],[11,5,11,7],[11,8,11,9],[11,10,11,12],[11,13,11,14],[11,15,11,16],[11,17,11,18],[11,20,11,23],[13,3,13,23],[14,3,15,4],[14,5,15,9],[14,10,14,13],[14,14,14,17],[14,18,15,18],[14,19,15,23],[15,10,15,11],[15,12,15,13],[15,14,15,15],[15,16,15,17],[16,3,16,4],[16,5,16,7],[16,8,16,9],[16,10,16,11],[16,12,16,13],[16,14,16,15],[16,16,16,17],[16,19,16,23],[17,3,17,4],[17,5,17,7],[17,8,17,9],[17,10,17,11],[17,12,17,13],[17,14,17,15],[17,16,17,17],[17,19,17,23],[18,3,18,4],[18,5,18,7],[18,8,18,9],[18,10,18,11],[18,12,18,13],[18,14,18,15],[18,16,18,17],[18,19,18,23],[20,3,20,23],[21,3,23,3],[21,4,23,4],[21,5,23,7],[21,8,23,9],[21,10,23,10],[21,11,23,11],[21,12,21,15],[21,16,22,17],[21,18,21,21],[21,22,23,22],[21,23,23,23],[22,12,22,13],[22,14,22,15],[22,18,22,19],[22,20,22,21],[25,5,25,7],[25,8,25,9],[26,5,26,7],[26,8,26,9],[27,5,27,7],[27,8,27,9],[28,5,28,7],[28,8,28,9],[29,5,29,7],[29,8,29,9],[30,5,30,7],[30,8,30,9],[31,5,31,7],[31,8,31,9],[32,5,32,7],[32,8,32,9],[33,5,33,7],[33,8,33,9],[34,5,34,7],[34,8,34,9],[35,5,35,7],[35,8,35,9],[36,5,36,7],[36,8,36,9],[37,5,37,7],[37,8,37,9],[38,5,38,7],[38,8,38,9],[39,5,39,7],[39,8,39,9],[40,5,40,7],[40,8,40,9],[41,5,41,7],[41,8,41,9],[42,5,42,7],[42,8,42,9],[43,5,43,7],[43,8,43,9],[44,5,44,7],[44,8,44,9],[45,5,45,7],[45,8,45,9],[46,5,46,7],[46,8,46,9],[47,5,47,7],[47,8,47,9],[48,5,48,7],[48,8,48,9],[49,5,49,7],[49,8,49,9],[50,5,50,7],[50,8,50,9],[51,5,51,7],[51,8,51,9],[52,5,52,7],[52,8,52,9],[53,5,53,7],[53,8,53,9],[54,5,54,7],[54,8,54,9],[55,5,55,7],[55,8,55,9]]}
[]
[{"$nulls":3},"전월",null,null,{"$f":"'관리자 Setting'!$R$3&\"년 \"&TEXT($A$6,\"00월 근태 현황 (\")&$B$6&\"분기)\"","v":"2018년 05월 근태 현황 (2분기)"},{"$nulls":14},"익월"]
[]
[]
["월","분기",null,"소속","무한도전",null,null,"부서명",null,{"$f":"계획서_2분기!$J$5","v":"무한본부"},null,null,"직급",null,{"$f":"계획서_2분기!$O$5","v":"1급"},null,"ERP 사번",null,{"$f":"계획서_2분기!$S$5","v":"0002"},null,"성명",null,{"$f":"IF(계획서_2분기!W5=0,\"\",계획서_2분기!W5)","v":"박명수"}]
[5,2]
[]
[{"$nulls":3},"───────────────　　분　기　근　무　현　황　　───────────────"]
[{"$nulls":3},"구분",null,"규정 및 참조",{"$nulls":4},"합계/평균",null,null,{"v":4,"d":"4월"},null,{"v":5,"d":"5월"},null,{"v":6,"d":"6월"},null,"CHK","비고",{"$nulls":5},"합/평",1,2,3]
[{"$nulls":3},"전체 근로",{"$nulls":6},{"$f":"INT(AA10/60)&\"시간 \"&TEXT(ROUND((AA10/60-INT(AA10/60))*60,0),\"00분\")","v":"0시간 00분"},null,null,{"$f":"INT(AB10/60)&\"시간 \"&TEXT(ROUND((AB10/60-INT(AB10/60))*60,0),\"00분\")","v":"0시간 00분"},null,{"$f":"INT(AC10/60)&\"시간 \"&TEXT(ROUND((AC10/60-INT(AC10/60))*60,0),\"00분\")","v":"0시간 00분"},{"$nulls":10},{"$f":"SUM(AB10:AD10)","v":0},{"$f":"'4월'!O17*60+'4월'!Q17","v":0},{"$f":"'5월'!O17*60+'5월'!Q17","v":0}]
[{"$nulls":3},"정규 근로",null,"분기 필수 합계",null,null,{"$f":"IFERROR(VLOOKUP($B$6,'관리자 Setting'!$O$6:$R$10,2,0),\"\")","v":{"v":488,"d":"488 시간"}},null,"0시간 00분",null,null,{"$f":"INT(AB11/60)&\"시간 \"&TEXT(ROUND((AB11/60-INT(AB11/60))*60,0),\"00분\")","v":"0시간 00분"},null,{"$f":"INT(AC11/60)&\"시간 \"&TEXT(ROUND((AC11/60-INT(AC11/60))*60,0),\"00분\")","v":"0시간 00분"},{"$nulls":3},{"$f":"IF(I11*60>AA11,\"분기 필수 \"&INT((I11*60-AA11)/60)&\"시간 \"&TEXT(ROUND(((I11*60-AA11)/60-INT((I11*60-AA11)/60))*60,0),\"00분 남음\"),\"\")","v":"분기 필수 488시간 00분 남음"},{"$nulls":6},{"$f":"SUM(AB11:AD11)","v":0},{"$f":"'4월'!O18*60+'4월'!Q18","v":0},{"$f":"'5월'!O18*60+'5월'!Q18","v":0}]
[{"$nulls":3},"연장 근로",null,"월 평균 연장 근로",null,null,{"$f":"IFERROR(VLOOKUP($W$5,'관리자 Setting'!$C$3:$G$53,5,0),\"\")","v":{"v":35,"d":"35 시간"}},null,"0시간 00분",null,null,{"$f":"INT(AB12/60)&\"시간 \"&TEXT(ROUND((AB12/60-INT(AB12/60))*60,0),\"00분\")","v":"0시간 00분"},null,{"$f":"INT(AC12/60)&\"시간 \"&TEXT(ROUND((AC12/60-INT(AC12/60))*60,0),\"00분\")","v":"0시간 00분"},{"$nulls":3},{"$f":"IF(OR($I$12*60<AA12,$I$12*60<AB12,$I$12*60<AC12),1,0)","v":0},{"$f":"IF(T12=1,\"연장 근로 한도 초과\",\"\")","v":""},{"$nulls":5},{"$f":"AVERAGE(AB12:AD12)","v":0},{"$f":"'4월'!O19*60+'4월'!Q19","v":0},{"$f":"'5월'!O19*60+'5월'!Q19","v":0}]
[]
[{"$nulls":3},"───────────────　　월　근　무　현　황　　───────────────"]
[{"$nulls":3},"구분",null,"규정 및 참조",{"$nulls":4},"근무 계획",{"$nulls":3},"근무 조정",{"$nulls":3},"CHK","비고"]
[{"$nulls":10},"시간",null,"분",null,"시간",null,"분"]
[{"$nulls":3},"전체 근로",{"$nulls":6},{"$f":"M25+O25","v":0},null,"분",null,{"$f":"Q25+X25","v":0},null,{"$f":"R25","v":{"v":0,"d":"0 분"}}]
[{"$nulls":3},"정규 근로",{"$nulls":6},{"$f":"M25","v":0},null,"분",null,{"$f":"S25+X25","v":0},null,{"$f":"T25","v":{"v":0,"d":"0 분"}}]
[{"$nulls":3},"연장 근로",null,"월 연장 근로 한도",null,null,{"$f":"IFERROR(VLOOKUP($W$5,'관리자 Setting'!$C$3:$G$53,5,0),\"\")","v":{"v":35,"d":"35 시간"}},null,{"$f":"O25","v":0},null,"분",null,{"$f":"U25","v":0},null,{"$f":"V25","v":{"v":0,"d":"0 분"}},null,{"$f":"IF($W$5=\"\",\"\",IF(I19*60<O19*60+Q19,1,0))","v":0},{"$f":"IF(S19=1,\"연장 근로 한도 시간 초과\",\"\")","v":""}]
[]
[{"$nulls":3},"───────────────　　일　/　주　간　근　무　현　황　　───────────────"]
[{"$nulls":3},"날짜","요일","참고",null,null,"상태",null,"주","주차","근무 계획",{"$nulls":3},"실\n근무시간",null,"조정",{"$nulls":3},"CHK","비고\n근무\n반영"]
[{"$nulls":12},"정규근로",null,"연장근로",{"$nulls":3},"정규근로",null,"연장근로"]
[{"$nulls":12},"시간","분","시간","분","시간","분","시간","분","시간","분",{"$nulls":4},"반영","실","연장"]
[{"$nulls":12},{"$f":"SUM(M26:M56)","v":0},0,{"$f":"SUM(O26:O56)","v":0},0,{"$f":"SUM(Q26:Q56)+INT(SUM(R26:R56)/60)","v":0},{"$f":"(SUM(R26:R56)/60-INT(SUM(R26:R56)/60))*60","v":0},{"$f":"SUM(S26:S56)+INT(SUM(T26:T56)/60)","v":0},{"$f":"(SUM(T26:T56)/60-INT(SUM(T26:T56)/60))*60","v":0},{"$f":"SUM(U26:U56)+INT(SUM(V26:V56)/60)","v":0},{"$f":"(SUM(V26:V56)/60-INT(SUM(V26:V56)/60))*60","v":0},null,{"$f":"SUM(X26:X56)","v":0}]
[{"$f":"DATE('관리자 Setting'!$R$3,$A$6,1)","v":"2018-05-01"},{"$f":"IF(OR($E26=\"일\",$F26<>\"\"),0,1)","v":1},{"$f":"IF(OR($E26=\"일\",$F26<>\"\"),0,1)","v":1},1,{"$f":"TEXT($A26,\"AAA\")","v":"화"},{"$f":"IFERROR(VLOOKUP($A26,'관리자 Setting'!$K$6:$M$36,3,0),\"\")","v":""},null,null,{"$f":"IFERROR(IF(OR(E26=\"토\",E26=\"일\",F26<>\"\"),\"\",VLOOKUP(A26&0,'설정_In-Put'!$A:$L,6,0)),\"\")","v":""},null,{"$f":"IFERROR(L26-WEEKNUM(A26-D26+1)+1,\"\")","v":1},{"$f":"IFERROR(WEEKNUM(A26,2),\"\")","v":18},{"$f":"IFERROR(VLOOKUP($A26,계획서_2분기!$A:$X,13,0),\"\")","v":0},0,{"$f":"IFERROR(VLOOKUP($A26,계획서_2분기!$A:$X,15,0),\"\")","v":0},0,{"$f":"INT(SUMIFS('설정_In-Put'!$K:$K,'설정_In-Put'!$C:$C,$A26)*24)","v":0},{"$f":"ROUND((SUMIFS('설정_In-Put'!$K:$K,'설정_In-Put'!$C:$C,$A26)*24-Q26)*60,0)","v":0},null,null,{"$f":"INT(((Q26*60+R26)-(S26*60+T26))/60)","v":0},{"$f":"(((Q26*60+R26)-(S26*60+T26))/60-U26)*60","v":0},{"$f":"IF(SUMIFS('4월'!$AA$26:$AA$56,'4월'!$L$26:$L$56,$L26)+SUMIFS('5월'!$AA$26:$AA$56,'5월'!$L$26:$L$56,$L26)+SUMIFS('6월'!$AA$26:$AA$56,'6월'!$L$26:$L$56,$L26)>3120,1,IF($A26=\"\",\"\",IF(OR($E26=\"일\",$F26<>\"\"),1,0)*IF(S26+T26<>0,1,0)))","v":0},{"$f":"IFERROR(VLOOKUP($A26&1,'설정_In-Put'!$B:$L,11,0)*24,\"\")","v":""},null,null,{"$f":"SUM(S26,X26)*60+T26","v":0},{"$f":"S26*60+T26","v":0},{"$f":"U26*60+V26","v":0}]
[{"$f":"A26+1","v":"2018-05-02"},1,1,2,"수",{"$f":"IFERROR(VLOOKUP($A27,'관리자 Setting'!$K$6:$M$36,3,0),\"\")","v":""},null,null,{"$f":"IFERROR(IF(OR(E27=\"토\",E27=\"일\",F27<>\"\"),\"\",VLOOKUP(A27&0,'설정_In-Put'!$A:$L,6,0)),\"\")","v":""},null,1,18,{"$f":"IFERROR(VLOOKUP($A27,계획서_2분기!$A:$X,13,0),\"\")","v":0},0,{"$f":"IFERROR(VLOOKUP($A27,계획서_2분기!$A:$X,15,0),\"\")","v":0},0,{"$f":"INT(SUMIFS('설정_In-Put'!$K:$K,'설정_In-Put'!$C:$C,$A27)*24)","v":0},{"$f":"ROUND((SUMIFS('설정_In-Put'!$K:$K,'설정_In-Put'!$C:$C,$A27)*24-Q27)*60,0)","v":0},null,null,0,0,{"$f":"IF(SUMIFS('4월'!$AA$26:$AA$56,'4월'!$L$26:$L$56,$L27)+SUMIFS('5월'!$AA$26:$AA$56,'5월'!$L$26:$L$56,$L27)+SUMIFS('6월'!$AA$26:$AA$56,'6월'!$L$26:$L$56,$L27)>3120,1,IF($A27=\"\",\"\",IF(OR($E27=\"일\",$F27<>\"\"),1,0)*IF(S27+T27<>0,1,0)))","v":0},{"$f":"IFERROR(VLOOKUP($A27&1,'설정_In-Put'!$B:$L,11,0)*24,\"\")","v":""},null,null,{"$f":"SUM(S27,X27)*60+T27","v":0},{"$f":"S27*60+T27","v":0},{"$f":"U27*60+V27","v":0}]
[{"$f":"A27+1","v":"2018-05-03"},1,1,3,"목",{"$f":"IFERROR(VLOOKUP($A28,'관리자 Setting'!$K$6:$M$36,3,0),\"\")","v":""},null,null,{"$f":"IFERROR(IF(OR(E28=\"토\",E28=\"일\",F28<>\"\"),\"\",VLOOKUP(A28&0,'설정_In-Put'!$A:$L,6,0)),\"\")","v":""},null,1,18,{"$f":"IFERROR(VLOOKUP($A28,계획서_2분기!$A:$X,13,0),\"\")","v":0},0,{"$f":"IFERROR(VLOOKUP($A28,계획서_2분기!$A:$X,15,0),\"\")","v":0},0,{"$f":"INT(SUMIFS('설정_In-Put'!$K:$K,'설정_In-Put'!$C:$C,$A28)*24)","v":0},{"$f":"ROUND((SUMIFS('설정_In-Put'!$K:$K,'설정_In-Put'!$C:$C,$A28)*24-Q28)*60,0)","v":0},null,null,0,0,{"$f":"IF(SUMIFS('4월'!$AA$26:$AA$56,'4월'!$L$26:$L$56,$L28)+SUMIFS('5월'!$AA$26:$AA$56,'5월'!$L$26:$L$56,$L28)+SUMIFS('6월'!$AA$26:$AA$56,'6월'!$L$26:$L$56,$L28)>3120,1,IF($A28=\"\",\"\",IF(OR($E28=\"일\",$F28<>\"\"),1,0)*IF(S28+T28<>0,1,0)))","v":0},{"$f":"IFERROR(VLOOKUP($A28&1,'설정_In-Put'!$B:$L,11,0)*24,\"\")","v":""},null,null,0,0,0]
["2018-05-04",1,1,4,"금",{"$f":"IFERROR(VLOOKUP($A29,'관리자 Setting'!$K$6:$M$36,3,0),\"\")","v":""},null,null,{"$f":"IFERROR(IF(OR(E29=\"토\",E29=\"일\",F29<>\"\"),\"\",VLOOKUP(A29&0,'설정_In-Put'!$A:$L,6,0)),\"\")","v":""},null,1,18,{"$f":"IFERROR(VLOOKUP($A29,계획서_2분기!$A:$X,13,0),\"\")","v":0},0,{"$f":"IFERROR(VLOOKUP($A29,계획서_2분기!$A:$X,15,0),\"\")","v":0},0,{"$f":"INT(SUMIFS('설정_In-Put'!$K:$K,'설정_In-Put'!$C:$C,$A29)*24)","v":0},{"$f":"ROUND((SUMIFS('설정_In-Put'!$K:$K,'설정_In-Put'!$C:$C,$A29)*24-Q29)*60,0)","v":0},null,null,0,0,{"$f":"IF(SUMIFS('4월'!$AA$26:$AA$56,'4월'!$L$26:$L$56,$L29)+SUMIFS('5월'!$AA$26:$AA$56,'5월'!$L$26:$L$56,$L29)+SUMIFS('6월'!$AA$26:$AA$56,'6월'!$L$26:$L$56,$L29)>3120,1,IF($A29=\"\",\"\",IF(OR($E29=\"일\",$F29<>\"\"),1,0)*IF(S29+T29<>0,1,0)))","v":0},{"$f":"IFERROR(VLOOKUP($A29&1,'설정_In-Put'!$B:$L,11,0)*24,\"\")","v":""},null,null,0,0,0]
["2018-05-05",0,0,5,"토",{"$f":"IFERROR(VLOOKUP($A30,'관리자 Setting'!$K$6:$M$36,3,0),\"\")","v":"어린이날"},null,null,{"$f":"IFERROR(IF(OR(E30=\"토\",E30=\"일\",F30<>\"\"),\"\",VLOOKUP(A30&0,'설정_In-Put'!$A:$L,6,0)),\"\")","v":""},null,1,18,{"$f":"IFERROR(VLOOKUP($A30,계획서_2분기!$A:$X,13,0),\"\")","v":0},0,{"$f":"IFERROR(VLOOKUP($A30,계획서_2분기!$A:$X,15,0),\"\")","v":0},0,{"$f":"INT(SUMIFS('설정_In-Put'!$K:$K,'설정_In-Put'!$C:$C,$A30)*24)","v":0},{"$f":"ROUND((SUMIFS('설정_In-Put'!$K:$K,'설정_In-Put'!$C:$C,$A30)*24-Q30)*60,0)","v":0},null,null,0,0,{"$f":"IF(SUMIFS('4월'!$AA$26:$AA$56,'4월'!$L$26:$L$56,$L30)+SUMIFS('5월'!$AA$26:$AA$56,'5월'!$L$26:$L$56,$L30)+SUMIFS('6월'!$AA$26:$AA$56,'6월'!$L$26:$L$56,$L30)>3120,1,IF($A30=\"\",\"\",IF(OR($E30=\"일\",$F30<>\"\"),1,0)*IF(S30+T30<>0,1,0)))","v":0},{"$f":"IFERROR(VLOOKUP($A30&1,'설정_In-Put'!$B:$L,11,0)*24,\"\")","v":""},null,null,0,0,0]
["2018-05-06",0,0,6,"일",{"$f":"IFERROR(VLOOKUP($A31,'관리자 Setting'!$K$6:$M$36,3,0),\"\")","v":""},null,null,{"$f":"IFERROR(IF(OR(E31=\"토\",E31=\"일\",F31<>\"\"),\"\",VLOOKUP(A31&0,'설정_In-Put'!$A:$L,6,0)),\"\")","v":""},null,1,18,{"$f":"IFERROR(VLOOKUP($A31,계획서_2분기!$A:$X,13,0),\"\")","v":0},0,{"$f":"IFERROR(VLOOKUP($A31,계획서_2분기!$A:$X,15,0),\"\")","v":0},0,{"$f":"INT(SUMIFS('설정_In-Put'!$K:$K,'설정_In-Put'!$C:$C,$A31)*24)","v":0},{"$f":"ROUND((SUMIFS('설정_In-Put'!$K:$K,'설정_In-Put'!$C:$C,$A31)*24-Q31)*60,0)","v":0},null,null,0,0,{"$f":"IF(SUMIFS('4월'!$AA$26:$AA$56,'4월'!$L$26:$L$56,$L31)+SUMIFS('5월'!$AA$26:$AA$56,'5월'!$L$26:$L$56,$L31)+SUMIFS('6월'!$AA$26:$AA$56,'6월'!$L$26:$L$56,$L31)>3120,1,IF($A31=\"\",\"\",IF(OR($E31=\"일\",$F31<>\"\"),1,0)*IF(S31+T31<>0,1,0)))","v":0},{"$f":"IFERROR(VLOOKUP($A31&1,'설정_In-Put'!$B:$L,11,0)*24,\"\")","v":""},null,null,0,0,0]
["2018-05-07",0,0,7,"월",{"$f":"IFERROR(VLOOKUP($A32,'관리자 Setting'!$K$6:$M$36,3,0),\"\")","v":"대체공휴일"},null,null,{"$f":"IFERROR(IF(OR(E32=\"토\",E32=\"일\",F32<>\"\"),\"\",VLOOKUP(A32&0,'설정_In-Put'!$A:$L,6,0)),\"\")","v":""},null,2,19,{"$f":"IFERROR(VLOOKUP($A32,계획서_2분기!$A:$X,13,0),\"\")","v":0},0,{"$f":"IFERROR(VLOOKUP($A32,계획서_2분기!$A:$X,15,0),\"\")","v":0},0,{"$f":"INT(SUMIFS('설정_In-Put'!$K:$K,'설정_In-Put'!$C:$C,$A32)*24)","v":0},{"$f":"ROUND((SUMIFS('설정_In-Put'!$K:$K,'설정_In-Put'!$C:$C,$A32)*24-Q32)*60,0)","v":0},null,null,0,0,{"$f":"IF(SUMIFS('4월'!$AA$26:$AA$56,'4월'!$L$26:$L$56,$L32)+SUMIFS('5월'!$AA$26:$AA$56,'5월'!$L$26:$L$56,$L32)+SUMIFS('6월'!$AA$26:$AA$56,'6월'!$L$26:$L$56,$L32)>3120,1,IF($A32=\"\",\"\",IF(OR($E32=\"일\",$F32<>\"\"),1,0)*IF(S32+T32<>0,1,0)))","v":0},{"$f":"IFERROR(VLOOKUP($A32&1,'설정_In-Put'!$B:$L,11,0)*24,\"\")","v":""},null,null,0,0,0]
["2018-05-08",1,1,8,"화",{"$f":"IFERROR(VLOOKUP($A33,'관리자 Setting'!$K$6:$M$36,3,0),\"\")","v":""},null,null,{"$f":"IFERROR(IF(OR(E33=\"토\",E33=\"일\",F33<>\"\"),\"\",VLOOKUP(A33&0,'설정_In-Put'!$A:$L,6,0)),\"\")","v":""},null,2,19,{"$f":"IFERROR(VLOOKUP($A33,계획서_2분기!$A:$X,13,0),\"\")","v":0},0,{"$f":"IFERROR(VLOOKUP($A33,계획서_2분기!$A:$X,15,0),\"\")","v":0},0,{"$f":"INT(SUMIFS('설정_In-Put'!$K:$K,'설정_In-Put'!$C:$C,$A33)*24)","v":0},{"$f":"ROUND((SUMIFS('설정_In-Put'!$K:$K,'설정_In-Put'!$C:$C,$A33)*24-Q33)*60,0)","v":0},null,null,0,0,{"$f":"IF(SUMIFS('4월'!$AA$26:$AA$56,'4월'!$L$26:$L$56,$L33)+SUMIFS('5월'!$AA$26:$AA$56,'5월'!$L$26:$L$56,$L33)+SUMIFS('6월'!$AA$26:$AA$56,'6월'!$L$26:$L$56,$L33)>3120,1,IF($A33=\"\",\"\",IF(OR($E33=\"일\",$F33<>\"\"),1,0)*IF(S33+T33<>0,1,0)))","v":0},{"$f":"IFERROR(VLOOKUP($A33&1,'설정_In-Put'!$B:$L,11,0)*24,\"\")","v":""},null,null,0,0,0]
["2018-05-09",1,1,9,"수",{"$f":"IFERROR(VLOOKUP($A34,'관리자 Setting'!$K$6:$M$36,3,0),\"\")","v":""},null,null,{"$f":"IFERROR(IF(OR(E34=\"토\",E34=\"일\",F34<>\"\"),\"\",VLOOKUP(A34&0,'설정_In-Put'!$A:$L,6,0)),\"\")","v":""},null,2,19,{"$f":"IFERROR(VLOOKUP($A34,계획서_2분기!$A:$X,13,0),\"\")","v":0},0,{"$f":"IFERROR(VLOOKUP($A34,계획서_2분기!$A:$X,15,0),\"\")","v":0},0,{"$f":"INT(SUMIFS('설정_In-Put'!$K:$K,'설정_In-Put'!$C:$C,$A34)*24)","v":0},{"$f":"ROUND((SUMIFS('설정_In-Put'!$K:$K,'설정_In-Put'!$C:$C,$A34)*24-Q34)*60,0)","v":0},null,null,0,0,{"$f":"IF(SUMIFS('4월'!$AA$26:$AA$56,'4월'!$L$26:$L$56,$L34)+SUMIFS('5월'!$AA$26:$AA$56,'5월'!$L$26:$L$56,$L34)+SUMIFS('6월'!$AA$26:$AA$56,'6월'!$L$26:$L$56,$L34)>3120,1,IF($A34=\"\",\"\",IF(OR($E34=\"일\",$F34<>\"\"),1,0)*IF(S34+T34<>0,1,0)))","v":0},{"$f":"IFERROR(VLOOKUP($A34&1,'설정_In-Put'!$B:$L,11,0)*24,\"\")","v":""},null,null,0,0,0]
["2018-05-10",1,1,10,"목",{"$f":"IFERROR(VLOOKUP($A35,'관리자 Setting'!$K$6:$M$36,3,0),\"\")","v":""},null,null,{"$f":"IFERROR(IF(OR(E35=\"토\",E35=\"일\",F35<>\"\"),\"\",VLOOKUP(A35&0,'설정_In-Put'!$A:$L,6,0)),\"\")","v":""},null,2,19,{"$f":"IFERROR(VLOOKUP($A35,계획서_2분기!$A:$X,13,0),\"\")","v":0},0,{"$f":"IFERROR(VLOOKUP($A35,계획서_2분기!$A:$X,15,0),\"\")","v":0},0,{"$f":"INT(SUMIFS('설정_In-Put'!$K:$K,'설정_In-Put'!$C:$C,$A35)*24)","v":0},{"$f":"ROUND((SUMIFS('설정_In-Put'!$K:$K,'설정_In-Put'!$C:$C,$A35)*24-Q35)*60,0)","v":0},null,null,0,0,{"$f":"IF(SUMIFS('4월'!$AA$26:$AA$56,'4월'!$L$26:$L$56,$L35)+SUMIFS('5월'!$AA$26:$AA$56,'5월'!$L$26:$L$56,$L35)+SUMIFS('6월'!$AA$26:$AA$56,'6월'!$L$26:$L$56,$L35)>3120,1,IF($A35=\"\",\"\",IF(OR($E35=\"일\",$F35<>\"\"),1,0)*IF(S35+T35<>0,1,0)))","v":0},{"$f":"IFERROR(VLOOKUP($A35&1,'설정_In-Put'!$B:$L,11,0)*24,\"\")","v":""},null,null,0,0,0]
["2018-05-11",1,1,11,"금",{"$f":"IFERROR(VLOOKUP($A36,'관리자 Setting'!$K$6:$M$36,3,0),\"\")","v":""},null,null,{"$f":"IFERROR(IF(OR(E36=\"토\",E36=\"일\",F36<>\"\"),\"\",VLOOKUP(A36&0,'설정_In-Put'!$A:$L,6,0)),\"\")","v":""},null,2,19,{"$f":"IFERROR(VLOOKUP($A36,계획서_2분기!$A:$X,13,0),\"\")","v":0},0,{"$f":"IFERROR(VLOOKUP($A36,계획서_2분기!$A:$X,15,0),\"\")","v":0},0,{"$f":"INT(SUMIFS('설정_In-Put'!$K:$K,'설정_In-Put'!$C:$C,$A36)*24)","v":0},{"$f":"ROUND((SUMIFS('설정_In-Put'!$K:$K,'설정_In-Put'!$C:$C,$A36)*24-Q36)*60,0)","v":0},null,null,0,0,{"$f":"IF(SUMIFS('4월'!$AA$26:$AA$56,'4월'!$L$26:$L$56,$L36)+SUMIFS('5월'!$AA$26:$AA$56,'5월'!$L$26:$L$56,$L36)+SUMIFS('6월'!$AA$26:$AA$56,'6월'!$L$26:$L$56,$L36)>3120,1,IF($A36=\"\",\"\",IF(OR($E36=\"일\",$F36<>\"\"),1,0)*IF(S36+T36<>0,1,0)))","v":0},{"$f":"IFERROR(VLOOKUP($A36&1,'설정_In-Put'!$B:$L,11,0)*24,\"\")","v":""},null,null,0,0,0]
["2018-05-12",1,1,12,"토",{"$f":"IFERROR(VLOOKUP($A37,'관리자 Setting'!$K$6:$M$36,3,0),\"\")","v":""},null,null,{"$f":"IFERROR(IF(OR(E37=\"토\",E37=\"일\",F37<>\"\"),\"\",VLOOKUP(A37&0,'설정_In-Put'!$A:$L,6,0)),\"\")","v":""},null,2,19,{"$f":"IFERROR(VLOOKUP($A37,계획서_2분기!$A:$X,13,0),\"\")","v":0},0,{"$f":"IFERROR(VLOOKUP($A37,계획서_2분기!$A:$X,15,0),\"\")","v":0},0,{"$f":"INT(SUMIFS('설정_In-Put'!$K:$K,'설정_In-Put'!$C:$C,$A37)*24)","v":0},{"$f":"ROUND((SUMIFS('설정_In-Put'!$K:$K,'설정_In-Put'!$C:$C,$A37)*24-Q37)*60,0)","v":0},null,null,0,0,{"$f":"IF(SUMIFS('4월'!$AA$26:$AA$56,'4월'!$L$26:$L$56,$L37)+SUMIFS('5월'!$AA$26:$AA$56,'5월'!$L$26:$L$56,$L37)+SUMIFS('6월'!$AA$26:$AA$56,'6월'!$L$26:$L$56,$L37)>3120,1,IF($A37=\"\",\"\",IF(OR($E37=\"일\",$F37<>\"\"),1,0)*IF(S37+T37<>0,1,0)))","v":0},{"$f":"IFERROR(VLOOKUP($A37&1,'설정_In-Put'!$B:$L,11,0)*24,\"\")","v":""},null,null,0,0,0]
["2018-05-13",0,0,13,"일",{"$f":"IFERROR(VLOOKUP($A38,'관리자 Setting'!$K$6:$M$36,3,0),\"\")","v":""},null,null,{"$f":"IFERROR(IF(OR(E38=\"토\",E38=\"일\",F38<>\"\"),\"\",VLOOKUP(A38&0,'설정_In-Put'!$A:$L,6,0)),\"\")","v":""},null,2,19,{"$f":"IFERROR(VLOOKUP($A38,계획서_2분기!$A:$X,13,0),\"\")","v":0},0,{"$f":"IFERROR(VLOOKUP($A38,계획서_2분기!$A:$X,15,0),\"\")","v":0},0,{"$f":"INT(SUMIFS('설정_In-Put'!$K:$K,'설정_In-Put'!$C:$C,$A38)*24)","v":0},{"$f":"ROUND((SUMIFS('설정_In-Put'!$K:$K,'설정_In-Put'!$C:$C,$A38)*24-Q38)*60,0)","v":0},null,null,0,0,{"$f":"IF(SUMIFS('4월'!$AA$26:$AA$56,'4월'!$L$26:$L$56,$L38)+SUMIFS('5월'!$AA$26:$AA$56,'5월'!$L$26:$L$56,$L38)+SUMIFS('6월'!$AA$26:$AA$56,'6월'!$L$26:$L$56,$L38)>3120,1,IF($A38=\"\",\"\",IF(OR($E38=\"일\",$F38<>\"\"),1,0)*IF(S38+T38<>0,1,0)))","v":0},{"$f":"IFERROR(VLOOKUP($A38&1,'설정_In-Put'!$B:$L,11,0)*24,\"\")","v":""},null,null,0,0,0]
["2018-05-14",1,1,14,"월",{"$f":"IFERROR(VLOOKUP($A39,'관리자 Setting'!$K$6:$M$36,3,0),\"\")","v":""},null,null,{"$f":"IFERROR(IF(OR(E39=\"토\",E39=\"일\",F39<>\"\"),\"\",VLOOKUP(A39&0,'설정_In-Put'!$A:$L,6,0)),\"\")","v":""},null,3,20,{"$f":"IFERROR(VLOOKUP($A39,계획서_2분기!$A:$X,13,0),\"\")","v":0},0,{"$f":"IFERROR(VLOOKUP($A39,계획서_2분기!$A:$X,15,0),\"\")","v":0},0,{"$f":"INT(SUMIFS('설정_In-Put'!$K:$K,'설정_In-Put'!$C:$C,$A39)*24)","v":0},{"$f":"ROUND((SUMIFS('설정_In-Put'!$K:$K,'설정_In-Put'!$C:$C,$A39)*24-Q39)*60,0)","v":0},null,null,0,0,{"$f":"IF(SUMIFS('4월'!$AA$26:$AA$56,'4월'!$L$26:$L$56,$L39)+SUMIFS('5월'!$AA$26:$AA$56,'5월'!$L$26:$L$56,$L39)+SUMIFS('6월'!$AA$26:$AA$56,'6월'!$L$26:$L$56,$L39)>3120,1,IF($A39=\"\",\"\",IF(OR($E39=\"일\",$F39<>\"\"),1,0)*IF(S39+T39<>0,1,0)))","v":0},{"$f":"IFERROR(VLOOKUP($A39&1,'설정_In-Put'!$B:$L,11,0)*24,\"\")","v":""},null,null,0,0,0]
["2018-05-15",1,1,15,"화",{"$f":"IFERROR(VLOOKUP($A40,'관리자 Setting'!$K$6:$M$36,3,0),\"\")","v":""},null,null,{"$f":"IFERROR(IF(OR(E40=\"토\",E40=\"일\",F40<>\"\"),\"\",VLOOKUP(A40&0,'설정_In-Put'!$A:$L,6,0)),\"\")","v":""},null,3,20,{"$f":"IFERROR(VLOOKUP($A40,계획서_2분기!$A:$X,13,0),\"\")","v":0},0,{"$f":"IFERROR(VLOOKUP($A40,계획서_2분기!$A:$X,15,0),\"\")","v":0},0,{"$f":"INT(SUMIFS('설정_In-Put'!$K:$K,'설정_In-Put'!$C:$C,$A40)*24)","v":0},{"$f":"ROUND((SUMIFS('설정_In-Put'!$K:$K,'설정_In-Put'!$C:$C,$A40)*24-Q40)*60,0)","v":0},null,null,0,0,{"$f":"IF(SUMIFS('4월'!$AA$26:$AA$56,'4월'!$L$26:$L$56,$L40)+SUMIFS('5월'!$AA$26:$AA$56,'5월'!$L$26:$L$56,$L40)+SUMIFS('6월'!$AA$26:$AA$56,'6월'!$L$26:$L$56,$L40)>3120,1,IF($A40=\"\",\"\",IF(OR($E40=\"일\",$F40<>\"\"),1,0)*IF(S40+T40<>0,1,0)))","v":0},{"$f":"IFERROR(VLOOKUP($A40&1,'설정_In-Put'!$B:$L,11,0)*24,\"\")","v":""},null,null,0,0,0]
["2018-05-16",1,1,16,"수",{"$f":"IFERROR(VLOOKUP($A41,'관리자 Setting'!$K$6:$M$36,3,0),\"\")","v":""},null,null,{"$f":"IFERROR(IF(OR(E41=\"토\",E41=\"일\",F41<>\"\"),\"\",VLOOKUP(A41&0,'설정_In-Put'!$A:$L,6,0)),\"\")","v":""},null,3,20,{"$f":"IFERROR(VLOOKUP($A41,계획서_2분기!$A:$X,13,0),\"\")","v":0},0,{"$f":"IFERROR(VLOOKUP($A41,계획서_2분기!$A:$X,15,0),\"\")","v":0},0,{"$f":"INT(SUMIFS('설정_In-Put'!$K:$K,'설정_In-Put'!$C:$C,$A41)*24)","v":0},{"$f":"ROUND((SUMIFS('설정_In-Put'!$K:$K,'설정_In-Put'!$C:$C,$A41)*24-Q41)*60,0)","v":0},null,null,0,0,{"$f":"IF(SUMIFS('4월'!$AA$26:$AA$56,'4월'!$L$26:$L$56,$L41)+SUMIFS('5월'!$AA$26:$AA$56,'5월'!$L$26:$L$56,$L41)+SUMIFS('6월'!$AA$26:$AA$56,'6월'!$L$26:$L$56,$L41)>3120,1,IF($A41=\"\",\"\",IF(OR($E41=\"일\",$F41<>\"\"),1,0)*IF(S41+T41<>0,1,0)))","v":0},{"$f":"IFERROR(VLOOKUP($A41&1,'설정_In-Put'!$B:$L,11,0)*24,\"\")","v":""},null,null,0,0,0]
["2018-05-17",1,1,17,"목",{"$f":"IFERROR(VLOOKUP($A42,'관리자 Setting'!$K$6:$M$36,3,0),\"\")","v":""},null,null,{"$f":"IFERROR(IF(OR(E42=\"토\",E42=\"일\",F42<>\"\"),\"\",VLOOKUP(A42&0,'설정_In-Put'!$A:$L,6,0)),\"\")","v":""},null,3,20,{"$f":"IFERROR(VLOOKUP($A42,계획서_2분기!$A:$X,13,0),\"\")","v":0},0,{"$f":"IFERROR(VLOOKUP($A42,계획서_2분기!$A:$X,15,0),\"\")","v":0},0,{"$f":"INT(SUMIFS('설정_In-Put'!$K:$K,'설정_In-Put'!$C:$C,$A42)*24)","v":0},{"$f":"ROUND((SUMIFS('설정_In-Put'!$K:$K,'설정_In-Put'!$C:$C,$A42)*24-Q42)*60,0)","v":0},null,null,0,0,{"$f":"IF(SUMIFS('4월'!$AA$26:$AA$56,'4월'!$L$26:$L$56,$L42)+SUMIFS('5월'!$AA$26:$AA$56,'5월'!$L$26:$L$56,$L42)+SUMIFS('6월'!$AA$26:$AA$56,'6월'!$L$26:$L$56,$L42)>3120,1,IF($A42=\"\",\"\",IF(OR($E42=\"일\",$F42<>\"\"),1,0)*IF(S42+T42<>0,1,0)))","v":0},{"$f":"IFERROR(VLOOKUP($A42&1,'설정_In-Put'!$B:$L,11,0)*24,\"\")","v":""},null,null,0,0,0]
["2018-05-18",1,1,18,"금",{"$f":"IFERROR(VLOOKUP($A43,'관리자 Setting'!$K$6:$M$36,3,0),\"\")","v":""},null,null,{"$f":"IFERROR(IF(OR(E43=\"토\",E43=\"일\",F43<>\"\"),\"\",VLOOKUP(A43&0,'설정_In-Put'!$A:$L,6,0)),\"\")","v":""},null,3,20,{"$f":"IFERROR(VLOOKUP($A43,계획서_2분기!$A:$X,13,0),\"\")","v":0},0,{"$f":"IFERROR(VLOOKUP($A43,계획서_2분기!$A:$X,15,0),\"\")","v":0},0,{"$f":"INT(SUMIFS('설정_In-Put'!$K:$K,'설정_In-Put'!$C:$C,$A43)*24)","v":0},{"$f":"ROUND((SUMIFS('설정_In-Put'!$K:$K,'설정_In-Put'!$C:$C,$A43)*24-Q43)*60,0)","v":0},null,null,0,0,{"$f":"IF(SUMIFS('4월'!$AA$26:$AA$56,'4월'!$L$26:$L$56,$L43)+SUMIFS('5월'!$AA$26:$AA$56,'5월'!$L$26:$L$56,$L43)+SUMIFS('6월'!$AA$26:$AA$56,'6월'!$L$26:$L$56,$L43)>3120,1,IF($A43=\"\",\"\",IF(OR($E43=\"일\",$F43<>\"\"),1,0)*IF(S43+T43<>0,1,0)))","v":0},{"$f":"IFERROR(VLOOKUP($A43&1,'설정_In-Put'!$B:$L,11,0)*24,\"\")","v":""},null,null,0,0,0]
["2018-05-19",1,1,19,"토",{"$f":"IFERROR(VLOOKUP($A44,'관리자 Setting'!$K$6:$M$36,3,0),\"\")","v":""},null,null,{"$f":"IFERROR(IF(OR(E44=\"토\",E44=\"일\",F44<>\"\"),\"\",VLOOKUP(A44&0,'설정_In-Put'!$A:$L,6,0)),\"\")","v":""},null,3,20,{"$f":"IFERROR(VLOOKUP($A44,계획서_2분기!$A:$X,13,0),\"\")","v":0},0,{"$f":"IFERROR(VLOOKUP($A44,계획서_2분기!$A:$X,15,0),\"\")","v":0},0,{"$f":"INT(SUMIFS('설정_In-Put'!$K:$K,'설정_In-Put'!$C:$C,$A44)*24)","v":0},{"$f":"ROUND((SUMIFS('설정_In-Put'!$K:$K,'설정_In-Put'!$C:$C,$A44)*24-Q44)*60,0)","v":0},null,null,0,0,{"$f":"IF(SUMIFS('4월'!$AA$26:$AA$56,'4월'!$L$26:$L$56,$L44)+SUMIFS('5월'!$AA$26:$AA$56,'5월'!$L$26:$L$56,$L44)+SUMIFS('6월'!$AA$26:$AA$56,'6월'!$L$26:$L$56,$L44)>3120,1,IF($A44=\"\",\"\",IF(OR($E44=\"일\",$F44<>\"\"),1,0)*IF(S44+T44<>0,1,0)))","v":0},{"$f":"IFERROR(VLOOKUP($A44&1,'설정_In-Put'!$B:$L,11,0)*24,\"\")","v":""},null,null,0,0,0]
["2018-05-20",0,0,20,"일",{"$f":"IFERROR(VLOOKUP($A45,'관리자 Setting'!$K$6:$M$36,3,0),\"\")","v":""},null,null,{"$f":"IFERROR(IF(OR(E45=\"토\",E45=\"일\",F45<>\"\"),\"\",VLOOKUP(A45&0,'설정_In-Put'!$A:$L,6,0)),\"\")","v":""},null,3,20,{"$f":"IFERROR(VLOOKUP($A45,계획서_2분기!$A:$X,13,0),\"\")","v":0},0,{"$f":"IFERROR(VLOOKUP($A45,계획서_2분기!$A:$X,15,0),\"\")","v":0},0,{"$f":"INT(SUMIFS('설정_In-Put'!$K:$K,'설정_In-Put'!$C:$C,$A45)*24)","v":0},{"$f":"ROUND((SUMIFS('설정_In-Put'!$K:$K,'설정_In-Put'!$C:$C,$A45)*24-Q45)*60,0)","v":0},null,null,0,0,{"$f":"IF(SUMIFS('4월'!$AA$26:$AA$56,'4월'!$L$26:$L$56,$L45)+SUMIFS('5월'!$AA$26:$AA$56,'5월'!$L$26:$L$56,$L45)+SUMIFS('6월'!$AA$26:$AA$56,'6월'!$L$26:$L$56,$L45)>3120,1,IF($A45=\"\",\"\",IF(OR($E45=\"일\",$F45<>\"\"),1,0)*IF(S45+T45<>0,1,0)))","v":0},{"$f":"IFERROR(VLOOKUP($A45&1,'설정_In-Put'!$B:$L,11,0)*24,\"\")","v":""},null,null,0,0,0]
["2018-05-21",1,1,21,"월",{"$f":"IFERROR(VLOOKUP($A46,'관리자 Setting'!$K$6:$M$36,3,0),\"\")","v":""},null,null,{"$f":"IFERROR(IF(OR(E46=\"토\",E46=\"일\",F46<>\"\"),\"\",VLOOKUP(A46&0,'설정_In-Put'!$A:$L,6,0)),\"\")","v":""},null,4,21,{"$f":"IFERROR(VLOOKUP($A46,계획서_2분기!$A:$X,13,0),\"\")","v":0},0,{"$f":"IFERROR(VLOOKUP($A46,계획서_2분기!$A:$X,15,0),\"\")","v":0},0,{"$f":"INT(SUMIFS('설정_In-Put'!$K:$K,'설정_In-Put'!$C:$C,$A46)*24)","v":0},{"$f":"ROUND((SUMIFS('설정_In-Put'!$K:$K,'설정_In-Put'!$C:$C,$A46)*24-Q46)*60,0)","v":0},null,null,0,0,{"$f":"IF(SUMIFS('4월'!$AA$26:$AA$56,'4월'!$L$26:$L$56,$L46)+SUMIFS('5월'!$AA$26:$AA$56,'5월'!$L$26:$L$56,$L46)+SUMIFS('6월'!$AA$26:$AA$56,'6월'!$L$26:$L$56,$L46)>3120,1,IF($A46=\"\",\"\",IF(OR($E46=\"일\",$F46<>\"\"),1,0)*IF(S46+T46<>0,1,0)))","v":0},{"$f":"IFERROR(VLOOKUP($A46&1,'설정_In-Put'!$B:$L,11,0)*24,\"\")","v":""},null,null,0,0,0]
["2018-05-22",0,0,22,"화",{"$f":"IFERROR(VLOOKUP($A47,'관리자 Setting'!$K$6:$M$36,3,0),\"\")","v":"부처님오신날"},null,null,{"$f":"IFERROR(IF(OR(E47=\"토\",E47=\"일\",F47<>\"\"),\"\",VLOOKUP(A47&0,'설정_In-Put'!$A:$L,6,0)),\"\")","v":""},null,4,21,{"$f":"IFERROR(VLOOKUP($A47,계획서_2분기!$A:$X,13,0),\"\")","v":0},0,{"$f":"IFERROR(VLOOKUP($A47,계획서_2분기!$A:$X,15,0),\"\")","v":0},0,{"$f":"INT(SUMIFS('설정_In-Put'!$K:$K,'설정_In-Put'!$C:$C,$A47)*24)","v":0},{"$f":"ROUND((SUMIFS('설정_In-Put'!$K:$K,'설정_In-Put'!$C:$C,$A47)*24-Q47)*60,0)","v":0},null,null,0,0,{"$f":"IF(SUMIFS('4월'!$AA$26:$AA$56,'4월'!$L$26:$L$56,$L47)+SUMIFS('5월'!$AA$26:$AA$56,'5월'!$L$26:$L$56,$L47)+SUMIFS('6월'!$AA$26:$AA$56,'6월'!$L$26:$L$56,$L47)>3120,1,IF($A47=\"\",\"\",IF(OR($E47=\"일\",$F47<>\"\"),1,0)*IF(S47+T47<>0,1,0)))","v":0},{"$f":"IFERROR(VLOOKUP($A47&1,'설정_In-Put'!$B:$L,11,0)*24,\"\")","v":""},null,null,0,0,0]
["2018-05-23",1,1,23,"수",{"$f":"IFERROR(VLOOKUP($A48,'관리자 Setting'!$K$6:$M$36,3,0),\"\")","v":""},null,null,{"$f":"IFERROR(IF(OR(E48=\"토\",E48=\"일\",F48<>\"\"),\"\",VLOOKUP(A48&0,'설정_In-Put'!$A:$L,6,0)),\"\")","v":""},null,4,21,{"$f":"IFERROR(VLOOKUP($A48,계획서_2분기!$A:$X,13,0),\"\")","v":0},0,{"$f":"IFERROR(VLOOKUP($A48,계획서_2분기!$A:$X,15,0),\"\")","v":0},0,{"$f":"INT(SUMIFS('설정_In-Put'!$K:$K,'설정_In-Put'!$C:$C,$A48)*24)","v":0},{"$f":"ROUND((SUMIFS('설정_In-Put'!$K:$K,'설정_In-Put'!$C:$C,$A48)*24-Q48)*60,0)","v":0},null,null,0,0,{"$f":"IF(SUMIFS('4월'!$AA$26:$AA$56,'4월'!$L$26:$L$56,$L48)+SUMIFS('5월'!$AA$26:$AA$56,'5월'!$L$26:$L$56,$L48)+SUMIFS('6월'!$AA$26:$AA$56,'6월'!$L$26:$L$56,$L48)>3120,1,IF($A48=\"\",\"\",IF(OR($E48=\"일\",$F48<>\"\"),1,0)*IF(S48+T48<>0,1,0)))","v":0},{"$f":"IFERROR(VLOOKUP($A48&1,'설정_In-Put'!$B:$L,11,0)*24,\"\")","v":""},null,null,0,0,0]
["2018-05-24",1,1,24,"목",{"$f":"IFERROR(VLOOKUP($A49,'관리자 Setting'!$K$6:$M$36,3,0),\"\")","v":""},null,null,{"$f":"IFERROR(IF(OR(E49=\"토\",E49=\"일\",F49<>\"\"),\"\",VLOOKUP(A49&0,'설정_In-Put'!$A:$L,6,0)),\"\")","v":""},null,4,21,{"$f":"IFERROR(VLOOKUP($A49,계획서_2분기!$A:$X,13,0),\"\")","v":0},0,{"$f":"IFERROR(VLOOKUP($A49,계획서_2분기!$A:$X,15,0),\"\")","v":0},0,{"$f":"INT(SUMIFS('설정_In-Put'!$K:$K,'설정_In-Put'!$C:$C,$A49)*24)","v":0},{"$f":"ROUND((SUMIFS('설정_In-Put'!$K:$K,'설정_In-Put'!$C:$C,$A49)*24-Q49)*60,0)","v":0},null,null,0,0,{"$f":"IF(SUMIFS('4월'!$AA$26:$AA$56,'4월'!$L$26:$L$56,$L49)+SUMIFS('5월'!$AA$26:$AA$56,'5월'!$L$26:$L$56,$L49)+SUMIFS('6월'!$AA$26:$AA$56,'6월'!$L$26:$L$56,$L49)>3120,1,IF($A49=\"\",\"\",IF(OR($E49=\"일\",$F49<>\"\"),1,0)*IF(S49+T49<>0,1,0)))","v":0},{"$f":"IFERROR(VLOOKUP($A49&1,'설정_In-Put'!$B:$L,11,0)*24,\"\")","v":""},null,null,0,0,0]
["2018-05-25",1,1,25,"금",{"$f":"IFERROR(VLOOKUP($A50,'관리자 Setting'!$K$6:$M$36,3,0),\"\")","v":""},null,null,{"$f":"IFERROR(IF(OR(E50=\"토\",E50=\"일\",F50<>\"\"),\"\",VLOOKUP(A50&0,'설정_In-Put'!$A:$L,6,0)),\"\")","v":""},null,4,21,{"$f":"IFERROR(VLOOKUP($A50,계획서_2분기!$A:$X,13,0),\"\")","v":0},0,{"$f":"IFERROR(VLOOKUP($A50,계획서_2분기!$A:$X,15,0),\"\")","v":0},0,{"$f":"INT(SUMIFS('설정_In-Put'!$K:$K,'설정_In-Put'!$C:$C,$A50)*24)","v":0},{"$f":"ROUND((SUMIFS('설정_In-Put'!$K:$K,'설정_In-Put'!$C:$C,$A50)*24-Q50)*60,0)","v":0},null,null,0,0,{"$f":"IF(SUMIFS('4월'!$AA$26:$AA$56,'4월'!$L$26:$L$56,$L50)+SUMIFS('5월'!$AA$26:$AA$56,'5월'!$L$26:$L$56,$L50)+SUMIFS('6월'!$AA$26:$AA$56,'6월'!$L$26:$L$56,$L50)>3120,1,IF($A50=\"\",\"\",IF(OR($E50=\"일\",$F50<>\"\"),1,0)*IF(S50+T50<>0,1,0)))","v":0},{"$f":"IFERROR(VLOOKUP($A50&1,'설정_In-Put'!$B:$L,11,0)*24,\"\")","v":""},null,null,0,0,0]
["2018-05-26",1,1,26,"토",{"$f":"IFERROR(VLOOKUP($A51,'관리자 Setting'!$K$6:$M$36,3,0),\"\")","v":""},null,null,{"$f":"IFERROR(IF(OR(E51=\"토\",E51=\"일\",F51<>\"\"),\"\",VLOOKUP(A51&0,'설정_In-Put'!$A:$L,6,0)),\"\")","v":""},null,4,21,{"$f":"IFERROR(VLOOKUP($A51,계획서_2분기!$A:$X,13,0),\"\")","v":0},0,{"$f":"IFERROR(VLOOKUP($A51,계획서_2분기!$A:$X,15,0),\"\")","v":0},0,{"$f":"INT(SUMIFS('설정_In-Put'!$K:$K,'설정_In-Put'!$C:$C,$A51)*24)","v":0},{"$f":"ROUND((SUMIFS('설정_In-Put'!$K:$K,'설정_In-Put'!$C:$C,$A51)*24-Q51)*60,0)","v":0},null,null,0,0,{"$f":"IF(SUMIFS('4월'!$AA$26:$AA$56,'4월'!$L$26:$L$56,$L51)+SUMIFS('5월'!$AA$26:$AA$56,'5월'!$L$26:$L$56,$L51)+SUMIFS('6월'!$AA$26:$AA$56,'6월'!$L$26:$L$56,$L51)>3120,1,IF($A51=\"\",\"\",IF(OR($E51=\"일\",$F51<>\"\"),1,0)*IF(S51+T51<>0,1,0)))","v":0},{"$f":"IFERROR(VLOOKUP($A51&1,'설정_In-Put'!$B:$L,11,0)*24,\"\")","v":""},null,null,0,0,0]
[{"$f":"IF(A51+1>EOMONTH($A$26,0),\"\",A51+1)","v":"2018-05-27"},0,0,27,"일",{"$f":"IFERROR(VLOOKUP($A52,'관리자 Setting'!$K$6:$M$36,3,0),\"\")","v":""},null,null,{"$f":"IFERROR(IF(OR(E52=\"토\",E52=\"일\",F52<>\"\"),\"\",VLOOKUP(A52&0,'설정_In-Put'!$A:$L,6,0)),\"\")","v":""},null,4,21,{"$f":"IFERROR(VLOOKUP($A52,계획서_2분기!$A:$X,13,0),\"\")","v":0},0,{"$f":"IFERROR(VLOOKUP($A52,계획서_2분기!$A:$X,15,0),\"\")","v":0},0,{"$f":"INT(SUMIFS('설정_In-Put'!$K:$K,'설정_In-Put'!$C:$C,$A52)*24)","v":0},{"$f":"ROUND((SUMIFS('설정_In-Put'!$K:$K,'설정_In-Put'!$C:$C,$A52)*24-Q52)*60,0)","v":0},null,null,0,0,{"$f":"IF(SUMIFS('4월'!$AA$26:$AA$56,'4월'!$L$26:$L$56,$L52)+SUMIFS('5월'!$AA$26:$AA$56,'5월'!$L$26:$L$56,$L52)+SUMIFS('6월'!$AA$26:$AA$56,'6월'!$L$26:$L$56,$L52)>3120,1,IF($A52=\"\",\"\",IF(OR($E52=\"일\",$F52<>\"\"),1,0)*IF(S52+T52<>0,1,0)))","v":0},{"$f":"IFERROR(VLOOKUP($A52&1,'설정_In-Put'!$B:$L,11,0)*24,\"\")","v":""},null,null,0,0,0]
[{"$f":"IFERROR(IF(A52+1>EOMONTH($A$26,0),\"\",A52+1),\"\")","v":"2018-05-28"},1,1,28,"월",{"$f":"IFERROR(VLOOKUP($A53,'관리자 Setting'!$K$6:$M$36,3,0),\"\")","v":""},null,null,{"$f":"IFERROR(IF(OR(E53=\"토\",E53=\"일\",F53<>\"\"),\"\",VLOOKUP(A53&0,'설정_In-Put'!$A:$L,6,0)),\"\")","v":""},null,5,22,{"$f":"IFERROR(VLOOKUP($A53,계획서_2분기!$A:$X,13,0),\"\")","v":0},0,{"$f":"IFERROR(VLOOKUP($A53,계획서_2분기!$A:$X,15,0),\"\")","v":0},0,{"$f":"INT(SUMIFS('설정_In-Put'!$K:$K,'설정_In-Put'!$C:$C,$A53)*24)","v":0},{"$f":"ROUND((SUMIFS('설정_In-Put'!$K:$K,'설정_In-Put'!$C:$C,$A53)*24-Q53)*60,0)","v":0},null,null,0,0,{"$f":"IF(SUMIFS('4월'!$AA$26:$AA$56,'4월'!$L$26:$L$56,$L53)+SUMIFS('5월'!$AA$26:$AA$56,'5월'!$L$26:$L$56,$L53)+SUMIFS('6월'!$AA$26:$AA$56,'6월'!$L$26:$L$56,$L53)>3120,1,IF($A53=\"\",\"\",IF(OR($E53=\"일\",$F53<>\"\"),1,0)*IF(S53+T53<>0,1,0)))","v":0},{"$f":"IFERROR(VLOOKUP($A53&1,'설정_In-Put'!$B:$L,11,0)*24,\"\")","v":""},null,null,0,0,0]
[{"$f":"IFERROR(IF(A53+1>EOMONTH($A$26,0),\"\",A53+1),\"\")","v":"2018-05-29"},1,1,29,"화",{"$f":"IFERROR(VLOOKUP($A54,'관리자 Setting'!$K$6:$M$36,3,0),\"\")","v":""},null,null,{"$f":"IFERROR(IF(OR(E54=\"토\",E54=\"일\",F54<>\"\"),\"\",VLOOKUP(A54&0,'설정_In-Put'!$A:$L,6,0)),\"\")","v":""},null,5,22,{"$f":"IFERROR(VLOOKUP($A54,계획서_2분기!$A:$X,13,0),\"\")","v":0},0,{"$f":"IFERROR(VLOOKUP($A54,계획서_2분기!$A:$X,15,0),\"\")","v":0},0,{"$f":"INT(SUMIFS('설정_In-Put'!$K:$K,'설정_In-Put'!$C:$C,$A54)*24)","v":0},{"$f":"ROUND((SUMIFS('설정_In-Put'!$K:$K,'설정_In-Put'!$C:$C,$A54)*24-Q54)*60,0)","v":0},null,null,0,0,{"$f":"IF(SUMIFS('4월'!$AA$26:$AA$56,'4월'!$L$26:$L$56,$L54)+SUMIFS('5월'!$AA$26:$AA$56,'5월'!$L$26:$L$56,$L54)+SUMIFS('6월'!$AA$26:$AA$56,'6월'!$L$26:$L$56,$L54)>3120,1,IF($A54=\"\",\"\",IF(OR($E54=\"일\",$F54<>\"\"),1,0)*IF(S54+T54<>0,1,0)))","v":0},{"$f":"IFERROR(VLOOKUP($A54&1,'설정_In-Put'!$B:$L,11,0)*24,\"\")","v":""},null,null,0,0,0]
[{"$f":"IFERROR(IF(A54+1>EOMONTH($A$26,0),\"\",A54+1),\"\")","v":"2018-05-30"},1,1,30,"수",{"$f":"IFERROR(VLOOKUP($A55,'관리자 Setting'!$K$6:$M$36,3,0),\"\")","v":""},null,null,{"$f":"IFERROR(IF(OR(E55=\"토\",E55=\"일\",F55<>\"\"),\"\",VLOOKUP(A55&0,'설정_In-Put'!$A:$L,6,0)),\"\")","v":""},null,5,22,{"$f":"IFERROR(VLOOKUP($A55,계획서_2분기!$A:$X,13,0),\"\")","v":0},0,{"$f":"IFERROR(VLOOKUP($A55,계획서_2분기!$A:$X,15,0),\"\")","v":0},0,{"$f":"INT(SUMIFS('설정_In-Put'!$K:$K,'설정_In-Put'!$C:$C,$A55)*24)","v":0},{"$f":"ROUND((SUMIFS('설정_In-Put'!$K:$K,'설정_In-Put'!$C:$C,$A55)*24-Q55)*60,0)","v":0},null,null,0,0,{"$f":"IF(SUMIFS('4월'!$AA$26:$AA$56,'4월'!$L$26:$L$56,$L55)+SUMIFS('5월'!$AA$26:$AA$56,'5월'!$L$26:$L$56,$L55)+SUMIFS('6월'!$AA$26:$AA$56,'6월'!$L$26:$L$56,$L55)>3120,1,IF($A55=\"\",\"\",IF(OR($E55=\"일\",$F55<>\"\"),1,0)*IF(S55+T55<>0,1,0)))","v":0},{"$f":"IFERROR(VLOOKUP($A55&1,'설정_In-Put'!$B:$L,11,0)*24,\"\")","v":""},null,null,0,0,0]
["2018-05-31",1,1,31,"목",{"$f":"IFERROR(VLOOKUP($A56,'관리자 Setting'!$K$6:$M$36,3,0),\"\")","v":""},null,null,{"$f":"IFERROR(IF(OR(E56=\"토\",E56=\"일\",F56<>\"\"),\"\",VLOOKUP(A56&0,'설정_In-Put'!$A:$L,6,0)),\"\")","v":""},null,5,22,{"$f":"IFERROR(VLOOKUP($A56,계획서_2분기!$A:$X,13,0),\"\")","v":0},0,{"$f":"IFERROR(VLOOKUP($A56,계획서_2분기!$A:$X,15,0),\"\")","v":0},0,{"$f":"INT(SUMIFS('설정_In-Put'!$K:$K,'설정_In-Put'!$C:$C,$A56)*24)","v":0},{"$f":"ROUND((SUMIFS('설정_In-Put'!$K:$K,'설정_In-Put'!$C:$C,$A56)*24-Q56)*60,0)","v":0},null,null,0,0,{"$f":"IF(SUMIFS('4월'!$AA$26:$AA$56,'4월'!$L$26:$L$56,$L56)+SUMIFS('5월'!$AA$26:$AA$56,'5월'!$L$26:$L$56,$L56)+SUMIFS('6월'!$AA$26:$AA$56,'6월'!$L$26:$L$56,$L56)>3120,1,IF($A56=\"\",\"\",IF(OR($E56=\"일\",$F56<>\"\"),1,0)*IF(S56+T56<>0,1,0)))","v":0},{"$f":"IFERROR(VLOOKUP($A56&1,'설정_In-Put'!$B:$L,11,0)*24,\"\")","v":""},null,null,0,0,0]

{"sheet":"6월","index":10,"n_rows":56,"n_cols":30,"rows_kept":56,"merged":[[1,3,2,5],[1,6,2,20],[1,21,2,23],[4,3,5,3],[4,4,5,6],[4,7,5,8],[4,9,5,11],[4,12,5,13],[4,14,5,15],[4,16,5,17],[4,18,5,19],[4,20,5,21],[4,22,5,23],[7,3,7,23],[8,3,8,4],[8,5,8,9],[8,10,8,12],[8,13,8,14],[8,15,8,16],[8,17,8,18],[8,20,8,23],[9,3,9,4],[9,5,9,7],[9,8,9,9],[9,10,9,12],[9,13,9,14],[9,15,9,16],[9,17,9,18],[9,20,9,23],[10,3,10,4],[10,5,10,7],[10,8,10,9],[10,10,10,12],[10,13,10,14],[10,15,10,16],[10,17,10,18],[10,20,10,23],[11,3,11,4],[11,5,11,7],[11,8,11,9],[11,10,11,12],[11,13,11,14],[11,15,11,16],[11,17,11,18],[11,20,11,23],[13,3,13,23],[14,3,15,4],[14,5,15,9],[14,10,14,13],[14,14,14,17],[14,18,15,18],[14,19,15,23],[15,10,15,11],[15,12,15,13],[15,14,15,15],[15,16,15,17],[16,3,16,4],[16,5,16,7],[16,8,16,9],[16,10,16,11],[16,12,16,13],[16,14,16,15],[16,16,16,17],[16,19,16,23],[17,3,17,4],[17,5,17,7],[17,8,17,9],[17,10,17,11],[17,12,17,13],[17,14,17,15],[17,16,17,17],[17,19,17,23],[18,3,18,4],[18,5,18,7],[18,8,18,9],[18,10,18,11],[18,12,18,13],[18,14,18,15],[18,16,18,17],[18,19,18,23],[20,3,20,23],[21,3,23,3],[21,4,23,4],[21,5,23,7],[21,8,23,9],[21,10,23,10],[21,11,23,11],[21,12,21,15],[21,16,22,17],[21,18,21,21],[21,22,23,22],[21,23,23,23],[22,12,22,13],[22,14,22,15],[22,18,22,19],[22,20,22,21],[25,5,25,7],[25,8,25,9],[26,5,26,7],[26,8,26,9],[27,5,27,7],[27,8,27,9],[28,5,28,7],[28,8,28,9],[29,5,29,7],[29,8,29,9],[30,5,30,7],[30,8,30,9],[31,5,31,7],[31,8,31,9],[32,5,32,7],[32,8,32,9],[33,5,33,7],[33,8,33,9],[34,5,34,7],[34,8,34,9],[35,5,35,7],[35,8,35,9],[36,5,36,7],[36,8,36,9],[37,5,37,7],[37,8,37,9],[38,5,38,7],[38,8,38,9],[39,5,39,7],[39,8,39,9],[40,5,40,7],[40,8,40,9],[41,5,41,7],[41,8,41,9],[42,5,42,7],[42,8,42,9],[43,5,43,7],[43,8,43,9],[44,5,44,7],[44,8,44,9],[45,5,45,7],[45,8,45,9],[46,5,46,7],[46,8,46,9],[47,5,47,7],[47,8,47,9],[48,5,48,7],[48,8,48,9],[49,5,49,7],[49,8,49,9],[50,5,50,7],[50,8,50,9],[51,5,51,7],[51,8,51,9],[52,5,52,7],[52,8,52,9],[53,5,53,7],[53,8,53,9],[54,5,54,7],[54,8,54,9],[55,5,55,7],[55,8,55,9]]}
[]
[{"$nulls":3},"전월",null,null,{"$f":"'관리자 Setting'!$R$3&\"년 \"&TEXT($A$6,\"00월 근태 현황 (\")&$B$6&\"분기)\"","v":"2018년 06월 근태 현황 (2분기)"},{"$nulls":14},"익월"]
[]
[]
["월","분기",null,"소속","무한도전",null,null,"부서명",null,{"$f":"계획서_2분기!$J$5","v":"무한본부"},null,null,"직급",null,{"$f":"계획서_2분기!$O$5","v":"1급"},null,"ERP 사번",null,{"$f":"계획서_2분기!$S$5","v":"0002"},null,"성명",null,{"$f":"IF(계획서_2분기!W5=0,\"\",계획서_2분기!W5)","v":"박명수"}]
[6,2]
[]
[{"$nulls":3},"───────────────　　분　기　근　무　현　황　　───────────────"]
[{"$nulls":3},"구분",null,"규정 및 참조",{"$nulls":4},"합계/평균",null,null,{"v":4,"d":"4월"},null,{"v":5,"d":"5월"},null,{"v":6,"d":"6월"},null,"CHK","비고",{"$nulls":5},"합/평",1,2,3]
[{"$nulls":3},"전체 근로",{"$nulls":6},{"$f":"INT(AA10/60)&\"시간 \"&TEXT(ROUND((AA10/60-INT(AA10/60))*60,0),\"00분\")","v":"0시간 00분"},null,null,{"$f":"INT(AB10/60)&\"시간 \"&TEXT(ROUND((AB10/60-INT(AB10/60))*60,0),\"00분\")","v":"0시간 00분"},null,{"$f":"INT(AC10/60)&\"시간 \"&TEXT(ROUND((AC10/60-INT(AC10/60))*60,0),\"00분\")","v":"0시간 00분"},null,{"$f":"INT(AD10/60)&\"시간 \"&TEXT(ROUND((AD10/60-INT(AD10/60))*60,0),\"00분\")","v":"0시간 00분"},{"$nulls":8},{"$f":"SUM(AB10:AD10)","v":0},{"$f":"'4월'!O17*60+'4월'!Q17","v":0},{"$f":"'5월'!O17*60+'5월'!Q17","v":0},{"$f":"'6월'!O17*60+'6월'!Q17","v":0}]
[{"$nulls":3},"정규 근로",null,"분기 필수 합계",null,null,{"$f":"IFERROR(VLOOKUP($B$6,'관리자 Setting'!$O$6:$R$10,2,0),\"\")","v":{"v":488,"d":"488 시간"}},null,"0시간 00분",null,null,{"$f":"INT(AB11/60)&\"시간 \"&TEXT(ROUND((AB11/60-INT(AB11/60))*60,0),\"00분\")","v":"0시간 00분"},null,{"$f":"INT(AC11/60)&\"시간 \"&TEXT(ROUND((AC11/60-INT(AC11/60))*60,0),\"00분\")","v":"0시간 00분"},null,{"$f":"INT(AD11/60)&\"시간 \"&TEXT(ROUND((AD11/60-INT(AD11/60))*60,0),\"00분\")","v":"0시간 00분"},null,{"$f":"IF(I11*60>AA11,1,0)","v":1},{"$f":"IF(T11=1,\"분기 필수 근로 시간 부족\",\"\")","v":"분기 필수 근로 시간 부족"},{"$nulls":5},{"$f":"SUM(AB11:AD11)","v":0},{"$f":"'4월'!O18*60+'4월'!Q18","v":0},{"$f":"'5월'!O18*60+'5월'!Q18","v":0},{"$f":"'6월'!O18*60+'6월'!Q18","v":0}]
[{"$nulls":3},"연장 근로",null,"월 평균 연장 근로",null,null,{"$f":"IFERROR(VLOOKUP($W$5,'관리자 Setting'!$C$3:$G$53,5,0),\"\")","v":{"v":35,"d":"35 시간"}},null,"0시간 00분",null,null,{"$f":"INT(AB12/60)&\"시간 \"&TEXT(ROUND((AB12/60-INT(AB12/60))*60,0),\"00분\")","v":"0시간 00분"},null,{"$f":"INT(AC12/60)&\"시간 \"&TEXT(ROUND((AC12/60-INT(AC12/60))*60,0),\"00분\")","v":"0시간 00분"},null,{"$f":"INT(AD12/60)&\"시간 \"&TEXT(ROUND((AD12/60-INT(AD12/60))*60,0),\"00분\")","v":"0시간 00분"},null,{"$f":"IF(OR($I$12*60<AA12,$I$12*60<AB12,$I$12*60<AC12,$I$12*60<AD12),1,0)","v":0},{"$f":"IF(T12=1,\"연장 근로 한도 초과\",\"\")","v":""},{"$nulls":5},{"$f":"AVERAGE(AB12:AD12)","v":0},{"$f":"'4월'!O19*60+'4월'!Q19","v":0},{"$f":"'5월'!O19*60+'5월'!Q19","v":0},{"$f":"'6월'!O19*60+'6월'!Q19","v":0}]
[]
[{"$nulls":3},"───────────────　　월　근　무　현　황　　───────────────"]
[{"$nulls":3},"구분",null,"규정 및 참조",{"$nulls":4},"근무 계획",{"$nulls":3},"근무 조정",{"$nulls":3},"CHK","비고"]
[{"$nulls":10},"시간",null,"분",null,"시간",null,"분"]
[{"$nulls":3},"전체 근로",{"$nulls":6},{"$f":"M25+O25","v":0},null,"분",null,{"$f":"Q25+X25","v":0},null,{"$f":"R25","v":{"v":0,"d":"0 분"}}]
[{"$nulls":3},"정규 근로",{"$nulls":6},{"$f":"M25","v":0},null,"분",null,{"$f":"S25+X25","v":0},null,{"$f":"T25","v":{"v":0,"d":"0 분"}}]
[{"$nulls":3},"연장 근로",null,"월 연장 근로 한도",null,null,{"$f":"IFERROR(VLOOKUP($W$5,'관리자 Setting'!$C$3:$G$53,5,0),\"\")","v":{"v":35,"d":"35 시간"}},null,{"$f":"O25","v":0},null,"분",null,{"$f":"U25","v":0},null,{"$f":"V25","v":{"v":0,"d":"0 분"}},null,{"$f":"IF($W$5=\"\",\"\",IF(I19*60<O19*60+Q19,1,0))","v":0},{"$f":"IF(S19=1,\"연장 근로 한도 시간 초과\",\"\")","v":""}]
[]
[{"$nulls":3},"───────────────　　일　/　주　간　근　무　현　황　　───────────────"]
[{"$nulls":3},"날짜","요일","참고",null,null,"상태",null,"주","주차","근무 계획",{"$nulls":3},"실\n근무시간",null,"조정",{"$nulls":3},"CHK","비고\n근무\n반영"]
[{"$nulls":12},"정규근로",null,"연장근로",{"$nulls":3},"정규근로",null,"연장근로"]
[{"$nulls":12},"시간","분","시간","분","시간","분","시간","분","시간","분",{"$nulls":4},"반영","실","연장"]
[{"$nulls":12},{"$f":"SUM(M26:M56)","v":0},0,{"$f":"SUM(O26:O56)","v":0},0,{"$f":"SUM(Q26:Q56)+INT(SUM(R26:R56)/60)","v":0},{"$f":"(SUM(R26:R56)/60-INT(SUM(R26:R56)/60))*60","v":0},{"$f":"SUM(S26:S56)+INT(SUM(T26:T56)/60)","v":0},{"$f":"(SUM(T26:T56)/60-INT(SUM(T26:T56)/60))*60","v":0},{"$f":"SUM(U26:U56)+INT(SUM(V26:V56)/60)","v":0},{"$f":"(SUM(V26:V56)/60-INT(SUM(V26:V56)/60))*60","v":0},null,{"$f":"SUM(X26:X56)","v":0}]
[{"$f":"DATE('관리자 Setting'!$R$3,$A$6,1)","v":"2018-06-01"},{"$f":"IF(OR($E26=\"일\",$F26<>\"\"),0,1)","v":1},1,1,{"$f":"TEXT($A26,\"AAA\")","v":"금"},{"$f":"IFERROR(VLOOKUP($A26,'관리자 Setting'!$K$6:$M$36,3,0),\"\")","v":""},null,null,{"$f":"IFERROR(IF(OR(E26=\"토\",E26=\"일\",F26<>\"\"),\"\",VLOOKUP(A26&0,'설정_In-Put'!$A:$L,6,0)),\"\")","v":""},null,{"$f":"IFERROR(L26-WEEKNUM(A26-D26+1)+1,\"\")","v":1},{"$f":"IFERROR(WEEKNUM(A26,2),\"\")","v":22},{"$f":"IFERROR(VLOOKUP($A26,계획서_2분기!$A:$X,13,0),\"\")","v":0},0,{"$f":"IFERROR(VLOOKUP($A26,계획서_2분기!$A:$X,15,0),\"\")","v":0},0,{"$f":"INT(SUMIFS('설정_In-Put'!$K:$K,'설정_In-Put'!$C:$C,$A26)*24)","v":0},{"$f":"ROUND((SUMIFS('설정_In-Put'!$K:$K,'설정_In-Put'!$C:$C,$A26)*24-Q26)*60,0)","v":0},null,null,{"$f":"INT(((Q26*60+R26)-(S26*60+T26))/60)","v":0},{"$f":"(((Q26*60+R26)-(S26*60+T26))/60-U26)*60","v":0},{"$f":"IF(SUMIFS('4월'!$AA$26:$AA$56,'4월'!$L$26:$L$56,$L26)+SUMIFS('5월'!$AA$26:$AA$56,'5월'!$L$26:$L$56,$L26)+SUMIFS('6월'!$AA$26:$AA$56,'6월'!$L$26:$L$56,$L26)>3120,1,IF($A26=\"\",\"\",IF(OR($E26=\"일\",$F26<>\"\"),1,0)*IF(S26+T26<>0,1,0)))","v":0},{"$f":"IFERROR(VLOOKUP($A26&1,'설정_In-Put'!$B:$L,11,0)*24,\"\")","v":""},null,null,{"$f":"SUM(S26,X26)*60+T26","v":0},{"$f":"S26*60+T26","v":0},{"$f":"U26*60+V26","v":0}]
[{"$f":"A26+1","v":"2018-06-02"},1,1,2,"토",{"$f":"IFERROR(VLOOKUP($A27,'관리자 Setting'!$K$6:$M$36,3,0),\"\")","v":""},null,null,{"$f":"IFERROR(IF(OR(E27=\"토\",E27=\"일\",F27<>\"\"),\"\",VLOOKUP(A27&0,'설정_In-Put'!$A:$L,6,0)),\"\")","v":""},null,1,22,{"$f":"IFERROR(VLOOKUP($A27,계획서_2분기!$A:$X,13,0),\"\")","v":0},0,{"$f":"IFERROR(VLOOKUP($A27,계획서_2분기!$A:$X,15,0),\"\")","v":0},0,{"$f":"INT(SUMIFS('설정_In-Put'!$K:$K,'설정_In-Put'!$C:$C,$A27)*24)","v":0},{"$f":"ROUND((SUMIFS('설정_In-Put'!$K:$K,'설정_In-Put'!$C:$C,$A27)*24-Q27)*60,0)","v":0},null,null,0,0,{"$f":"IF(SUMIFS('4월'!$AA$26:$AA$56,'4월'!$L$26:$L$56,$L27)+SUMIFS('5월'!$AA$26:$AA$56,'5월'!$L$26:$L$56,$L27)+SUMIFS('6월'!$AA$26:$AA$56,'6월'!$L$26:$L$56,$L27)>3120,1,IF($A27=\"\",\"\",IF(OR($E27=\"일\",$F27<>\"\"),1,0)*IF(S27+T27<>0,1,0)))","v":0},{"$f":"IFERROR(VLOOKUP($A27&1,'설정_In-Put'!$B:$L,11,0)*24,\"\")","v":""},null,null,{"$f":"SUM(S27,X27)*60+T27","v":0},{"$f":"S27*60+T27","v":0},{"$f":"U27*60+V27","v":0}]
[{"$f":"A27+1","v":"2018-06-03"},0,0,3,"일",{"$f":"IFERROR(VLOOKUP($A28,'관리자 Setting'!$K$6:$M$36,3,0),\"\")","v":""},null,null,{"$f":"IFERROR(IF(OR(E28=\"토\",E28=\"일\",F28<>\"\"),\"\",VLOOKUP(A28&0,'설정_In-Put'!$A:$L,6,0)),\"\")","v":""},null,1,22,{"$f":"IFERROR(VLOOKUP($A28,계획서_2분기!$A:$X,13,0),\"\")","v":0},0,{"$f":"IFERROR(VLOOKUP($A28,계획서_2분기!$A:$X,15,0),\"\")","v":0},0,{"$f":"INT(SUMIFS('설정_In-Put'!$K:$K,'설정_In-Put'!$C:$C,$A28)*24)","v":0},{"$f":"ROUND((SUMIFS('설정_In-Put'!$K:$K,'설정_In-Put'!$C:$C,$A28)*24-Q28)*60,0)","v":0},null,null,0,0,{"$f":"IF(SUMIFS('4월'!$AA$26:$AA$56,'4월'!$L$26:$L$56,$L28)+SUMIFS('5월'!$AA$26:$AA$56,'5월'!$L$26:$L$56,$L28)+SUMIFS('6월'!$AA$26:$AA$56,'6월'!$L$26:$L$56,$L28)>3120,1,IF($A28=\"\",\"\",IF(OR($E28=\"일\",$F28<>\"\"),1,0)*IF(S28+T28<>0,1,0)))","v":0},{"$f":"IFERROR(VLOOKUP($A28&1,'설정_In-Put'!$B:$L,11,0)*24,\"\")","v":""},null,null,0,0,0]
["2018-06-04",1,1,4,"월",{"$f":"IFERROR(VLOOKUP($A29,'관리자 Setting'!$K$6:$M$36,3,0),\"\")","v":""},null,null,{"$f":"IFERROR(IF(OR(E29=\"토\",E29=\"일\",F29<>\"\"),\"\",VLOOKUP(A29&0,'설정_In-Put'!$A:$L,6,0)),\"\")","v":""},null,2,23,{"$f":"IFERROR(VLOOKUP($A29,계획서_2분기!$A:$X,13,0),\"\")","v":0},0,{"$f":"IFERROR(VLOOKUP($A29,계획서_2분기!$A:$X,15,0),\"\")","v":0},0,{"$f":"INT(SUMIFS('설정_In-Put'!$K:$K,'설정_In-Put'!$C:$C,$A29)*24)","v":0},{"$f":"ROUND((SUMIFS('설정_In-Put'!$K:$K,'설정_In-Put'!$C:$C,$A29)*24-Q29)*60,0)","v":0},null,null,0,0,{"$f":"IF(SUMIFS('4월'!$AA$26:$AA$56,'4월'!$L$26:$L$56,$L29)+SUMIFS('5월'!$AA$26:$AA$56,'5월'!$L$26:$L$56,$L29)+SUMIFS('6월'!$AA$26:$AA$56,'6월'!$L$26:$L$56,$L29)>3120,1,IF($A29=\"\",\"\",IF(OR($E29=\"일\",$F29<>\"\"),1,0)*IF(S29+T29<>0,1,0)))","v":0},{"$f":"IFERROR(VLOOKUP($A29&1,'설정_In-Put'!$B:$L,11,0)*24,\"\")","v":""},null,null,0,0,0]
["2018-06-05",1,1,5,"화",{"$f":"IFERROR(VLOOKUP($A30,'관리자 Setting'!$K$6:$M$36,3,0),\"\")","v":""},null,null,{"$f":"IFERROR(IF(OR(E30=\"토\",E30=\"일\",F30<>\"\"),\"\",VLOOKUP(A30&0,'설정_In-Put'!$A:$L,6,0)),\"\")","v":""},null,2,23,{"$f":"IFERROR(VLOOKUP($A30,계획서_2분기!$A:$X,13,0),\"\")","v":0},0,{"$f":"IFERROR(VLOOKUP($A30,계획서_2분기!$A:$X,15,0),\"\")","v":0},0,{"$f":"INT(SUMIFS('설정_In-Put'!$K:$K,'설정_In-Put'!$C:$C,$A30)*24)","v":0},{"$f":"ROUND((SUMIFS('설정_In-Put'!$K:$K,'설정_In-Put'!$C:$C,$A30)*24-Q30)*60,0)","v":0},null,null,0,0,{"$f":"IF(SUMIFS('4월'!$AA$26:$AA$56,'4월'!$L$26:$L$56,$L30)+SUMIFS('5월'!$AA$26:$AA$56,'5월'!$L$26:$L$56,$L30)+SUMIFS('6월'!$AA$26:$AA$56,'6월'!$L$26:$L$56,$L30)>3120,1,IF($A30=\"\",\"\",IF(OR($E30=\"일\",$F30<>\"\"),1,0)*IF(S30+T30<>0,1,0)))","v":0},{"$f":"IFERROR(VLOOKUP($A30&1,'설정_In-Put'!$B:$L,11,0)*24,\"\")","v":""},null,null,0,0,0]
["2018-06-06",0,0,6,"수",{"$f":"IFERROR(VLOOKUP($A31,'관리자 Setting'!$K$6:$M$36,3,0),\"\")","v":"현충일"},null,null,{"$f":"IFERROR(IF(OR(E31=\"토\",E31=\"일\",F31<>\"\"),\"\",VLOOKUP(A31&0,'설정_In-Put'!$A:$L,6,0)),\"\")","v":""},null,2,23,{"$f":"IFERROR(VLOOKUP($A31,계획서_2분기!$A:$X,13,0),\"\")","v":0},0,{"$f":"IFERROR(VLOOKUP($A31,계획서_2분기!$A:$X,15,0),\"\")","v":0},0,{"$f":"INT(SUMIFS('설정_In-Put'!$K:$K,'설정_In-Put'!$C:$C,$A31)*24)","v":0},{"$f":"ROUND((SUMIFS('설정_In-Put'!$K:$K,'설정_In-Put'!$C:$C,$A31)*24-Q31)*60,0)","v":0},null,null,0,0,{"$f":"IF(SUMIFS('4월'!$AA$26:$AA$56,'4월'!$L$26:$L$56,$L31)+SUMIFS('5월'!$AA$26:$AA$56,'5월'!$L$26:$L$56,$L31)+SUMIFS('6월'!$AA$26:$AA$56,'6월'!$L$26:$L$56,$L31)>3120,1,IF($A31=\"\",\"\",IF(OR($E31=\"일\",$F31<>\"\"),1,0)*IF(S31+T31<>0,1,0)))","v":0},{"$f":"IFERROR(VLOOKUP($A31&1,'설정_In-Put'!$B:$L,11,0)*24,\"\")","v":""},null,null,0,0,0]
["2018-06-07",1,1,7,"목",{"$f":"IFERROR(VLOOKUP($A32,'관리자 Setting'!$K$6:$M$36,3,0),\"\")","v":""},null,null,{"$f":"IFERROR(IF(OR(E32=\"토\",E32=\"일\",F32<>\"\"),\"\",VLOOKUP(A32&0,'설정_In-Put'!$A:$L,6,0)),\"\")","v":""},null,2,23,{"$f":"IFERROR(VLOOKUP($A32,계획서_2분기!$A:$X,13,0),\"\")","v":0},0,{"$f":"IFERROR(VLOOKUP($A32,계획서_2분기!$A:$X,15,0),\"\")","v":0},0,{"$f":"INT(SUMIFS('설정_In-Put'!$K:$K,'설정_In-Put'!$C:$C,$A32)*24)","v":0},{"$f":"ROUND((SUMIFS('설정_In-Put'!$K:$K,'설정_In-Put'!$C:$C,$A32)*24-Q32)*60,0)","v":0},null,null,0,0,{"$f":"IF(SUMIFS('4월'!$AA$26:$AA$56,'4월'!$L$26:$L$56,$L32)+SUMIFS('5월'!$AA$26:$AA$56,'5월'!$L$26:$L$56,$L32)+SUMIFS('6월'!$AA$26:$AA$56,'6월'!$L$26:$L$56,$L32)>3120,1,IF($A32=\"\",\"\",IF(OR($E32=\"일\",$F32<>\"\"),1,0)*IF(S32+T32<>0,1,0)))","v":0},{"$f":"IFERROR(VLOOKUP($A32&1,'설정_In-Put'!$B:$L,11,0)*24,\"\")","v":""},null,null,0,0,0]
["2018-06-08",1,1,8,"금",{"$f":"IFERROR(VLOOKUP($A33,'관리자 Setting'!$K$6:$M$36,3,0),\"\")","v":""},null,null,{"$f":"IFERROR(IF(OR(E33=\"토\",E33=\"일\",F33<>\"\"),\"\",VLOOKUP(A33&0,'설정_In-Put'!$A:$L,6,0)),\"\")","v":""},null,2,23,{"$f":"IFERROR(VLOOKUP($A33,계획서_2분기!$A:$X,13,0),\"\")","v":0},0,{"$f":"IFERROR(VLOOKUP($A33,계획서_2분기!$A:$X,15,0),\"\")","v":0},0,{"$f":"INT(SUMIFS('설정_In-Put'!$K:$K,'설정_In-Put'!$C:$C,$A33)*24)","v":0},{"$f":"ROUND((SUMIFS('설정_In-Put'!$K:$K,'설정_In-Put'!$C:$C,$A33)*24-Q33)*60,0)","v":0},null,null,0,0,{"$f":"IF(SUMIFS('4월'!$AA$26:$AA$56,'4월'!$L$26:$L$56,$L33)+SUMIFS('5월'!$AA$26:$AA$56,'5월'!$L$26:$L$56,$L33)+SUMIFS('6월'!$AA$26:$AA$56,'6월'!$L$26:$L$56,$L33)>3120,1,IF($A33=\"\",\"\",IF(OR($E33=\"일\",$F33<>\"\"),1,0)*IF(S33+T33<>0,1,0)))","v":0},{"$f":"IFERROR(VLOOKUP($A33&1,'설정_In-Put'!$B:$L,11,0)*24,\"\")","v":""},null,null,0,0,0]
["2018-06-09",1,1,9,"토",{"$f":"IFERROR(VLOOKUP($A34,'관리자 Setting'!$K$6:$M$36,3,0),\"\")","v":""},null,null,{"$f":"IFERROR(IF(OR(E34=\"토\",E34=\"일\",F34<>\"\"),\"\",VLOOKUP(A34&0,'설정_In-Put'!$A:$L,6,0)),\"\")","v":""},null,2,23,{"$f":"IFERROR(VLOOKUP($A34,계획서_2분기!$A:$X,13,0),\"\")","v":0},0,{"$f":"IFERROR(VLOOKUP($A34,계획서_2분기!$A:$X,15,0),\"\")","v":0},0,{"$f":"INT(SUMIFS('설정_In-Put'!$K:$K,'설정_In-Put'!$C:$C,$A34)*24)","v":0},{"$f":"ROUND((SUMIFS('설정_In-Put'!$K:$K,'설정_In-Put'!$C:$C,$A34)*24-Q34)*60,0)","v":0},null,null,0,0,{"$f":"IF(SUMIFS('4월'!$AA$26:$AA$56,'4월'!$L$26:$L$56,$L34)+SUMIFS('5월'!$AA$26:$AA$56,'5월'!$L$26:$L$56,$L34)+SUMIFS('6월'!$AA$26:$AA$56,'6월'!$L$26:$L$56,$L34)>3120,1,IF($A34=\"\",\"\",IF(OR($E34=\"일\",$F34<>\"\"),1,0)*IF(S34+T34<>0,1,0)))","v":0},{"$f":"IFERROR(VLOOKUP($A34&1,'설정_In-Put'!$B:$L,11,0)*24,\"\")","v":""},null,null,0,0,0]
["2018-06-10",0,0,10,"일",{"$f":"IFERROR(VLOOKUP($A35,'관리자 Setting'!$K$6:$M$36,3,0),\"\")","v":""},null,null,{"$f":"IFERROR(IF(OR(E35=\"토\",E35=\"일\",F35<>\"\"),\"\",VLOOKUP(A35&0,'설정_In-Put'!$A:$L,6,0)),\"\")","v":""},null,2,23,{"$f":"IFERROR(VLOOKUP($A35,계획서_2분기!$A:$X,13,0),\"\")","v":0},0,{"$f":"IFERROR(VLOOKUP($A35,계획서_2분기!$A:$X,15,0),\"\")","v":0},0,{"$f":"INT(SUMIFS('설정_In-Put'!$K:$K,'설정_In-Put'!$C:$C,$A35)*24)","v":0},{"$f":"ROUND((SUMIFS('설정_In-Put'!$K:$K,'설정_In-Put'!$C:$C,$A35)*24-Q35)*60,0)","v":0},null,null,0,0,{"$f":"IF(SUMIFS('4월'!$AA$26:$AA$56,'4월'!$L$26:$L$56,$L35)+SUMIFS('5월'!$AA$26:$AA$56,'5월'!$L$26:$L$56,$L35)+SUMIFS('6월'!$AA$26:$AA$56,'6월'!$L$26:$L$56,$L35)>3120,1,IF($A35=\"\",\"\",IF(OR($E35=\"일\",$F35<>\"\"),1,0)*IF(S35+T35<>0,1,0)))","v":0},{"$f":"IFERROR(VLOOKUP($A35&1,'설정_In-Put'!$B:$L,11,0)*24,\"\")","v":""},null,null,0,0,0]
["2018-06-11",1,1,11,"월",{"$f":"IFERROR(VLOOKUP($A36,'관리자 Setting'!$K$6:$M$36,3,0),\"\")","v":""},null,null,{"$f":"IFERROR(IF(OR(E36=\"토\",E36=\"일\",F36<>\"\"),\"\",VLOOKUP(A36&0,'설정_In-Put'!$A:$L,6,0)),\"\")","v":""},null,3,24,{"$f":"IFERROR(VLOOKUP($A36,계획서_2분기!$A:$X,13,0),\"\")","v":0},0,{"$f":"IFERROR(VLOOKUP($A36,계획서_2분기!$A:$X,15,0),\"\")","v":0},0,{"$f":"INT(SUMIFS('설정_In-Put'!$K:$K,'설정_In-Put'!$C:$C,$A36)*24)","v":0},{"$f":"ROUND((SUMIFS('설정_In-Put'!$K:$K,'설정_In-Put'!$C:$C,$A36)*24-Q36)*60,0)","v":0},null,null,0,0,{"$f":"IF(SUMIFS('4월'!$AA$26:$AA$56,'4월'!$L$26:$L$56,$L36)+SUMIFS('5월'!$AA$26:$AA$56,'5월'!$L$26:$L$56,$L36)+SUMIFS('6월'!$AA$26:$AA$56,'6월'!$L$26:$L$56,$L36)>3120,1,IF($A36=\"\",\"\",IF(OR($E36=\"일\",$F36<>\"\"),1,0)*IF(S36+T36<>0,1,0)))","v":0},{"$f":"IFERROR(VLOOKUP($A36&1,'설정_In-Put'!$B:$L,11,0)*24,\"\")","v":""},null,null,0,0,0]
["2018-06-12",1,1,12,"화",{"$f":"IFERROR(VLOOKUP($A37,'관리자 Setting'!$K$6:$M$36,3,0),\"\")","v":""},null,null,{"$f":"IFERROR(IF(OR(E37=\"토\",E37=\"일\",F37<>\"\"),\"\",VLOOKUP(A37&0,'설정_In-Put'!$A:$L,6,0)),\"\")","v":""},null,3,24,{"$f":"IFERROR(VLOOKUP($A37,계획서_2분기!$A:$X,13,0),\"\")","v":0},0,{"$f":"IFERROR(VLOOKUP($A37,계획서_2분기!$A:$X,15,0),\"\")","v":0},0,{"$f":"INT(SUMIFS('설정_In-Put'!$K:$K,'설정_In-Put'!$C:$C,$A37)*24)","v":0},{"$f":"ROUND((SUMIFS('설정_In-Put'!$K:$K,'설정_In-Put'!$C:$C,$A37)*24-Q37)*60,0)","v":0},null,null,0,0,{"$f":"IF(SUMIFS('4월'!$AA$26:$AA$56,'4월'!$L$26:$L$56,$L37)+SUMIFS('5월'!$AA$26:$AA$56,'5월'!$L$26:$L$56,$L37)+SUMIFS('6월'!$AA$26:$AA$56,'6월'!$L$26:$L$56,$L37)>3120,1,IF($A37=\"\",\"\",IF(OR($E37=\"일\",$F37<>\"\"),1,0)*IF(S37+T37<>0,1,0)))","v":0},{"$f":"IFERROR(VLOOKUP($A37&1,'설정_In-Put'!$B:$L,11,0)*24,\"\")","v":""},null,null,0,0,0]
["2018-06-13",0,0,13,"수",{"$f":"IFERROR(VLOOKUP($A38,'관리자 Setting'!$K$6:$M$36,3,0),\"\")","v":"지방선거"},null,null,{"$f":"IFERROR(IF(OR(E38=\"토\",E38=\"일\",F38<>\"\"),\"\",VLOOKUP(A38&0,'설정_In-Put'!$A:$L,6,0)),\"\")","v":""},null,3,24,{"$f":"IFERROR(VLOOKUP($A38,계획서_2분기!$A:$X,13,0),\"\")","v":0},0,{"$f":"IFERROR(VLOOKUP($A38,계획서_2분기!$A:$X,15,0),\"\")","v":0},0,{"$f":"INT(SUMIFS('설정_In-Put'!$K:$K,'설정_In-Put'!$C:$C,$A38)*24)","v":0},{"$f":"ROUND((SUMIFS('설정_In-Put'!$K:$K,'설정_In-Put'!$C:$C,$A38)*24-Q38)*60,0)","v":0},null,null,0,0,{"$f":"IF(SUMIFS('4월'!$AA$26:$AA$56,'4월'!$L$26:$L$56,$L38)+SUMIFS('5월'!$AA$26:$AA$56,'5월'!$L$26:$L$56,$L38)+SUMIFS('6월'!$AA$26:$AA$56,'6월'!$L$26:$L$56,$L38)>3120,1,IF($A38=\"\",\"\",IF(OR($E38=\"일\",$F38<>\"\"),1,0)*IF(S38+T38<>0,1,0)))","v":0},{"$f":"IFERROR(VLOOKUP($A38&1,'설정_In-Put'!$B:$L,11,0)*24,\"\")","v":""},null,null,0,0,0]
["2018-06-14",1,1,14,"목",{"$f":"IFERROR(VLOOKUP($A39,'관리자 Setting'!$K$6:$M$36,3,0),\"\")","v":""},null,null,{"$f":"IFERROR(IF(OR(E39=\"토\",E39=\"일\",F39<>\"\"),\"\",VLOOKUP(A39&0,'설정_In-Put'!$A:$L,6,0)),\"\")","v":""},null,3,24,{"$f":"IFERROR(VLOOKUP($A39,계획서_2분기!$A:$X,13,0),\"\")","v":0},0,{"$f":"IFERROR(VLOOKUP($A39,계획서_2분기!$A:$X,15,0),\"\")","v":0},0,{"$f":"INT(SUMIFS('설정_In-Put'!$K:$K,'설정_In-Put'!$C:$C,$A39)*24)","v":0},{"$f":"ROUND((SUMIFS('설정_In-Put'!$K:$K,'설정_In-Put'!$C:$C,$A39)*24-Q39)*60,0)","v":0},null,null,0,0,{"$f":"IF(SUMIFS('4월'!$AA$26:$AA$56,'4월'!$L$26:$L$56,$L39)+SUMIFS('5월'!$AA$26:$AA$56,'5월'!$L$26:$L$56,$L39)+SUMIFS('6월'!$AA$26:$AA$56,'6월'!$L$26:$L$56,$L39)>3120,1,IF($A39=\"\",\"\",IF(OR($E39=\"일\",$F39<>\"\"),1,0)*IF(S39+T39<>0,1,0)))","v":0},{"$f":"IFERROR(VLOOKUP($A39&1,'설정_In-Put'!$B:$L,11,0)*24,\"\")","v":""},null,null,0,0,0]
["2018-06-15",1,1,15,"금",{"$f":"IFERROR(VLOOKUP($A40,'관리자 Setting'!$K$6:$M$36,3,0),\"\")","v":""},null,null,{"$f":"IFERROR(IF(OR(E40=\"토\",E40=\"일\",F40<>\"\"),\"\",VLOOKUP(A40&0,'설정_In-Put'!$A:$L,6,0)),\"\")","v":""},null,3,24,{"$f":"IFERROR(VLOOKUP($A40,계획서_2분기!$A:$X,13,0),\"\")","v":0},0,{"$f":"IFERROR(VLOOKUP($A40,계획서_2분기!$A:$X,15,0),\"\")","v":0},0,{"$f":"INT(SUMIFS('설정_In-Put'!$K:$K,'설정_In-Put'!$C:$C,$A40)*24)","v":0},{"$f":"ROUND((SUMIFS('설정_In-Put'!$K:$K,'설정_In-Put'!$C:$C,$A40)*24-Q40)*60,0)","v":0},null,null,0,0,{"$f":"IF(SUMIFS('4월'!$AA$26:$AA$56,'4월'!$L$26:$L$56,$L40)+SUMIFS('5월'!$AA$26:$AA$56,'5월'!$L$26:$L$56,$L40)+SUMIFS('6월'!$AA$26:$AA$56,'6월'!$L$26:$L$56,$L40)>3120,1,IF($A40=\"\",\"\",IF(OR($E40=\"일\",$F40<>\"\"),1,0)*IF(S40+T40<>0,1,0)))","v":0},{"$f":"IFERROR(VLOOKUP($A40&1,'설정_In-Put'!$B:$L,11,0)*24,\"\")","v":""},null,null,0,0,0]
["2018-06-16",1,1,16,"토",{"$f":"IFERROR(VLOOKUP($A41,'관리자 Setting'!$K$6:$M$36,3,0),\"\")","v":""},null,null,{"$f":"IFERROR(IF(OR(E41=\"토\",E41=\"일\",F41<>\"\"),\"\",VLOOKUP(A41&0,'설정_In-Put'!$A:$L,6,0)),\"\")","v":""},null,3,24,{"$f":"IFERROR(VLOOKUP($A41,계획서_2분기!$A:$X,13,0),\"\")","v":0},0,{"$f":"IFERROR(VLOOKUP($A41,계획서_2분기!$A:$X,15,0),\"\")","v":0},0,{"$f":"INT(SUMIFS('설정_In-Put'!$K:$K,'설정_In-Put'!$C:$C,$A41)*24)","v":0},{"$f":"ROUND((SUMIFS('설정_In-Put'!$K:$K,'설정_In-Put'!$C:$C,$A41)*24-Q41)*60,0)","v":0},null,null,0,0,{"$f":"IF(SUMIFS('4월'!$AA$26:$AA$56,'4월'!$L$26:$L$56,$L41)+SUMIFS('5월'!$AA$26:$AA$56,'5월'!$L$26:$L$56,$L41)+SUMIFS('6월'!$AA$26:$AA$56,'6월'!$L$26:$L$56,$L41)>3120,1,IF($A41=\"\",\"\",IF(OR($E41=\"일\",$F41<>\"\"),1,0)*IF(S41+T41<>0,1,0)))","v":0},{"$f":"IFERROR(VLOOKUP($A41&1,'설정_In-Put'!$B:$L,11,0)*24,\"\")","v":""},null,null,0,0,0]
["2018-06-17",0,0,17,"일",{"$f":"IFERROR(VLOOKUP($A42,'관리자 Setting'!$K$6:$M$36,3,0),\"\")","v":""},null,null,{"$f":"IFERROR(IF(OR(E42=\"토\",E42=\"일\",F42<>\"\"),\"\",VLOOKUP(A42&0,'설정_In-Put'!$A:$L,6,0)),\"\")","v":""},null,3,24,{"$f":"IFERROR(VLOOKUP($A42,계획서_2분기!$A:$X,13,0),\"\")","v":0},0,{"$f":"IFERROR(VLOOKUP($A42,계획서_2분기!$A:$X,15,0),\"\")","v":0},0,{"$f":"INT(SUMIFS('설정_In-Put'!$K:$K,'설정_In-Put'!$C:$C,$A42)*24)","v":0},{"$f":"ROUND((SUMIFS('설정_In-Put'!$K:$K,'설정_In-Put'!$C:$C,$A42)*24-Q42)*60,0)","v":0},null,null,0,0,{"$f":"IF(SUMIFS('4월'!$AA$26:$AA$56,'4월'!$L$26:$L$56,$L42)+SUMIFS('5월'!$AA$26:$AA$56,'5월'!$L$26:$L$56,$L42)+SUMIFS('6월'!$AA$26:$AA$56,'6월'!$L$26:$L$56,$L42)>3120,1,IF($A42=\"\",\"\",IF(OR($E42=\"일\",$F42<>\"\"),1,0)*IF(S42+T42<>0,1,0)))","v":0},{"$f":"IFERROR(VLOOKUP($A42&1,'설정_In-Put'!$B:$L,11,0)*24,\"\")","v":""},null,null,0,0,0]
["2018-06-18",1,1,18,"월",{"$f":"IFERROR(VLOOKUP($A43,'관리자 Setting'!$K$6:$M$36,3,0),\"\")","v":""},null,null,{"$f":"IFERROR(IF(OR(E43=\"토\",E43=\"일\",F43<>\"\"),\"\",VLOOKUP(A43&0,'설정_In-Put'!$A:$L,6,0)),\"\")","v":""},null,4,25,{"$f":"IFERROR(VLOOKUP($A43,계획서_2분기!$A:$X,13,0),\"\")","v":0},0,{"$f":"IFERROR(VLOOKUP($A43,계획서_2분기!$A:$X,15,0),\"\")","v":0},0,{"$f":"INT(SUMIFS('설정_In-Put'!$K:$K,'설정_In-Put'!$C:$C,$A43)*24)","v":0},{"$f":"ROUND((SUMIFS('설정_In-Put'!$K:$K,'설정_In-Put'!$C:$C,$A43)*24-Q43)*60,0)","v":0},null,null,0,0,{"$f":"IF(SUMIFS('4월'!$AA$26:$AA$56,'4월'!$L$26:$L$56,$L43)+SUMIFS('5월'!$AA$26:$AA$56,'5월'!$L$26:$L$56,$L43)+SUMIFS('6월'!$AA$26:$AA$56,'6월'!$L$26:$L$56,$L43)>3120,1,IF($A43=\"\",\"\",IF(OR($E43=\"일\",$F43<>\"\"),1,0)*IF(S43+T43<>0,1,0)))","v":0},{"$f":"IFERROR(VLOOKUP($A43&1,'설정_In-Put'!$B:$L,11,0)*24,\"\")","v":""},null,null,0,0,0]
["2018-06-19",1,1,19,"화",{"$f":"IFERROR(VLOOKUP($A44,'관리자 Setting'!$K$6:$M$36,3,0),\"\")","v":""},null,null,{"$f":"IFERROR(IF(OR(E44=\"토\",E44=\"일\",F44<>\"\"),\"\",VLOOKUP(A44&0,'설정_In-Put'!$A:$L,6,0)),\"\")","v":""},null,4,25,{"$f":"IFERROR(VLOOKUP($A44,계획서_2분기!$A:$X,13,0),\"\")","v":0},0,{"$f":"IFERROR(VLOOKUP($A44,계획서_2분기!$A:$X,15,0),\"\")","v":0},0,{"$f":"INT(SUMIFS('설정_In-Put'!$K:$K,'설정_In-Put'!$C:$C,$A44)*24)","v":0},{"$f":"ROUND((SUMIFS('설정_In-Put'!$K:$K,'설정_In-Put'!$C:$C,$A44)*24-Q44)*60,0)","v":0},null,null,0,0,{"$f":"IF(SUMIFS('4월'!$AA$26:$AA$56,'4월'!$L$26:$L$56,$L44)+SUMIFS('5월'!$AA$26:$AA$56,'5월'!$L$26:$L$56,$L44)+SUMIFS('6월'!$AA$26:$AA$56,'6월'!$L$26:$L$56,$L44)>3120,1,IF($A44=\"\",\"\",IF(OR($E44=\"일\",$F44<>\"\"),1,0)*IF(S44+T44<>0,1,0)))","v":0},{"$f":"IFERROR(VLOOKUP($A44&1,'설정_In-Put'!$B:$L,11,0)*24,\"\")","v":""},null,null,0,0,0]
["2018-06-20",1,1,20,"수",{"$f":"IFERROR(VLOOKUP($A45,'관리자 Setting'!$K$6:$M$36,3,0),\"\")","v":""},null,null,{"$f":"IFERROR(IF(OR(E45=\"토\",E45=\"일\",F45<>\"\"),\"\",VLOOKUP(A45&0,'설정_In-Put'!$A:$L,6,0)),\"\")","v":""},null,4,25,{"$f":"IFERROR(VLOOKUP($A45,계획서_2분기!$A:$X,13,0),\"\")","v":0},0,{"$f":"IFERROR(VLOOKUP($A45,계획서_2분기!$A:$X,15,0),\"\")","v":0},0,{"$f":"INT(SUMIFS('설정_In-Put'!$K:$K,'설정_In-Put'!$C:$C,$A45)*24)","v":0},{"$f":"ROUND((SUMIFS('설정_In-Put'!$K:$K,'설정_In-Put'!$C:$C,$A45)*24-Q45)*60,0)","v":0},null,null,0,0,{"$f":"IF(SUMIFS('4월'!$AA$26:$AA$56,'4월'!$L$26:$L$56,$L45)+SUMIFS('5월'!$AA$26:$AA$56,'5월'!$L$26:$L$56,$L45)+SUMIFS('6월'!$AA$26:$AA$56,'6월'!$L$26:$L$56,$L45)>3120,1,IF($A45=\"\",\"\",IF(OR($E45=\"일\",$F45<>\"\"),1,0)*IF(S45+T45<>0,1,0)))","v":0},{"$f":"IFERROR(VLOOKUP($A45&1,'설정_In-Put'!$B:$L,11,0)*24,\"\")","v":""},null,null,0,0,0]
["2018-06-21",1,1,21,"목",{"$f":"IFERROR(VLOOKUP($A46,'관리자 Setting'!$K$6:$M$36,3,0),\"\")","v":""},null,null,{"$f":"IFERROR(IF(OR(E46=\"토\",E46=\"일\",F46<>\"\"),\"\",VLOOKUP(A46&0,'설정_In-Put'!$A:$L,6,0)),\"\")","v":""},null,4,25,{"$f":"IFERROR(VLOOKUP($A46,계획서_2분기!$A:$X,13,0),\"\")","v":0},0,{"$f":"IFERROR(VLOOKUP($A46,계획서_2분기!$A:$X,15,0),\"\")","v":0},0,{"$f":"INT(SUMIFS('설정_In-Put'!$K:$K,'설정_In-Put'!$C:$C,$A46)*24)","v":0},{"$f":"ROUND((SUMIFS('설정_In-Put'!$K:$K,'설정_In-Put'!$C:$C,$A46)*24-Q46)*60,0)","v":0},null,null,0,0,{"$f":"IF(SUMIFS('4월'!$AA$26:$AA$56,'4월'!$L$26:$L$56,$L46)+SUMIFS('5월'!$AA$26:$AA$56,'5월'!$L$26:$L$56,$L46)+SUMIFS('6월'!$AA$26:$AA$56,'6월'!$L$26:$L$56,$L46)>3120,1,IF($A46=\"\",\"\",IF(OR($E46=\"일\",$F46<>\"\"),1,0)*IF(S46+T46<>0,1,0)))","v":0},{"$f":"IFERROR(VLOOKUP($A46&1,'설정_In-Put'!$B:$L,11,0)*24,\"\")","v":""},null,null,0,0,0]
["2018-06-22",1,1,22,"금",{"$f":"IFERROR(VLOOKUP($A47,'관리자 Setting'!$K$6:$M$36,3,0),\"\")","v":""},null,null,{"$f":"IFERROR(IF(OR(E47=\"토\",E47=\"일\",F47<>\"\"),\"\",VLOOKUP(A47&0,'설정_In-Put'!$A:$L,6,0)),\"\")","v":""},null,4,25,{"$f":"IFERROR(VLOOKUP($A47,계획서_2분기!$A:$X,13,0),\"\")","v":0},0,{"$f":"IFERROR(VLOOKUP($A47,계획서_2분기!$A:$X,15,0),\"\")","v":0},0,{"$f":"INT(SUMIFS('설정_In-Put'!$K:$K,'설정_In-Put'!$C:$C,$A47)*24)","v":0},{"$f":"ROUND((SUMIFS('설정_In-Put'!$K:$K,'설정_In-Put'!$C:$C,$A47)*24-Q47)*60,0)","v":0},null,null,0,0,{"$f":"IF(SUMIFS('4월'!$AA$26:$AA$56,'4월'!$L$26:$L$56,$L47)+SUMIFS('5월'!$AA$26:$AA$56,'5월'!$L$26:$L$56,$L47)+SUMIFS('6월'!$AA$26:$AA$56,'6월'!$L$26:$L$56,$L47)>3120,1,IF($A47=\"\",\"\",IF(OR($E47=\"일\",$F47<>\"\"),1,0)*IF(S47+T47<>0,1,0)))","v":0},{"$f":"IFERROR(VLOOKUP($A47&1,'설정_In-Put'!$B:$L,11,0)*24,\"\")","v":""},null,null,0,0,0]
["2018-06-23",1,1,23,"토",{"$f":"IFERROR(VLOOKUP($A48,'관리자 Setting'!$K$6:$M$36,3,0),\"\")","v":""},null,null,{"$f":"IFERROR(IF(OR(E48=\"토\",E48=\"일\",F48<>\"\"),\"\",VLOOKUP(A48&0,'설정_In-Put'!$A:$L,6,0)),\"\")","v":""},null,4,25,{"$f":"IFERROR(VLOOKUP($A48,계획서_2분기!$A:$X,13,0),\"\")","v":0},0,{"$f":"IFERROR(VLOOKUP($A48,계획서_2분기!$A:$X,15,0),\"\")","v":0},0,{"$f":"INT(SUMIFS('설정_In-Put'!$K:$K,'설정_In-Put'!$C:$C,$A48)*24)","v":0},{"$f":"ROUND((SUMIFS('설정_In-Put'!$K:$K,'설정_In-Put'!$C:$C,$A48)*24-Q48)*60,0)","v":0},null,null,0,0,{"$f":"IF(SUMIFS('4월'!$AA$26:$AA$56,'4월'!$L$26:$L$56,$L48)+SUMIFS('5월'!$AA$26:$AA$56,'5월'!$L$26:$L$56,$L48)+SUMIFS('6월'!$AA$26:$AA$56,'6월'!$L$26:$L$56,$L48)>3120,1,IF($A48=\"\",\"\",IF(OR($E48=\"일\",$F48<>\"\"),1,0)*IF(S48+T48<>0,1,0)))","v":0},{"$f":"IFERROR(VLOOKUP($A48&1,'설정_In-Put'!$B:$L,11,0)*24,\"\")","v":""},null,null,0,0,0]
["2018-06-24",0,0,24,"일",{"$f":"IFERROR(VLOOKUP($A49,'관리자 Setting'!$K$6:$M$36,3,0),\"\")","v":""},null,null,{"$f":"IFERROR(IF(OR(E49=\"토\",E49=\"일\",F49<>\"\"),\"\",VLOOKUP(A49&0,'설정_In-Put'!$A:$L,6,0)),\"\")","v":""},null,4,25,{"$f":"IFERROR(VLOOKUP($A49,계획서_2분기!$A:$X,13,0),\"\")","v":0},0,{"$f":"IFERROR(VLOOKUP($A49,계획서_2분기!$A:$X,15,0),\"\")","v":0},0,{"$f":"INT(SUMIFS('설정_In-Put'!$K:$K,'설정_In-Put'!$C:$C,$A49)*24)","v":0},{"$f":"ROUND((SUMIFS('설정_In-Put'!$K:$K,'설정_In-Put'!$C:$C,$A49)*24-Q49)*60,0)","v":0},null,null,0,0,{"$f":"IF(SUMIFS('4월'!$AA$26:$AA$56,'4월'!$L$26:$L$56,$L49)+SUMIFS('5월'!$AA$26:$AA$56,'5월'!$L$26:$L$56,$L49)+SUMIFS('6월'!$AA$26:$AA$56,'6월'!$L$26:$L$56,$L49)>3120,1,IF($A49=\"\",\"\",IF(OR($E49=\"일\",$F49<>\"\"),1,0)*IF(S49+T49<>0,1,0)))","v":0},{"$f":"IFERROR(VLOOKUP($A49&1,'설정_In-Put'!$B:$L,11,0)*24,\"\")","v":""},null,null,0,0,0]
["2018-06-25",1,1,25,"월",{"$f":"IFERROR(VLOOKUP($A50,'관리자 Setting'!$K$6:$M$36,3,0),\"\")","v":""},null,null,{"$f":"IFERROR(IF(OR(E50=\"토\",E50=\"일\",F50<>\"\"),\"\",VLOOKUP(A50&0,'설정_In-Put'!$A:$L,6,0)),\"\")","v":""},null,5,26,{"$f":"IFERROR(VLOOKUP($A50,계획서_2분기!$A:$X,13,0),\"\")","v":0},0,{"$f":"IFERROR(VLOOKUP($A50,계획서_2분기!$A:$X,15,0),\"\")","v":0},0,{"$f":"INT(SUMIFS('설정_In-Put'!$K:$K,'설정_In-Put'!$C:$C,$A50)*24)","v":0},{"$f":"ROUND((SUMIFS('설정_In-Put'!$K:$K,'설정_In-Put'!$C:$C,$A50)*24-Q50)*60,0)","v":0},null,null,0,0,{"$f":"IF(SUMIFS('4월'!$AA$26:$AA$56,'4월'!$L$26:$L$56,$L50)+SUMIFS('5월'!$AA$26:$AA$56,'5월'!$L$26:$L$56,$L50)+SUMIFS('6월'!$AA$26:$AA$56,'6월'!$L$26:$L$56,$L50)>3120,1,IF($A50=\"\",\"\",IF(OR($E50=\"일\",$F50<>\"\"),1,0)*IF(S50+T50<>0,1,0)))","v":0},{"$f":"IFERROR(VLOOKUP($A50&1,'설정_In-Put'!$B:$L,11,0)*24,\"\")","v":""},null,null,0,0,0]
["2018-06-26",1,1,26,"화",{"$f":"IFERROR(VLOOKUP($A51,'관리자 Setting'!$K$6:$M$36,3,0),\"\")","v":""},null,null,{"$f":"IFERROR(IF(OR(E51=\"토\",E51=\"일\",F51<>\"\"),\"\",VLOOKUP(A51&0,'설정_In-Put'!$A:$L,6,0)),\"\")","v":""},null,5,26,{"$f":"IFERROR(VLOOKUP($A51,계획서_2분기!$A:$X,13,0),\"\")","v":0},0,{"$f":"IFERROR(VLOOKUP($A51,계획서_2분기!$A:$X,15,0),\"\")","v":0},0,{"$f":"INT(SUMIFS('설정_In-Put'!$K:$K,'설정_In-Put'!$C:$C,$A51)*24)","v":0},{"$f":"ROUND((SUMIFS('설정_In-Put'!$K:$K,'설정_In-Put'!$C:$C,$A51)*24-Q51)*60,0)","v":0},null,null,0,0,{"$f":"IF(SUMIFS('4월'!$AA$26:$AA$56,'4월'!$L$26:$L$56,$L51)+SUMIFS('5월'!$AA$26:$AA$56,'5월'!$L$26:$L$56,$L51)+SUMIFS('6월'!$AA$26:$AA$56,'6월'!$L$26:$L$56,$L51)>3120,1,IF($A51=\"\",\"\",IF(OR($E51=\"일\",$F51<>\"\"),1,0)*IF(S51+T51<>0,1,0)))","v":0},{"$f":"IFERROR(VLOOKUP($A51&1,'설정_In-Put'!$B:$L,11,0)*24,\"\")","v":""},null,null,0,0,0]
[{"$f":"IF(A51+1>EOMONTH($A$26,0),\"\",A51+1)","v":"2018-06-27"},1,1,27,"수",{"$f":"IFERROR(VLOOKUP($A52,'관리자 Setting'!$K$6:$M$36,3,0),\"\")","v":""},null,null,{"$f":"IFERROR(IF(OR(E52=\"토\",E52=\"일\",F52<>\"\"),\"\",VLOOKUP(A52&0,'설정_In-Put'!$A:$L,6,0)),\"\")","v":""},null,5,26,{"$f":"IFERROR(VLOOKUP($A52,계획서_2분기!$A:$X,13,0),\"\")","v":0},0,{"$f":"IFERROR(VLOOKUP($A52,계획서_2분기!$A:$X,15,0),\"\")","v":0},0,{"$f":"INT(SUMIFS('설정_In-Put'!$K:$K,'설정_In-Put'!$C:$C,$A52)*24)","v":0},{"$f":"ROUND((SUMIFS('설정_In-Put'!$K:$K,'설정_In-Put'!$C:$C,$A52)*24-Q52)*60,0)","v":0},null,null,0,0,{"$f":"IF(SUMIFS('4월'!$AA$26:$AA$56,'4월'!$L$26:$L$56,$L52)+SUMIFS('5월'!$AA$26:$AA$56,'5월'!$L$26:$L$56,$L52)+SUMIFS('6월'!$AA$26:$AA$56,'6월'!$L$26:$L$56,$L52)>3120,1,IF($A52=\"\",\"\",IF(OR($E52=\"일\",$F52<>\"\"),1,0)*IF(S52+T52<>0,1,0)))","v":0},{"$f":"IFERROR(VLOOKUP($A52&1,'설정_In-Put'!$B:$L,11,0)*24,\"\")","v":""},null,null,0,0,0]
[{"$f":"IFERROR(IF(A52+1>EOMONTH($A$26,0),\"\",A52+1),\"\")","v":"2018-06-28"},1,1,28,"목",{"$f":"IFERROR(VLOOKUP($A53,'관리자 Setting'!$K$6:$M$36,3,0),\"\")","v":""},null,null,{"$f":"IFERROR(IF(OR(E53=\"토\",E53=\"일\",F53<>\"\"),\"\",VLOOKUP(A53&0,'설정_In-Put'!$A:$L,6,0)),\"\")","v":""},null,5,26,{"$f":"IFERROR(VLOOKUP($A53,계획서_2분기!$A:$X,13,0),\"\")","v":0},0,{"$f":"IFERROR(VLOOKUP($A53,계획서_2분기!$A:$X,15,0),\"\")","v":0},0,{"$f":"INT(SUMIFS('설정_In-Put'!$K:$K,'설정_In-Put'!$C:$C,$A53)*24)","v":0},{"$f":"ROUND((SUMIFS('설정_In-Put'!$K:$K,'설정_In-Put'!$C:$C,$A53)*24-Q53)*60,0)","v":0},null,null,0,0,{"$f":"IF(SUMIFS('4월'!$AA$26:$AA$56,'4월'!$L$26:$L$56,$L53)+SUMIFS('5월'!$AA$26:$AA$56,'5월'!$L$26:$L$56,$L53)+SUMIFS('6월'!$AA$26:$AA$56,'6월'!$L$26:$L$56,$L53)>3120,1,IF($A53=\"\",\"\",IF(OR($E53=\"일\",$F53<>\"\"),1,0)*IF(S53+T53<>0,1,0)))","v":0},{"$f":"IFERROR(VLOOKUP($A53&1,'설정_In-Put'!$B:$L,11,0)*24,\"\")","v":""},null,null,0,0,0]
[{"$f":"IFERROR(IF(A53+1>EOMONTH($A$26,0),\"\",A53+1),\"\")","v":"2018-06-29"},1,1,29,"금",{"$f":"IFERROR(VLOOKUP($A54,'관리자 Setting'!$K$6:$M$36,3,0),\"\")","v":""},null,null,{"$f":"IFERROR(IF(OR(E54=\"토\",E54=\"일\",F54<>\"\"),\"\",VLOOKUP(A54&0,'설정_In-Put'!$A:$L,6,0)),\"\")","v":""},null,5,26,{"$f":"IFERROR(VLOOKUP($A54,계획서_2분기!$A:$X,13,0),\"\")","v":0},0,{"$f":"IFERROR(VLOOKUP($A54,계획서_2분기!$A:$X,15,0),\"\")","v":0},0,{"$f":"INT(SUMIFS('설정_In-Put'!$K:$K,'설정_In-Put'!$C:$C,$A54)*24)","v":0},{"$f":"ROUND((SUMIFS('설정_In-Put'!$K:$K,'설정_In-Put'!$C:$C,$A54)*24-Q54)*60,0)","v":0},null,null,0,0,{"$f":"IF(SUMIFS('4월'!$AA$26:$AA$56,'4월'!$L$26:$L$56,$L54)+SUMIFS('5월'!$AA$26:$AA$56,'5월'!$L$26:$L$56,$L54)+SUMIFS('6월'!$AA$26:$AA$56,'6월'!$L$26:$L$56,$L54)>3120,1,IF($A54=\"\",\"\",IF(OR($E54=\"일\",$F54<>\"\"),1,0)*IF(S54+T54<>0,1,0)))","v":0},{"$f":"IFERROR(VLOOKUP($A54&1,'설정_In-Put'!$B:$L,11,0)*24,\"\")","v":""},null,null,0,0,0]
[{"$f":"IFERROR(IF(A54+1>EOMONTH($A$26,0),\"\",A54+1),\"\")","v":"2018-06-30"},1,1,30,"토",{"$f":"IFERROR(VLOOKUP($A55,'관리자 Setting'!$K$6:$M$36,3,0),\"\")","v":""},null,null,{"$f":"IFERROR(IF(OR(E55=\"토\",E55=\"일\",F55<>\"\"),\"\",VLOOKUP(A55&0,'설정_In-Put'!$A:$L,6,0)),\"\")","v":""},null,5,26,{"$f":"IFERROR(VLOOKUP($A55,계획서_2분기!$A:$X,13,0),\"\")","v":0},0,{"$f":"IFERROR(VLOOKUP($A55,계획서_2분기!$A:$X,15,0),\"\")","v":0},0,{"$f":"INT(SUMIFS('설정_In-Put'!$K:$K,'설정_In-Put'!$C:$C,$A55)*24)","v":0},{"$f":"ROUND((SUMIFS('설정_In-Put'!$K:$K,'설정_In-Put'!$C:$C,$A55)*24-Q55)*60,0)","v":0},null,null,0,0,{"$f":"IF(SUMIFS('4월'!$AA$26:$AA$56,'4월'!$L$26:$L$56,$L55)+SUMIFS('5월'!$AA$26:$AA$56,'5월'!$L$26:$L$56,$L55)+SUMIFS('6월'!$AA$26:$AA$56,'6월'!$L$26:$L$56,$L55)>3120,1,IF($A55=\"\",\"\",IF(OR($E55=\"일\",$F55<>\"\"),1,0)*IF(S55+T55<>0,1,0)))","v":0},{"$f":"IFERROR(VLOOKUP($A55&1,'설정_In-Put'!$B:$L,11,0)*24,\"\")","v":""},null,null,0,0,0]
["",1,1,31,"",{"$f":"IFERROR(VLOOKUP($A56,'관리자 Setting'!$K$6:$M$36,3,0),\"\")","v":""},null,null,{"$f":"IFERROR(IF(OR(E56=\"토\",E56=\"일\",F56<>\"\"),\"\",VLOOKUP(A56&0,'설정_In-Put'!$A:$L,6,0)),\"\")","v":""},null,"","",{"$f":"IFERROR(VLOOKUP($A56,계획서_2분기!$A:$X,13,0),\"\")","v":0},0,{"$f":"IFERROR(VLOOKUP($A56,계획서_2분기!$A:$X,15,0),\"\")","v":0},0,{"$f":"INT(SUMIFS('설정_In-Put'!$K:$K,'설정_In-Put'!$C:$C,$A56)*24)","v":0},{"$f":"ROUND((SUMIFS('설정_In-Put'!$K:$K,'설정_In-Put'!$C:$C,$A56)*24-Q56)*60,0)","v":0},null,null,0,0,{"$f":"IF(SUMIFS('4월'!$AA$26:$AA$56,'4월'!$L$26:$L$56,$L56)+SUMIFS('5월'!$AA$26:$AA$56,'5월'!$L$26:$L$56,$L56)+SUMIFS('6월'!$AA$26:$AA$56,'6월'!$L$26:$L$56,$L56)>3120,1,IF($A56=\"\",\"\",IF(OR($E56=\"일\",$F56<>\"\"),1,0)*IF(S56+T56<>0,1,0)))","v":""},{"$f":"IFERROR(VLOOKUP($A56&1,'설정_In-Put'!$B:$L,11,0)*24,\"\")","v":""},null,null,0,0,0]

{"sheet":"계획서_3분기","index":11,"n_rows":107,"n_cols":23,"rows_kept":107,"merged":[[1,3,2,23],[4,3,5,3],[4,4,5,6],[4,7,5,8],[4,9,5,11],[4,12,5,13],[4,14,5,15],[4,16,5,17],[4,18,5,19],[4,20,5,21],[4,22,5,23],[7,3,7,23],[8,3,8,4],[8,5,8,9],[8,10,8,11],[8,12,8,13],[8,14,8,15],[8,16,8,17],[8,19,8,23],[9,3,9,4],[9,5,9,7],[9,8,9,9],[9,10,9,11],[9,12,9,13],[9,14,9,15],[9,16,9,17],[9,19,9,23],[10,3,10,4],[10,5,10,7],[10,8,10,9],[10,10,10,11],[10,12,10,13],[10,14,10,15],[10,16,10,17],[10,19,10,23],[12,3,12,23],[13,3,14,3],[13,4,13,6],[13,7,14,9],[13,10,14,10],[13,11,14,11],[13,12,14,13],[13,14,14,15],[13,16,14,17],[13,18,14,18],[13,19,14,23],[15,7,15,9],[15,12,15,13],[15,14,15,15],[15,16,15,17],[15,19,15,23],[16,7,16,9],[16,12,16,13],[16,14,16,15],[16,16,16,17],[16,19,16,23],[17,7,17,9],[17,12,17,13],[17,14,17,15],[17,16,17,17],[17,19,17,23],[18,7,18,9],[18,12,18,13],[18,14,18,15],[18,16,18,17],[18,19,18,23],[19,7,19,9],[19,12,19,13],[19,14,19,15],[19,16,19,17],[19,19,19,23],[20,7,20,9],[20,12,20,13],[20,14,20,15],[20,16,20,17],[20,19,20,23],[21,7,21,9],[21,12,21,13],[21,14,21,15],[21,16,21,17],[21,19,21,23],[22,7,22,9],[22,12,22,13],[22,14,22,15],[22,16,22,17],[22,19,22,23],[23,7,23,9],[23,12,23,13],[23,14,23,15],[23,16,23,17],[23,19,23,23],[24,7,24,9],[24,12,24,13],[24,14,24,15],[24,16,24,17],[24,19,24,23],[25,7,25,9],[25,12,25,13],[25,14,25,15],[25,16,25,17],[25,19,25,23],[26,7,26,9],[26,12,26,13],[26,14,26,15],[26,16,26,17],[26,19,26,23],[27,7,27,9],[27,12,27,13],[27,14,27,15],[27,16,27,17],[27,19,27,23],[28,7,28,9],[28,12,28,13],[28,14,28,15],[28,16,28,17],[28,19,28,23],[29,7,29,9],[29,12,29,13],[29,14,29,15],[29,16,29,17],[29,19,29,23],[30,7,30,9],[30,12,30,13],[30,14,30,15],[30,16,30,17],[30,19,30,23],[31,7,31,9],[31,12,31,13],[31,14,31,15],[31,16,31,17],[31,19,31,23],[32,7,32,9],[32,12,32,13],[32,14,32,15],[32,16,32,17],[32,19,32,23],[33,7,33,9],[33,12,33,13],[33,14,33,15],[33,16,33,17],[33,19,33,23],[34,7,34,9],[34,12,34,13],[34,14,34,15],[34,16,34,17],[34,19,34,23],[35,7,35,9],[35,12,35,13],[35,14,35,15],[35,16,35,17],[35,19,35,23],[36,7,36,9],[36,12,36,13],[36,14,36,15],[36,16,36,17],[36,19,36,23],[37,7,37,9],[37,12,37,13],[37,14,37,15],[37,16,37,17],[37,19,37,23],[38,7,38,9],[38,12,38,13],[38,14,38,15],[38,16,38,17],[38,19,38,23],[39,7,39,9],[39,12,39,13],[39,14,39,15],[39,16,39,17],[39,19,39,23],[40,7,40,9],[40,12,40,13],[40,14,40,15],[40,16,40,17],[40,19,40,23],[41,7,41,9],[41,12,41,13],[41,14,41,15],[41,16,41,17],[41,19,41,23],[42,7,42,9],[42,12,42,13],[42,14,42,15],[42,16,42,17],[42,19,42,23],[43,7,43,9],[43,12,43,13],[43,14,43,15],[43,16,43,17],[43,19,43,23],[44,7,44,9],[44,12,44,13],[44,14,44,15],[44,16,44,17],[44,19,44,23],[45,7,45,9],[45,12,45,13],[45,14,45,15],[45,16,45,17],[45,19,45,23],[46,7,46,9],[46,12,46,13],[46,14,46,15],[46,16,46,17],[46,19,46,23],[47,7,47,9],[47,12,47,13],[47,14,47,15],[47,16,47,17],[47,19,47,23],[48,7,48,9],[48,12,48,13],[48,14,48,15],[48,16,48,17],[48,19,48,23],[49,7,49,9],[49,12,49,13],[49,14,49,15],[49,16,49,17],[49,19,49,23],[50,7,50,9],[50,12,50,13],[50,14,50,15],[50,16,50,17],[50,19,50,23],[51,7,51,9],[51,12,51,13],[51,14,51,15],[51,16,51,17],[51,19,51,23],[52,7,52,9],[52,12,52,13],[52,14,52,15],[52,16,52,17],[52,19,52,23],[53,7,53,9],[53,12,53,13],[53,14,53,15],[53,16,53,17],[53,19,53,23],[54,7,54,9],[54,12,54,13],[54,14,54,15],[54,16,54,17],[54,19,54,23],[55,7,55,9],[55,12,55,13],[55,14,55,15],[55,16,55,17],[55,19,55,23],[56,7,56,9],[56,12,56,13],[56,14,56,15],[56,16,56,17],[56,19,56,23],[57,7,57,9],[57,12,57,13],[57,14,57,15],[57,16,57,17],[57,19,57,23],[58,7,58,9],[58,12,58,13],[58,14,58,15],[58,16,58,17],[58,19,58,23],[59,7,59,9],[59,12,59,13],[59,14,59,15],[59,16,59,17],[59,19,59,23],[60,7,60,9],[60,12,60,13],[60,14,60,15],[60,16,60,17],[60,19,60,23],[61,7,61,9],[61,12,61,13],[61,14,61,15],[61,16,61,17],[61,19,61,23],[62,7,62,9],[62,12,62,13],[62,14,62,15],[62,16,62,17],[62,19,62,23],[63,7,63,9],[63,12,63,13],[63,14,63,15],[63,16,63,17],[63,19,63,23],[64,7,64,9],[64,12,64,13],[64,14,64,15],[64,16,64,17],[64,19,64,23],[65,7,65,9],[65,12,65,13],[65,14,65,15],[65,16,65,17],[65,19,65,23],[66,7,66,9],[66,12,66,13],[66,14,66,15],[66,16,66,17],[66,19,66,23],[67,7,67,9],[67,12,67,13],[67,14,67,15],[67,16,67,17],[67,19,67,23],[68,7,68,9],[68,12,68,13],[68,14,68,15],[68,16,68,17],[68,19,68,23],[69,7,69,9],[69,12,69,13],[69,14,69,15],[69,16,69,17],[69,19,69,23],[70,7,70,9],[70,12,70,13],[70,14,70,15],[70,16,70,17],[70,19,70,23],[71,7,71,9],[71,12,71,13],[71,14,71,15],[71,16,71,17],[71,19,71,23],[72,7,72,9],[72,12,72,13],[72,14,72,15],[72,16,72,17],[72,19,72,23],[73,7,73,9],[73,12,73,13],[73,14,73,15],[73,16,73,17],[73,19,73,23],[74,7,74,9],[74,12,74,13],[74,14,74,15],[74,16,74,17],[74,19,74,23],[75,7,75,9],[75,12,75,13],[75,14,75,15],[75,16,75,17],[75,19,75,23],[76,7,76,9],[76,12,76,13],[76,14,76,15],[76,16,76,17],[76,19,76,23],[77,7,77,9],[77,12,77,13],[77,14,77,15],[77,16,77,17],[77,19,77,23],[78,7,78,9],[78,12,78,13],[78,14,78,15],[78,16,78,17],[78,19,78,23],[79,7,79,9],[79,12,79,13],[79,14,79,15],[79,16,79,17],[79,19,79,23],[80,7,80,9],[80,12,80,13],[80,14,80,15],[80,16,80,17],[80,19,80,23],[81,7,81,9],[81,12,81,13],[81,14,81,15],[81,16,81,17],[81,19,81,23],[82,7,82,9],[82,12,82,13],[82,14,82,15],[82,16,82,17],[82,19,82,23],[83,7,83,9],[83,12,83,13],[83,14,83,15],[83,16,83,17],[83,19,83,23],[84,7,84,9],[84,12,84,13],[84,14,84,15],[84,16,84,17],[84,19,84,23],[85,7,85,9],[85,12,85,13],[85,14,85,15],[85,16,85,17],[85,19,85,23],[86,7,86,9],[86,12,86,13],[86,14,86,15],[86,16,86,17],[86,19,86,23],[87,7,87,9],[87,12,87,13],[87,14,87,15],[87,16,87,17],[87,19,87,23],[88,7,88,9],[88,12,88,13],[88,14,88,15],[88,16,88,17],[88,19,88,23],[89,7,89,9],[89,12,89,13],[89,14,89,15],[89,16,89,17],[89,19,89,23],[90,7,90,9],[90,12,90,13],[90,14,90,15],[90,16,90,17],[90,19,90,23],[91,7,91,9],[91,12,91,13],[91,14,91,15],[91,16,91,17],[91,19,91,23],[92,7,92,9],[92,12,92,13],[92,14,92,15],[92,16,92,17],[92,19,92,23],[93,7,93,9],[93,12,93,13],[93,14,93,15],[93,16,93,17],[93,19,93,23],[94,7,94,9],[94,12,94,13],[94,14,94,15],[94,16,94,17],[94,19,94,23],[95,7,95,9],[95,12,95,13],[95,14,95,15],[95,16,95,17],[95,19,95,23],[96,7,96,9],[96,12,96,13],[96,14,96,15],[96,16,96,17],[96,19,96,23],[97,7,97,9],[97,12,97,13],[97,14,97,15],[97,16,97,17],[97,19,97,23],[98,7,98,9],[98,12,98,13],[98,14,98,15],[98,16,98,17],[98,19,98,23],[99,7,99,9],[99,12,99,13],[99,14,99,15],[99,16,99,17],[99,19,99,23],[100,7,100,9],[100,12,100,13],[100,14,100,15],[100,16,100,17],[100,19,100,23],[101,7,101,9],[101,12,101,13],[101,14,101,15],[101,16,101,17],[101,19,101,23],[102,7,102,9],[102,12,102,13],[102,14,102,15],[102,16,102,17],[102,19,102,23],[103,7,103,9],[103,12,103,13],[103,14,103,15],[103,16,103,17],[103,19,103,23],[104,7,104,9],[104,12,104,13],[104,14,104,15],[104,16,104,17],[104,19,104,23],[105,7,105,9],[105,12,105,13],[105,14,105,15],[105,16,105,17],[105,19,105,23],[106,7,106,9],[106,12,106,13],[106,14,106,15],[106,16,106,17],[106,19,106,23]]}
[]
[null,3,null,{"$f":"'관리자 Setting'!$R$3&\"년 \"&계획서_3분기!$B$2&\"분기 탄력 근무 계획\"","v":"2018년 3분기 탄력 근무 계획"}]
[]
[]
[{"$nulls":3},"소속","무한도전",null,null,"부서명",null,{"$f":"IFERROR(VLOOKUP($W$5,'관리자 Setting'!$C$4:$G$53,4,0),\"\")","v":"무한본부"},null,null,"직급",null,{"$f":"IFERROR(VLOOKUP($W$5,'관리자 Setting'!$C$4:$G$53,3,0),\"\")","v":"1급"},null,"ERP 사번",null,{"$f":"IFERROR(VLOOKUP($W$5,'관리자 Setting'!$C$4:$G$53,2,0),\"\")","v":"0002"},null,"성명",null,"박명수"]
[]
[]
[{"$nulls":3},"───────────────　　월　/　분　기　계　획　현　황　　───────────────"]
[{"$nulls":3},"구분",null,"규정",{"$nulls":4},"합계/평균",null,{"v":7,"d":"7월"},null,{"v":8,"d":"8월"},null,{"v":9,"d":"9월"},null,"CHK","비고"]
[{"$nulls":3},"정규 근로",null,"분기 필수 합계",null,null,{"$f":"IFERROR(VLOOKUP($B$2,'관리자 Setting'!$O$6:$R$10,2,0),\"\")","v":488},null,{"$f":"IFERROR(IF(SUM(M10:R10)=0,\"\",SUM(M10:R10)),\"\")","v":496},null,{"$f":"SUMIFS($M$16:$M$107,$E$16:$E$107,M$9)","v":184},null,176,null,136,null,{"$f":"IF(K10<>I10,1,0)","v":1},{"$f":"IF(K10<I10,\"필수 근로 시간 부족\",IF(K10>I10,\"평균 주 40시간 초과\",\"\"))","v":"평균 주 40시간 초과"}]
[{"$nulls":3},"연장 근로",null,"월 평균 연장 근로",null,null,{"$f":"IFERROR(VLOOKUP($W$5,'관리자 Setting'!$C$3:$G$53,5,0),\"\")","v":35},null,{"$f":"IFERROR(AVERAGE(M11:R11),\"\")","v":{"v":0,"d":"0.0"}},null,{"$f":"SUMIFS($O$16:$O$107,$E$16:$E$107,M$9)","v":0},null,0,null,0,null,{"$f":"IF(K11>I11,1,0)","v":0},{"$f":"IF(S11=0,\"\",\"연장 근로시간 한도 초과\")","v":""}]
[]
[{"$nulls":3},"───────────────　　일　/　주　간　계　획　현　황　　───────────────"]
[{"$nulls":3},"No","날짜",null,null,"참고",null,null,"월\n주","연\n주차","정규\n근로 시간",null,"연장\n근로 시간",null,"총\n근로 시간",null,"CHK","비고"]
[{"$nulls":4},"월","일","요일"]
[{"$f":"IFERROR(VLOOKUP($B$2,'관리자 Setting'!$O$6:$R$10,3,0),\"\")","v":"2018-07-01"},{"$f":"IF(OR(G16=\"일\",H16<>\"\"),1,0)","v":1},{"$f":"IF(AND(G16<>\"토\",G16<>\"일\",H16<>\"\"),1,0)","v":0},1,{"$f":"IFERROR(MONTH(A16),\"\")","v":7},{"$f":"IFERROR(DAY(A16),\"\")","v":1},{"$f":"TEXT($A16,\"AAA\")","v":"일"},{"$f":"IFERROR(VLOOKUP($A16,'관리자 Setting'!$K$6:$M$36,3,0),\"\")","v":""},null,null,{"$f":"IFERROR(L16-WEEKNUM(A16-F16+1)+1,\"\")","v":0},{"$f":"IFERROR(WEEKNUM(A16,2),\"\")","v":26},{"$nulls":4},{"$f":"IF(SUM(M16:P16)=0,\"\",SUM(M16:P16))","v":""},null,{"$f":"IF(AND($B16=1,$M16<>0),3,IF(SUMIFS($M$16:$M$107,$L$16:$L$107,$L16)+SUMIFS($C$16:$C$107,$L$16:$L$107,$L16)*8>52,2,IF(SUMIFS($O$16:$O$107,$L$16:$L$107,L16)>12,1,0)))","v":0},{"$f":"IF(S16>=3,\"휴일 정규 근로 계획 불가\",IF(S16=2,\"정규 근로 주 52시간 한도 초과\",IF(S16=1,\"연장 근로 주 12시간 한도 초과\",\"\")))","v":""}]
[{"$f":"A16+1","v":"2018-07-02"},0,0,2,{"$f":"IFERROR(MONTH(A17),\"\")","v":7},{"$f":"IFERROR(DAY(A17),\"\")","v":2},"월",{"$f":"IFERROR(VLOOKUP($A17,'관리자 Setting'!$K$6:$M$36,3,0),\"\")","v":""},null,null,1,{"$f":"IFERROR(WEEKNUM(A17,2),\"\")","v":27},8,{"$nulls":3},8,null,0,{"$f":"IF(S17>=3,\"휴일 정규 근로 불가\",IF(S17=2,\"정규 근로 주 52시간 한도 초과\",IF(S17=1,\"연장 근로 주 12시간 한도 초과\",\"\")))","v":""}]
[{"$f":"A17+1","v":"2018-07-03"},0,0,3,7,3,"화",{"$f":"IFERROR(VLOOKUP($A18,'관리자 Setting'!$K$6:$M$36,3,0),\"\")","v":""},null,null,1,27,8,{"$nulls":3},8,null,0,""]
["2018-07-04",0,0,4,7,4,"수",{"$f":"IFERROR(VLOOKUP($A19,'관리자 Setting'!$K$6:$M$36,3,0),\"\")","v":""},null,null,1,27,8,{"$nulls":3},8,null,0,""]
["2018-07-05",0,0,5,7,5,"목",{"$f":"IFERROR(VLOOKUP($A20,'관리자 Setting'!$K$6:$M$36,3,0),\"\")","v":""},null,null,1,27,8,{"$nulls":3},8,null,0,""]
["2018-07-06",0,0,6,7,6,"금",{"$f":"IFERROR(VLOOKUP($A21,'관리자 Setting'!$K$6:$M$36,3,0),\"\")","v":""},null,null,1,27,8,{"$nulls":3},8,null,0,""]
["2018-07-07",0,0,7,7,7,"토",{"$f":"IFERROR(VLOOKUP($A22,'관리자 Setting'!$K$6:$M$36,3,0),\"\")","v":""},null,null,1,27,{"$nulls":4},"",null,0,""]
["2018-07-08",1,0,8,7,8,"일",{"$f":"IFERROR(VLOOKUP($A23,'관리자 Setting'!$K$6:$M$36,3,0),\"\")","v":""},null,null,1,27,8,{"$nulls":3},8,null,3,"휴일 정규 근로 불가"]
["2018-07-09",0,0,9,7,9,"월",{"$f":"IFERROR(VLOOKUP($A24,'관리자 Setting'!$K$6:$M$36,3,0),\"\")","v":""},null,null,2,28,8,{"$nulls":3},8,null,0,""]
["2018-07-10",0,0,10,7,10,"화",{"$f":"IFERROR(VLOOKUP($A25,'관리자 Setting'!$K$6:$M$36,3,0),\"\")","v":""},null,null,2,28,8,{"$nulls":3},8,null,0,""]
["2018-07-11",0,0,11,7,11,"수",{"$f":"IFERROR(VLOOKUP($A26,'관리자 Setting'!$K$6:$M$36,3,0),\"\")","v":""},null,null,2,28,8,{"$nulls":3},8,null,0,""]
["2018-07-12",0,0,12,7,12,"목",{"$f":"IFERROR(VLOOKUP($A27,'관리자 Setting'!$K$6:$M$36,3,0),\"\")","v":""},null,null,2,28,8,{"$nulls":3},8,null,{"$f":"IF(AND($B27=1,$M27<>0),3,IF(SUMIFS($M$16:$M$107,$L$16:$L$107,$L27)+SUMIFS($C$16:$C$107,$L$16:$L$107,$L27)*8>52,2,IF(SUMIFS($O$16:$O$107,$L$16:$L$107,L27)>12,1,0)))","v":0},""]
["2018-07-13",0,0,13,7,13,"금",{"$f":"IFERROR(VLOOKUP($A28,'관리자 Setting'!$K$6:$M$36,3,0),\"\")","v":""},null,null,2,28,8,{"$nulls":3},8,null,0,""]
["2018-07-14",0,0,14,7,14,"토",{"$f":"IFERROR(VLOOKUP($A29,'관리자 Setting'!$K$6:$M$36,3,0),\"\")","v":""},null,null,2,28,{"$nulls":4},"",null,0,""]
["2018-07-15",1,0,15,7,15,"일",{"$f":"IFERROR(VLOOKUP($A30,'관리자 Setting'!$K$6:$M$36,3,0),\"\")","v":""},null,null,2,28,{"$nulls":4},"",null,0,""]
["2018-07-16",0,0,16,7,16,"월",{"$f":"IFERROR(VLOOKUP($A31,'관리자 Setting'!$K$6:$M$36,3,0),\"\")","v":""},null,null,3,29,8,{"$nulls":3},8,null,0,""]
["2018-07-17",0,0,17,7,17,"화",{"$f":"IFERROR(VLOOKUP($A32,'관리자 Setting'!$K$6:$M$36,3,0),\"\")","v":""},null,null,3,29,8,{"$nulls":3},8,null,0,""]
["2018-07-18",0,0,18,7,18,"수",{"$f":"IFERROR(VLOOKUP($A33,'관리자 Setting'!$K$6:$M$36,3,0),\"\")","v":""},null,null,3,29,8,{"$nulls":3},8,null,0,""]
["2018-07-19",0,0,19,7,19,"목",{"$f":"IFERROR(VLOOKUP($A34,'관리자 Setting'!$K$6:$M$36,3,0),\"\")","v":""},null,null,3,29,8,{"$nulls":3},8,null,0,""]
["2018-07-20",0,0,20,7,20,"금",{"$f":"IFERROR(VLOOKUP($A35,'관리자 Setting'!$K$6:$M$36,3,0),\"\")","v":""},null,null,3,29,8,{"$nulls":3},8,null,0,""]
["2018-07-21",0,0,21,7,21,"토",{"$f":"IFERROR(VLOOKUP($A36,'관리자 Setting'!$K$6:$M$36,3,0),\"\")","v":""},null,null,3,29,{"$nulls":4},"",null,0,""]
["2018-07-22",1,0,22,7,22,"일",{"$f":"IFERROR(VLOOKUP($A37,'관리자 Setting'!$K$6:$M$36,3,0),\"\")","v":""},null,null,3,29,{"$nulls":4},"",null,0,""]
["2018-07-23",0,0,23,7,23,"월",{"$f":"IFERROR(VLOOKUP($A38,'관리자 Setting'!$K$6:$M$36,3,0),\"\")","v":""},null,null,4,30,8,{"$nulls":3},8,null,0,""]
["2018-07-24",0,0,24,7,24,"화",{"$f":"IFERROR(VLOOKUP($A39,'관리자 Setting'!$K$6:$M$36,3,0),\"\")","v":""},null,null,4,30,8,{"$nulls":3},8,null,0,""]
["2018-07-25",0,0,25,7,25,"수",{"$f":"IFERROR(VLOOKUP($A40,'관리자 Setting'!$K$6:$M$36,3,0),\"\")","v":""},null,null,4,30,8,{"$nulls":3},8,null,0,""]
["2018-07-26",0,0,26,7,26,"목",{"$f":"IFERROR(VLOOKUP($A41,'관리자 Setting'!$K$6:$M$36,3,0),\"\")","v":""},null,null,4,30,8,{"$nulls":3},8,null,0,""]
["2018-07-27",0,0,27,7,27,"금",{"$f":"IFERROR(VLOOKUP($A42,'관리자 Setting'!$K$6:$M$36,3,0),\"\")","v":""},null,null,4,30,8,{"$nulls":3},8,null,0,""]
["2018-07-28",0,0,28,7,28,"토",{"$f":"IFERROR(VLOOKUP($A43,'관리자 Setting'!$K$6:$M$36,3,0),\"\")","v":""},null,null,4,30,{"$nulls":4},"",null,0,""]
["2018-07-29",1,0,29,7,29,"일",{"$f":"IFERROR(VLOOKUP($A44,'관리자 Setting'!$K$6:$M$36,3,0),\"\")","v":""},null,null,4,30,{"$nulls":4},"",null,0,""]
["2018-07-30",0,0,30,7,30,"월",{"$f":"IFERROR(VLOOKUP($A45,'관리자 Setting'!$K$6:$M$36,3,0),\"\")","v":""},null,null,5,31,8,{"$nulls":3},8,null,0,""]
["2018-07-31",0,0,31,7,31,"화",{"$f":"IFERROR(VLOOKUP($A46,'관리자 Setting'!$K$6:$M$36,3,0),\"\")","v":""},null,null,5,31,8,{"$nulls":3},8,null,0,""]
["2018-08-01",0,0,32,8,1,"수",{"$f":"IFERROR(VLOOKUP($A47,'관리자 Setting'!$K$6:$M$36,3,0),\"\")","v":""},null,null,1,31,8,{"$nulls":3},8,null,0,""]
["2018-08-02",{"$f":"IF(OR(G48=\"일\",H48<>\"\"),1,0)","v":0},0,33,8,2,"목",{"$f":"IFERROR(VLOOKUP($A48,'관리자 Setting'!$K$6:$M$36,3,0),\"\")","v":""},null,null,1,31,8,{"$nulls":3},{"$f":"IF(SUM(M48:P48)=0,\"\",SUM(M48:P48))","v":8},null,0,""]
["2018-08-03",0,0,34,8,3,"금",{"$f":"IFERROR(VLOOKUP($A49,'관리자 Setting'!$K$6:$M$36,3,0),\"\")","v":""},null,null,1,31,8,{"$nulls":3},8,null,0,""]
["2018-08-04",0,0,35,8,4,"토",{"$f":"IFERROR(VLOOKUP($A50,'관리자 Setting'!$K$6:$M$36,3,0),\"\")","v":""},null,null,1,31,{"$nulls":4},"",null,0,""]
["2018-08-05",1,0,36,8,5,"일",{"$f":"IFERROR(VLOOKUP($A51,'관리자 Setting'!$K$6:$M$36,3,0),\"\")","v":""},null,null,1,31,{"$nulls":4},"",null,0,""]
["2018-08-06",0,0,37,8,6,"월",{"$f":"IFERROR(VLOOKUP($A52,'관리자 Setting'!$K$6:$M$36,3,0),\"\")","v":""},null,null,2,32,8,{"$nulls":3},8,null,0,""]
["2018-08-07",0,0,38,8,7,"화",{"$f":"IFERROR(VLOOKUP($A53,'관리자 Setting'!$K$6:$M$36,3,0),\"\")","v":""},null,null,2,32,8,{"$nulls":3},8,null,0,""]
["2018-08-08",0,0,39,8,8,"수",{"$f":"IFERROR(VLOOKUP($A54,'관리자 Setting'!$K$6:$M$36,3,0),\"\")","v":""},null,null,2,32,8,{"$nulls":3},8,null,0,""]
["2018-08-09",0,0,40,8,9,"목",{"$f":"IFERROR(VLOOKUP($A55,'관리자 Setting'!$K$6:$M$36,3,0),\"\")","v":""},null,null,2,32,8,{"$nulls":3},8,null,0,""]
["2018-08-10",0,0,41,8,10,"금",{"$f":"IFERROR(VLOOKUP($A56,'관리자 Setting'!$K$6:$M$36,3,0),\"\")","v":""},null,null,2,32,8,{"$nulls":3},8,null,0,""]
["2018-08-11",0,0,42,8,11,"토",{"$f":"IFERROR(VLOOKUP($A57,'관리자 Setting'!$K$6:$M$36,3,0),\"\")","v":""},null,null,2,32,{"$nulls":4},"",null,0,""]
["2018-08-12",1,0,43,8,12,"일",{"$f":"IFERROR(VLOOKUP($A58,'관리자 Setting'!$K$6:$M$36,3,0),\"\")","v":""},null,null,2,32,{"$nulls":4},"",null,0,""]
["2018-08-13",0,0,44,8,13,"월",{"$f":"IFERROR(VLOOKUP($A59,'관리자 Setting'!$K$6:$M$36,3,0),\"\")","v":""},null,null,3,33,8,{"$nulls":3},8,null,0,""]
["2018-08-14",0,0,45,8,14,"화",{"$f":"IFERROR(VLOOKUP($A60,'관리자 Setting'!$K$6:$M$36,3,0),\"\")","v":""},null,null,3,33,8,{"$nulls":3},8,null,0,""]
["2018-08-15",1,1,46,8,15,"수",{"$f":"IFERROR(VLOOKUP($A61,'관리자 Setting'!$K$6:$M$36,3,0),\"\")","v":"광복절"},null,null,3,33,{"$nulls":4},"",null,0,""]
["2018-08-16",0,0,47,8,16,"목",{"$f":"IFERROR(VLOOKUP($A62,'관리자 Setting'!$K$6:$M$36,3,0),\"\")","v":""},null,null,3,33,8,{"$nulls":3},8,null,0,""]
["2018-08-17",0,0,48,8,17,"금",{"$f":"IFERROR(VLOOKUP($A63,'관리자 Setting'!$K$6:$M$36,3,0),\"\")","v":""},null,null,3,33,8,{"$nulls":3},8,null,0,""]
["2018-08-18",0,0,49,8,18,"토",{"$f":"IFERROR(VLOOKUP($A64,'관리자 Setting'!$K$6:$M$36,3,0),\"\")","v":""},null,null,3,33,{"$nulls":4},"",null,0,""]
["2018-08-19",1,0,50,8,19,"일",{"$f":"IFERROR(VLOOKUP($A65,'관리자 Setting'!$K$6:$M$36,3,0),\"\")","v":""},null,null,3,33,{"$nulls":4},"",null,0,""]
["2018-08-20",0,0,51,8,20,"월",{"$f":"IFERROR(VLOOKUP($A66,'관리자 Setting'!$K$6:$M$36,3,0),\"\")","v":""},null,null,4,34,8,{"$nulls":3},8,null,0,""]
["2018-08-21",0,0,52,8,21,"화",{"$f":"IFERROR(VLOOKUP($A67,'관리자 Setting'!$K$6:$M$36,3,0),\"\")","v":""},null,null,4,34,8,{"$nulls":3},8,null,0,""]
["2018-08-22",0,0,53,8,22,"수",{"$f":"IFERROR(VLOOKUP($A68,'관리자 Setting'!$K$6:$M$36,3,0),\"\")","v":""},null,null,4,34,8,{"$nulls":3},8,null,0,""]
["2018-08-23",0,0,54,8,23,"목",{"$f":"IFERROR(VLOOKUP($A69,'관리자 Setting'!$K$6:$M$36,3,0),\"\")","v":""},null,null,4,34,8,{"$nulls":3},8,null,0,""]
["2018-08-24",0,0,55,8,24,"금",{"$f":"IFERROR(VLOOKUP($A70,'관리자 Setting'!$K$6:$M$36,3,0),\"\")","v":""},null,null,4,34,8,{"$nulls":3},8,null,0,""]
["2018-08-25",0,0,56,8,25,"토",{"$f":"IFERROR(VLOOKUP($A71,'관리자 Setting'!$K$6:$M$36,3,0),\"\")","v":""},null,null,4,34,{"$nulls":4},"",null,0,""]
["2018-08-26",1,0,57,8,26,"일",{"$f":"IFERROR(VLOOKUP($A72,'관리자 Setting'!$K$6:$M$36,3,0),\"\")","v":""},null,null,4,34,{"$nulls":4},"",null,0,""]
["2018-08-27",0,0,58,8,27,"월",{"$f":"IFERROR(VLOOKUP($A73,'관리자 Setting'!$K$6:$M$36,3,0),\"\")","v":""},null,null,5,35,8,{"$nulls":3},8,null,0,""]
["2018-08-28",0,0,59,8,28,"화",{"$f":"IFERROR(VLOOKUP($A74,'관리자 Setting'!$K$6:$M$36,3,0),\"\")","v":""},null,null,5,35,8,{"$nulls":3},8,null,0,""]
["2018-08-29",0,0,60,8,29,"수",{"$f":"IFERROR(VLOOKUP($A75,'관리자 Setting'!$K$6:$M$36,3,0),\"\")","v":""},null,null,5,35,8,{"$nulls":3},8,null,0,""]
["2018-08-30",0,0,61,8,30,"목",{"$f":"IFERROR(VLOOKUP($A76,'관리자 Setting'!$K$6:$M$36,3,0),\"\")","v":""},null,null,5,35,8,{"$nulls":3},8,null,0,""]
["2018-08-31",0,0,62,8,31,"금",{"$f":"IFERROR(VLOOKUP($A77,'관리자 Setting'!$K$6:$M$36,3,0),\"\")","v":""},null,null,5,35,8,{"$nulls":3},8,null,0,""]
["2018-09-01",0,0,63,9,1,"토",{"$f":"IFERROR(VLOOKUP($A78,'관리자 Setting'!$K$6:$M$36,3,0),\"\")","v":""},null,null,1,35,{"$nulls":4},"",null,0,""]
["2018-09-02",1,0,64,9,2,"일",{"$f":"IFERROR(VLOOKUP($A79,'관리자 Setting'!$K$6:$M$36,3,0),\"\")","v":""},null,null,1,35,{"$nulls":4},"",null,0,""]
["2018-09-03",{"$f":"IF(OR(G80=\"일\",H80<>\"\"),1,0)","v":0},{"$f":"IF(AND(G80<>\"토\",G80<>\"일\",H80<>\"\"),1,0)","v":0},65,9,3,{"$f":"TEXT($A80,\"AAA\")","v":"월"},{"$f":"IFERROR(VLOOKUP($A80,'관리자 Setting'!$K$6:$M$36,3,0),\"\")","v":""},null,null,{"$f":"IFERROR(L80-WEEKNUM(A80-F80+1)+1,\"\")","v":2},36,8,{"$nulls":3},8,null,{"$f":"IF(AND($B80=1,$M80<>0),3,IF(SUMIFS($M$16:$M$107,$L$16:$L$107,$L80)+SUMIFS($C$16:$C$107,$L$16:$L$107,$L80)*8>52,2,IF(SUMIFS($O$16:$O$107,$L$16:$L$107,L80)>12,1,0)))","v":0},""]
["2018-09-04",0,0,66,{"$f":"IFERROR(MONTH(A81),\"\")","v":9},{"$f":"IFERROR(DAY(A81),\"\")","v":4},"화",{"$f":"IFERROR(VLOOKUP($A81,'관리자 Setting'!$K$6:$M$36,3,0),\"\")","v":""},null,null,2,{"$f":"IFERROR(WEEKNUM(A81,2),\"\")","v":36},8,{"$nulls":3},8,null,0,{"$f":"IF(S81>=3,\"휴일 정규 근로 불가\",IF(S81=2,\"정규 근로 주 52시간 한도 초과\",IF(S81=1,\"연장 근로 주 12시간 한도 초과\",\"\")))","v":""}]
[{"$f":"A81+1","v":"2018-09-05"},0,0,67,9,5,"수",{"$f":"IFERROR(VLOOKUP($A82,'관리자 Setting'!$K$6:$M$36,3,0),\"\")","v":""},null,null,2,36,8,{"$nulls":3},8,null,0,""]
["2018-09-06",0,0,68,9,6,"목",{"$f":"IFERROR(VLOOKUP($A83,'관리자 Setting'!$K$6:$M$36,3,0),\"\")","v":""},null,null,2,36,8,{"$nulls":3},8,null,0,""]
["2018-09-07",0,0,69,9,7,"금",{"$f":"IFERROR(VLOOKUP($A84,'관리자 Setting'!$K$6:$M$36,3,0),\"\")","v":""},null,null,2,36,8,{"$nulls":3},8,null,0,""]
["2018-09-08",0,0,70,9,8,"토",{"$f":"IFERROR(VLOOKUP($A85,'관리자 Setting'!$K$6:$M$36,3,0),\"\")","v":""},null,null,2,36,{"$nulls":4},"",null,0,""]
["2018-09-09",1,0,71,9,9,"일",{"$f":"IFERROR(VLOOKUP($A86,'관리자 Setting'!$K$6:$M$36,3,0),\"\")","v":""},null,null,2,36,{"$nulls":4},"",null,0,""]
["2018-09-10",0,0,72,9,10,"월",{"$f":"IFERROR(VLOOKUP($A87,'관리자 Setting'!$K$6:$M$36,3,0),\"\")","v":""},null,null,3,37,8,{"$nulls":3},8,null,0,""]
["2018-09-11",0,0,73,9,11,"화",{"$f":"IFERROR(VLOOKUP($A88,'관리자 Setting'!$K$6:$M$36,3,0),\"\")","v":""},null,null,3,37,8,{"$nulls":3},8,null,0,""]
["2018-09-12",0,0,74,9,12,"수",{"$f":"IFERROR(VLOOKUP($A89,'관리자 Setting'!$K$6:$M$36,3,0),\"\")","v":""},null,null,3,37,8,{"$nulls":3},8,null,0,""]
["2018-09-13",0,0,75,9,13,"목",{"$f":"IFERROR(VLOOKUP($A90,'관리자 Setting'!$K$6:$M$36,3,0),\"\")","v":""},null,null,3,37,8,{"$nulls":3},8,null,0,""]
["2018-09-14",0,0,76,9,14,"금",{"$f":"IFERROR(VLOOKUP($A91,'관리자 Setting'!$K$6:$M$36,3,0),\"\")","v":""},null,null,3,37,8,{"$nulls":3},8,null,0,""]
["2018-09-15",0,0,77,9,15,"토",{"$f":"IFERROR(VLOOKUP($A92,'관리자 Setting'!$K$6:$M$36,3,0),\"\")","v":""},null,null,3,37,{"$nulls":4},"",null,0,""]
["2018-09-16",1,0,78,9,16,"일",{"$f":"IFERROR(VLOOKUP($A93,'관리자 Setting'!$K$6:$M$36,3,0),\"\")","v":""},null,null,3,37,{"$nulls":4},"",null,0,""]
["2018-09-17",0,0,79,9,17,"월",{"$f":"IFERROR(VLOOKUP($A94,'관리자 Setting'!$K$6:$M$36,3,0),\"\")","v":""},null,null,4,38,8,{"$nulls":3},8,null,0,""]
["2018-09-18",0,0,80,9,18,"화",{"$f":"IFERROR(VLOOKUP($A95,'관리자 Setting'!$K$6:$M$36,3,0),\"\")","v":""},null,null,4,38,8,{"$nulls":3},8,null,0,""]
["2018-09-19",0,0,81,9,19,"수",{"$f":"IFERROR(VLOOKUP($A96,'관리자 Setting'!$K$6:$M$36,3,0),\"\")","v":""},null,null,4,38,8,{"$nulls":3},8,null,0,""]
["2018-09-20",0,0,82,9,20,"목",{"$f":"IFERROR(VLOOKUP($A97,'관리자 Setting'!$K$6:$M$36,3,0),\"\")","v":""},null,null,4,38,8,{"$nulls":3},8,null,0,""]
["2018-09-21",0,0,83,9,21,"금",{"$f":"IFERROR(VLOOKUP($A98,'관리자 Setting'!$K$6:$M$36,3,0),\"\")","v":""},null,null,4,38,8,{"$nulls":3},8,null,0,""]
["2018-09-22",0,0,84,9,22,"토",{"$f":"IFERROR(VLOOKUP($A99,'관리자 Setting'!$K$6:$M$36,3,0),\"\")","v":""},null,null,4,38,{"$nulls":4},"",null,0,""]
["2018-09-23",1,0,85,9,23,"일",{"$f":"IFERROR(VLOOKUP($A100,'관리자 Setting'!$K$6:$M$36,3,0),\"\")","v":"추석연휴"},null,null,4,38,{"$nulls":4},"",null,0,""]
["2018-09-24",1,1,86,9,24,"월",{"$f":"IFERROR(VLOOKUP($A101,'관리자 Setting'!$K$6:$M$36,3,0),\"\")","v":"추석"},null,null,5,39,{"$nulls":4},"",null,0,""]
["2018-09-25",1,1,87,9,25,"화",{"$f":"IFERROR(VLOOKUP($A102,'관리자 Setting'!$K$6:$M$36,3,0),\"\")","v":"추석연휴"},null,null,5,39,{"$nulls":4},"",null,0,""]
[{"$f":"IFERROR(IF(A102+1>VLOOKUP($B$2,'관리자 Setting'!$O$6:$R$10,4,0),\"\",A102+1),\"\")","v":"2018-09-26"},1,1,88,9,26,"수",{"$f":"IFERROR(VLOOKUP($A103,'관리자 Setting'!$K$6:$M$36,3,0),\"\")","v":"대체공휴일"},null,null,5,39,{"$nulls":4},"",null,0,""]
[{"$f":"IFERROR(IF(A103+1>VLOOKUP($B$2,'관리자 Setting'!$O$6:$R$10,4,0),\"\",A103+1),\"\")","v":"2018-09-27"},0,0,89,9,27,"목",{"$f":"IFERROR(VLOOKUP($A104,'관리자 Setting'!$K$6:$M$36,3,0),\"\")","v":""},null,null,5,39,8,{"$nulls":3},8,null,0,""]
[{"$f":"IFERROR(IF(A104+1>VLOOKUP($B$2,'관리자 Setting'!$O$6:$R$10,4,0),\"\",A104+1),\"\")","v":"2018-09-28"},0,0,90,9,28,"금",{"$f":"IFERROR(VLOOKUP($A105,'관리자 Setting'!$K$6:$M$36,3,0),\"\")","v":""},null,null,5,39,8,{"$nulls":3},8,null,0,""]
[{"$f":"IFERROR(IF(A105+1>VLOOKUP($B$2,'관리자 Setting'!$O$6:$R$10,4,0),\"\",A105+1),\"\")","v":"2018-09-29"},0,0,91,9,29,"토",{"$f":"IFERROR(VLOOKUP($A106,'관리자 Setting'!$K$6:$M$36,3,0),\"\")","v":""},null,null,5,39,{"$nulls":4},"",null,0,""]
[{"$f":"IFERROR(IF(A106+1>VLOOKUP($B$2,'관리자 Setting'!$O$6:$R$10,4,0),\"\",A106+1),\"\")","v":"2018-09-30"},1,0,92,9,30,"일",{"$f":"IFERROR(VLOOKUP($A107,'관리자 Setting'!$K$6:$M$36,3,0),\"\")","v":""},null,null,5,39,{"$nulls":4},"",null,0,""]

{"sheet":"7월","index":12,"n_rows":56,"n_cols":30,"rows_kept":56,"merged":[[1,3,2,5],[1,6,2,20],[1,21,2,23],[4,3,5,3],[4,4,5,6],[4,7,5,8],[4,9,5,11],[4,12,5,13],[4,14,5,15],[4,16,5,17],[4,18,5,19],[4,20,5,21],[4,22,5,23],[7,3,7,23],[8,3,8,4],[8,5,8,9],[8,10,8,12],[8,13,8,14],[8,15,8,16],[8,17,8,18],[8,20,8,23],[9,3,9,4],[9,5,9,7],[9,8,9,9],[9,10,9,12],[9,13,9,14],[9,15,9,16],[9,17,9,18],[9,20,9,23],[10,3,10,4],[10,5,10,7],[10,8,10,9],[10,10,10,12],[10,13,10,14],[10,15,10,16],[10,17,10,18],[10,19,10,23],[11,3,11,4],[11,5,11,7],[11,8,11,9],[11,10,11,12],[11,13,11,14],[11,15,11,16],[11,17,11,18],[11,20,11,23],[13,3,13,23],[14,3,15,4],[14,5,15,9],[14,10,14,13],[14,14,14,17],[14,18,15,18],[14,19,15,23],[15,10,15,11],[15,12,15,13],[15,14,15,15],[15,16,15,17],[16,3,16,4],[16,5,16,7],[16,8,16,9],[16,10,16,11],[16,12,16,13],[16,14,16,15],[16,16,16,17],[16,19,16,23],[17,3,17,4],[17,5,17,7],[17,8,17,9],[17,10,17,11],[17,12,17,13],[17,14,17,15],[17,16,17,17],[17,19,17,23],[18,3,18,4],[18,5,18,7],[18,8,18,9],[18,10,18,11],[18,12,18,13],[18,14,18,15],[18,16,18,17],[18,19,18,23],[20,3,20,23],[21,3,23,3],[21,4,23,4],[21,5,23,7],[21,8,23,9],[21,10,23,10],[21,11,23,11],[21,12,21,15],[21,16,22,17],[21,18,21,21],[21,22,23,22],[21,23,23,23],[22,12,22,13],[22,14,22,15],[22,18,22,19],[22,20,22,21],[25,5,25,7],[25,8,25,9],[26,5,26,7],[26,8,26,9],[27,5,27,7],[27,8,27,9],[28,5,28,7],[28,8,28,9],[29,5,29,7],[29,8,29,9],[30,5,30,7],[30,8,30,9],[31,5,31,7],[31,8,31,9],[32,5,32,7],[32,8,32,9],[33,5,33,7],[33,8,33,9],[34,5,34,7],[34,8,34,9],[35,5,35,7],[35,8,35,9],[36,5,36,7],[36,8,36,9],[37,5,37,7],[37,8,37,9],[38,5,38,7],[38,8,38,9],[39,5,39,7],[39,8,39,9],[40,5,40,7],[40,8,40,9],[41,5,41,7],[41,8,41,9],[42,5,42,7],[42,8,42,9],[43,5,43,7],[43,8,43,9],[44,5,44,7],[44,8,44,9],[45,5,45,7],[45,8,45,9],[46,5,46,7],[46,8,46,9],[47,5,47,7],[47,8,47,9],[48,5,48,7],[48,8,48,9],[49,5,49,7],[49,8,49,9],[50,5,50,7],[50,8,50,9],[51,5,51,7],[51,8,51,9],[52,5,52,7],[52,8,52,9],[53,5,53,7],[53,8,53,9],[54,5,54,7],[54,8,54,9],[55,5,55,7],[55,8,55,9]]}
[]
[{"$nulls":3},"전월",null,null,{"$f":"'관리자 Setting'!$R$3&\"년 \"&TEXT($A$6,\"00월 근태 현황 (\")&$B$6&\"분기)\"","v":"2018년 07월 근태 현황 (3분기)"},{"$nulls":14},"익월"]
[]
[]
["월","분기",null,"소속","무한도전",null,null,"부서명",null,{"$f":"계획서_3분기!$J$5","v":"무한본부"},null,null,"직급",null,{"$f":"계획서_3분기!$O$5","v":"1급"},null,"ERP 사번",null,{"$f":"계획서_3분기!$S$5","v":"0002"},null,"성명",null,{"$f":"IF(계획서_3분기!W5=0,\"\",계획서_3분기!W5)","v":"박명수"}]
[7,3]
[]
[{"$nulls":3},"───────────────　　분　기　근　무　현　황　　───────────────"]
[{"$nulls":3},"구분",null,"규정 및 참조",{"$nulls":4},"합계/평균",null,null,{"v":7,"d":"7월"},null,{"v":8,"d":"8월"},null,{"v":9,"d":"9월"},null,"CHK","비고",{"$nulls":5},"합/평",1,2,3]
[{"$nulls":3},"전체 근로",{"$nulls":6},{"$f":"INT(AA10/60)&\"시간 \"&TEXT(ROUND((AA10/60-INT(AA10/60))*60,0),\"00분\")","v":"206시간 58분"},null,null,{"$f":"INT(AB10/60)&\"시간 \"&TEXT(ROUND((AB10/60-INT(AB10/60))*60,0),\"00분\")","v":"206시간 58분"},{"$nulls":12},{"$f":"SUM(AB10:AD10)","v":12418},{"$f":"'7월'!O17*60+'7월'!Q17","v":12418}]
[{"$nulls":3},"정규 근로",null,"분기 필수 합계",null,null,{"$f":"IFERROR(VLOOKUP($B$6,'관리자 Setting'!$O$6:$R$10,2,0),\"\")","v":{"v":488,"d":"488 시간"}},null,"176시간 00분",null,null,{"$f":"INT(AB11/60)&\"시간 \"&TEXT(ROUND((AB11/60-INT(AB11/60))*60,0),\"00분\")","v":"176시간 00분"},{"$nulls":5},{"$f":"IF(I11*60>AB11,\"분기 필수 \"&INT((I11*60-AB11)/60)&\"시간 \"&TEXT(ROUND(((I11*60-AB11)/60-INT((I11*60-AB11)/60))*60,0),\"00분 남음\"),\"\")","v":"분기 필수 312시간 00분 남음"},{"$nulls":6},{"$f":"SUM(AB11:AD11)","v":10560},{"$f":"'7월'!O18*60+'7월'!Q18","v":10560}]
[{"$nulls":3},"연장 근로",null,"월 평균 연장 근로",null,null,{"$f":"IFERROR(VLOOKUP($W$5,'관리자 Setting'!$C$3:$G$53,5,0),\"\")","v":{"v":35,"d":"35 시간"}},null,"30시간 58분",null,null,{"$f":"INT(AB12/60)&\"시간 \"&TEXT(ROUND((AB12/60-INT(AB12/60))*60,0),\"00분\")","v":"30시간 58분"},{"$nulls":5},{"$f":"IF($I$12*60<AB12,1,0)","v":0},{"$f":"IF(T12=1,\"연장 근로 한도 초과\",\"\")","v":""},{"$nulls":5},{"$f":"AVERAGE(AB12:AD12)","v":1858},{"$f":"'7월'!O19*60+'7월'!Q19","v":1858}]
[]
[{"$nulls":3},"───────────────　　월　근　무　현　황　　───────────────"]
[{"$nulls":3},"구분",null,"규정 및 참조",{"$nulls":4},"근무 계획",{"$nulls":3},"근무 조정",{"$nulls":3},"CHK","비고"]
[{"$nulls":10},"시간",null,"분",null,"시간",null,"분"]
[{"$nulls":3},"전체 근로",{"$nulls":6},{"$f":"M25+O25","v":{"v":189,"d":"189 시간"}},null,"분",null,{"$f":"Q25+X25","v":{"v":206,"d":"206 시간"}},null,{"$f":"R25","v":{"v":58.00000000000001,"d":"58 분"}}]
[{"$nulls":3},"정규 근로",{"$nulls":6},{"$f":"M25","v":{"v":184,"d":"184 시간"}},null,"분",null,{"$f":"S25+X25","v":{"v":176,"d":"176 시간"}},null,{"$f":"T25","v":{"v":0,"d":"0 분"}}]
[{"$nulls":3},"연장 근로",null,"월 연장 근로 한도",null,null,{"$f":"IFERROR(VLOOKUP($W$5,'관리자 Setting'!$C$3:$G$53,5,0),\"\")","v":{"v":35,"d":"35 시간"}},null,{"$f":"O25","v":{"v":5,"d":"5 시간"}},null,"분",null,{"$f":"U25","v":{"v":30,"d":"30 시간"}},null,{"$f":"V25","v":{"v":58.00000000000001,"d":"58 분"}},null,{"$f":"IF($W$5=\"\",\"\",IF(I19*60<O19*60+Q19,1,0))","v":0},{"$f":"IF(S19=1,\"연장 근로 한도 시간 초과\",\"\")","v":""}]
[]
[{"$nulls":3},"───────────────　　일　/　주　간　근　무　현　황　　───────────────"]
[{"$nulls":3},"날짜","요일","참고",null,null,"상태",null,"주","주차","근무 계획",{"$nulls":3},"실\n근무시간",null,"조정",{"$nulls":3},"CHK","비고\n근무\n반영"]
[{"$nulls":12},"정규근로",null,"연장근로",{"$nulls":3},"정규근로",null,"연장근로"]
[{"$nulls":12},"시간","분","시간","분","시간","분","시간","분","시간","분",{"$nulls":4},"반영","실","연장"]
[{"$nulls":12},{"$f":"SUM(M26:M56)","v":184},0,{"$f":"SUM(O26:O56)","v":5},0,{"$f":"SUM(Q26:Q56)+INT(SUM(R26:R56)/60)","v":194},{"$f":"(SUM(R26:R56)/60-INT(SUM(R26:R56)/60))*60","v":{"v":58.00000000000001,"d":"58"}},{"$f":"SUM(S26:S56)+INT(SUM(T26:T56)/60)","v":164},{"$f":"(SUM(T26:T56)/60-INT(SUM(T26:T56)/60))*60","v":0},{"$f":"SUM(U26:U56)+INT(SUM(V26:V56)/60)","v":30},{"$f":"(SUM(V26:V56)/60-INT(SUM(V26:V56)/60))*60","v":{"v":58.00000000000001,"d":"58"}},null,{"$f":"SUM(X26:X56)","v":12}]
[{"$f":"DATE('관리자 Setting'!$R$3,$A$6,1)","v":"2018-07-01"},{"$f":"IF(OR($E26=\"일\",$F26<>\"\"),0,1)","v":0},0,1,{"$f":"TEXT($A26,\"AAA\")","v":"일"},{"$f":"IFERROR(VLOOKUP($A26,'관리자 Setting'!$K$6:$M$36,3,0),\"\")","v":""},null,null,{"$f":"IFERROR(IF(OR(E26=\"토\",E26=\"일\",F26<>\"\"),\"\",VLOOKUP(A26&0,'설정_In-Put'!$A:$L,6,0)),\"\")","v":""},null,{"$f":"IFERROR(L26-WEEKNUM(A26-D26+1)+1,\"\")","v":0},{"$f":"IFERROR(WEEKNUM(A26,2),\"\")","v":26},{"$f":"IFERROR(VLOOKUP($A26,계획서_3분기!$A:$X,13,0),\"\")","v":0},0,{"$f":"IFERROR(VLOOKUP($A26,계획서_3분기!$A:$X,15,0),\"\")","v":0},0,{"$f":"INT(SUMIFS('설정_In-Put'!$K:$K,'설정_In-Put'!$C:$C,'7월'!$A26)*24)","v":0},{"$f":"ROUND((SUMIFS('설정_In-Put'!$K:$K,'설정_In-Put'!$C:$C,'7월'!$A26)*24-Q26)*60,0)","v":0},null,null,{"$f":"INT(((Q26*60+R26)-(S26*60+T26))/60)","v":0},{"$f":"(((Q26*60+R26)-(S26*60+T26))/60-U26)*60","v":0},{"$f":"IF(SUMIFS('7월'!$AA$26:$AA$56,'7월'!$L$26:$L$56,$L26)+SUMIFS('8월'!$AA$26:$AA$56,'8월'!$L$26:$L$56,$L26)+SUMIFS('9월'!$AA$26:$AA$56,'9월'!$L$26:$L$56,$L26)>3120,1,IF($A26=\"\",\"\",IF(OR($E26=\"일\",$F26<>\"\"),1,0)*IF(S26+T26<>0,1,0)))","v":0},{"$f":"IFERROR(VLOOKUP($A26&1,'설정_In-Put'!$B:$L,11,0)*24,\"\")","v":""},null,null,{"$f":"SUM(S26,X26)*60+T26","v":0},{"$f":"S26*60+T26","v":0},{"$f":"U26*60+V26","v":0}]
[{"$f":"A26+1","v":"2018-07-02"},1,1,2,"월",{"$f":"IFERROR(VLOOKUP($A27,'관리자 Setting'!$K$6:$M$36,3,0),\"\")","v":""},null,null,{"$f":"IFERROR(IF(OR(E27=\"토\",E27=\"일\",F27<>\"\"),\"\",VLOOKUP(A27&0,'설정_In-Put'!$A:$L,6,0)),\"\")","v":"정상"},null,1,27,{"$f":"IFERROR(VLOOKUP($A27,계획서_3분기!$A:$X,13,0),\"\")","v":8},0,{"$f":"IFERROR(VLOOKUP($A27,계획서_3분기!$A:$X,15,0),\"\")","v":0},0,{"$f":"INT(SUMIFS('설정_In-Put'!$K:$K,'설정_In-Put'!$C:$C,'7월'!$A27)*24)","v":8},{"$f":"ROUND((SUMIFS('설정_In-Put'!$K:$K,'설정_In-Put'!$C:$C,'7월'!$A27)*24-Q27)*60,0)","v":18},8,null,0,18,{"$f":"IF(SUMIFS('7월'!$AA$26:$AA$56,'7월'!$L$26:$L$56,$L27)+SUMIFS('8월'!$AA$26:$AA$56,'8월'!$L$26:$L$56,$L27)+SUMIFS('9월'!$AA$26:$AA$56,'9월'!$L$26:$L$56,$L27)>3120,1,IF($A27=\"\",\"\",IF(OR($E27=\"일\",$F27<>\"\"),1,0)*IF(S27+T27<>0,1,0)))","v":0},{"$f":"IFERROR(VLOOKUP($A27&1,'설정_In-Put'!$B:$L,11,0)*24,\"\")","v":""},null,null,{"$f":"SUM(S27,X27)*60+T27","v":480},{"$f":"S27*60+T27","v":480},{"$f":"U27*60+V27","v":18}]
[{"$f":"A27+1","v":"2018-07-03"},1,1,3,"화",{"$f":"IFERROR(VLOOKUP($A28,'관리자 Setting'!$K$6:$M$36,3,0),\"\")","v":""},null,null,{"$f":"IFERROR(IF(OR(E28=\"토\",E28=\"일\",F28<>\"\"),\"\",VLOOKUP(A28&0,'설정_In-Put'!$A:$L,6,0)),\"\")","v":"정상"},null,1,27,{"$f":"IFERROR(VLOOKUP($A28,계획서_3분기!$A:$X,13,0),\"\")","v":8},0,{"$f":"IFERROR(VLOOKUP($A28,계획서_3분기!$A:$X,15,0),\"\")","v":0},0,{"$f":"INT(SUMIFS('설정_In-Put'!$K:$K,'설정_In-Put'!$C:$C,'7월'!$A28)*24)","v":9},{"$f":"ROUND((SUMIFS('설정_In-Put'!$K:$K,'설정_In-Put'!$C:$C,'7월'!$A28)*24-Q28)*60,0)","v":39},8,null,1,{"v":38.99999999999999,"d":"39"},{"$f":"IF(SUMIFS('7월'!$AA$26:$AA$56,'7월'!$L$26:$L$56,$L28)+SUMIFS('8월'!$AA$26:$AA$56,'8월'!$L$26:$L$56,$L28)+SUMIFS('9월'!$AA$26:$AA$56,'9월'!$L$26:$L$56,$L28)>3120,1,IF($A28=\"\",\"\",IF(OR($E28=\"일\",$F28<>\"\"),1,0)*IF(S28+T28<>0,1,0)))","v":0},{"$f":"IFERROR(VLOOKUP($A28&1,'설정_In-Put'!$B:$L,11,0)*24,\"\")","v":""},null,null,480,480,99]
["2018-07-04",1,1,4,"수",{"$f":"IFERROR(VLOOKUP($A29,'관리자 Setting'!$K$6:$M$36,3,0),\"\")","v":""},null,null,{"$f":"IFERROR(IF(OR(E29=\"토\",E29=\"일\",F29<>\"\"),\"\",VLOOKUP(A29&0,'설정_In-Put'!$A:$L,6,0)),\"\")","v":"정상"},null,1,27,{"$f":"IFERROR(VLOOKUP($A29,계획서_3분기!$A:$X,13,0),\"\")","v":8},0,{"$f":"IFERROR(VLOOKUP($A29,계획서_3분기!$A:$X,15,0),\"\")","v":0},0,{"$f":"INT(SUMIFS('설정_In-Put'!$K:$K,'설정_In-Put'!$C:$C,'7월'!$A29)*24)","v":7},{"$f":"ROUND((SUMIFS('설정_In-Put'!$K:$K,'설정_In-Put'!$C:$C,'7월'!$A29)*24-Q29)*60,0)","v":20},7,null,0,20,{"$f":"IF(SUMIFS('7월'!$AA$26:$AA$56,'7월'!$L$26:$L$56,$L29)+SUMIFS('8월'!$AA$26:$AA$56,'8월'!$L$26:$L$56,$L29)+SUMIFS('9월'!$AA$26:$AA$56,'9월'!$L$26:$L$56,$L29)>3120,1,IF($A29=\"\",\"\",IF(OR($E29=\"일\",$F29<>\"\"),1,0)*IF(S29+T29<>0,1,0)))","v":0},{"$f":"IFERROR(VLOOKUP($A29&1,'설정_In-Put'!$B:$L,11,0)*24,\"\")","v":""},null,null,420,420,20]
["2018-07-05",1,1,5,"목",{"$f":"IFERROR(VLOOKUP($A30,'관리자 Setting'!$K$6:$M$36,3,0),\"\")","v":""},null,null,{"$f":"IFERROR(IF(OR(E30=\"토\",E30=\"일\",F30<>\"\"),\"\",VLOOKUP(A30&0,'설정_In-Put'!$A:$L,6,0)),\"\")","v":"정상"},null,1,27,{"$f":"IFERROR(VLOOKUP($A30,계획서_3분기!$A:$X,13,0),\"\")","v":8},0,{"$f":"IFERROR(VLOOKUP($A30,계획서_3분기!$A:$X,15,0),\"\")","v":0},0,{"$f":"INT(SUMIFS('설정_In-Put'!$K:$K,'설정_In-Put'!$C:$C,'7월'!$A30)*24)","v":11},{"$f":"ROUND((SUMIFS('설정_In-Put'!$K:$K,'설정_In-Put'!$C:$C,'7월'!$A30)*24-Q30)*60,0)","v":33},9,null,2,{"v":32.999999999999986,"d":"33"},{"$f":"IF(SUMIFS('7월'!$AA$26:$AA$56,'7월'!$L$26:$L$56,$L30)+SUMIFS('8월'!$AA$26:$AA$56,'8월'!$L$26:$L$56,$L30)+SUMIFS('9월'!$AA$26:$AA$56,'9월'!$L$26:$L$56,$L30)>3120,1,IF($A30=\"\",\"\",IF(OR($E30=\"일\",$F30<>\"\"),1,0)*IF(S30+T30<>0,1,0)))","v":0},{"$f":"IFERROR(VLOOKUP($A30&1,'설정_In-Put'!$B:$L,11,0)*24,\"\")","v":""},null,null,540,540,153]
["2018-07-06",1,1,6,"금",{"$f":"IFERROR(VLOOKUP($A31,'관리자 Setting'!$K$6:$M$36,3,0),\"\")","v":""},null,null,{"$f":"IFERROR(IF(OR(E31=\"토\",E31=\"일\",F31<>\"\"),\"\",VLOOKUP(A31&0,'설정_In-Put'!$A:$L,6,0)),\"\")","v":"정상"},null,1,27,{"$f":"IFERROR(VLOOKUP($A31,계획서_3분기!$A:$X,13,0),\"\")","v":8},0,{"$f":"IFERROR(VLOOKUP($A31,계획서_3분기!$A:$X,15,0),\"\")","v":0},0,{"$f":"INT(SUMIFS('설정_In-Put'!$K:$K,'설정_In-Put'!$C:$C,'7월'!$A31)*24)","v":12},{"$f":"ROUND((SUMIFS('설정_In-Put'!$K:$K,'설정_In-Put'!$C:$C,'7월'!$A31)*24-Q31)*60,0)","v":39},8,null,4,{"v":39.00000000000002,"d":"39"},{"$f":"IF(SUMIFS('7월'!$AA$26:$AA$56,'7월'!$L$26:$L$56,$L31)+SUMIFS('8월'!$AA$26:$AA$56,'8월'!$L$26:$L$56,$L31)+SUMIFS('9월'!$AA$26:$AA$56,'9월'!$L$26:$L$56,$L31)>3120,1,IF($A31=\"\",\"\",IF(OR($E31=\"일\",$F31<>\"\"),1,0)*IF(S31+T31<>0,1,0)))","v":0},{"$f":"IFERROR(VLOOKUP($A31&1,'설정_In-Put'!$B:$L,11,0)*24,\"\")","v":""},null,null,480,480,279]
["2018-07-07",1,1,7,"토",{"$f":"IFERROR(VLOOKUP($A32,'관리자 Setting'!$K$6:$M$36,3,0),\"\")","v":""},null,null,{"$f":"IFERROR(IF(OR(E32=\"토\",E32=\"일\",F32<>\"\"),\"\",VLOOKUP(A32&0,'설정_In-Put'!$A:$L,6,0)),\"\")","v":""},null,1,27,{"$f":"IFERROR(VLOOKUP($A32,계획서_3분기!$A:$X,13,0),\"\")","v":0},0,{"$f":"IFERROR(VLOOKUP($A32,계획서_3분기!$A:$X,15,0),\"\")","v":0},0,{"$f":"INT(SUMIFS('설정_In-Put'!$K:$K,'설정_In-Put'!$C:$C,'7월'!$A32)*24)","v":0},{"$f":"ROUND((SUMIFS('설정_In-Put'!$K:$K,'설정_In-Put'!$C:$C,'7월'!$A32)*24-Q32)*60,0)","v":0},null,null,0,0,{"$f":"IF(SUMIFS('7월'!$AA$26:$AA$56,'7월'!$L$26:$L$56,$L32)+SUMIFS('8월'!$AA$26:$AA$56,'8월'!$L$26:$L$56,$L32)+SUMIFS('9월'!$AA$26:$AA$56,'9월'!$L$26:$L$56,$L32)>3120,1,IF($A32=\"\",\"\",IF(OR($E32=\"일\",$F32<>\"\"),1,0)*IF(S32+T32<>0,1,0)))","v":0},{"$f":"IFERROR(VLOOKUP($A32&1,'설정_In-Put'!$B:$L,11,0)*24,\"\")","v":""},null,null,0,0,0]
["2018-07-08",0,0,8,"일",{"$f":"IFERROR(VLOOKUP($A33,'관리자 Setting'!$K$6:$M$36,3,0),\"\")","v":""},null,null,{"$f":"IFERROR(IF(OR(E33=\"토\",E33=\"일\",F33<>\"\"),\"\",VLOOKUP(A33&0,'설정_In-Put'!$A:$L,6,0)),\"\")","v":""},null,1,27,{"$f":"IFERROR(VLOOKUP($A33,계획서_3분기!$A:$X,13,0),\"\")","v":8},0,{"$f":"IFERROR(VLOOKUP($A33,계획서_3분기!$A:$X,15,0),\"\")","v":0},0,{"$f":"INT(SUMIFS('설정_In-Put'!$K:$K,'설정_In-Put'!$C:$C,'7월'!$A33)*24)","v":0},{"$f":"ROUND((SUMIFS('설정_In-Put'!$K:$K,'설정_In-Put'!$C:$C,'7월'!$A33)*24-Q33)*60,0)","v":0},null,null,0,0,{"$f":"IF(SUMIFS('7월'!$AA$26:$AA$56,'7월'!$L$26:$L$56,$L33)+SUMIFS('8월'!$AA$26:$AA$56,'8월'!$L$26:$L$56,$L33)+SUMIFS('9월'!$AA$26:$AA$56,'9월'!$L$26:$L$56,$L33)>3120,1,IF($A33=\"\",\"\",IF(OR($E33=\"일\",$F33<>\"\"),1,0)*IF(S33+T33<>0,1,0)))","v":0},{"$f":"IFERROR(VLOOKUP($A33&1,'설정_In-Put'!$B:$L,11,0)*24,\"\")","v":""},null,null,0,0,0]
["2018-07-09",1,1,9,"월",{"$f":"IFERROR(VLOOKUP($A34,'관리자 Setting'!$K$6:$M$36,3,0),\"\")","v":""},null,null,{"$f":"IFERROR(IF(OR(E34=\"토\",E34=\"일\",F34<>\"\"),\"\",VLOOKUP(A34&0,'설정_In-Put'!$A:$L,6,0)),\"\")","v":"정상"},null,2,28,{"$f":"IFERROR(VLOOKUP($A34,계획서_3분기!$A:$X,13,0),\"\")","v":8},0,{"$f":"IFERROR(VLOOKUP($A34,계획서_3분기!$A:$X,15,0),\"\")","v":0},0,{"$f":"INT(SUMIFS('설정_In-Put'!$K:$K,'설정_In-Put'!$C:$C,'7월'!$A34)*24)","v":8},{"$f":"ROUND((SUMIFS('설정_In-Put'!$K:$K,'설정_In-Put'!$C:$C,'7월'!$A34)*24-Q34)*60,0)","v":49},8,null,0,49,{"$f":"IF(SUMIFS('7월'!$AA$26:$AA$56,'7월'!$L$26:$L$56,$L34)+SUMIFS('8월'!$AA$26:$AA$56,'8월'!$L$26:$L$56,$L34)+SUMIFS('9월'!$AA$26:$AA$56,'9월'!$L$26:$L$56,$L34)>3120,1,IF($A34=\"\",\"\",IF(OR($E34=\"일\",$F34<>\"\"),1,0)*IF(S34+T34<>0,1,0)))","v":0},{"$f":"IFERROR(VLOOKUP($A34&1,'설정_In-Put'!$B:$L,11,0)*24,\"\")","v":""},null,null,480,480,49]
["2018-07-10",1,1,10,"화",{"$f":"IFERROR(VLOOKUP($A35,'관리자 Setting'!$K$6:$M$36,3,0),\"\")","v":""},null,null,{"$f":"IFERROR(IF(OR(E35=\"토\",E35=\"일\",F35<>\"\"),\"\",VLOOKUP(A35&0,'설정_In-Put'!$A:$L,6,0)),\"\")","v":"정상"},null,2,28,{"$f":"IFERROR(VLOOKUP($A35,계획서_3분기!$A:$X,13,0),\"\")","v":8},0,{"$f":"IFERROR(VLOOKUP($A35,계획서_3분기!$A:$X,15,0),\"\")","v":0},0,{"$f":"INT(SUMIFS('설정_In-Put'!$K:$K,'설정_In-Put'!$C:$C,'7월'!$A35)*24)","v":11},{"$f":"ROUND((SUMIFS('설정_In-Put'!$K:$K,'설정_In-Put'!$C:$C,'7월'!$A35)*24-Q35)*60,0)","v":2},8,null,3,{"v":1.999999999999993,"d":"2"},{"$f":"IF(SUMIFS('7월'!$AA$26:$AA$56,'7월'!$L$26:$L$56,$L35)+SUMIFS('8월'!$AA$26:$AA$56,'8월'!$L$26:$L$56,$L35)+SUMIFS('9월'!$AA$26:$AA$56,'9월'!$L$26:$L$56,$L35)>3120,1,IF($A35=\"\",\"\",IF(OR($E35=\"일\",$F35<>\"\"),1,0)*IF(S35+T35<>0,1,0)))","v":0},{"$f":"IFERROR(VLOOKUP($A35&1,'설정_In-Put'!$B:$L,11,0)*24,\"\")","v":""},null,null,480,480,182]
["2018-07-11",1,1,11,"수",{"$f":"IFERROR(VLOOKUP($A36,'관리자 Setting'!$K$6:$M$36,3,0),\"\")","v":""},null,null,{"$f":"IFERROR(IF(OR(E36=\"토\",E36=\"일\",F36<>\"\"),\"\",VLOOKUP(A36&0,'설정_In-Put'!$A:$L,6,0)),\"\")","v":"정상"},null,2,28,{"$f":"IFERROR(VLOOKUP($A36,계획서_3분기!$A:$X,13,0),\"\")","v":8},0,{"$f":"IFERROR(VLOOKUP($A36,계획서_3분기!$A:$X,15,0),\"\")","v":0},0,{"$f":"INT(SUMIFS('설정_In-Put'!$K:$K,'설정_In-Put'!$C:$C,'7월'!$A36)*24)","v":7},{"$f":"ROUND((SUMIFS('설정_In-Put'!$K:$K,'설정_In-Put'!$C:$C,'7월'!$A36)*24-Q36)*60,0)","v":33},7,null,0,33,{"$f":"IF(SUMIFS('7월'!$AA$26:$AA$56,'7월'!$L$26:$L$56,$L36)+SUMIFS('8월'!$AA$26:$AA$56,'8월'!$L$26:$L$56,$L36)+SUMIFS('9월'!$AA$26:$AA$56,'9월'!$L$26:$L$56,$L36)>3120,1,IF($A36=\"\",\"\",IF(OR($E36=\"일\",$F36<>\"\"),1,0)*IF(S36+T36<>0,1,0)))","v":0},{"$f":"IFERROR(VLOOKUP($A36&1,'설정_In-Put'!$B:$L,11,0)*24,\"\")","v":""},null,null,420,420,33]
["2018-07-12",1,1,12,"목",{"$f":"IFERROR(VLOOKUP($A37,'관리자 Setting'!$K$6:$M$36,3,0),\"\")","v":""},null,null,{"$f":"IFERROR(IF(OR(E37=\"토\",E37=\"일\",F37<>\"\"),\"\",VLOOKUP(A37&0,'설정_In-Put'!$A:$L,6,0)),\"\")","v":"정상"},null,2,28,{"$f":"IFERROR(VLOOKUP($A37,계획서_3분기!$A:$X,13,0),\"\")","v":8},0,{"$f":"IFERROR(VLOOKUP($A37,계획서_3분기!$A:$X,15,0),\"\")","v":0},0,{"$f":"INT(SUMIFS('설정_In-Put'!$K:$K,'설정_In-Put'!$C:$C,'7월'!$A37)*24)","v":9},{"$f":"ROUND((SUMIFS('설정_In-Put'!$K:$K,'설정_In-Put'!$C:$C,'7월'!$A37)*24-Q37)*60,0)","v":1},9,null,0,1,{"$f":"IF(SUMIFS('7월'!$AA$26:$AA$56,'7월'!$L$26:$L$56,$L37)+SUMIFS('8월'!$AA$26:$AA$56,'8월'!$L$26:$L$56,$L37)+SUMIFS('9월'!$AA$26:$AA$56,'9월'!$L$26:$L$56,$L37)>3120,1,IF($A37=\"\",\"\",IF(OR($E37=\"일\",$F37<>\"\"),1,0)*IF(S37+T37<>0,1,0)))","v":0},{"$f":"IFERROR(VLOOKUP($A37&1,'설정_In-Put'!$B:$L,11,0)*24,\"\")","v":""},null,null,540,540,1]
["2018-07-13",1,1,13,"금",{"$f":"IFERROR(VLOOKUP($A38,'관리자 Setting'!$K$6:$M$36,3,0),\"\")","v":""},null,null,{"$f":"IFERROR(IF(OR(E38=\"토\",E38=\"일\",F38<>\"\"),\"\",VLOOKUP(A38&0,'설정_In-Put'!$A:$L,6,0)),\"\")","v":"정상"},null,2,28,{"$f":"IFERROR(VLOOKUP($A38,계획서_3분기!$A:$X,13,0),\"\")","v":8},0,{"$f":"IFERROR(VLOOKUP($A38,계획서_3분기!$A:$X,15,0),\"\")","v":0},0,{"$f":"INT(SUMIFS('설정_In-Put'!$K:$K,'설정_In-Put'!$C:$C,'7월'!$A38)*24)","v":8},{"$f":"ROUND((SUMIFS('설정_In-Put'!$K:$K,'설정_In-Put'!$C:$C,'7월'!$A38)*24-Q38)*60,0)","v":8},8,null,0,8,{"$f":"IF(SUMIFS('7월'!$AA$26:$AA$56,'7월'!$L$26:$L$56,$L38)+SUMIFS('8월'!$AA$26:$AA$56,'8월'!$L$26:$L$56,$L38)+SUMIFS('9월'!$AA$26:$AA$56,'9월'!$L$26:$L$56,$L38)>3120,1,IF($A38=\"\",\"\",IF(OR($E38=\"일\",$F38<>\"\"),1,0)*IF(S38+T38<>0,1,0)))","v":0},{"$f":"IFERROR(VLOOKUP($A38&1,'설정_In-Put'!$B:$L,11,0)*24,\"\")","v":""},null,null,480,480,8]
["2018-07-14",1,1,14,"토",{"$f":"IFERROR(VLOOKUP($A39,'관리자 Setting'!$K$6:$M$36,3,0),\"\")","v":""},null,null,{"$f":"IFERROR(IF(OR(E39=\"토\",E39=\"일\",F39<>\"\"),\"\",VLOOKUP(A39&0,'설정_In-Put'!$A:$L,6,0)),\"\")","v":""},null,2,28,{"$f":"IFERROR(VLOOKUP($A39,계획서_3분기!$A:$X,13,0),\"\")","v":0},0,{"$f":"IFERROR(VLOOKUP($A39,계획서_3분기!$A:$X,15,0),\"\")","v":0},0,{"$f":"INT(SUMIFS('설정_In-Put'!$K:$K,'설정_In-Put'!$C:$C,'7월'!$A39)*24)","v":5},{"$f":"ROUND((SUMIFS('설정_In-Put'!$K:$K,'설정_In-Put'!$C:$C,'7월'!$A39)*24-Q39)*60,0)","v":1},null,null,5,{"v":0.9999999999999964,"d":"1"},{"$f":"IF(SUMIFS('7월'!$AA$26:$AA$56,'7월'!$L$26:$L$56,$L39)+SUMIFS('8월'!$AA$26:$AA$56,'8월'!$L$26:$L$56,$L39)+SUMIFS('9월'!$AA$26:$AA$56,'9월'!$L$26:$L$56,$L39)>3120,1,IF($A39=\"\",\"\",IF(OR($E39=\"일\",$F39<>\"\"),1,0)*IF(S39+T39<>0,1,0)))","v":0},{"$f":"IFERROR(VLOOKUP($A39&1,'설정_In-Put'!$B:$L,11,0)*24,\"\")","v":""},null,null,0,0,301]
["2018-07-15",0,0,15,"일",{"$f":"IFERROR(VLOOKUP($A40,'관리자 Setting'!$K$6:$M$36,3,0),\"\")","v":""},null,null,{"$f":"IFERROR(IF(OR(E40=\"토\",E40=\"일\",F40<>\"\"),\"\",VLOOKUP(A40&0,'설정_In-Put'!$A:$L,6,0)),\"\")","v":""},null,2,28,{"$f":"IFERROR(VLOOKUP($A40,계획서_3분기!$A:$X,13,0),\"\")","v":0},0,5,0,{"$f":"INT(SUMIFS('설정_In-Put'!$K:$K,'설정_In-Put'!$C:$C,'7월'!$A40)*24)","v":0},{"$f":"ROUND((SUMIFS('설정_In-Put'!$K:$K,'설정_In-Put'!$C:$C,'7월'!$A40)*24-Q40)*60,0)","v":0},null,null,0,0,{"$f":"IF(SUMIFS('7월'!$AA$26:$AA$56,'7월'!$L$26:$L$56,$L40)+SUMIFS('8월'!$AA$26:$AA$56,'8월'!$L$26:$L$56,$L40)+SUMIFS('9월'!$AA$26:$AA$56,'9월'!$L$26:$L$56,$L40)>3120,1,IF($A40=\"\",\"\",IF(OR($E40=\"일\",$F40<>\"\"),1,0)*IF(S40+T40<>0,1,0)))","v":0},{"$f":"IFERROR(VLOOKUP($A40&1,'설정_In-Put'!$B:$L,11,0)*24,\"\")","v":""},null,null,0,0,0]
["2018-07-16",1,1,16,"월",{"$f":"IFERROR(VLOOKUP($A41,'관리자 Setting'!$K$6:$M$36,3,0),\"\")","v":""},null,null,{"$f":"IFERROR(IF(OR(E41=\"토\",E41=\"일\",F41<>\"\"),\"\",VLOOKUP(A41&0,'설정_In-Put'!$A:$L,6,0)),\"\")","v":"정상"},null,3,29,{"$f":"IFERROR(VLOOKUP($A41,계획서_3분기!$A:$X,13,0),\"\")","v":8},0,{"$f":"IFERROR(VLOOKUP($A41,계획서_3분기!$A:$X,15,0),\"\")","v":0},0,{"$f":"INT(SUMIFS('설정_In-Put'!$K:$K,'설정_In-Put'!$C:$C,'7월'!$A41)*24)","v":8},{"$f":"ROUND((SUMIFS('설정_In-Put'!$K:$K,'설정_In-Put'!$C:$C,'7월'!$A41)*24-Q41)*60,0)","v":37},8,null,0,37,{"$f":"IF(SUMIFS('7월'!$AA$26:$AA$56,'7월'!$L$26:$L$56,$L41)+SUMIFS('8월'!$AA$26:$AA$56,'8월'!$L$26:$L$56,$L41)+SUMIFS('9월'!$AA$26:$AA$56,'9월'!$L$26:$L$56,$L41)>3120,1,IF($A41=\"\",\"\",IF(OR($E41=\"일\",$F41<>\"\"),1,0)*IF(S41+T41<>0,1,0)))","v":0},{"$f":"IFERROR(VLOOKUP($A41&1,'설정_In-Put'!$B:$L,11,0)*24,\"\")","v":""},null,null,480,480,37]
["2018-07-17",1,1,17,"화",{"$f":"IFERROR(VLOOKUP($A42,'관리자 Setting'!$K$6:$M$36,3,0),\"\")","v":""},null,null,{"$f":"IFERROR(IF(OR(E42=\"토\",E42=\"일\",F42<>\"\"),\"\",VLOOKUP(A42&0,'설정_In-Put'!$A:$L,6,0)),\"\")","v":"정상"},null,3,29,{"$f":"IFERROR(VLOOKUP($A42,계획서_3분기!$A:$X,13,0),\"\")","v":8},0,{"$f":"IFERROR(VLOOKUP($A42,계획서_3분기!$A:$X,15,0),\"\")","v":0},0,{"$f":"INT(SUMIFS('설정_In-Put'!$K:$K,'설정_In-Put'!$C:$C,'7월'!$A42)*24)","v":8},{"$f":"ROUND((SUMIFS('설정_In-Put'!$K:$K,'설정_In-Put'!$C:$C,'7월'!$A42)*24-Q42)*60,0)","v":11},8,null,0,11,{"$f":"IF(SUMIFS('7월'!$AA$26:$AA$56,'7월'!$L$26:$L$56,$L42)+SUMIFS('8월'!$AA$26:$AA$56,'8월'!$L$26:$L$56,$L42)+SUMIFS('9월'!$AA$26:$AA$56,'9월'!$L$26:$L$56,$L42)>3120,1,IF($A42=\"\",\"\",IF(OR($E42=\"일\",$F42<>\"\"),1,0)*IF(S42+T42<>0,1,0)))","v":0},{"$f":"IFERROR(VLOOKUP($A42&1,'설정_In-Put'!$B:$L,11,0)*24,\"\")","v":""},null,null,480,480,11]
["2018-07-18",1,1,18,"수",{"$f":"IFERROR(VLOOKUP($A43,'관리자 Setting'!$K$6:$M$36,3,0),\"\")","v":""},null,null,{"$f":"IFERROR(IF(OR(E43=\"토\",E43=\"일\",F43<>\"\"),\"\",VLOOKUP(A43&0,'설정_In-Put'!$A:$L,6,0)),\"\")","v":"관외출장"},null,3,29,{"$f":"IFERROR(VLOOKUP($A43,계획서_3분기!$A:$X,13,0),\"\")","v":8},0,{"$f":"IFERROR(VLOOKUP($A43,계획서_3분기!$A:$X,15,0),\"\")","v":0},0,{"$f":"INT(SUMIFS('설정_In-Put'!$K:$K,'설정_In-Put'!$C:$C,'7월'!$A43)*24)","v":0},{"$f":"ROUND((SUMIFS('설정_In-Put'!$K:$K,'설정_In-Put'!$C:$C,'7월'!$A43)*24-Q43)*60,0)","v":0},null,null,0,0,{"$f":"IF(SUMIFS('7월'!$AA$26:$AA$56,'7월'!$L$26:$L$56,$L43)+SUMIFS('8월'!$AA$26:$AA$56,'8월'!$L$26:$L$56,$L43)+SUMIFS('9월'!$AA$26:$AA$56,'9월'!$L$26:$L$56,$L43)>3120,1,IF($A43=\"\",\"\",IF(OR($E43=\"일\",$F43<>\"\"),1,0)*IF(S43+T43<>0,1,0)))","v":0},{"$f":"IFERROR(VLOOKUP($A43&1,'설정_In-Put'!$B:$L,11,0)*24,\"\")","v":8},null,null,480,0,0]
["2018-07-19",1,1,19,"목",{"$f":"IFERROR(VLOOKUP($A44,'관리자 Setting'!$K$6:$M$36,3,0),\"\")","v":""},null,null,{"$f":"IFERROR(IF(OR(E44=\"토\",E44=\"일\",F44<>\"\"),\"\",VLOOKUP(A44&0,'설정_In-Put'!$A:$L,6,0)),\"\")","v":"정상"},null,3,29,{"$f":"IFERROR(VLOOKUP($A44,계획서_3분기!$A:$X,13,0),\"\")","v":8},0,{"$f":"IFERROR(VLOOKUP($A44,계획서_3분기!$A:$X,15,0),\"\")","v":0},0,{"$f":"INT(SUMIFS('설정_In-Put'!$K:$K,'설정_In-Put'!$C:$C,'7월'!$A44)*24)","v":8},{"$f":"ROUND((SUMIFS('설정_In-Put'!$K:$K,'설정_In-Put'!$C:$C,'7월'!$A44)*24-Q44)*60,0)","v":28},8,null,0,28,{"$f":"IF(SUMIFS('7월'!$AA$26:$AA$56,'7월'!$L$26:$L$56,$L44)+SUMIFS('8월'!$AA$26:$AA$56,'8월'!$L$26:$L$56,$L44)+SUMIFS('9월'!$AA$26:$AA$56,'9월'!$L$26:$L$56,$L44)>3120,1,IF($A44=\"\",\"\",IF(OR($E44=\"일\",$F44<>\"\"),1,0)*IF(S44+T44<>0,1,0)))","v":0},{"$f":"IFERROR(VLOOKUP($A44&1,'설정_In-Put'!$B:$L,11,0)*24,\"\")","v":""},null,null,480,480,28]
["2018-07-20",1,1,20,"금",{"$f":"IFERROR(VLOOKUP($A45,'관리자 Setting'!$K$6:$M$36,3,0),\"\")","v":""},null,null,{"$f":"IFERROR(IF(OR(E45=\"토\",E45=\"일\",F45<>\"\"),\"\",VLOOKUP(A45&0,'설정_In-Put'!$A:$L,6,0)),\"\")","v":"반차휴가"},null,3,29,{"$f":"IFERROR(VLOOKUP($A45,계획서_3분기!$A:$X,13,0),\"\")","v":8},0,{"$f":"IFERROR(VLOOKUP($A45,계획서_3분기!$A:$X,15,0),\"\")","v":0},0,{"$f":"INT(SUMIFS('설정_In-Put'!$K:$K,'설정_In-Put'!$C:$C,'7월'!$A45)*24)","v":4},{"$f":"ROUND((SUMIFS('설정_In-Put'!$K:$K,'설정_In-Put'!$C:$C,'7월'!$A45)*24-Q45)*60,0)","v":7},4,null,0,7,{"$f":"IF(SUMIFS('7월'!$AA$26:$AA$56,'7월'!$L$26:$L$56,$L45)+SUMIFS('8월'!$AA$26:$AA$56,'8월'!$L$26:$L$56,$L45)+SUMIFS('9월'!$AA$26:$AA$56,'9월'!$L$26:$L$56,$L45)>3120,1,IF($A45=\"\",\"\",IF(OR($E45=\"일\",$F45<>\"\"),1,0)*IF(S45+T45<>0,1,0)))","v":0},{"$f":"IFERROR(VLOOKUP($A45&1,'설정_In-Put'!$B:$L,11,0)*24,\"\")","v":4},null,null,480,240,7]
["2018-07-21",1,1,21,"토",{"$f":"IFERROR(VLOOKUP($A46,'관리자 Setting'!$K$6:$M$36,3,0),\"\")","v":""},null,null,{"$f":"IFERROR(IF(OR(E46=\"토\",E46=\"일\",F46<>\"\"),\"\",VLOOKUP(A46&0,'설정_In-Put'!$A:$L,6,0)),\"\")","v":""},null,3,29,{"$f":"IFERROR(VLOOKUP($A46,계획서_3분기!$A:$X,13,0),\"\")","v":0},0,{"$f":"IFERROR(VLOOKUP($A46,계획서_3분기!$A:$X,15,0),\"\")","v":0},0,{"$f":"INT(SUMIFS('설정_In-Put'!$K:$K,'설정_In-Put'!$C:$C,'7월'!$A46)*24)","v":0},{"$f":"ROUND((SUMIFS('설정_In-Put'!$K:$K,'설정_In-Put'!$C:$C,'7월'!$A46)*24-Q46)*60,0)","v":0},null,null,0,0,{"$f":"IF(SUMIFS('7월'!$AA$26:$AA$56,'7월'!$L$26:$L$56,$L46)+SUMIFS('8월'!$AA$26:$AA$56,'8월'!$L$26:$L$56,$L46)+SUMIFS('9월'!$AA$26:$AA$56,'9월'!$L$26:$L$56,$L46)>3120,1,IF($A46=\"\",\"\",IF(OR($E46=\"일\",$F46<>\"\"),1,0)*IF(S46+T46<>0,1,0)))","v":0},{"$f":"IFERROR(VLOOKUP($A46&1,'설정_In-Put'!$B:$L,11,0)*24,\"\")","v":""},null,null,0,0,0]
["2018-07-22",0,0,22,"일",{"$f":"IFERROR(VLOOKUP($A47,'관리자 Setting'!$K$6:$M$36,3,0),\"\")","v":""},null,null,{"$f":"IFERROR(IF(OR(E47=\"토\",E47=\"일\",F47<>\"\"),\"\",VLOOKUP(A47&0,'설정_In-Put'!$A:$L,6,0)),\"\")","v":""},null,3,29,{"$f":"IFERROR(VLOOKUP($A47,계획서_3분기!$A:$X,13,0),\"\")","v":0},0,{"$f":"IFERROR(VLOOKUP($A47,계획서_3분기!$A:$X,15,0),\"\")","v":0},0,{"$f":"INT(SUMIFS('설정_In-Put'!$K:$K,'설정_In-Put'!$C:$C,'7월'!$A47)*24)","v":0},{"$f":"ROUND((SUMIFS('설정_In-Put'!$K:$K,'설정_In-Put'!$C:$C,'7월'!$A47)*24-Q47)*60,0)","v":0},null,null,0,0,{"$f":"IF(SUMIFS('7월'!$AA$26:$AA$56,'7월'!$L$26:$L$56,$L47)+SUMIFS('8월'!$AA$26:$AA$56,'8월'!$L$26:$L$56,$L47)+SUMIFS('9월'!$AA$26:$AA$56,'9월'!$L$26:$L$56,$L47)>3120,1,IF($A47=\"\",\"\",IF(OR($E47=\"일\",$F47<>\"\"),1,0)*IF(S47+T47<>0,1,0)))","v":0},{"$f":"IFERROR(VLOOKUP($A47&1,'설정_In-Put'!$B:$L,11,0)*24,\"\")","v":""},null,null,0,0,0]
["2018-07-23",1,1,23,"월",{"$f":"IFERROR(VLOOKUP($A48,'관리자 Setting'!$K$6:$M$36,3,0),\"\")","v":""},null,null,{"$f":"IFERROR(IF(OR(E48=\"토\",E48=\"일\",F48<>\"\"),\"\",VLOOKUP(A48&0,'설정_In-Put'!$A:$L,6,0)),\"\")","v":"정상"},null,4,30,{"$f":"IFERROR(VLOOKUP($A48,계획서_3분기!$A:$X,13,0),\"\")","v":8},0,{"$f":"IFERROR(VLOOKUP($A48,계획서_3분기!$A:$X,15,0),\"\")","v":0},0,{"$f":"INT(SUMIFS('설정_In-Put'!$K:$K,'설정_In-Put'!$C:$C,'7월'!$A48)*24)","v":10},{"$f":"ROUND((SUMIFS('설정_In-Put'!$K:$K,'설정_In-Put'!$C:$C,'7월'!$A48)*24-Q48)*60,0)","v":0},8,null,2,0,{"$f":"IF(SUMIFS('7월'!$AA$26:$AA$56,'7월'!$L$26:$L$56,$L48)+SUMIFS('8월'!$AA$26:$AA$56,'8월'!$L$26:$L$56,$L48)+SUMIFS('9월'!$AA$26:$AA$56,'9월'!$L$26:$L$56,$L48)>3120,1,IF($A48=\"\",\"\",IF(OR($E48=\"일\",$F48<>\"\"),1,0)*IF(S48+T48<>0,1,0)))","v":0},{"$f":"IFERROR(VLOOKUP($A48&1,'설정_In-Put'!$B:$L,11,0)*24,\"\")","v":""},null,null,480,480,120]
["2018-07-24",1,1,24,"화",{"$f":"IFERROR(VLOOKUP($A49,'관리자 Setting'!$K$6:$M$36,3,0),\"\")","v":""},null,null,{"$f":"IFERROR(IF(OR(E49=\"토\",E49=\"일\",F49<>\"\"),\"\",VLOOKUP(A49&0,'설정_In-Put'!$A:$L,6,0)),\"\")","v":"정상"},null,4,30,{"$f":"IFERROR(VLOOKUP($A49,계획서_3분기!$A:$X,13,0),\"\")","v":8},0,{"$f":"IFERROR(VLOOKUP($A49,계획서_3분기!$A:$X,15,0),\"\")","v":0},0,{"$f":"INT(SUMIFS('설정_In-Put'!$K:$K,'설정_In-Put'!$C:$C,'7월'!$A49)*24)","v":8},{"$f":"ROUND((SUMIFS('설정_In-Put'!$K:$K,'설정_In-Put'!$C:$C,'7월'!$A49)*24-Q49)*60,0)","v":19},8,null,0,19,{"$f":"IF(SUMIFS('7월'!$AA$26:$AA$56,'7월'!$L$26:$L$56,$L49)+SUMIFS('8월'!$AA$26:$AA$56,'8월'!$L$26:$L$56,$L49)+SUMIFS('9월'!$AA$26:$AA$56,'9월'!$L$26:$L$56,$L49)>3120,1,IF($A49=\"\",\"\",IF(OR($E49=\"일\",$F49<>\"\"),1,0)*IF(S49+T49<>0,1,0)))","v":0},{"$f":"IFERROR(VLOOKUP($A49&1,'설정_In-Put'!$B:$L,11,0)*24,\"\")","v":""},null,null,480,480,19]
["2018-07-25",1,1,25,"수",{"$f":"IFERROR(VLOOKUP($A50,'관리자 Setting'!$K$6:$M$36,3,0),\"\")","v":""},null,null,{"$f":"IFERROR(IF(OR(E50=\"토\",E50=\"일\",F50<>\"\"),\"\",VLOOKUP(A50&0,'설정_In-Put'!$A:$L,6,0)),\"\")","v":"정상"},null,4,30,{"$f":"IFERROR(VLOOKUP($A50,계획서_3분기!$A:$X,13,0),\"\")","v":8},0,{"$f":"IFERROR(VLOOKUP($A50,계획서_3분기!$A:$X,15,0),\"\")","v":0},0,{"$f":"INT(SUMIFS('설정_In-Put'!$K:$K,'설정_In-Put'!$C:$C,'7월'!$A50)*24)","v":8},{"$f":"ROUND((SUMIFS('설정_In-Put'!$K:$K,'설정_In-Put'!$C:$C,'7월'!$A50)*24-Q50)*60,0)","v":40},8,null,0,40,{"$f":"IF(SUMIFS('7월'!$AA$26:$AA$56,'7월'!$L$26:$L$56,$L50)+SUMIFS('8월'!$AA$26:$AA$56,'8월'!$L$26:$L$56,$L50)+SUMIFS('9월'!$AA$26:$AA$56,'9월'!$L$26:$L$56,$L50)>3120,1,IF($A50=\"\",\"\",IF(OR($E50=\"일\",$F50<>\"\"),1,0)*IF(S50+T50<>0,1,0)))","v":0},{"$f":"IFERROR(VLOOKUP($A50&1,'설정_In-Put'!$B:$L,11,0)*24,\"\")","v":""},null,null,480,480,40]
["2018-07-26",1,1,26,"목",{"$f":"IFERROR(VLOOKUP($A51,'관리자 Setting'!$K$6:$M$36,3,0),\"\")","v":""},null,null,{"$f":"IFERROR(IF(OR(E51=\"토\",E51=\"일\",F51<>\"\"),\"\",VLOOKUP(A51&0,'설정_In-Put'!$A:$L,6,0)),\"\")","v":"관내출장"},null,4,30,{"$f":"IFERROR(VLOOKUP($A51,계획서_3분기!$A:$X,13,0),\"\")","v":8},0,{"$f":"IFERROR(VLOOKUP($A51,계획서_3분기!$A:$X,15,0),\"\")","v":0},0,{"$f":"INT(SUMIFS('설정_In-Put'!$K:$K,'설정_In-Put'!$C:$C,'7월'!$A51)*24)","v":8},{"$f":"ROUND((SUMIFS('설정_In-Put'!$K:$K,'설정_In-Put'!$C:$C,'7월'!$A51)*24-Q51)*60,0)","v":29},8,null,0,29,{"$f":"IF(SUMIFS('7월'!$AA$26:$AA$56,'7월'!$L$26:$L$56,$L51)+SUMIFS('8월'!$AA$26:$AA$56,'8월'!$L$26:$L$56,$L51)+SUMIFS('9월'!$AA$26:$AA$56,'9월'!$L$26:$L$56,$L51)>3120,1,IF($A51=\"\",\"\",IF(OR($E51=\"일\",$F51<>\"\"),1,0)*IF(S51+T51<>0,1,0)))","v":0},{"$f":"IFERROR(VLOOKUP($A51&1,'설정_In-Put'!$B:$L,11,0)*24,\"\")","v":""},null,null,480,480,29]
[{"$f":"IF(A51+1>EOMONTH($A$26,0),\"\",A51+1)","v":"2018-07-27"},1,1,27,"금",{"$f":"IFERROR(VLOOKUP($A52,'관리자 Setting'!$K$6:$M$36,3,0),\"\")","v":""},null,null,{"$f":"IFERROR(IF(OR(E52=\"토\",E52=\"일\",F52<>\"\"),\"\",VLOOKUP(A52&0,'설정_In-Put'!$A:$L,6,0)),\"\")","v":"정상"},null,4,30,{"$f":"IFERROR(VLOOKUP($A52,계획서_3분기!$A:$X,13,0),\"\")","v":8},0,{"$f":"IFERROR(VLOOKUP($A52,계획서_3분기!$A:$X,15,0),\"\")","v":0},0,{"$f":"INT(SUMIFS('설정_In-Put'!$K:$K,'설정_In-Put'!$C:$C,'7월'!$A52)*24)","v":11},{"$f":"ROUND((SUMIFS('설정_In-Put'!$K:$K,'설정_In-Put'!$C:$C,'7월'!$A52)*24-Q52)*60,0)","v":21},9,null,2,{"v":21.000000000000007,"d":"21"},{"$f":"IF(SUMIFS('7월'!$AA$26:$AA$56,'7월'!$L$26:$L$56,$L52)+SUMIFS('8월'!$AA$26:$AA$56,'8월'!$L$26:$L$56,$L52)+SUMIFS('9월'!$AA$26:$AA$56,'9월'!$L$26:$L$56,$L52)>3120,1,IF($A52=\"\",\"\",IF(OR($E52=\"일\",$F52<>\"\"),1,0)*IF(S52+T52<>0,1,0)))","v":0},{"$f":"IFERROR(VLOOKUP($A52&1,'설정_In-Put'!$B:$L,11,0)*24,\"\")","v":""},null,null,540,540,141]
[{"$f":"IFERROR(IF(A52+1>EOMONTH($A$26,0),\"\",A52+1),\"\")","v":"2018-07-28"},1,1,28,"토",{"$f":"IFERROR(VLOOKUP($A53,'관리자 Setting'!$K$6:$M$36,3,0),\"\")","v":""},null,null,{"$f":"IFERROR(IF(OR(E53=\"토\",E53=\"일\",F53<>\"\"),\"\",VLOOKUP(A53&0,'설정_In-Put'!$A:$L,6,0)),\"\")","v":""},null,4,30,{"$f":"IFERROR(VLOOKUP($A53,계획서_3분기!$A:$X,13,0),\"\")","v":0},0,{"$f":"IFERROR(VLOOKUP($A53,계획서_3분기!$A:$X,15,0),\"\")","v":0},0,{"$f":"INT(SUMIFS('설정_In-Put'!$K:$K,'설정_In-Put'!$C:$C,'7월'!$A53)*24)","v":4},{"$f":"ROUND((SUMIFS('설정_In-Put'!$K:$K,'설정_In-Put'!$C:$C,'7월'!$A53)*24-Q53)*60,0)","v":8},null,null,4,{"v":8.000000000000025,"d":"8"},{"$f":"IF(SUMIFS('7월'!$AA$26:$AA$56,'7월'!$L$26:$L$56,$L53)+SUMIFS('8월'!$AA$26:$AA$56,'8월'!$L$26:$L$56,$L53)+SUMIFS('9월'!$AA$26:$AA$56,'9월'!$L$26:$L$56,$L53)>3120,1,IF($A53=\"\",\"\",IF(OR($E53=\"일\",$F53<>\"\"),1,0)*IF(S53+T53<>0,1,0)))","v":0},{"$f":"IFERROR(VLOOKUP($A53&1,'설정_In-Put'!$B:$L,11,0)*24,\"\")","v":""},null,null,0,0,{"v":248.00000000000003,"d":"248"}]
[{"$f":"IFERROR(IF(A53+1>EOMONTH($A$26,0),\"\",A53+1),\"\")","v":"2018-07-29"},0,0,29,"일",{"$f":"IFERROR(VLOOKUP($A54,'관리자 Setting'!$K$6:$M$36,3,0),\"\")","v":""},null,null,{"$f":"IFERROR(IF(OR(E54=\"토\",E54=\"일\",F54<>\"\"),\"\",VLOOKUP(A54&0,'설정_In-Put'!$A:$L,6,0)),\"\")","v":""},null,4,30,{"$f":"IFERROR(VLOOKUP($A54,계획서_3분기!$A:$X,13,0),\"\")","v":0},0,{"$f":"IFERROR(VLOOKUP($A54,계획서_3분기!$A:$X,15,0),\"\")","v":0},0,{"$f":"INT(SUMIFS('설정_In-Put'!$K:$K,'설정_In-Put'!$C:$C,'7월'!$A54)*24)","v":0},{"$f":"ROUND((SUMIFS('설정_In-Put'!$K:$K,'설정_In-Put'!$C:$C,'7월'!$A54)*24-Q54)*60,0)","v":0},null,null,0,0,{"$f":"IF(SUMIFS('7월'!$AA$26:$AA$56,'7월'!$L$26:$L$56,$L54)+SUMIFS('8월'!$AA$26:$AA$56,'8월'!$L$26:$L$56,$L54)+SUMIFS('9월'!$AA$26:$AA$56,'9월'!$L$26:$L$56,$L54)>3120,1,IF($A54=\"\",\"\",IF(OR($E54=\"일\",$F54<>\"\"),1,0)*IF(S54+T54<>0,1,0)))","v":0},{"$f":"IFERROR(VLOOKUP($A54&1,'설정_In-Put'!$B:$L,11,0)*24,\"\")","v":""},null,null,0,0,0]
[{"$f":"IFERROR(IF(A54+1>EOMONTH($A$26,0),\"\",A54+1),\"\")","v":"2018-07-30"},1,1,30,"월",{"$f":"IFERROR(VLOOKUP($A55,'관리자 Setting'!$K$6:$M$36,3,0),\"\")","v":""},null,null,{"$f":"IFERROR(IF(OR(E55=\"토\",E55=\"일\",F55<>\"\"),\"\",VLOOKUP(A55&0,'설정_In-Put'!$A:$L,6,0)),\"\")","v":"관내출장"},null,5,31,{"$f":"IFERROR(VLOOKUP($A55,계획서_3분기!$A:$X,13,0),\"\")","v":8},0,{"$f":"IFERROR(VLOOKUP($A55,계획서_3분기!$A:$X,15,0),\"\")","v":0},0,{"$f":"INT(SUMIFS('설정_In-Put'!$K:$K,'설정_In-Put'!$C:$C,'7월'!$A55)*24)","v":8},{"$f":"ROUND((SUMIFS('설정_In-Put'!$K:$K,'설정_In-Put'!$C:$C,'7월'!$A55)*24-Q55)*60,0)","v":24},8,null,0,24,{"$f":"IF(SUMIFS('7월'!$AA$26:$AA$56,'7월'!$L$26:$L$56,$L55)+SUMIFS('8월'!$AA$26:$AA$56,'8월'!$L$26:$L$56,$L55)+SUMIFS('9월'!$AA$26:$AA$56,'9월'!$L$26:$L$56,$L55)>3120,1,IF($A55=\"\",\"\",IF(OR($E55=\"일\",$F55<>\"\"),1,0)*IF(S55+T55<>0,1,0)))","v":0},{"$f":"IFERROR(VLOOKUP($A55&1,'설정_In-Put'!$B:$L,11,0)*24,\"\")","v":""},null,null,480,480,24]
["2018-07-31",1,1,31,"화",{"$f":"IFERROR(VLOOKUP($A56,'관리자 Setting'!$K$6:$M$36,3,0),\"\")","v":""},null,null,{"$f":"IFERROR(IF(OR(E56=\"토\",E56=\"일\",F56<>\"\"),\"\",VLOOKUP(A56&0,'설정_In-Put'!$A:$L,6,0)),\"\")","v":"정상"},null,5,31,{"$f":"IFERROR(VLOOKUP($A56,계획서_3분기!$A:$X,13,0),\"\")","v":8},0,{"$f":"IFERROR(VLOOKUP($A56,계획서_3분기!$A:$X,15,0),\"\")","v":0},0,{"$f":"INT(SUMIFS('설정_In-Put'!$K:$K,'설정_In-Put'!$C:$C,'7월'!$A56)*24)","v":7},{"$f":"ROUND((SUMIFS('설정_In-Put'!$K:$K,'설정_In-Put'!$C:$C,'7월'!$A56)*24-Q56)*60,0)","v":11},7,null,0,11,{"$f":"IF(SUMIFS('7월'!$AA$26:$AA$56,'7월'!$L$26:$L$56,$L56)+SUMIFS('8월'!$AA$26:$AA$56,'8월'!$L$26:$L$56,$L56)+SUMIFS('9월'!$AA$26:$AA$56,'9월'!$L$26:$L$56,$L56)>3120,1,IF($A56=\"\",\"\",IF(OR($E56=\"일\",$F56<>\"\"),1,0)*IF(S56+T56<>0,1,0)))","v":0},{"$f":"IFERROR(VLOOKUP($A56&1,'설정_In-Put'!$B:$L,11,0)*24,\"\")","v":""},null,null,420,420,11]

{"sheet":"8월","index":13,"n_rows":56,"n_cols":30,"rows_kept":56,"merged":[[1,3,2,5],[1,6,2,20],[1,21,2,23],[4,3,5,3],[4,4,5,6],[4,7,5,8],[4,9,5,11],[4,12,5,13],[4,14,5,15],[4,16,5,17],[4,18,5,19],[4,20,5,21],[4,22,5,23],[7,3,7,23],[8,3,8,4],[8,5,8,9],[8,10,8,12],[8,13,8,14],[8,15,8,16],[8,17,8,18],[8,20,8,23],[9,3,9,4],[9,5,9,7],[9,8,9,9],[9,10,9,12],[9,13,9,14],[9,15,9,16],[9,17,9,18],[9,20,9,23],[10,3,10,4],[10,5,10,7],[10,8,10,9],[10,10,10,12],[10,13,10,14],[10,15,10,16],[10,17,10,18],[10,19,10,23],[11,3,11,4],[11,5,11,7],[11,8,11,9],[11,10,11,12],[11,13,11,14],[11,15,11,16],[11,17,11,18],[11,20,11,23],[13,3,13,23],[14,3,15,4],[14,5,15,9],[14,10,14,13],[14,14,14,17],[14,18,15,18],[14,19,15,23],[15,10,15,11],[15,12,15,13],[15,14,15,15],[15,16,15,17],[16,3,16,4],[16,5,16,7],[16,8,16,9],[16,10,16,11],[16,12,16,13],[16,14,16,15],[16,16,16,17],[16,19,16,23],[17,3,17,4],[17,5,17,7],[17,8,17,9],[17,10,17,11],[17,12,17,13],[17,14,17,15],[17,16,17,17],[17,19,17,23],[18,3,18,4],[18,5,18,7],[18,8,18,9],[18,10,18,11],[18,12,18,13],[18,14,18,15],[18,16,18,17],[18,19,18,23],[20,3,20,23],[21,3,23,3],[21,4,23,4],[21,5,23,7],[21,8,23,9],[21,10,23,10],[21,11,23,11],[21,12,21,15],[21,16,22,17],[21,18,21,21],[21,22,23,22],[21,23,23,23],[22,12,22,13],[22,14,22,15],[22,18,22,19],[22,20,22,21],[25,5,25,7],[25,8,25,9],[26,5,26,7],[26,8,26,9],[27,5,27,7],[27,8,27,9],[28,5,28,7],[28,8,28,9],[29,5,29,7],[29,8,29,9],[30,5,30,7],[30,8,30,9],[31,5,31,7],[31,8,31,9],[32,5,32,7],[32,8,32,9],[33,5,33,7],[33,8,33,9],[34,5,34,7],[34,8,34,9],[35,5,35,7],[35,8,35,9],[36,5,36,7],[36,8,36,9],[37,5,37,7],[37,8,37,9],[38,5,38,7],[38,8,38,9],[39,5,39,7],[39,8,39,9],[40,5,40,7],[40,8,40,9],[41,5,41,7],[41,8,41,9],[42,5,42,7],[42,8,42,9],[43,5,43,7],[43,8,43,9],[44,5,44,7],[44,8,44,9],[45,5,45,7],[45,8,45,9],[46,5,46,7],[46,8,46,9],[47,5,47,7],[47,8,47,9],[48,5,48,7],[48,8,48,9],[49,5,49,7],[49,8,49,9],[50,5,50,7],[50,8,50,9],[51,5,51,7],[51,8,51,9],[52,5,52,7],[52,8,52,9],[53,5,53,7],[53,8,53,9],[54,5,54,7],[54,8,54,9],[55,5,55,7],[55,8,55,9]]}
[]
[{"$nulls":3},"전월",null,null,{"$f":"'관리자 Setting'!$R$3&\"년 \"&TEXT($A$6,\"00월 근태 현황 (\")&$B$6&\"분기)\"","v":"2018년 08월 근태 현황 (3분기)"},{"$nulls":14},"익월"]
[]
[]
["월","분기",null,"소속","무한도전",null,null,"부서명",null,{"$f":"계획서_3분기!$J$5","v":"무한본부"},null,null,"직급",null,{"$f":"계획서_3분기!$O$5","v":"1급"},null,"ERP 사번",null,{"$f":"계획서_3분기!$S$5","v":"0002"},null,"성명",null,{"$f":"IF(계획서_3분기!W5=0,\"\",계획서_3분기!W5)","v":"박명수"}]
[8,3]
[]
[{"$nulls":3},"───────────────　　분　기　근　무　현　황　　───────────────"]
[{"$nulls":3},"구분",null,"규정 및 참조",{"$nulls":4},"합계/평균",null,null,{"v":7,"d":"7월"},null,{"v":8,"d":"8월"},null,{"v":9,"d":"9월"},null,"CHK","비고",{"$nulls":5},"합/평",1,2,3]
[{"$nulls":3},"전체 근로",{"$nulls":6},{"$f":"INT(AA10/60)&\"시간 \"&TEXT(ROUND((AA10/60-INT(AA10/60))*60,0),\"00분\")","v":"206시간 58분"},null,null,{"$f":"INT(AB10/60)&\"시간 \"&TEXT(ROUND((AB10/60-INT(AB10/60))*60,0),\"00분\")","v":"206시간 58분"},null,{"$f":"INT(AC10/60)&\"시간 \"&TEXT(ROUND((AC10/60-INT(AC10/60))*60,0),\"00분\")","v":"0시간 00분"},{"$nulls":10},{"$f":"SUM(AB10:AD10)","v":12418},{"$f":"'7월'!O17*60+'7월'!Q17","v":12418},{"$f":"'8월'!O17*60+'8월'!Q17","v":0}]
[{"$nulls":3},"정규 근로",null,"분기 필수 합계",null,null,{"$f":"IFERROR(VLOOKUP($B$6,'관리자 Setting'!$O$6:$R$10,2,0),\"\")","v":{"v":488,"d":"488 시간"}},null,"176시간 00분",null,null,{"$f":"INT(AB11/60)&\"시간 \"&TEXT(ROUND((AB11/60-INT(AB11/60))*60,0),\"00분\")","v":"176시간 00분"},null,{"$f":"INT(AC11/60)&\"시간 \"&TEXT(ROUND((AC11/60-INT(AC11/60))*60,0),\"00분\")","v":"0시간 00분"},{"$nulls":3},{"$f":"IF(I11*60>AA11,\"분기 필수 \"&INT((I11*60-AA11)/60)&\"시간 \"&TEXT(ROUND(((I11*60-AA11)/60-INT((I11*60-AA11)/60))*60,0),\"00분 남음\"),\"\")","v":"분기 필수 312시간 00분 남음"},{"$nulls":6},{"$f":"SUM(AB11:AD11)","v":10560},{"$f":"'7월'!O18*60+'7월'!Q18","v":10560},{"$f":"'8월'!O18*60+'8월'!Q18","v":0}]
[{"$nulls":3},"연장 근로",null,"월 평균 연장 근로",null,null,{"$f":"IFERROR(VLOOKUP($W$5,'관리자 Setting'!$C$3:$G$53,5,0),\"\")","v":{"v":35,"d":"35 시간"}},null,"15시간 29분",null,null,{"$f":"INT(AB12/60)&\"시간 \"&TEXT(ROUND((AB12/60-INT(AB12/60))*60,0),\"00분\")","v":"30시간 58분"},null,{"$f":"INT(AC12/60)&\"시간 \"&TEXT(ROUND((AC12/60-INT(AC12/60))*60,0),\"00분\")","v":"0시간 00분"},{"$nulls":3},{"$f":"IF(OR($I$12*60<AA12,$I$12*60<AB12,$I$12*60<AC12),1,0)","v":0},{"$f":"IF(T12=1,\"연장 근로 한도 초과\",\"\")","v":""},{"$nulls":5},{"$f":"AVERAGE(AB12:AD12)","v":929},{"$f":"'7월'!O19*60+'7월'!Q19","v":1858},{"$f":"'8월'!O19*60+'8월'!Q19","v":0}]
[]
[{"$nulls":3},"───────────────　　월　근　무　현　황　　───────────────"]
[{"$nulls":3},"구분",null,"규정 및 참조",{"$nulls":4},"근무 계획",{"$nulls":3},"근무 조정",{"$nulls":3},"CHK","비고"]
[{"$nulls":10},"시간",null,"분",null,"시간",null,"분"]
[{"$nulls":3},"전체 근로",{"$nulls":6},{"$f":"M25+O25","v":{"v":176,"d":"176 시간"}},null,"분",null,{"$f":"Q25+X25","v":0},null,{"$f":"R25","v":{"v":0,"d":"0 분"}}]
[{"$nulls":3},"정규 근로",{"$nulls":6},{"$f":"M25","v":{"v":176,"d":"176 시간"}},null,"분",null,{"$f":"S25+X25","v":0},null,{"$f":"T25","v":{"v":0,"d":"0 분"}}]
[{"$nulls":3},"연장 근로",null,"월 연장 근로 한도",null,null,{"$f":"IFERROR(VLOOKUP($W$5,'관리자 Setting'!$C$3:$G$53,5,0),\"\")","v":{"v":35,"d":"35 시간"}},null,{"$f":"O25","v":0},null,"분",null,{"$f":"U25","v":0},null,{"$f":"V25","v":{"v":0,"d":"0 분"}},null,{"$f":"IF($W$5=\"\",\"\",IF(I19*60<O19*60+Q19,1,0))","v":0},{"$f":"IF(S19=1,\"연장 근로 한도 시간 초과\",\"\")","v":""}]
[]
[{"$nulls":3},"───────────────　　일　/　주　간　근　무　현　황　　───────────────"]
[{"$nulls":3},"날짜","요일","참고",null,null,"상태",null,"주","주차","근무 계획",{"$nulls":3},"실\n근무시간",null,"조정",{"$nulls":3},"CHK","비고\n근무\n반영"]
[{"$nulls":12},"정규근로",null,"연장근로",{"$nulls":3},"정규근로",null,"연장근로"]
[{"$nulls":12},"시간","분","시간","분","시간","분","시간","분","시간","분",{"$nulls":4},"반영","실","연장"]
[{"$nulls":12},{"$f":"SUM(M26:M56)","v":176},0,{"$f":"SUM(O26:O56)","v":0},0,{"$f":"SUM(Q26:Q56)+INT(SUM(R26:R56)/60)","v":0},{"$f":"(SUM(R26:R56)/60-INT(SUM(R26:R56)/60))*60","v":0},{"$f":"SUM(S26:S56)+INT(SUM(T26:T56)/60)","v":0},{"$f":"(SUM(T26:T56)/60-INT(SUM(T26:T56)/60))*60","v":0},{"$f":"SUM(U26:U56)+INT(SUM(V26:V56)/60)","v":0},{"$f":"(SUM(V26:V56)/60-INT(SUM(V26:V56)/60))*60","v":0},null,{"$f":"SUM(X26:X56)","v":0}]
[{"$f":"DATE('관리자 Setting'!$R$3,$A$6,1)","v":"2018-08-01"},{"$f":"IF(OR($E26=\"일\",$F26<>\"\"),0,1)","v":1},1,1,{"$f":"TEXT($A26,\"AAA\")","v":"수"},{"$f":"IFERROR(VLOOKUP($A26,'관리자 Setting'!$K$6:$M$36,3,0),\"\")","v":""},null,null,{"$f":"IFERROR(IF(OR(E26=\"토\",E26=\"일\",F26<>\"\"),\"\",VLOOKUP(A26&0,'설정_In-Put'!$A:$L,6,0)),\"\")","v":""},null,{"$f":"IFERROR(L26-WEEKNUM(A26-D26+1)+1,\"\")","v":1},{"$f":"IFERROR(WEEKNUM(A26,2),\"\")","v":31},{"$f":"IFERROR(VLOOKUP($A26,계획서_3분기!$A:$X,13,0),\"\")","v":8},0,{"$f":"IFERROR(VLOOKUP($A26,계획서_3분기!$A:$X,15,0),\"\")","v":0},0,{"$f":"INT(SUMIFS('설정_In-Put'!$K:$K,'설정_In-Put'!$C:$C,$A26)*24)","v":0},{"$f":"ROUND((SUMIFS('설정_In-Put'!$K:$K,'설정_In-Put'!$C:$C,$A26)*24-Q26)*60,0)","v":0},null,null,{"$f":"INT(((Q26*60+R26)-(S26*60+T26))/60)","v":0},{"$f":"(((Q26*60+R26)-(S26*60+T26))/60-U26)*60","v":0},{"$f":"IF(SUMIFS('7월'!$AA$26:$AA$56,'7월'!$L$26:$L$56,$L26)+SUMIFS('8월'!$AA$26:$AA$56,'8월'!$L$26:$L$56,$L26)+SUMIFS('9월'!$AA$26:$AA$56,'9월'!$L$26:$L$56,$L26)>3120,1,IF($A26=\"\",\"\",IF(OR($E26=\"일\",$F26<>\"\"),1,0)*IF(S26+T26<>0,1,0)))","v":0},{"$f":"IFERROR(VLOOKUP($A26&1,'설정_In-Put'!$B:$L,11,0)*24,\"\")","v":""},null,null,{"$f":"SUM(S26,X26)*60+T26","v":0},{"$f":"S26*60+T26","v":0},{"$f":"U26*60+V26","v":0}]
[{"$f":"A26+1","v":"2018-08-02"},1,1,2,"목",{"$f":"IFERROR(VLOOKUP($A27,'관리자 Setting'!$K$6:$M$36,3,0),\"\")","v":""},null,null,{"$f":"IFERROR(IF(OR(E27=\"토\",E27=\"일\",F27<>\"\"),\"\",VLOOKUP(A27&0,'설정_In-Put'!$A:$L,6,0)),\"\")","v":""},null,1,31,{"$f":"IFERROR(VLOOKUP($A27,계획서_3분기!$A:$X,13,0),\"\")","v":8},0,{"$f":"IFERROR(VLOOKUP($A27,계획서_3분기!$A:$X,15,0),\"\")","v":0},0,{"$f":"INT(SUMIFS('설정_In-Put'!$K:$K,'설정_In-Put'!$C:$C,$A27)*24)","v":0},{"$f":"ROUND((SUMIFS('설정_In-Put'!$K:$K,'설정_In-Put'!$C:$C,$A27)*24-Q27)*60,0)","v":0},null,null,0,0,{"$f":"IF(SUMIFS('7월'!$AA$26:$AA$56,'7월'!$L$26:$L$56,$L27)+SUMIFS('8월'!$AA$26:$AA$56,'8월'!$L$26:$L$56,$L27)+SUMIFS('9월'!$AA$26:$AA$56,'9월'!$L$26:$L$56,$L27)>3120,1,IF($A27=\"\",\"\",IF(OR($E27=\"일\",$F27<>\"\"),1,0)*IF(S27+T27<>0,1,0)))","v":0},{"$f":"IFERROR(VLOOKUP($A27&1,'설정_In-Put'!$B:$L,11,0)*24,\"\")","v":""},null,null,{"$f":"SUM(S27,X27)*60+T27","v":0},{"$f":"S27*60+T27","v":0},{"$f":"U27*60+V27","v":0}]
[{"$f":"A27+1","v":"2018-08-03"},1,1,3,"금",{"$f":"IFERROR(VLOOKUP($A28,'관리자 Setting'!$K$6:$M$36,3,0),\"\")","v":""},null,null,{"$f":"IFERROR(IF(OR(E28=\"토\",E28=\"일\",F28<>\"\"),\"\",VLOOKUP(A28&0,'설정_In-Put'!$A:$L,6,0)),\"\")","v":""},null,1,31,{"$f":"IFERROR(VLOOKUP($A28,계획서_3분기!$A:$X,13,0),\"\")","v":8},0,{"$f":"IFERROR(VLOOKUP($A28,계획서_3분기!$A:$X,15,0),\"\")","v":0},0,{"$f":"INT(SUMIFS('설정_In-Put'!$K:$K,'설정_In-Put'!$C:$C,$A28)*24)","v":0},{"$f":"ROUND((SUMIFS('설정_In-Put'!$K:$K,'설정_In-Put'!$C:$C,$A28)*24-Q28)*60,0)","v":0},null,null,0,0,{"$f":"IF(SUMIFS('7월'!$AA$26:$AA$56,'7월'!$L$26:$L$56,$L28)+SUMIFS('8월'!$AA$26:$AA$56,'8월'!$L$26:$L$56,$L28)+SUMIFS('9월'!$AA$26:$AA$56,'9월'!$L$26:$L$56,$L28)>3120,1,IF($A28=\"\",\"\",IF(OR($E28=\"일\",$F28<>\"\"),1,0)*IF(S28+T28<>0,1,0)))","v":0},{"$f":"IFERROR(VLOOKUP($A28&1,'설정_In-Put'!$B:$L,11,0)*24,\"\")","v":""},null,null,0,0,0]
["2018-08-04",1,1,4,"토",{"$f":"IFERROR(VLOOKUP($A29,'관리자 Setting'!$K$6:$M$36,3,0),\"\")","v":""},null,null,{"$f":"IFERROR(IF(OR(E29=\"토\",E29=\"일\",F29<>\"\"),\"\",VLOOKUP(A29&0,'설정_In-Put'!$A:$L,6,0)),\"\")","v":""},null,1,31,{"$f":"IFERROR(VLOOKUP($A29,계획서_3분기!$A:$X,13,0),\"\")","v":0},0,{"$f":"IFERROR(VLOOKUP($A29,계획서_3분기!$A:$X,15,0),\"\")","v":0},0,{"$f":"INT(SUMIFS('설정_In-Put'!$K:$K,'설정_In-Put'!$C:$C,$A29)*24)","v":0},{"$f":"ROUND((SUMIFS('설정_In-Put'!$K:$K,'설정_In-Put'!$C:$C,$A29)*24-Q29)*60,0)","v":0},null,null,0,0,{"$f":"IF(SUMIFS('7월'!$AA$26:$AA$56,'7월'!$L$26:$L$56,$L29)+SUMIFS('8월'!$AA$26:$AA$56,'8월'!$L$26:$L$56,$L29)+SUMIFS('9월'!$AA$26:$AA$56,'9월'!$L$26:$L$56,$L29)>3120,1,IF($A29=\"\",\"\",IF(OR($E29=\"일\",$F29<>\"\"),1,0)*IF(S29+T29<>0,1,0)))","v":0},{"$f":"IFERROR(VLOOKUP($A29&1,'설정_In-Put'!$B:$L,11,0)*24,\"\")","v":""},null,null,0,0,0]
["2018-08-05",0,0,5,"일",{"$f":"IFERROR(VLOOKUP($A30,'관리자 Setting'!$K$6:$M$36,3,0),\"\")","v":""},null,null,{"$f":"IFERROR(IF(OR(E30=\"토\",E30=\"일\",F30<>\"\"),\"\",VLOOKUP(A30&0,'설정_In-Put'!$A:$L,6,0)),\"\")","v":""},null,1,31,{"$f":"IFERROR(VLOOKUP($A30,계획서_3분기!$A:$X,13,0),\"\")","v":0},0,{"$f":"IFERROR(VLOOKUP($A30,계획서_3분기!$A:$X,15,0),\"\")","v":0},0,{"$f":"INT(SUMIFS('설정_In-Put'!$K:$K,'설정_In-Put'!$C:$C,$A30)*24)","v":0},{"$f":"ROUND((SUMIFS('설정_In-Put'!$K:$K,'설정_In-Put'!$C:$C,$A30)*24-Q30)*60,0)","v":0},null,null,0,0,{"$f":"IF(SUMIFS('7월'!$AA$26:$AA$56,'7월'!$L$26:$L$56,$L30)+SUMIFS('8월'!$AA$26:$AA$56,'8월'!$L$26:$L$56,$L30)+SUMIFS('9월'!$AA$26:$AA$56,'9월'!$L$26:$L$56,$L30)>3120,1,IF($A30=\"\",\"\",IF(OR($E30=\"일\",$F30<>\"\"),1,0)*IF(S30+T30<>0,1,0)))","v":0},{"$f":"IFERROR(VLOOKUP($A30&1,'설정_In-Put'!$B:$L,11,0)*24,\"\")","v":""},null,null,0,0,0]
["2018-08-06",1,1,6,"월",{"$f":"IFERROR(VLOOKUP($A31,'관리자 Setting'!$K$6:$M$36,3,0),\"\")","v":""},null,null,{"$f":"IFERROR(IF(OR(E31=\"토\",E31=\"일\",F31<>\"\"),\"\",VLOOKUP(A31&0,'설정_In-Put'!$A:$L,6,0)),\"\")","v":""},null,2,32,{"$f":"IFERROR(VLOOKUP($A31,계획서_3분기!$A:$X,13,0),\"\")","v":8},0,{"$f":"IFERROR(VLOOKUP($A31,계획서_3분기!$A:$X,15,0),\"\")","v":0},0,{"$f":"INT(SUMIFS('설정_In-Put'!$K:$K,'설정_In-Put'!$C:$C,$A31)*24)","v":0},{"$f":"ROUND((SUMIFS('설정_In-Put'!$K:$K,'설정_In-Put'!$C:$C,$A31)*24-Q31)*60,0)","v":0},null,null,0,0,{"$f":"IF(SUMIFS('7월'!$AA$26:$AA$56,'7월'!$L$26:$L$56,$L31)+SUMIFS('8월'!$AA$26:$AA$56,'8월'!$L$26:$L$56,$L31)+SUMIFS('9월'!$AA$26:$AA$56,'9월'!$L$26:$L$56,$L31)>3120,1,IF($A31=\"\",\"\",IF(OR($E31=\"일\",$F31<>\"\"),1,0)*IF(S31+T31<>0,1,0)))","v":0},{"$f":"IFERROR(VLOOKUP($A31&1,'설정_In-Put'!$B:$L,11,0)*24,\"\")","v":""},null,null,0,0,0]
["2018-08-07",1,1,7,"화",{"$f":"IFERROR(VLOOKUP($A32,'관리자 Setting'!$K$6:$M$36,3,0),\"\")","v":""},null,null,{"$f":"IFERROR(IF(OR(E32=\"토\",E32=\"일\",F32<>\"\"),\"\",VLOOKUP(A32&0,'설정_In-Put'!$A:$L,6,0)),\"\")","v":""},null,2,32,{"$f":"IFERROR(VLOOKUP($A32,계획서_3분기!$A:$X,13,0),\"\")","v":8},0,{"$f":"IFERROR(VLOOKUP($A32,계획서_3분기!$A:$X,15,0),\"\")","v":0},0,{"$f":"INT(SUMIFS('설정_In-Put'!$K:$K,'설정_In-Put'!$C:$C,$A32)*24)","v":0},{"$f":"ROUND((SUMIFS('설정_In-Put'!$K:$K,'설정_In-Put'!$C:$C,$A32)*24-Q32)*60,0)","v":0},null,null,0,0,{"$f":"IF(SUMIFS('7월'!$AA$26:$AA$56,'7월'!$L$26:$L$56,$L32)+SUMIFS('8월'!$AA$26:$AA$56,'8월'!$L$26:$L$56,$L32)+SUMIFS('9월'!$AA$26:$AA$56,'9월'!$L$26:$L$56,$L32)>3120,1,IF($A32=\"\",\"\",IF(OR($E32=\"일\",$F32<>\"\"),1,0)*IF(S32+T32<>0,1,0)))","v":0},{"$f":"IFERROR(VLOOKUP($A32&1,'설정_In-Put'!$B:$L,11,0)*24,\"\")","v":""},null,null,0,0,0]
["2018-08-08",1,1,8,"수",{"$f":"IFERROR(VLOOKUP($A33,'관리자 Setting'!$K$6:$M$36,3,0),\"\")","v":""},null,null,{"$f":"IFERROR(IF(OR(E33=\"토\",E33=\"일\",F33<>\"\"),\"\",VLOOKUP(A33&0,'설정_In-Put'!$A:$L,6,0)),\"\")","v":""},null,2,32,{"$f":"IFERROR(VLOOKUP($A33,계획서_3분기!$A:$X,13,0),\"\")","v":8},0,{"$f":"IFERROR(VLOOKUP($A33,계획서_3분기!$A:$X,15,0),\"\")","v":0},0,{"$f":"INT(SUMIFS('설정_In-Put'!$K:$K,'설정_In-Put'!$C:$C,$A33)*24)","v":0},{"$f":"ROUND((SUMIFS('설정_In-Put'!$K:$K,'설정_In-Put'!$C:$C,$A33)*24-Q33)*60,0)","v":0},null,null,0,0,{"$f":"IF(SUMIFS('7월'!$AA$26:$AA$56,'7월'!$L$26:$L$56,$L33)+SUMIFS('8월'!$AA$26:$AA$56,'8월'!$L$26:$L$56,$L33)+SUMIFS('9월'!$AA$26:$AA$56,'9월'!$L$26:$L$56,$L33)>3120,1,IF($A33=\"\",\"\",IF(OR($E33=\"일\",$F33<>\"\"),1,0)*IF(S33+T33<>0,1,0)))","v":0},{"$f":"IFERROR(VLOOKUP($A33&1,'설정_In-Put'!$B:$L,11,0)*24,\"\")","v":""},null,null,0,0,0]
["2018-08-09",1,1,9,"목",{"$f":"IFERROR(VLOOKUP($A34,'관리자 Setting'!$K$6:$M$36,3,0),\"\")","v":""},null,null,{"$f":"IFERROR(IF(OR(E34=\"토\",E34=\"일\",F34<>\"\"),\"\",VLOOKUP(A34&0,'설정_In-Put'!$A:$L,6,0)),\"\")","v":""},null,2,32,{"$f":"IFERROR(VLOOKUP($A34,계획서_3분기!$A:$X,13,0),\"\")","v":8},0,{"$f":"IFERROR(VLOOKUP($A34,계획서_3분기!$A:$X,15,0),\"\")","v":0},0,{"$f":"INT(SUMIFS('설정_In-Put'!$K:$K,'설정_In-Put'!$C:$C,$A34)*24)","v":0},{"$f":"ROUND((SUMIFS('설정_In-Put'!$K:$K,'설정_In-Put'!$C:$C,$A34)*24-Q34)*60,0)","v":0},null,null,0,0,{"$f":"IF(SUMIFS('7월'!$AA$26:$AA$56,'7월'!$L$26:$L$56,$L34)+SUMIFS('8월'!$AA$26:$AA$56,'8월'!$L$26:$L$56,$L34)+SUMIFS('9월'!$AA$26:$AA$56,'9월'!$L$26:$L$56,$L34)>3120,1,IF($A34=\"\",\"\",IF(OR($E34=\"일\",$F34<>\"\"),1,0)*IF(S34+T34<>0,1,0)))","v":0},{"$f":"IFERROR(VLOOKUP($A34&1,'설정_In-Put'!$B:$L,11,0)*24,\"\")","v":""},null,null,0,0,0]
["2018-08-10",1,1,10,"금",{"$f":"IFERROR(VLOOKUP($A35,'관리자 Setting'!$K$6:$M$36,3,0),\"\")","v":""},null,null,{"$f":"IFERROR(IF(OR(E35=\"토\",E35=\"일\",F35<>\"\"),\"\",VLOOKUP(A35&0,'설정_In-Put'!$A:$L,6,0)),\"\")","v":""},null,2,32,{"$f":"IFERROR(VLOOKUP($A35,계획서_3분기!$A:$X,13,0),\"\")","v":8},0,{"$f":"IFERROR(VLOOKUP($A35,계획서_3분기!$A:$X,15,0),\"\")","v":0},0,{"$f":"INT(SUMIFS('설정_In-Put'!$K:$K,'설정_In-Put'!$C:$C,$A35)*24)","v":0},{"$f":"ROUND((SUMIFS('설정_In-Put'!$K:$K,'설정_In-Put'!$C:$C,$A35)*24-Q35)*60,0)","v":0},null,null,0,0,{"$f":"IF(SUMIFS('7월'!$AA$26:$AA$56,'7월'!$L$26:$L$56,$L35)+SUMIFS('8월'!$AA$26:$AA$56,'8월'!$L$26:$L$56,$L35)+SUMIFS('9월'!$AA$26:$AA$56,'9월'!$L$26:$L$56,$L35)>3120,1,IF($A35=\"\",\"\",IF(OR($E35=\"일\",$F35<>\"\"),1,0)*IF(S35+T35<>0,1,0)))","v":0},{"$f":"IFERROR(VLOOKUP($A35&1,'설정_In-Put'!$B:$L,11,0)*24,\"\")","v":""},null,null,0,0,0]
["2018-08-11",1,1,11,"토",{"$f":"IFERROR(VLOOKUP($A36,'관리자 Setting'!$K$6:$M$36,3,0),\"\")","v":""},null,null,{"$f":"IFERROR(IF(OR(E36=\"토\",E36=\"일\",F36<>\"\"),\"\",VLOOKUP(A36&0,'설정_In-Put'!$A:$L,6,0)),\"\")","v":""},null,2,32,{"$f":"IFERROR(VLOOKUP($A36,계획서_3분기!$A:$X,13,0),\"\")","v":0},0,{"$f":"IFERROR(VLOOKUP($A36,계획서_3분기!$A:$X,15,0),\"\")","v":0},0,{"$f":"INT(SUMIFS('설정_In-Put'!$K:$K,'설정_In-Put'!$C:$C,$A36)*24)","v":0},{"$f":"ROUND((SUMIFS('설정_In-Put'!$K:$K,'설정_In-Put'!$C:$C,$A36)*24-Q36)*60,0)","v":0},null,null,0,0,{"$f":"IF(SUMIFS('7월'!$AA$26:$AA$56,'7월'!$L$26:$L$56,$L36)+SUMIFS('8월'!$AA$26:$AA$56,'8월'!$L$26:$L$56,$L36)+SUMIFS('9월'!$AA$26:$AA$56,'9월'!$L$26:$L$56,$L36)>3120,1,IF($A36=\"\",\"\",IF(OR($E36=\"일\",$F36<>\"\"),1,0)*IF(S36+T36<>0,1,0)))","v":0},{"$f":"IFERROR(VLOOKUP($A36&1,'설정_In-Put'!$B:$L,11,0)*24,\"\")","v":""},null,null,0,0,0]
["2018-08-12",0,0,12,"일",{"$f":"IFERROR(VLOOKUP($A37,'관리자 Setting'!$K$6:$M$36,3,0),\"\")","v":""},null,null,{"$f":"IFERROR(IF(OR(E37=\"토\",E37=\"일\",F37<>\"\"),\"\",VLOOKUP(A37&0,'설정_In-Put'!$A:$L,6,0)),\"\")","v":""},null,2,32,{"$f":"IFERROR(VLOOKUP($A37,계획서_3분기!$A:$X,13,0),\"\")","v":0},0,{"$f":"IFERROR(VLOOKUP($A37,계획서_3분기!$A:$X,15,0),\"\")","v":0},0,{"$f":"INT(SUMIFS('설정_In-Put'!$K:$K,'설정_In-Put'!$C:$C,$A37)*24)","v":0},{"$f":"ROUND((SUMIFS('설정_In-Put'!$K:$K,'설정_In-Put'!$C:$C,$A37)*24-Q37)*60,0)","v":0},null,null,0,0,{"$f":"IF(SUMIFS('7월'!$AA$26:$AA$56,'7월'!$L$26:$L$56,$L37)+SUMIFS('8월'!$AA$26:$AA$56,'8월'!$L$26:$L$56,$L37)+SUMIFS('9월'!$AA$26:$AA$56,'9월'!$L$26:$L$56,$L37)>3120,1,IF($A37=\"\",\"\",IF(OR($E37=\"일\",$F37<>\"\"),1,0)*IF(S37+T37<>0,1,0)))","v":0},{"$f":"IFERROR(VLOOKUP($A37&1,'설정_In-Put'!$B:$L,11,0)*24,\"\")","v":""},null,null,0,0,0]
["2018-08-13",1,1,13,"월",{"$f":"IFERROR(VLOOKUP($A38,'관리자 Setting'!$K$6:$M$36,3,0),\"\")","v":""},null,null,{"$f":"IFERROR(IF(OR(E38=\"토\",E38=\"일\",F38<>\"\"),\"\",VLOOKUP(A38&0,'설정_In-Put'!$A:$L,6,0)),\"\")","v":""},null,3,33,{"$f":"IFERROR(VLOOKUP($A38,계획서_3분기!$A:$X,13,0),\"\")","v":8},0,{"$f":"IFERROR(VLOOKUP($A38,계획서_3분기!$A:$X,15,0),\"\")","v":0},0,{"$f":"INT(SUMIFS('설정_In-Put'!$K:$K,'설정_In-Put'!$C:$C,$A38)*24)","v":0},{"$f":"ROUND((SUMIFS('설정_In-Put'!$K:$K,'설정_In-Put'!$C:$C,$A38)*24-Q38)*60,0)","v":0},null,null,0,0,{"$f":"IF(SUMIFS('7월'!$AA$26:$AA$56,'7월'!$L$26:$L$56,$L38)+SUMIFS('8월'!$AA$26:$AA$56,'8월'!$L$26:$L$56,$L38)+SUMIFS('9월'!$AA$26:$AA$56,'9월'!$L$26:$L$56,$L38)>3120,1,IF($A38=\"\",\"\",IF(OR($E38=\"일\",$F38<>\"\"),1,0)*IF(S38+T38<>0,1,0)))","v":0},{"$f":"IFERROR(VLOOKUP($A38&1,'설정_In-Put'!$B:$L,11,0)*24,\"\")","v":""},null,null,0,0,0]
["2018-08-14",1,1,14,"화",{"$f":"IFERROR(VLOOKUP($A39,'관리자 Setting'!$K$6:$M$36,3,0),\"\")","v":""},null,null,{"$f":"IFERROR(IF(OR(E39=\"토\",E39=\"일\",F39<>\"\"),\"\",VLOOKUP(A39&0,'설정_In-Put'!$A:$L,6,0)),\"\")","v":""},null,3,33,{"$f":"IFERROR(VLOOKUP($A39,계획서_3분기!$A:$X,13,0),\"\")","v":8},0,{"$f":"IFERROR(VLOOKUP($A39,계획서_3분기!$A:$X,15,0),\"\")","v":0},0,{"$f":"INT(SUMIFS('설정_In-Put'!$K:$K,'설정_In-Put'!$C:$C,$A39)*24)","v":0},{"$f":"ROUND((SUMIFS('설정_In-Put'!$K:$K,'설정_In-Put'!$C:$C,$A39)*24-Q39)*60,0)","v":0},null,null,0,0,{"$f":"IF(SUMIFS('7월'!$AA$26:$AA$56,'7월'!$L$26:$L$56,$L39)+SUMIFS('8월'!$AA$26:$AA$56,'8월'!$L$26:$L$56,$L39)+SUMIFS('9월'!$AA$26:$AA$56,'9월'!$L$26:$L$56,$L39)>3120,1,IF($A39=\"\",\"\",IF(OR($E39=\"일\",$F39<>\"\"),1,0)*IF(S39+T39<>0,1,0)))","v":0},{"$f":"IFERROR(VLOOKUP($A39&1,'설정_In-Put'!$B:$L,11,0)*24,\"\")","v":""},null,null,0,0,0]
["2018-08-15",0,0,15,"수",{"$f":"IFERROR(VLOOKUP($A40,'관리자 Setting'!$K$6:$M$36,3,0),\"\")","v":"광복절"},null,null,{"$f":"IFERROR(IF(OR(E40=\"토\",E40=\"일\",F40<>\"\"),\"\",VLOOKUP(A40&0,'설정_In-Put'!$A:$L,6,0)),\"\")","v":""},null,3,33,{"$f":"IFERROR(VLOOKUP($A40,계획서_3분기!$A:$X,13,0),\"\")","v":0},0,{"$f":"IFERROR(VLOOKUP($A40,계획서_3분기!$A:$X,15,0),\"\")","v":0},0,{"$f":"INT(SUMIFS('설정_In-Put'!$K:$K,'설정_In-Put'!$C:$C,$A40)*24)","v":0},{"$f":"ROUND((SUMIFS('설정_In-Put'!$K:$K,'설정_In-Put'!$C:$C,$A40)*24-Q40)*60,0)","v":0},null,null,0,0,{"$f":"IF(SUMIFS('7월'!$AA$26:$AA$56,'7월'!$L$26:$L$56,$L40)+SUMIFS('8월'!$AA$26:$AA$56,'8월'!$L$26:$L$56,$L40)+SUMIFS('9월'!$AA$26:$AA$56,'9월'!$L$26:$L$56,$L40)>3120,1,IF($A40=\"\",\"\",IF(OR($E40=\"일\",$F40<>\"\"),1,0)*IF(S40+T40<>0,1,0)))","v":0},{"$f":"IFERROR(VLOOKUP($A40&1,'설정_In-Put'!$B:$L,11,0)*24,\"\")","v":""},null,null,0,0,0]
["2018-08-16",1,1,16,"목",{"$f":"IFERROR(VLOOKUP($A41,'관리자 Setting'!$K$6:$M$36,3,0),\"\")","v":""},null,null,{"$f":"IFERROR(IF(OR(E41=\"토\",E41=\"일\",F41<>\"\"),\"\",VLOOKUP(A41&0,'설정_In-Put'!$A:$L,6,0)),\"\")","v":""},null,3,33,{"$f":"IFERROR(VLOOKUP($A41,계획서_3분기!$A:$X,13,0),\"\")","v":8},0,{"$f":"IFERROR(VLOOKUP($A41,계획서_3분기!$A:$X,15,0),\"\")","v":0},0,{"$f":"INT(SUMIFS('설정_In-Put'!$K:$K,'설정_In-Put'!$C:$C,$A41)*24)","v":0},{"$f":"ROUND((SUMIFS('설정_In-Put'!$K:$K,'설정_In-Put'!$C:$C,$A41)*24-Q41)*60,0)","v":0},null,null,0,0,{"$f":"IF(SUMIFS('7월'!$AA$26:$AA$56,'7월'!$L$26:$L$56,$L41)+SUMIFS('8월'!$AA$26:$AA$56,'8월'!$L$26:$L$56,$L41)+SUMIFS('9월'!$AA$26:$AA$56,'9월'!$L$26:$L$56,$L41)>3120,1,IF($A41=\"\",\"\",IF(OR($E41=\"일\",$F41<>\"\"),1,0)*IF(S41+T41<>0,1,0)))","v":0},{"$f":"IFERROR(VLOOKUP($A41&1,'설정_In-Put'!$B:$L,11,0)*24,\"\")","v":""},null,null,0,0,0]
["2018-08-17",1,1,17,"금",{"$f":"IFERROR(VLOOKUP($A42,'관리자 Setting'!$K$6:$M$36,3,0),\"\")","v":""},null,null,{"$f":"IFERROR(IF(OR(E42=\"토\",E42=\"일\",F42<>\"\"),\"\",VLOOKUP(A42&0,'설정_In-Put'!$A:$L,6,0)),\"\")","v":""},null,3,33,{"$f":"IFERROR(VLOOKUP($A42,계획서_3분기!$A:$X,13,0),\"\")","v":8},0,{"$f":"IFERROR(VLOOKUP($A42,계획서_3분기!$A:$X,15,0),\"\")","v":0},0,{"$f":"INT(SUMIFS('설정_In-Put'!$K:$K,'설정_In-Put'!$C:$C,$A42)*24)","v":0},{"$f":"ROUND((SUMIFS('설정_In-Put'!$K:$K,'설정_In-Put'!$C:$C,$A42)*24-Q42)*60,0)","v":0},null,null,0,0,{"$f":"IF(SUMIFS('7월'!$AA$26:$AA$56,'7월'!$L$26:$L$56,$L42)+SUMIFS('8월'!$AA$26:$AA$56,'8월'!$L$26:$L$56,$L42)+SUMIFS('9월'!$AA$26:$AA$56,'9월'!$L$26:$L$56,$L42)>3120,1,IF($A42=\"\",\"\",IF(OR($E42=\"일\",$F42<>\"\"),1,0)*IF(S42+T42<>0,1,0)))","v":0},{"$f":"IFERROR(VLOOKUP($A42&1,'설정_In-Put'!$B:$L,11,0)*24,\"\")","v":""},null,null,0,0,0]
["2018-08-18",1,1,18,"토",{"$f":"IFERROR(VLOOKUP($A43,'관리자 Setting'!$K$6:$M$36,3,0),\"\")","v":""},null,null,{"$f":"IFERROR(IF(OR(E43=\"토\",E43=\"일\",F43<>\"\"),\"\",VLOOKUP(A43&0,'설정_In-Put'!$A:$L,6,0)),\"\")","v":""},null,3,33,{"$f":"IFERROR(VLOOKUP($A43,계획서_3분기!$A:$X,13,0),\"\")","v":0},0,{"$f":"IFERROR(VLOOKUP($A43,계획서_3분기!$A:$X,15,0),\"\")","v":0},0,{"$f":"INT(SUMIFS('설정_In-Put'!$K:$K,'설정_In-Put'!$C:$C,$A43)*24)","v":0},{"$f":"ROUND((SUMIFS('설정_In-Put'!$K:$K,'설정_In-Put'!$C:$C,$A43)*24-Q43)*60,0)","v":0},null,null,0,0,{"$f":"IF(SUMIFS('7월'!$AA$26:$AA$56,'7월'!$L$26:$L$56,$L43)+SUMIFS('8월'!$AA$26:$AA$56,'8월'!$L$26:$L$56,$L43)+SUMIFS('9월'!$AA$26:$AA$56,'9월'!$L$26:$L$56,$L43)>3120,1,IF($A43=\"\",\"\",IF(OR($E43=\"일\",$F43<>\"\"),1,0)*IF(S43+T43<>0,1,0)))","v":0},{"$f":"IFERROR(VLOOKUP($A43&1,'설정_In-Put'!$B:$L,11,0)*24,\"\")","v":""},null,null,0,0,0]
["2018-08-19",0,0,19,"일",{"$f":"IFERROR(VLOOKUP($A44,'관리자 Setting'!$K$6:$M$36,3,0),\"\")","v":""},null,null,{"$f":"IFERROR(IF(OR(E44=\"토\",E44=\"일\",F44<>\"\"),\"\",VLOOKUP(A44&0,'설정_In-Put'!$A:$L,6,0)),\"\")","v":""},null,3,33,{"$f":"IFERROR(VLOOKUP($A44,계획서_3분기!$A:$X,13,0),\"\")","v":0},0,{"$f":"IFERROR(VLOOKUP($A44,계획서_3분기!$A:$X,15,0),\"\")","v":0},0,{"$f":"INT(SUMIFS('설정_In-Put'!$K:$K,'설정_In-Put'!$C:$C,$A44)*24)","v":0},{"$f":"ROUND((SUMIFS('설정_In-Put'!$K:$K,'설정_In-Put'!$C:$C,$A44)*24-Q44)*60,0)","v":0},null,null,0,0,{"$f":"IF(SUMIFS('7월'!$AA$26:$AA$56,'7월'!$L$26:$L$56,$L44)+SUMIFS('8월'!$AA$26:$AA$56,'8월'!$L$26:$L$56,$L44)+SUMIFS('9월'!$AA$26:$AA$56,'9월'!$L$26:$L$56,$L44)>3120,1,IF($A44=\"\",\"\",IF(OR($E44=\"일\",$F44<>\"\"),1,0)*IF(S44+T44<>0,1,0)))","v":0},{"$f":"IFERROR(VLOOKUP($A44&1,'설정_In-Put'!$B:$L,11,0)*24,\"\")","v":""},null,null,0,0,0]
["2018-08-20",1,1,20,"월",{"$f":"IFERROR(VLOOKUP($A45,'관리자 Setting'!$K$6:$M$36,3,0),\"\")","v":""},null,null,{"$f":"IFERROR(IF(OR(E45=\"토\",E45=\"일\",F45<>\"\"),\"\",VLOOKUP(A45&0,'설정_In-Put'!$A:$L,6,0)),\"\")","v":""},null,4,34,{"$f":"IFERROR(VLOOKUP($A45,계획서_3분기!$A:$X,13,0),\"\")","v":8},0,{"$f":"IFERROR(VLOOKUP($A45,계획서_3분기!$A:$X,15,0),\"\")","v":0},0,{"$f":"INT(SUMIFS('설정_In-Put'!$K:$K,'설정_In-Put'!$C:$C,$A45)*24)","v":0},{"$f":"ROUND((SUMIFS('설정_In-Put'!$K:$K,'설정_In-Put'!$C:$C,$A45)*24-Q45)*60,0)","v":0},null,null,0,0,{"$f":"IF(SUMIFS('7월'!$AA$26:$AA$56,'7월'!$L$26:$L$56,$L45)+SUMIFS('8월'!$AA$26:$AA$56,'8월'!$L$26:$L$56,$L45)+SUMIFS('9월'!$AA$26:$AA$56,'9월'!$L$26:$L$56,$L45)>3120,1,IF($A45=\"\",\"\",IF(OR($E45=\"일\",$F45<>\"\"),1,0)*IF(S45+T45<>0,1,0)))","v":0},{"$f":"IFERROR(VLOOKUP($A45&1,'설정_In-Put'!$B:$L,11,0)*24,\"\")","v":""},null,null,0,0,0]
["2018-08-21",1,1,21,"화",{"$f":"IFERROR(VLOOKUP($A46,'관리자 Setting'!$K$6:$M$36,3,0),\"\")","v":""},null,null,{"$f":"IFERROR(IF(OR(E46=\"토\",E46=\"일\",F46<>\"\"),\"\",VLOOKUP(A46&0,'설정_In-Put'!$A:$L,6,0)),\"\")","v":""},null,4,34,{"$f":"IFERROR(VLOOKUP($A46,계획서_3분기!$A:$X,13,0),\"\")","v":8},0,{"$f":"IFERROR(VLOOKUP($A46,계획서_3분기!$A:$X,15,0),\"\")","v":0},0,{"$f":"INT(SUMIFS('설정_In-Put'!$K:$K,'설정_In-Put'!$C:$C,$A46)*24)","v":0},{"$f":"ROUND((SUMIFS('설정_In-Put'!$K:$K,'설정_In-Put'!$C:$C,$A46)*24-Q46)*60,0)","v":0},null,null,0,0,{"$f":"IF(SUMIFS('7월'!$AA$26:$AA$56,'7월'!$L$26:$L$56,$L46)+SUMIFS('8월'!$AA$26:$AA$56,'8월'!$L$26:$L$56,$L46)+SUMIFS('9월'!$AA$26:$AA$56,'9월'!$L$26:$L$56,$L46)>3120,1,IF($A46=\"\",\"\",IF(OR($E46=\"일\",$F46<>\"\"),1,0)*IF(S46+T46<>0,1,0)))","v":0},{"$f":"IFERROR(VLOOKUP($A46&1,'설정_In-Put'!$B:$L,11,0)*24,\"\")","v":""},null,null,0,0,0]
["2018-08-22",1,1,22,"수",{"$f":"IFERROR(VLOOKUP($A47,'관리자 Setting'!$K$6:$M$36,3,0),\"\")","v":""},null,null,{"$f":"IFERROR(IF(OR(E47=\"토\",E47=\"일\",F47<>\"\"),\"\",VLOOKUP(A47&0,'설정_In-Put'!$A:$L,6,0)),\"\")","v":""},null,4,34,{"$f":"IFERROR(VLOOKUP($A47,계획서_3분기!$A:$X,13,0),\"\")","v":8},0,{"$f":"IFERROR(VLOOKUP($A47,계획서_3분기!$A:$X,15,0),\"\")","v":0},0,{"$f":"INT(SUMIFS('설정_In-Put'!$K:$K,'설정_In-Put'!$C:$C,$A47)*24)","v":0},{"$f":"ROUND((SUMIFS('설정_In-Put'!$K:$K,'설정_In-Put'!$C:$C,$A47)*24-Q47)*60,0)","v":0},null,null,0,0,{"$f":"IF(SUMIFS('7월'!$AA$26:$AA$56,'7월'!$L$26:$L$56,$L47)+SUMIFS('8월'!$AA$26:$AA$56,'8월'!$L$26:$L$56,$L47)+SUMIFS('9월'!$AA$26:$AA$56,'9월'!$L$26:$L$56,$L47)>3120,1,IF($A47=\"\",\"\",IF(OR($E47=\"일\",$F47<>\"\"),1,0)*IF(S47+T47<>0,1,0)))","v":0},{"$f":"IFERROR(VLOOKUP($A47&1,'설정_In-Put'!$B:$L,11,0)*24,\"\")","v":""},null,null,0,0,0]
["2018-08-23",1,1,23,"목",{"$f":"IFERROR(VLOOKUP($A48,'관리자 Setting'!$K$6:$M$36,3,0),\"\")","v":""},null,null,{"$f":"IFERROR(IF(OR(E48=\"토\",E48=\"일\",F48<>\"\"),\"\",VLOOKUP(A48&0,'설정_In-Put'!$A:$L,6,0)),\"\")","v":""},null,4,34,{"$f":"IFERROR(VLOOKUP($A48,계획서_3분기!$A:$X,13,0),\"\")","v":8},0,{"$f":"IFERROR(VLOOKUP($A48,계획서_3분기!$A:$X,15,0),\"\")","v":0},0,{"$f":"INT(SUMIFS('설정_In-Put'!$K:$K,'설정_In-Put'!$C:$C,$A48)*24)","v":0},{"$f":"ROUND((SUMIFS('설정_In-Put'!$K:$K,'설정_In-Put'!$C:$C,$A48)*24-Q48)*60,0)","v":0},null,null,0,0,{"$f":"IF(SUMIFS('7월'!$AA$26:$AA$56,'7월'!$L$26:$L$56,$L48)+SUMIFS('8월'!$AA$26:$AA$56,'8월'!$L$26:$L$56,$L48)+SUMIFS('9월'!$AA$26:$AA$56,'9월'!$L$26:$L$56,$L48)>3120,1,IF($A48=\"\",\"\",IF(OR($E48=\"일\",$F48<>\"\"),1,0)*IF(S48+T48<>0,1,0)))","v":0},{"$f":"IFERROR(VLOOKUP($A48&1,'설정_In-Put'!$B:$L,11,0)*24,\"\")","v":""},null,null,0,0,0]
["2018-08-24",1,1,24,"금",{"$f":"IFERROR(VLOOKUP($A49,'관리자 Setting'!$K$6:$M$36,3,0),\"\")","v":""},null,null,{"$f":"IFERROR(IF(OR(E49=\"토\",E49=\"일\",F49<>\"\"),\"\",VLOOKUP(A49&0,'설정_In-Put'!$A:$L,6,0)),\"\")","v":""},null,4,34,{"$f":"IFERROR(VLOOKUP($A49,계획서_3분기!$A:$X,13,0),\"\")","v":8},0,{"$f":"IFERROR(VLOOKUP($A49,계획서_3분기!$A:$X,15,0),\"\")","v":0},0,{"$f":"INT(SUMIFS('설정_In-Put'!$K:$K,'설정_In-Put'!$C:$C,$A49)*24)","v":0},{"$f":"ROUND((SUMIFS('설정_In-Put'!$K:$K,'설정_In-Put'!$C:$C,$A49)*24-Q49)*60,0)","v":0},null,null,0,0,{"$f":"IF(SUMIFS('7월'!$AA$26:$AA$56,'7월'!$L$26:$L$56,$L49)+SUMIFS('8월'!$AA$26:$AA$56,'8월'!$L$26:$L$56,$L49)+SUMIFS('9월'!$AA$26:$AA$56,'9월'!$L$26:$L$56,$L49)>3120,1,IF($A49=\"\",\"\",IF(OR($E49=\"일\",$F49<>\"\"),1,0)*IF(S49+T49<>0,1,0)))","v":0},{"$f":"IFERROR(VLOOKUP($A49&1,'설정_In-Put'!$B:$L,11,0)*24,\"\")","v":""},null,null,0,0,0]
["2018-08-25",1,1,25,"토",{"$f":"IFERROR(VLOOKUP($A50,'관리자 Setting'!$K$6:$M$36,3,0),\"\")","v":""},null,null,{"$f":"IFERROR(IF(OR(E50=\"토\",E50=\"일\",F50<>\"\"),\"\",VLOOKUP(A50&0,'설정_In-Put'!$A:$L,6,0)),\"\")","v":""},null,4,34,{"$f":"IFERROR(VLOOKUP($A50,계획서_3분기!$A:$X,13,0),\"\")","v":0},0,{"$f":"IFERROR(VLOOKUP($A50,계획서_3분기!$A:$X,15,0),\"\")","v":0},0,{"$f":"INT(SUMIFS('설정_In-Put'!$K:$K,'설정_In-Put'!$C:$C,$A50)*24)","v":0},{"$f":"ROUND((SUMIFS('설정_In-Put'!$K:$K,'설정_In-Put'!$C:$C,$A50)*24-Q50)*60,0)","v":0},null,null,0,0,{"$f":"IF(SUMIFS('7월'!$AA$26:$AA$56,'7월'!$L$26:$L$56,$L50)+SUMIFS('8월'!$AA$26:$AA$56,'8월'!$L$26:$L$56,$L50)+SUMIFS('9월'!$AA$26:$AA$56,'9월'!$L$26:$L$56,$L50)>3120,1,IF($A50=\"\",\"\",IF(OR($E50=\"일\",$F50<>\"\"),1,0)*IF(S50+T50<>0,1,0)))","v":0},{"$f":"IFERROR(VLOOKUP($A50&1,'설정_In-Put'!$B:$L,11,0)*24,\"\")","v":""},null,null,0,0,0]
["2018-08-26",0,0,26,"일",{"$f":"IFERROR(VLOOKUP($A51,'관리자 Setting'!$K$6:$M$36,3,0),\"\")","v":""},null,null,{"$f":"IFERROR(IF(OR(E51=\"토\",E51=\"일\",F51<>\"\"),\"\",VLOOKUP(A51&0,'설정_In-Put'!$A:$L,6,0)),\"\")","v":""},null,4,34,{"$f":"IFERROR(VLOOKUP($A51,계획서_3분기!$A:$X,13,0),\"\")","v":0},0,{"$f":"IFERROR(VLOOKUP($A51,계획서_3분기!$A:$X,15,0),\"\")","v":0},0,{"$f":"INT(SUMIFS('설정_In-Put'!$K:$K,'설정_In-Put'!$C:$C,$A51)*24)","v":0},{"$f":"ROUND((SUMIFS('설정_In-Put'!$K:$K,'설정_In-Put'!$C:$C,$A51)*24-Q51)*60,0)","v":0},null,null,0,0,{"$f":"IF(SUMIFS('7월'!$AA$26:$AA$56,'7월'!$L$26:$L$56,$L51)+SUMIFS('8월'!$AA$26:$AA$56,'8월'!$L$26:$L$56,$L51)+SUMIFS('9월'!$AA$26:$AA$56,'9월'!$L$26:$L$56,$L51)>3120,1,IF($A51=\"\",\"\",IF(OR($E51=\"일\",$F51<>\"\"),1,0)*IF(S51+T51<>0,1,0)))","v":0},{"$f":"IFERROR(VLOOKUP($A51&1,'설정_In-Put'!$B:$L,11,0)*24,\"\")","v":""},null,null,0,0,0]
[{"$f":"IF(A51+1>EOMONTH($A$26,0),\"\",A51+1)","v":"2018-08-27"},1,1,27,"월",{"$f":"IFERROR(VLOOKUP($A52,'관리자 Setting'!$K$6:$M$36,3,0),\"\")","v":""},null,null,{"$f":"IFERROR(IF(OR(E52=\"토\",E52=\"일\",F52<>\"\"),\"\",VLOOKUP(A52&0,'설정_In-Put'!$A:$L,6,0)),\"\")","v":""},null,5,35,{"$f":"IFERROR(VLOOKUP($A52,계획서_3분기!$A:$X,13,0),\"\")","v":8},0,{"$f":"IFERROR(VLOOKUP($A52,계획서_3분기!$A:$X,15,0),\"\")","v":0},0,{"$f":"INT(SUMIFS('설정_In-Put'!$K:$K,'설정_In-Put'!$C:$C,$A52)*24)","v":0},{"$f":"ROUND((SUMIFS('설정_In-Put'!$K:$K,'설정_In-Put'!$C:$C,$A52)*24-Q52)*60,0)","v":0},null,null,0,0,{"$f":"IF(SUMIFS('7월'!$AA$26:$AA$56,'7월'!$L$26:$L$56,$L52)+SUMIFS('8월'!$AA$26:$AA$56,'8월'!$L$26:$L$56,$L52)+SUMIFS('9월'!$AA$26:$AA$56,'9월'!$L$26:$L$56,$L52)>3120,1,IF($A52=\"\",\"\",IF(OR($E52=\"일\",$F52<>\"\"),1,0)*IF(S52+T52<>0,1,0)))","v":0},{"$f":"IFERROR(VLOOKUP($A52&1,'설정_In-Put'!$B:$L,11,0)*24,\"\")","v":""},null,null,0,0,0]
[{"$f":"IFERROR(IF(A52+1>EOMONTH($A$26,0),\"\",A52+1),\"\")","v":"2018-08-28"},1,1,28,"화",{"$f":"IFERROR(VLOOKUP($A53,'관리자 Setting'!$K$6:$M$36,3,0),\"\")","v":""},null,null,{"$f":"IFERROR(IF(OR(E53=\"토\",E53=\"일\",F53<>\"\"),\"\",VLOOKUP(A53&0,'설정_In-Put'!$A:$L,6,0)),\"\")","v":""},null,5,35,{"$f":"IFERROR(VLOOKUP($A53,계획서_3분기!$A:$X,13,0),\"\")","v":8},0,{"$f":"IFERROR(VLOOKUP($A53,계획서_3분기!$A:$X,15,0),\"\")","v":0},0,{"$f":"INT(SUMIFS('설정_In-Put'!$K:$K,'설정_In-Put'!$C:$C,$A53)*24)","v":0},{"$f":"ROUND((SUMIFS('설정_In-Put'!$K:$K,'설정_In-Put'!$C:$C,$A53)*24-Q53)*60,0)","v":0},null,null,0,0,{"$f":"IF(SUMIFS('7월'!$AA$26:$AA$56,'7월'!$L$26:$L$56,$L53)+SUMIFS('8월'!$AA$26:$AA$56,'8월'!$L$26:$L$56,$L53)+SUMIFS('9월'!$AA$26:$AA$56,'9월'!$L$26:$L$56,$L53)>3120,1,IF($A53=\"\",\"\",IF(OR($E53=\"일\",$F53<>\"\"),1,0)*IF(S53+T53<>0,1,0)))","v":0},{"$f":"IFERROR(VLOOKUP($A53&1,'설정_In-Put'!$B:$L,11,0)*24,\"\")","v":""},null,null,0,0,0]
[{"$f":"IFERROR(IF(A53+1>EOMONTH($A$26,0),\"\",A53+1),\"\")","v":"2018-08-29"},1,1,29,"수",{"$f":"IFERROR(VLOOKUP($A54,'관리자 Setting'!$K$6:$M$36,3,0),\"\")","v":""},null,null,{"$f":"IFERROR(IF(OR(E54=\"토\",E54=\"일\",F54<>\"\"),\"\",VLOOKUP(A54&0,'설정_In-Put'!$A:$L,6,0)),\"\")","v":""},null,5,35,{"$f":"IFERROR(VLOOKUP($A54,계획서_3분기!$A:$X,13,0),\"\")","v":8},0,{"$f":"IFERROR(VLOOKUP($A54,계획서_3분기!$A:$X,15,0),\"\")","v":0},0,{"$f":"INT(SUMIFS('설정_In-Put'!$K:$K,'설정_In-Put'!$C:$C,$A54)*24)","v":0},{"$f":"ROUND((SUMIFS('설정_In-Put'!$K:$K,'설정_In-Put'!$C:$C,$A54)*24-Q54)*60,0)","v":0},null,null,0,0,{"$f":"IF(SUMIFS('7월'!$AA$26:$AA$56,'7월'!$L$26:$L$56,$L54)+SUMIFS('8월'!$AA$26:$AA$56,'8월'!$L$26:$L$56,$L54)+SUMIFS('9월'!$AA$26:$AA$56,'9월'!$L$26:$L$56,$L54)>3120,1,IF($A54=\"\",\"\",IF(OR($E54=\"일\",$F54<>\"\"),1,0)*IF(S54+T54<>0,1,0)))","v":0},{"$f":"IFERROR(VLOOKUP($A54&1,'설정_In-Put'!$B:$L,11,0)*24,\"\")","v":""},null,null,0,0,0]
[{"$f":"IFERROR(IF(A54+1>EOMONTH($A$26,0),\"\",A54+1),\"\")","v":"2018-08-30"},1,1,30,"목",{"$f":"IFERROR(VLOOKUP($A55,'관리자 Setting'!$K$6:$M$36,3,0),\"\")","v":""},null,null,{"$f":"IFERROR(IF(OR(E55=\"토\",E55=\"일\",F55<>\"\"),\"\",VLOOKUP(A55&0,'설정_In-Put'!$A:$L,6,0)),\"\")","v":""},null,5,35,{"$f":"IFERROR(VLOOKUP($A55,계획서_3분기!$A:$X,13,0),\"\")","v":8},0,{"$f":"IFERROR(VLOOKUP($A55,계획서_3분기!$A:$X,15,0),\"\")","v":0},0,{"$f":"INT(SUMIFS('설정_In-Put'!$K:$K,'설정_In-Put'!$C:$C,$A55)*24)","v":0},{"$f":"ROUND((SUMIFS('설정_In-Put'!$K:$K,'설정_In-Put'!$C:$C,$A55)*24-Q55)*60,0)","v":0},null,null,0,0,{"$f":"IF(SUMIFS('7월'!$AA$26:$AA$56,'7월'!$L$26:$L$56,$L55)+SUMIFS('8월'!$AA$26:$AA$56,'8월'!$L$26:$L$56,$L55)+SUMIFS('9월'!$AA$26:$AA$56,'9월'!$L$26:$L$56,$L55)>3120,1,IF($A55=\"\",\"\",IF(OR($E55=\"일\",$F55<>\"\"),1,0)*IF(S55+T55<>0,1,0)))","v":0},{"$f":"IFERROR(VLOOKUP($A55&1,'설정_In-Put'!$B:$L,11,0)*24,\"\")","v":""},null,null,0,0,0]
["2018-08-31",1,1,31,"금",{"$f":"IFERROR(VLOOKUP($A56,'관리자 Setting'!$K$6:$M$36,3,0),\"\")","v":""},null,null,{"$f":"IFERROR(IF(OR(E56=\"토\",E56=\"일\",F56<>\"\"),\"\",VLOOKUP(A56&0,'설정_In-Put'!$A:$L,6,0)),\"\")","v":""},null,5,35,{"$f":"IFERROR(VLOOKUP($A56,계획서_3분기!$A:$X,13,0),\"\")","v":8},0,{"$f":"IFERROR(VLOOKUP($A56,계획서_3분기!$A:$X,15,0),\"\")","v":0},0,{"$f":"INT(SUMIFS('설정_In-Put'!$K:$K,'설정_In-Put'!$C:$C,$A56)*24)","v":0},{"$f":"ROUND((SUMIFS('설정_In-Put'!$K:$K,'설정_In-Put'!$C:$C,$A56)*24-Q56)*60,0)","v":0},null,null,0,0,{"$f":"IF(SUMIFS('7월'!$AA$26:$AA$56,'7월'!$L$26:$L$56,$L56)+SUMIFS('8월'!$AA$26:$AA$56,'8월'!$L$26:$L$56,$L56)+SUMIFS('9월'!$AA$26:$AA$56,'9월'!$L$26:$L$56,$L56)>3120,1,IF($A56=\"\",\"\",IF(OR($E56=\"일\",$F56<>\"\"),1,0)*IF(S56+T56<>0,1,0)))","v":0},{"$f":"IFERROR(VLOOKUP($A56&1,'설정_In-Put'!$B:$L,11,0)*24,\"\")","v":""},null,null,0,0,0]

{"sheet":"9월","index":14,"n_rows":56,"n_cols":30,"rows_kept":56,"merged":[[1,3,2,5],[1,6,2,20],[1,21,2,23],[4,3,5,3],[4,4,5,6],[4,7,5,8],[4,9,5,11],[4,12,5,13],[4,14,5,15],[4,16,5,17],[4,18,5,19],[4,20,5,21],[4,22,5,23],[7,3,7,23],[8,3,8,4],[8,5,8,9],[8,10,8,12],[8,13,8,14],[8,15,8,16],[8,17,8,18],[8,20,8,23],[9,3,9,4],[9,5,9,7],[9,8,9,9],[9,10,9,12],[9,13,9,14],[9,15,9,16],[9,17,9,18],[9,20,9,23],[10,3,10,4],[10,5,10,7],[10,8,10,9],[10,10,10,12],[10,13,10,14],[10,15,10,16],[10,17,10,18],[10,20,10,23],[11,3,11,4],[11,5,11,7],[11,8,11,9],[11,10,11,12],[11,13,11,14],[11,15,11,16],[11,17,11,18],[11,20,11,23],[13,3,13,23],[14,3,15,4],[14,5,15,9],[14,10,14,13],[14,14,14,17],[14,18,15,18],[14,19,15,23],[15,10,15,11],[15,12,15,13],[15,14,15,15],[15,16,15,17],[16,3,16,4],[16,5,16,7],[16,8,16,9],[16,10,16,11],[16,12,16,13],[16,14,16,15],[16,16,16,17],[16,19,16,23],[17,3,17,4],[17,5,17,7],[17,8,17,9],[17,10,17,11],[17,12,17,13],[17,14,17,15],[17,16,17,17],[17,19,17,23],[18,3,18,4],[18,5,18,7],[18,8,18,9],[18,10,18,11],[18,12,18,13],[18,14,18,15],[18,16,18,17],[18,19,18,23],[20,3,20,23],[21,3,23,3],[21,4,23,4],[21,5,23,7],[21,8,23,9],[21,10,23,10],[21,11,23,11],[21,12,21,15],[21,16,22,17],[21,18,21,21],[21,22,23,22],[21,23,23,23],[22,12,22,13],[22,14,22,15],[22,18,22,19],[22,20,22,21],[25,5,25,7],[25,8,25,9],[26,5,26,7],[26,8,26,9],[27,5,27,7],[27,8,27,9],[28,5,28,7],[28,8,28,9],[29,5,29,7],[29,8,29,9],[30,5,30,7],[30,8,30,9],[31,5,31,7],[31,8,31,9],[32,5,32,7],[32,8,32,9],[33,5,33,7],[33,8,33,9],[34,5,34,7],[34,8,34,9],[35,5,35,7],[35,8,35,9],[36,5,36,7],[36,8,36,9],[37,5,37,7],[37,8,37,9],[38,5,38,7],[38,8,38,9],[39,5,39,7],[39,8,39,9],[40,5,40,7],[40,8,40,9],[41,5,41,7],[41,8,41,9],[42,5,42,7],[42,8,42,9],[43,5,43,7],[43,8,43,9],[44,5,44,7],[44,8,44,9],[45,5,45,7],[45,8,45,9],[46,5,46,7],[46,8,46,9],[47,5,47,7],[47,8,47,9],[48,5,48,7],[48,8,48,9],[49,5,49,7],[49,8,49,9],[50,5,50,7],[50,8,50,9],[51,5,51,7],[51,8,51,9],[52,5,52,7],[52,8,52,9],[53,5,53,7],[53,8,53,9],[54,5,54,7],[54,8,54,9],[55,5,55,7],[55,8,55,9]]}
[]
[{"$nulls":3},"전월",null,null,{"$f":"'관리자 Setting'!$R$3&\"년 \"&TEXT($A$6,\"00월 근태 현황 (\")&$B$6&\"분기)\"","v":"2018년 09월 근태 현황 (3분기)"},{"$nulls":14},"익월"]
[]
[]
["월","분기",null,"소속","무한도전",null,null,"부서명",null,{"$f":"계획서_3분기!$J$5","v":"무한본부"},null,null,"직급",null,{"$f":"계획서_3분기!$O$5","v":"1급"},null,"ERP 사번",null,{"$f":"계획서_3분기!$S$5","v":"0002"},null,"성명",null,{"$f":"IF(계획서_3분기!W5=0,\"\",계획서_3분기!W5)","v":"박명수"}]
[9,3]
[]
[{"$nulls":3},"───────────────　　분　기　근　무　현　황　　───────────────"]
[{"$nulls":3},"구분",null,"규정 및 참조",{"$nulls":4},"합계/평균",null,null,{"v":7,"d":"7월"},null,{"v":8,"d":"8월"},null,{"v":9,"d":"9월"},null,"CHK","비고",{"$nulls":5},"합/평",1,2,3]
[{"$nulls":3},"전체 근로",{"$nulls":6},{"$f":"INT(AA10/60)&\"시간 \"&TEXT(ROUND((AA10/60-INT(AA10/60))*60,0),\"00분\")","v":"206시간 58분"},null,null,{"$f":"INT(AB10/60)&\"시간 \"&TEXT(ROUND((AB10/60-INT(AB10/60))*60,0),\"00분\")","v":"206시간 58분"},null,{"$f":"INT(AC10/60)&\"시간 \"&TEXT(ROUND((AC10/60-INT(AC10/60))*60,0),\"00분\")","v":"0시간 00분"},null,{"$f":"INT(AD10/60)&\"시간 \"&TEXT(ROUND((AD10/60-INT(AD10/60))*60,0),\"00분\")","v":"0시간 00분"},{"$nulls":8},{"$f":"SUM(AB10:AD10)","v":12418},{"$f":"'7월'!O17*60+'7월'!Q17","v":12418},{"$f":"'8월'!O17*60+'8월'!Q17","v":0},{"$f":"'9월'!O17*60+'9월'!Q17","v":0}]
[{"$nulls":3},"정규 근로",null,"분기 필수 합계",null,null,{"$f":"IFERROR(VLOOKUP($B$6,'관리자 Setting'!$O$6:$R$10,2,0),\"\")","v":{"v":488,"d":"488 시간"}},null,"176시간 00분",null,null,{"$f":"INT(AB11/60)&\"시간 \"&TEXT(ROUND((AB11/60-INT(AB11/60))*60,0),\"00분\")","v":"176시간 00분"},null,{"$f":"INT(AC11/60)&\"시간 \"&TEXT(ROUND((AC11/60-INT(AC11/60))*60,0),\"00분\")","v":"0시간 00분"},null,{"$f":"INT(AD11/60)&\"시간 \"&TEXT(ROUND((AD11/60-INT(AD11/60))*60,0),\"00분\")","v":"0시간 00분"},null,{"$f":"IF(I11*60>AA11,1,0)","v":1},{"$f":"IF(T11=1,\"분기 필수 근로 시간 부족\",\"\")","v":"분기 필수 근로 시간 부족"},{"$nulls":5},{"$f":"SUM(AB11:AD11)","v":10560},{"$f":"'7월'!O18*60+'7월'!Q18","v":10560},{"$f":"'8월'!O18*60+'8월'!Q18","v":0},{"$f":"'9월'!O18*60+'9월'!Q18","v":0}]
[{"$nulls":3},"연장 근로",null,"월 평균 연장 근로",null,null,{"$f":"IFERROR(VLOOKUP($W$5,'관리자 Setting'!$C$3:$G$53,5,0),\"\")","v":{"v":35,"d":"35 시간"}},null,"10시간 19분",null,null,{"$f":"INT(AB12/60)&\"시간 \"&TEXT(ROUND((AB12/60-INT(AB12/60))*60,0),\"00분\")","v":"30시간 58분"},null,{"$f":"INT(AC12/60)&\"시간 \"&TEXT(ROUND((AC12/60-INT(AC12/60))*60,0),\"00분\")","v":"0시간 00분"},null,{"$f":"INT(AD12/60)&\"시간 \"&TEXT(ROUND((AD12/60-INT(AD12/60))*60,0),\"00분\")","v":"0시간 00분"},null,{"$f":"IF(OR($I$12*60<AA12,$I$12*60<AB12,$I$12*60<AC12,$I$12*60<AD12),1,0)","v":0},{"$f":"IF(T12=1,\"연장 근로 한도 초과\",\"\")","v":""},{"$nulls":5},{"$f":"AVERAGE(AB12:AD12)","v":619.3333333333334},{"$f":"'7월'!O19*60+'7월'!Q19","v":1858},{"$f":"'8월'!O19*60+'8월'!Q19","v":0},{"$f":"'9월'!O19*60+'9월'!Q19","v":0}]
[]
[{"$nulls":3},"───────────────　　월　근　무　현　황　　───────────────"]
[{"$nulls":3},"구분",null,"규정 및 참조",{"$nulls":4},"근무 계획",{"$nulls":3},"근무 조정",{"$nulls":3},"CHK","비고"]
[{"$nulls":10},"시간",null,"분",null,"시간",null,"분"]
[{"$nulls":3},"전체 근로",{"$nulls":6},{"$f":"M25+O25","v":{"v":136,"d":"136 시간"}},null,"분",null,{"$f":"Q25+X25","v":0},null,{"$f":"R25","v":{"v":0,"d":"0 분"}}]
[{"$nulls":3},"정규 근로",{"$nulls":6},{"$f":"M25","v":{"v":136,"d":"136 시간"}},null,"분",null,{"$f":"S25+X25","v":0},null,{"$f":"T25","v":{"v":0,"d":"0 분"}}]
[{"$nulls":3},"연장 근로",null,"월 연장 근로 한도",null,null,{"$f":"IFERROR(VLOOKUP($W$5,'관리자 Setting'!$C$3:$G$53,5,0),\"\")","v":{"v":35,"d":"35 시간"}},null,{"$f":"O25","v":0},null,"분",null,{"$f":"U25","v":0},null,{"$f":"V25","v":{"v":0,"d":"0 분"}},null,{"$f":"IF($W$5=\"\",\"\",IF(I19*60<O19*60+Q19,1,0))","v":0},{"$f":"IF(S19=1,\"연장 근로 한도 시간 초과\",\"\")","v":""}]
[]
[{"$nulls":3},"───────────────　　일　/　주　간　근　무　현　황　　───────────────"]
[{"$nulls":3},"날짜","요일","참고",null,null,"상태",null,"주","주차","근무 계획",{"$nulls":3},"실\n근무시간",null,"조정",{"$nulls":3},"CHK","비고\n근무\n반영"]
[{"$nulls":12},"정규근로",null,"연장근로",{"$nulls":3},"정규근로",null,"연장근로"]
[{"$nulls":12},"시간","분","시간","분","시간","분","시간","분","시간","분",{"$nulls":4},"반영","실","연장"]
[{"$nulls":12},{"$f":"SUM(M26:M56)","v":136},0,{"$f":"SUM(O26:O56)","v":0},0,{"$f":"SUM(Q26:Q56)+INT(SUM(R26:R56)/60)","v":0},{"$f":"(SUM(R26:R56)/60-INT(SUM(R26:R56)/60))*60","v":0},{"$f":"SUM(S26:S56)+INT(SUM(T26:T56)/60)","v":0},{"$f":"(SUM(T26:T56)/60-INT(SUM(T26:T56)/60))*60","v":0},{"$f":"SUM(U26:U56)+INT(SUM(V26:V56)/60)","v":0},{"$f":"(SUM(V26:V56)/60-INT(SUM(V26:V56)/60))*60","v":0},null,{"$f":"SUM(X26:X56)","v":0}]
[{"$f":"DATE('관리자 Setting'!$R$3,$A$6,1)","v":"2018-09-01"},{"$f":"IF(OR($E26=\"일\",$F26<>\"\"),0,1)","v":1},1,1,{"$f":"TEXT($A26,\"AAA\")","v":"토"},{"$f":"IFERROR(VLOOKUP($A26,'관리자 Setting'!$K$6:$M$36,3,0),\"\")","v":""},null,null,{"$f":"IFERROR(IF(OR(E26=\"토\",E26=\"일\",F26<>\"\"),\"\",VLOOKUP(A26&0,'설정_In-Put'!$A:$L,6,0)),\"\")","v":""},null,{"$f":"IFERROR(L26-WEEKNUM(A26-D26+1)+1,\"\")","v":1},{"$f":"IFERROR(WEEKNUM(A26,2),\"\")","v":35},{"$f":"IFERROR(VLOOKUP($A26,계획서_3분기!$A:$X,13,0),\"\")","v":0},0,{"$f":"IFERROR(VLOOKUP($A26,계획서_3분기!$A:$X,15,0),\"\")","v":0},0,{"$f":"INT(SUMIFS('설정_In-Put'!$K:$K,'설정_In-Put'!$C:$C,$A26)*24)","v":0},{"$f":"ROUND((SUMIFS('설정_In-Put'!$K:$K,'설정_In-Put'!$C:$C,$A26)*24-Q26)*60,0)","v":0},null,null,{"$f":"INT(((Q26*60+R26)-(S26*60+T26))/60)","v":0},{"$f":"(((Q26*60+R26)-(S26*60+T26))/60-U26)*60","v":0},{"$f":"IF(SUMIFS('7월'!$AA$26:$AA$56,'7월'!$L$26:$L$56,$L26)+SUMIFS('8월'!$AA$26:$AA$56,'8월'!$L$26:$L$56,$L26)+SUMIFS('9월'!$AA$26:$AA$56,'9월'!$L$26:$L$56,$L26)>3120,1,IF($A26=\"\",\"\",IF(OR($E26=\"일\",$F26<>\"\"),1,0)*IF(S26+T26<>0,1,0)))","v":0},{"$f":"IFERROR(VLOOKUP($A26&1,'설정_In-Put'!$B:$L,11,0)*24,\"\")","v":""},null,null,{"$f":"SUM(S26,X26)*60+T26","v":0},{"$f":"S26*60+T26","v":0},{"$f":"U26*60+V26","v":0}]
[{"$f":"A26+1","v":"2018-09-02"},0,0,2,"일",{"$f":"IFERROR(VLOOKUP($A27,'관리자 Setting'!$K$6:$M$36,3,0),\"\")","v":""},null,null,{"$f":"IFERROR(IF(OR(E27=\"토\",E27=\"일\",F27<>\"\"),\"\",VLOOKUP(A27&0,'설정_In-Put'!$A:$L,6,0)),\"\")","v":""},null,1,35,{"$f":"IFERROR(VLOOKUP($A27,계획서_3분기!$A:$X,13,0),\"\")","v":0},0,{"$f":"IFERROR(VLOOKUP($A27,계획서_3분기!$A:$X,15,0),\"\")","v":0},0,{"$f":"INT(SUMIFS('설정_In-Put'!$K:$K,'설정_In-Put'!$C:$C,$A27)*24)","v":0},{"$f":"ROUND((SUMIFS('설정_In-Put'!$K:$K,'설정_In-Put'!$C:$C,$A27)*24-Q27)*60,0)","v":0},null,null,0,0,{"$f":"IF(SUMIFS('7월'!$AA$26:$AA$56,'7월'!$L$26:$L$56,$L27)+SUMIFS('8월'!$AA$26:$AA$56,'8월'!$L$26:$L$56,$L27)+SUMIFS('9월'!$AA$26:$AA$56,'9월'!$L$26:$L$56,$L27)>3120,1,IF($A27=\"\",\"\",IF(OR($E27=\"일\",$F27<>\"\"),1,0)*IF(S27+T27<>0,1,0)))","v":0},{"$f":"IFERROR(VLOOKUP($A27&1,'설정_In-Put'!$B:$L,11,0)*24,\"\")","v":""},null,null,{"$f":"SUM(S27,X27)*60+T27","v":0},{"$f":"S27*60+T27","v":0},{"$f":"U27*60+V27","v":0}]
[{"$f":"A27+1","v":"2018-09-03"},1,1,3,"월",{"$f":"IFERROR(VLOOKUP($A28,'관리자 Setting'!$K$6:$M$36,3,0),\"\")","v":""},null,null,{"$f":"IFERROR(IF(OR(E28=\"토\",E28=\"일\",F28<>\"\"),\"\",VLOOKUP(A28&0,'설정_In-Put'!$A:$L,6,0)),\"\")","v":""},null,2,36,{"$f":"IFERROR(VLOOKUP($A28,계획서_3분기!$A:$X,13,0),\"\")","v":8},0,{"$f":"IFERROR(VLOOKUP($A28,계획서_3분기!$A:$X,15,0),\"\")","v":0},0,{"$f":"INT(SUMIFS('설정_In-Put'!$K:$K,'설정_In-Put'!$C:$C,$A28)*24)","v":0},{"$f":"ROUND((SUMIFS('설정_In-Put'!$K:$K,'설정_In-Put'!$C:$C,$A28)*24-Q28)*60,0)","v":0},null,null,0,0,{"$f":"IF(SUMIFS('7월'!$AA$26:$AA$56,'7월'!$L$26:$L$56,$L28)+SUMIFS('8월'!$AA$26:$AA$56,'8월'!$L$26:$L$56,$L28)+SUMIFS('9월'!$AA$26:$AA$56,'9월'!$L$26:$L$56,$L28)>3120,1,IF($A28=\"\",\"\",IF(OR($E28=\"일\",$F28<>\"\"),1,0)*IF(S28+T28<>0,1,0)))","v":0},{"$f":"IFERROR(VLOOKUP($A28&1,'설정_In-Put'!$B:$L,11,0)*24,\"\")","v":""},null,null,0,0,0]
["2018-09-04",1,1,4,"화",{"$f":"IFERROR(VLOOKUP($A29,'관리자 Setting'!$K$6:$M$36,3,0),\"\")","v":""},null,null,{"$f":"IFERROR(IF(OR(E29=\"토\",E29=\"일\",F29<>\"\"),\"\",VLOOKUP(A29&0,'설정_In-Put'!$A:$L,6,0)),\"\")","v":""},null,2,36,{"$f":"IFERROR(VLOOKUP($A29,계획서_3분기!$A:$X,13,0),\"\")","v":8},0,{"$f":"IFERROR(VLOOKUP($A29,계획서_3분기!$A:$X,15,0),\"\")","v":0},0,{"$f":"INT(SUMIFS('설정_In-Put'!$K:$K,'설정_In-Put'!$C:$C,$A29)*24)","v":0},{"$f":"ROUND((SUMIFS('설정_In-Put'!$K:$K,'설정_In-Put'!$C:$C,$A29)*24-Q29)*60,0)","v":0},null,null,0,0,{"$f":"IF(SUMIFS('7월'!$AA$26:$AA$56,'7월'!$L$26:$L$56,$L29)+SUMIFS('8월'!$AA$26:$AA$56,'8월'!$L$26:$L$56,$L29)+SUMIFS('9월'!$AA$26:$AA$56,'9월'!$L$26:$L$56,$L29)>3120,1,IF($A29=\"\",\"\",IF(OR($E29=\"일\",$F29<>\"\"),1,0)*IF(S29+T29<>0,1,0)))","v":0},{"$f":"IFERROR(VLOOKUP($A29&1,'설정_In-Put'!$B:$L,11,0)*24,\"\")","v":""},null,null,0,0,0]
["2018-09-05",1,1,5,"수",{"$f":"IFERROR(VLOOKUP($A30,'관리자 Setting'!$K$6:$M$36,3,0),\"\")","v":""},null,null,{"$f":"IFERROR(IF(OR(E30=\"토\",E30=\"일\",F30<>\"\"),\"\",VLOOKUP(A30&0,'설정_In-Put'!$A:$L,6,0)),\"\")","v":""},null,2,36,{"$f":"IFERROR(VLOOKUP($A30,계획서_3분기!$A:$X,13,0),\"\")","v":8},0,{"$f":"IFERROR(VLOOKUP($A30,계획서_3분기!$A:$X,15,0),\"\")","v":0},0,{"$f":"INT(SUMIFS('설정_In-Put'!$K:$K,'설정_In-Put'!$C:$C,$A30)*24)","v":0},{"$f":"ROUND((SUMIFS('설정_In-Put'!$K:$K,'설정_In-Put'!$C:$C,$A30)*24-Q30)*60,0)","v":0},null,null,0,0,{"$f":"IF(SUMIFS('7월'!$AA$26:$AA$56,'7월'!$L$26:$L$56,$L30)+SUMIFS('8월'!$AA$26:$AA$56,'8월'!$L$26:$L$56,$L30)+SUMIFS('9월'!$AA$26:$AA$56,'9월'!$L$26:$L$56,$L30)>3120,1,IF($A30=\"\",\"\",IF(OR($E30=\"일\",$F30<>\"\"),1,0)*IF(S30+T30<>0,1,0)))","v":0},{"$f":"IFERROR(VLOOKUP($A30&1,'설정_In-Put'!$B:$L,11,0)*24,\"\")","v":""},null,null,0,0,0]
["2018-09-06",1,1,6,"목",{"$f":"IFERROR(VLOOKUP($A31,'관리자 Setting'!$K$6:$M$36,3,0),\"\")","v":""},null,null,{"$f":"IFERROR(IF(OR(E31=\"토\",E31=\"일\",F31<>\"\"),\"\",VLOOKUP(A31&0,'설정_In-Put'!$A:$L,6,0)),\"\")","v":""},null,2,36,{"$f":"IFERROR(VLOOKUP($A31,계획서_3분기!$A:$X,13,0),\"\")","v":8},0,{"$f":"IFERROR(VLOOKUP($A31,계획서_3분기!$A:$X,15,0),\"\")","v":0},0,{"$f":"INT(SUMIFS('설정_In-Put'!$K:$K,'설정_In-Put'!$C:$C,$A31)*24)","v":0},{"$f":"ROUND((SUMIFS('설정_In-Put'!$K:$K,'설정_In-Put'!$C:$C,$A31)*24-Q31)*60,0)","v":0},null,null,0,0,{"$f":"IF(SUMIFS('7월'!$AA$26:$AA$56,'7월'!$L$26:$L$56,$L31)+SUMIFS('8월'!$AA$26:$AA$56,'8월'!$L$26:$L$56,$L31)+SUMIFS('9월'!$AA$26:$AA$56,'9월'!$L$26:$L$56,$L31)>3120,1,IF($A31=\"\",\"\",IF(OR($E31=\"일\",$F31<>\"\"),1,0)*IF(S31+T31<>0,1,0)))","v":0},{"$f":"IFERROR(VLOOKUP($A31&1,'설정_In-Put'!$B:$L,11,0)*24,\"\")","v":""},null,null,0,0,0]
["2018-09-07",1,1,7,"금",{"$f":"IFERROR(VLOOKUP($A32,'관리자 Setting'!$K$6:$M$36,3,0),\"\")","v":""},null,null,{"$f":"IFERROR(IF(OR(E32=\"토\",E32=\"일\",F32<>\"\"),\"\",VLOOKUP(A32&0,'설정_In-Put'!$A:$L,6,0)),\"\")","v":""},null,2,36,{"$f":"IFERROR(VLOOKUP($A32,계획서_3분기!$A:$X,13,0),\"\")","v":8},0,{"$f":"IFERROR(VLOOKUP($A32,계획서_3분기!$A:$X,15,0),\"\")","v":0},0,{"$f":"INT(SUMIFS('설정_In-Put'!$K:$K,'설정_In-Put'!$C:$C,$A32)*24)","v":0},{"$f":"ROUND((SUMIFS('설정_In-Put'!$K:$K,'설정_In-Put'!$C:$C,$A32)*24-Q32)*60,0)","v":0},null,null,0,0,{"$f":"IF(SUMIFS('7월'!$AA$26:$AA$56,'7월'!$L$26:$L$56,$L32)+SUMIFS('8월'!$AA$26:$AA$56,'8월'!$L$26:$L$56,$L32)+SUMIFS('9월'!$AA$26:$AA$56,'9월'!$L$26:$L$56,$L32)>3120,1,IF($A32=\"\",\"\",IF(OR($E32=\"일\",$F32<>\"\"),1,0)*IF(S32+T32<>0,1,0)))","v":0},{"$f":"IFERROR(VLOOKUP($A32&1,'설정_In-Put'!$B:$L,11,0)*24,\"\")","v":""},null,null,0,0,0]
["2018-09-08",1,1,8,"토",{"$f":"IFERROR(VLOOKUP($A33,'관리자 Setting'!$K$6:$M$36,3,0),\"\")","v":""},null,null,{"$f":"IFERROR(IF(OR(E33=\"토\",E33=\"일\",F33<>\"\"),\"\",VLOOKUP(A33&0,'설정_In-Put'!$A:$L,6,0)),\"\")","v":""},null,2,36,{"$f":"IFERROR(VLOOKUP($A33,계획서_3분기!$A:$X,13,0),\"\")","v":0},0,{"$f":"IFERROR(VLOOKUP($A33,계획서_3분기!$A:$X,15,0),\"\")","v":0},0,{"$f":"INT(SUMIFS('설정_In-Put'!$K:$K,'설정_In-Put'!$C:$C,$A33)*24)","v":0},{"$f":"ROUND((SUMIFS('설정_In-Put'!$K:$K,'설정_In-Put'!$C:$C,$A33)*24-Q33)*60,0)","v":0},null,null,0,0,{"$f":"IF(SUMIFS('7월'!$AA$26:$AA$56,'7월'!$L$26:$L$56,$L33)+SUMIFS('8월'!$AA$26:$AA$56,'8월'!$L$26:$L$56,$L33)+SUMIFS('9월'!$AA$26:$AA$56,'9월'!$L$26:$L$56,$L33)>3120,1,IF($A33=\"\",\"\",IF(OR($E33=\"일\",$F33<>\"\"),1,0)*IF(S33+T33<>0,1,0)))","v":0},{"$f":"IFERROR(VLOOKUP($A33&1,'설정_In-Put'!$B:$L,11,0)*24,\"\")","v":""},null,null,0,0,0]
["2018-09-09",0,0,9,"일",{"$f":"IFERROR(VLOOKUP($A34,'관리자 Setting'!$K$6:$M$36,3,0),\"\")","v":""},null,null,{"$f":"IFERROR(IF(OR(E34=\"토\",E34=\"일\",F34<>\"\"),\"\",VLOOKUP(A34&0,'설정_In-Put'!$A:$L,6,0)),\"\")","v":""},null,2,36,{"$f":"IFERROR(VLOOKUP($A34,계획서_3분기!$A:$X,13,0),\"\")","v":0},0,{"$f":"IFERROR(VLOOKUP($A34,계획서_3분기!$A:$X,15,0),\"\")","v":0},0,{"$f":"INT(SUMIFS('설정_In-Put'!$K:$K,'설정_In-Put'!$C:$C,$A34)*24)","v":0},{"$f":"ROUND((SUMIFS('설정_In-Put'!$K:$K,'설정_In-Put'!$C:$C,$A34)*24-Q34)*60,0)","v":0},null,null,0,0,{"$f":"IF(SUMIFS('7월'!$AA$26:$AA$56,'7월'!$L$26:$L$56,$L34)+SUMIFS('8월'!$AA$26:$AA$56,'8월'!$L$26:$L$56,$L34)+SUMIFS('9월'!$AA$26:$AA$56,'9월'!$L$26:$L$56,$L34)>3120,1,IF($A34=\"\",\"\",IF(OR($E34=\"일\",$F34<>\"\"),1,0)*IF(S34+T34<>0,1,0)))","v":0},{"$f":"IFERROR(VLOOKUP($A34&1,'설정_In-Put'!$B:$L,11,0)*24,\"\")","v":""},null,null,0,0,0]
["2018-09-10",1,1,10,"월",{"$f":"IFERROR(VLOOKUP($A35,'관리자 Setting'!$K$6:$M$36,3,0),\"\")","v":""},null,null,{"$f":"IFERROR(IF(OR(E35=\"토\",E35=\"일\",F35<>\"\"),\"\",VLOOKUP(A35&0,'설정_In-Put'!$A:$L,6,0)),\"\")","v":""},null,3,37,{"$f":"IFERROR(VLOOKUP($A35,계획서_3분기!$A:$X,13,0),\"\")","v":8},0,{"$f":"IFERROR(VLOOKUP($A35,계획서_3분기!$A:$X,15,0),\"\")","v":0},0,{"$f":"INT(SUMIFS('설정_In-Put'!$K:$K,'설정_In-Put'!$C:$C,$A35)*24)","v":0},{"$f":"ROUND((SUMIFS('설정_In-Put'!$K:$K,'설정_In-Put'!$C:$C,$A35)*24-Q35)*60,0)","v":0},null,null,0,0,{"$f":"IF(SUMIFS('7월'!$AA$26:$AA$56,'7월'!$L$26:$L$56,$L35)+SUMIFS('8월'!$AA$26:$AA$56,'8월'!$L$26:$L$56,$L35)+SUMIFS('9월'!$AA$26:$AA$56,'9월'!$L$26:$L$56,$L35)>3120,1,IF($A35=\"\",\"\",IF(OR($E35=\"일\",$F35<>\"\"),1,0)*IF(S35+T35<>0,1,0)))","v":0},{"$f":"IFERROR(VLOOKUP($A35&1,'설정_In-Put'!$B:$L,11,0)*24,\"\")","v":""},null,null,0,0,0]
["2018-09-11",1,1,11,"화",{"$f":"IFERROR(VLOOKUP($A36,'관리자 Setting'!$K$6:$M$36,3,0),\"\")","v":""},null,null,{"$f":"IFERROR(IF(OR(E36=\"토\",E36=\"일\",F36<>\"\"),\"\",VLOOKUP(A36&0,'설정_In-Put'!$A:$L,6,0)),\"\")","v":""},null,3,37,{"$f":"IFERROR(VLOOKUP($A36,계획서_3분기!$A:$X,13,0),\"\")","v":8},0,{"$f":"IFERROR(VLOOKUP($A36,계획서_3분기!$A:$X,15,0),\"\")","v":0},0,{"$f":"INT(SUMIFS('설정_In-Put'!$K:$K,'설정_In-Put'!$C:$C,$A36)*24)","v":0},{"$f":"ROUND((SUMIFS('설정_In-Put'!$K:$K,'설정_In-Put'!$C:$C,$A36)*24-Q36)*60,0)","v":0},null,null,0,0,{"$f":"IF(SUMIFS('7월'!$AA$26:$AA$56,'7월'!$L$26:$L$56,$L36)+SUMIFS('8월'!$AA$26:$AA$56,'8월'!$L$26:$L$56,$L36)+SUMIFS('9월'!$AA$26:$AA$56,'9월'!$L$26:$L$56,$L36)>3120,1,IF($A36=\"\",\"\",IF(OR($E36=\"일\",$F36<>\"\"),1,0)*IF(S36+T36<>0,1,0)))","v":0},{"$f":"IFERROR(VLOOKUP($A36&1,'설정_In-Put'!$B:$L,11,0)*24,\"\")","v":""},null,null,0,0,0]
["2018-09-12",1,1,12,"수",{"$f":"IFERROR(VLOOKUP($A37,'관리자 Setting'!$K$6:$M$36,3,0),\"\")","v":""},null,null,{"$f":"IFERROR(IF(OR(E37=\"토\",E37=\"일\",F37<>\"\"),\"\",VLOOKUP(A37&0,'설정_In-Put'!$A:$L,6,0)),\"\")","v":""},null,3,37,{"$f":"IFERROR(VLOOKUP($A37,계획서_3분기!$A:$X,13,0),\"\")","v":8},0,{"$f":"IFERROR(VLOOKUP($A37,계획서_3분기!$A:$X,15,0),\"\")","v":0},0,{"$f":"INT(SUMIFS('설정_In-Put'!$K:$K,'설정_In-Put'!$C:$C,$A37)*24)","v":0},{"$f":"ROUND((SUMIFS('설정_In-Put'!$K:$K,'설정_In-Put'!$C:$C,$A37)*24-Q37)*60,0)","v":0},null,null,0,0,{"$f":"IF(SUMIFS('7월'!$AA$26:$AA$56,'7월'!$L$26:$L$56,$L37)+SUMIFS('8월'!$AA$26:$AA$56,'8월'!$L$26:$L$56,$L37)+SUMIFS('9월'!$AA$26:$AA$56,'9월'!$L$26:$L$56,$L37)>3120,1,IF($A37=\"\",\"\",IF(OR($E37=\"일\",$F37<>\"\"),1,0)*IF(S37+T37<>0,1,0)))","v":0},{"$f":"IFERROR(VLOOKUP($A37&1,'설정_In-Put'!$B:$L,11,0)*24,\"\")","v":""},null,null,0,0,0]
["2018-09-13",1,1,13,"목",{"$f":"IFERROR(VLOOKUP($A38,'관리자 Setting'!$K$6:$M$36,3,0),\"\")","v":""},null,null,{"$f":"IFERROR(IF(OR(E38=\"토\",E38=\"일\",F38<>\"\"),\"\",VLOOKUP(A38&0,'설정_In-Put'!$A:$L,6,0)),\"\")","v":""},null,3,37,{"$f":"IFERROR(VLOOKUP($A38,계획서_3분기!$A:$X,13,0),\"\")","v":8},0,{"$f":"IFERROR(VLOOKUP($A38,계획서_3분기!$A:$X,15,0),\"\")","v":0},0,{"$f":"INT(SUMIFS('설정_In-Put'!$K:$K,'설정_In-Put'!$C:$C,$A38)*24)","v":0},{"$f":"ROUND((SUMIFS('설정_In-Put'!$K:$K,'설정_In-Put'!$C:$C,$A38)*24-Q38)*60,0)","v":0},null,null,0,0,{"$f":"IF(SUMIFS('7월'!$AA$26:$AA$56,'7월'!$L$26:$L$56,$L38)+SUMIFS('8월'!$AA$26:$AA$56,'8월'!$L$26:$L$56,$L38)+SUMIFS('9월'!$AA$26:$AA$56,'9월'!$L$26:$L$56,$L38)>3120,1,IF($A38=\"\",\"\",IF(OR($E38=\"일\",$F38<>\"\"),1,0)*IF(S38+T38<>0,1,0)))","v":0},{"$f":"IFERROR(VLOOKUP($A38&1,'설정_In-Put'!$B:$L,11,0)*24,\"\")","v":""},null,null,0,0,0]
["2018-09-14",1,1,14,"금",{"$f":"IFERROR(VLOOKUP($A39,'관리자 Setting'!$K$6:$M$36,3,0),\"\")","v":""},null,null,{"$f":"IFERROR(IF(OR(E39=\"토\",E39=\"일\",F39<>\"\"),\"\",VLOOKUP(A39&0,'설정_In-Put'!$A:$L,6,0)),\"\")","v":""},null,3,37,{"$f":"IFERROR(VLOOKUP($A39,계획서_3분기!$A:$X,13,0),\"\")","v":8},0,{"$f":"IFERROR(VLOOKUP($A39,계획서_3분기!$A:$X,15,0),\"\")","v":0},0,{"$f":"INT(SUMIFS('설정_In-Put'!$K:$K,'설정_In-Put'!$C:$C,$A39)*24)","v":0},{"$f":"ROUND((SUMIFS('설정_In-Put'!$K:$K,'설정_In-Put'!$C:$C,$A39)*24-Q39)*60,0)","v":0},null,null,0,0,{"$f":"IF(SUMIFS('7월'!$AA$26:$AA$56,'7월'!$L$26:$L$56,$L39)+SUMIFS('8월'!$AA$26:$AA$56,'8월'!$L$26:$L$56,$L39)+SUMIFS('9월'!$AA$26:$AA$56,'9월'!$L$26:$L$56,$L39)>3120,1,IF($A39=\"\",\"\",IF(OR($E39=\"일\",$F39<>\"\"),1,0)*IF(S39+T39<>0,1,0)))","v":0},{"$f":"IFERROR(VLOOKUP($A39&1,'설정_In-Put'!$B:$L,11,0)*24,\"\")","v":""},null,null,0,0,0]
["2018-09-15",1,1,15,"토",{"$f":"IFERROR(VLOOKUP($A40,'관리자 Setting'!$K$6:$M$36,3,0),\"\")","v":""},null,null,{"$f":"IFERROR(IF(OR(E40=\"토\",E40=\"일\",F40<>\"\"),\"\",VLOOKUP(A40&0,'설정_In-Put'!$A:$L,6,0)),\"\")","v":""},null,3,37,{"$f":"IFERROR(VLOOKUP($A40,계획서_3분기!$A:$X,13,0),\"\")","v":0},0,{"$f":"IFERROR(VLOOKUP($A40,계획서_3분기!$A:$X,15,0),\"\")","v":0},0,{"$f":"INT(SUMIFS('설정_In-Put'!$K:$K,'설정_In-Put'!$C:$C,$A40)*24)","v":0},{"$f":"ROUND((SUMIFS('설정_In-Put'!$K:$K,'설정_In-Put'!$C:$C,$A40)*24-Q40)*60,0)","v":0},null,null,0,0,{"$f":"IF(SUMIFS('7월'!$AA$26:$AA$56,'7월'!$L$26:$L$56,$L40)+SUMIFS('8월'!$AA$26:$AA$56,'8월'!$L$26:$L$56,$L40)+SUMIFS('9월'!$AA$26:$AA$56,'9월'!$L$26:$L$56,$L40)>3120,1,IF($A40=\"\",\"\",IF(OR($E40=\"일\",$F40<>\"\"),1,0)*IF(S40+T40<>0,1,0)))","v":0},{"$f":"IFERROR(VLOOKUP($A40&1,'설정_In-Put'!$B:$L,11,0)*24,\"\")","v":""},null,null,0,0,0]
["2018-09-16",0,0,16,"일",{"$f":"IFERROR(VLOOKUP($A41,'관리자 Setting'!$K$6:$M$36,3,0),\"\")","v":""},null,null,{"$f":"IFERROR(IF(OR(E41=\"토\",E41=\"일\",F41<>\"\"),\"\",VLOOKUP(A41&0,'설정_In-Put'!$A:$L,6,0)),\"\")","v":""},null,3,37,{"$f":"IFERROR(VLOOKUP($A41,계획서_3분기!$A:$X,13,0),\"\")","v":0},0,{"$f":"IFERROR(VLOOKUP($A41,계획서_3분기!$A:$X,15,0),\"\")","v":0},0,{"$f":"INT(SUMIFS('설정_In-Put'!$K:$K,'설정_In-Put'!$C:$C,$A41)*24)","v":0},{"$f":"ROUND((SUMIFS('설정_In-Put'!$K:$K,'설정_In-Put'!$C:$C,$A41)*24-Q41)*60,0)","v":0},null,null,0,0,{"$f":"IF(SUMIFS('7월'!$AA$26:$AA$56,'7월'!$L$26:$L$56,$L41)+SUMIFS('8월'!$AA$26:$AA$56,'8월'!$L$26:$L$56,$L41)+SUMIFS('9월'!$AA$26:$AA$56,'9월'!$L$26:$L$56,$L41)>3120,1,IF($A41=\"\",\"\",IF(OR($E41=\"일\",$F41<>\"\"),1,0)*IF(S41+T41<>0,1,0)))","v":0},{"$f":"IFERROR(VLOOKUP($A41&1,'설정_In-Put'!$B:$L,11,0)*24,\"\")","v":""},null,null,0,0,0]
["2018-09-17",1,1,17,"월",{"$f":"IFERROR(VLOOKUP($A42,'관리자 Setting'!$K$6:$M$36,3,0),\"\")","v":""},null,null,{"$f":"IFERROR(IF(OR(E42=\"토\",E42=\"일\",F42<>\"\"),\"\",VLOOKUP(A42&0,'설정_In-Put'!$A:$L,6,0)),\"\")","v":""},null,4,38,{"$f":"IFERROR(VLOOKUP($A42,계획서_3분기!$A:$X,13,0),\"\")","v":8},0,{"$f":"IFERROR(VLOOKUP($A42,계획서_3분기!$A:$X,15,0),\"\")","v":0},0,{"$f":"INT(SUMIFS('설정_In-Put'!$K:$K,'설정_In-Put'!$C:$C,$A42)*24)","v":0},{"$f":"ROUND((SUMIFS('설정_In-Put'!$K:$K,'설정_In-Put'!$C:$C,$A42)*24-Q42)*60,0)","v":0},null,null,0,0,{"$f":"IF(SUMIFS('7월'!$AA$26:$AA$56,'7월'!$L$26:$L$56,$L42)+SUMIFS('8월'!$AA$26:$AA$56,'8월'!$L$26:$L$56,$L42)+SUMIFS('9월'!$AA$26:$AA$56,'9월'!$L$26:$L$56,$L42)>3120,1,IF($A42=\"\",\"\",IF(OR($E42=\"일\",$F42<>\"\"),1,0)*IF(S42+T42<>0,1,0)))","v":0},{"$f":"IFERROR(VLOOKUP($A42&1,'설정_In-Put'!$B:$L,11,0)*24,\"\")","v":""},null,null,0,0,0]
["2018-09-18",1,1,18,"화",{"$f":"IFERROR(VLOOKUP($A43,'관리자 Setting'!$K$6:$M$36,3,0),\"\")","v":""},null,null,{"$f":"IFERROR(IF(OR(E43=\"토\",E43=\"일\",F43<>\"\"),\"\",VLOOKUP(A43&0,'설정_In-Put'!$A:$L,6,0)),\"\")","v":""},null,4,38,{"$f":"IFERROR(VLOOKUP($A43,계획서_3분기!$A:$X,13,0),\"\")","v":8},0,{"$f":"IFERROR(VLOOKUP($A43,계획서_3분기!$A:$X,15,0),\"\")","v":0},0,{"$f":"INT(SUMIFS('설정_In-Put'!$K:$K,'설정_In-Put'!$C:$C,$A43)*24)","v":0},{"$f":"ROUND((SUMIFS('설정_In-Put'!$K:$K,'설정_In-Put'!$C:$C,$A43)*24-Q43)*60,0)","v":0},null,null,0,0,{"$f":"IF(SUMIFS('7월'!$AA$26:$AA$56,'7월'!$L$26:$L$56,$L43)+SUMIFS('8월'!$AA$26:$AA$56,'8월'!$L$26:$L$56,$L43)+SUMIFS('9월'!$AA$26:$AA$56,'9월'!$L$26:$L$56,$L43)>3120,1,IF($A43=\"\",\"\",IF(OR($E43=\"일\",$F43<>\"\"),1,0)*IF(S43+T43<>0,1,0)))","v":0},{"$f":"IFERROR(VLOOKUP($A43&1,'설정_In-Put'!$B:$L,11,0)*24,\"\")","v":""},null,null,0,0,0]
["2018-09-19",1,1,19,"수",{"$f":"IFERROR(VLOOKUP($A44,'관리자 Setting'!$K$6:$M$36,3,0),\"\")","v":""},null,null,{"$f":"IFERROR(IF(OR(E44=\"토\",E44=\"일\",F44<>\"\"),\"\",VLOOKUP(A44&0,'설정_In-Put'!$A:$L,6,0)),\"\")","v":""},null,4,38,{"$f":"IFERROR(VLOOKUP($A44,계획서_3분기!$A:$X,13,0),\"\")","v":8},0,{"$f":"IFERROR(VLOOKUP($A44,계획서_3분기!$A:$X,15,0),\"\")","v":0},0,{"$f":"INT(SUMIFS('설정_In-Put'!$K:$K,'설정_In-Put'!$C:$C,$A44)*24)","v":0},{"$f":"ROUND((SUMIFS('설정_In-Put'!$K:$K,'설정_In-Put'!$C:$C,$A44)*24-Q44)*60,0)","v":0},null,null,0,0,{"$f":"IF(SUMIFS('7월'!$AA$26:$AA$56,'7월'!$L$26:$L$56,$L44)+SUMIFS('8월'!$AA$26:$AA$56,'8월'!$L$26:$L$56,$L44)+SUMIFS('9월'!$AA$26:$AA$56,'9월'!$L$26:$L$56,$L44)>3120,1,IF($A44=\"\",\"\",IF(OR($E44=\"일\",$F44<>\"\"),1,0)*IF(S44+T44<>0,1,0)))","v":0},{"$f":"IFERROR(VLOOKUP($A44&1,'설정_In-Put'!$B:$L,11,0)*24,\"\")","v":""},null,null,0,0,0]
["2018-09-20",1,1,20,"목",{"$f":"IFERROR(VLOOKUP($A45,'관리자 Setting'!$K$6:$M$36,3,0),\"\")","v":""},null,null,{"$f":"IFERROR(IF(OR(E45=\"토\",E45=\"일\",F45<>\"\"),\"\",VLOOKUP(A45&0,'설정_In-Put'!$A:$L,6,0)),\"\")","v":""},null,4,38,{"$f":"IFERROR(VLOOKUP($A45,계획서_3분기!$A:$X,13,0),\"\")","v":8},0,{"$f":"IFERROR(VLOOKUP($A45,계획서_3분기!$A:$X,15,0),\"\")","v":0},0,{"$f":"INT(SUMIFS('설정_In-Put'!$K:$K,'설정_In-Put'!$C:$C,$A45)*24)","v":0},{"$f":"ROUND((SUMIFS('설정_In-Put'!$K:$K,'설정_In-Put'!$C:$C,$A45)*24-Q45)*60,0)","v":0},null,null,0,0,{"$f":"IF(SUMIFS('7월'!$AA$26:$AA$56,'7월'!$L$26:$L$56,$L45)+SUMIFS('8월'!$AA$26:$AA$56,'8월'!$L$26:$L$56,$L45)+SUMIFS('9월'!$AA$26:$AA$56,'9월'!$L$26:$L$56,$L45)>3120,1,IF($A45=\"\",\"\",IF(OR($E45=\"일\",$F45<>\"\"),1,0)*IF(S45+T45<>0,1,0)))","v":0},{"$f":"IFERROR(VLOOKUP($A45&1,'설정_In-Put'!$B:$L,11,0)*24,\"\")","v":""},null,null,0,0,0]
["2018-09-21",1,1,21,"금",{"$f":"IFERROR(VLOOKUP($A46,'관리자 Setting'!$K$6:$M$36,3,0),\"\")","v":""},null,null,{"$f":"IFERROR(IF(OR(E46=\"토\",E46=\"일\",F46<>\"\"),\"\",VLOOKUP(A46&0,'설정_In-Put'!$A:$L,6,0)),\"\")","v":""},null,4,38,{"$f":"IFERROR(VLOOKUP($A46,계획서_3분기!$A:$X,13,0),\"\")","v":8},0,{"$f":"IFERROR(VLOOKUP($A46,계획서_3분기!$A:$X,15,0),\"\")","v":0},0,{"$f":"INT(SUMIFS('설정_In-Put'!$K:$K,'설정_In-Put'!$C:$C,$A46)*24)","v":0},{"$f":"ROUND((SUMIFS('설정_In-Put'!$K:$K,'설정_In-Put'!$C:$C,$A46)*24-Q46)*60,0)","v":0},null,null,0,0,{"$f":"IF(SUMIFS('7월'!$AA$26:$AA$56,'7월'!$L$26:$L$56,$L46)+SUMIFS('8월'!$AA$26:$AA$56,'8월'!$L$26:$L$56,$L46)+SUMIFS('9월'!$AA$26:$AA$56,'9월'!$L$26:$L$56,$L46)>3120,1,IF($A46=\"\",\"\",IF(OR($E46=\"일\",$F46<>\"\"),1,0)*IF(S46+T46<>0,1,0)))","v":0},{"$f":"IFERROR(VLOOKUP($A46&1,'설정_In-Put'!$B:$L,11,0)*24,\"\")","v":""},null,null,0,0,0]
["2018-09-22",1,1,22,"토",{"$f":"IFERROR(VLOOKUP($A47,'관리자 Setting'!$K$6:$M$36,3,0),\"\")","v":""},null,null,{"$f":"IFERROR(IF(OR(E47=\"토\",E47=\"일\",F47<>\"\"),\"\",VLOOKUP(A47&0,'설정_In-Put'!$A:$L,6,0)),\"\")","v":""},null,4,38,{"$f":"IFERROR(VLOOKUP($A47,계획서_3분기!$A:$X,13,0),\"\")","v":0},0,{"$f":"IFERROR(VLOOKUP($A47,계획서_3분기!$A:$X,15,0),\"\")","v":0},0,{"$f":"INT(SUMIFS('설정_In-Put'!$K:$K,'설정_In-Put'!$C:$C,$A47)*24)","v":0},{"$f":"ROUND((SUMIFS('설정_In-Put'!$K:$K,'설정_In-Put'!$C:$C,$A47)*24-Q47)*60,0)","v":0},null,null,0,0,{"$f":"IF(SUMIFS('7월'!$AA$26:$AA$56,'7월'!$L$26:$L$56,$L47)+SUMIFS('8월'!$AA$26:$AA$56,'8월'!$L$26:$L$56,$L47)+SUMIFS('9월'!$AA$26:$AA$56,'9월'!$L$26:$L$56,$L47)>3120,1,IF($A47=\"\",\"\",IF(OR($E47=\"일\",$F47<>\"\"),1,0)*IF(S47+T47<>0,1,0)))","v":0},{"$f":"IFERROR(VLOOKUP($A47&1,'설정_In-Put'!$B:$L,11,0)*24,\"\")","v":""},null,null,0,0,0]
["2018-09-23",0,0,23,"일",{"$f":"IFERROR(VLOOKUP($A48,'관리자 Setting'!$K$6:$M$36,3,0),\"\")","v":"추석연휴"},null,null,{"$f":"IFERROR(IF(OR(E48=\"토\",E48=\"일\",F48<>\"\"),\"\",VLOOKUP(A48&0,'설정_In-Put'!$A:$L,6,0)),\"\")","v":""},null,4,38,{"$f":"IFERROR(VLOOKUP($A48,계획서_3분기!$A:$X,13,0),\"\")","v":0},0,{"$f":"IFERROR(VLOOKUP($A48,계획서_3분기!$A:$X,15,0),\"\")","v":0},0,{"$f":"INT(SUMIFS('설정_In-Put'!$K:$K,'설정_In-Put'!$C:$C,$A48)*24)","v":0},{"$f":"ROUND((SUMIFS('설정_In-Put'!$K:$K,'설정_In-Put'!$C:$C,$A48)*24-Q48)*60,0)","v":0},null,null,0,0,{"$f":"IF(SUMIFS('7월'!$AA$26:$AA$56,'7월'!$L$26:$L$56,$L48)+SUMIFS('8월'!$AA$26:$AA$56,'8월'!$L$26:$L$56,$L48)+SUMIFS('9월'!$AA$26:$AA$56,'9월'!$L$26:$L$56,$L48)>3120,1,IF($A48=\"\",\"\",IF(OR($E48=\"일\",$F48<>\"\"),1,0)*IF(S48+T48<>0,1,0)))","v":0},{"$f":"IFERROR(VLOOKUP($A48&1,'설정_In-Put'!$B:$L,11,0)*24,\"\")","v":""},null,null,0,0,0]
["2018-09-24",0,0,24,"월",{"$f":"IFERROR(VLOOKUP($A49,'관리자 Setting'!$K$6:$M$36,3,0),\"\")","v":"추석"},null,null,{"$f":"IFERROR(IF(OR(E49=\"토\",E49=\"일\",F49<>\"\"),\"\",VLOOKUP(A49&0,'설정_In-Put'!$A:$L,6,0)),\"\")","v":""},null,5,39,{"$f":"IFERROR(VLOOKUP($A49,계획서_3분기!$A:$X,13,0),\"\")","v":0},0,{"$f":"IFERROR(VLOOKUP($A49,계획서_3분기!$A:$X,15,0),\"\")","v":0},0,{"$f":"INT(SUMIFS('설정_In-Put'!$K:$K,'설정_In-Put'!$C:$C,$A49)*24)","v":0},{"$f":"ROUND((SUMIFS('설정_In-Put'!$K:$K,'설정_In-Put'!$C:$C,$A49)*24-Q49)*60,0)","v":0},null,null,0,0,{"$f":"IF(SUMIFS('7월'!$AA$26:$AA$56,'7월'!$L$26:$L$56,$L49)+SUMIFS('8월'!$AA$26:$AA$56,'8월'!$L$26:$L$56,$L49)+SUMIFS('9월'!$AA$26:$AA$56,'9월'!$L$26:$L$56,$L49)>3120,1,IF($A49=\"\",\"\",IF(OR($E49=\"일\",$F49<>\"\"),1,0)*IF(S49+T49<>0,1,0)))","v":0},{"$f":"IFERROR(VLOOKUP($A49&1,'설정_In-Put'!$B:$L,11,0)*24,\"\")","v":""},null,null,0,0,0]
["2018-09-25",0,0,25,"화",{"$f":"IFERROR(VLOOKUP($A50,'관리자 Setting'!$K$6:$M$36,3,0),\"\")","v":"추석연휴"},null,null,{"$f":"IFERROR(IF(OR(E50=\"토\",E50=\"일\",F50<>\"\"),\"\",VLOOKUP(A50&0,'설정_In-Put'!$A:$L,6,0)),\"\")","v":""},null,5,39,{"$f":"IFERROR(VLOOKUP($A50,계획서_3분기!$A:$X,13,0),\"\")","v":0},0,{"$f":"IFERROR(VLOOKUP($A50,계획서_3분기!$A:$X,15,0),\"\")","v":0},0,{"$f":"INT(SUMIFS('설정_In-Put'!$K:$K,'설정_In-Put'!$C:$C,$A50)*24)","v":0},{"$f":"ROUND((SUMIFS('설정_In-Put'!$K:$K,'설정_In-Put'!$C:$C,$A50)*24-Q50)*60,0)","v":0},null,null,0,0,{"$f":"IF(SUMIFS('7월'!$AA$26:$AA$56,'7월'!$L$26:$L$56,$L50)+SUMIFS('8월'!$AA$26:$AA$56,'8월'!$L$26:$L$56,$L50)+SUMIFS('9월'!$AA$26:$AA$56,'9월'!$L$26:$L$56,$L50)>3120,1,IF($A50=\"\",\"\",IF(OR($E50=\"일\",$F50<>\"\"),1,0)*IF(S50+T50<>0,1,0)))","v":0},{"$f":"IFERROR(VLOOKUP($A50&1,'설정_In-Put'!$B:$L,11,0)*24,\"\")","v":""},null,null,0,0,0]
["2018-09-26",0,0,26,"수",{"$f":"IFERROR(VLOOKUP($A51,'관리자 Setting'!$K$6:$M$36,3,0),\"\")","v":"대체공휴일"},null,null,{"$f":"IFERROR(IF(OR(E51=\"토\",E51=\"일\",F51<>\"\"),\"\",VLOOKUP(A51&0,'설정_In-Put'!$A:$L,6,0)),\"\")","v":""},null,5,39,{"$f":"IFERROR(VLOOKUP($A51,계획서_3분기!$A:$X,13,0),\"\")","v":0},0,{"$f":"IFERROR(VLOOKUP($A51,계획서_3분기!$A:$X,15,0),\"\")","v":0},0,{"$f":"INT(SUMIFS('설정_In-Put'!$K:$K,'설정_In-Put'!$C:$C,$A51)*24)","v":0},{"$f":"ROUND((SUMIFS('설정_In-Put'!$K:$K,'설정_In-Put'!$C:$C,$A51)*24-Q51)*60,0)","v":0},null,null,0,0,{"$f":"IF(SUMIFS('7월'!$AA$26:$AA$56,'7월'!$L$26:$L$56,$L51)+SUMIFS('8월'!$AA$26:$AA$56,'8월'!$L$26:$L$56,$L51)+SUMIFS('9월'!$AA$26:$AA$56,'9월'!$L$26:$L$56,$L51)>3120,1,IF($A51=\"\",\"\",IF(OR($E51=\"일\",$F51<>\"\"),1,0)*IF(S51+T51<>0,1,0)))","v":0},{"$f":"IFERROR(VLOOKUP($A51&1,'설정_In-Put'!$B:$L,11,0)*24,\"\")","v":""},null,null,0,0,0]
[{"$f":"IF(A51+1>EOMONTH($A$26,0),\"\",A51+1)","v":"2018-09-27"},1,1,27,"목",{"$f":"IFERROR(VLOOKUP($A52,'관리자 Setting'!$K$6:$M$36,3,0),\"\")","v":""},null,null,{"$f":"IFERROR(IF(OR(E52=\"토\",E52=\"일\",F52<>\"\"),\"\",VLOOKUP(A52&0,'설정_In-Put'!$A:$L,6,0)),\"\")","v":""},null,5,39,{"$f":"IFERROR(VLOOKUP($A52,계획서_3분기!$A:$X,13,0),\"\")","v":8},0,{"$f":"IFERROR(VLOOKUP($A52,계획서_3분기!$A:$X,15,0),\"\")","v":0},0,{"$f":"INT(SUMIFS('설정_In-Put'!$K:$K,'설정_In-Put'!$C:$C,$A52)*24)","v":0},{"$f":"ROUND((SUMIFS('설정_In-Put'!$K:$K,'설정_In-Put'!$C:$C,$A52)*24-Q52)*60,0)","v":0},null,null,0,0,{"$f":"IF(SUMIFS('7월'!$AA$26:$AA$56,'7월'!$L$26:$L$56,$L52)+SUMIFS('8월'!$AA$26:$AA$56,'8월'!$L$26:$L$56,$L52)+SUMIFS('9월'!$AA$26:$AA$56,'9월'!$L$26:$L$56,$L52)>3120,1,IF($A52=\"\",\"\",IF(OR($E52=\"일\",$F52<>\"\"),1,0)*IF(S52+T52<>0,1,0)))","v":0},{"$f":"IFERROR(VLOOKUP($A52&1,'설정_In-Put'!$B:$L,11,0)*24,\"\")","v":""},null,null,0,0,0]
[{"$f":"IFERROR(IF(A52+1>EOMONTH($A$26,0),\"\",A52+1),\"\")","v":"2018-09-28"},1,1,28,"금",{"$f":"IFERROR(VLOOKUP($A53,'관리자 Setting'!$K$6:$M$36,3,0),\"\")","v":""},null,null,{"$f":"IFERROR(IF(OR(E53=\"토\",E53=\"일\",F53<>\"\"),\"\",VLOOKUP(A53&0,'설정_In-Put'!$A:$L,6,0)),\"\")","v":""},null,5,39,{"$f":"IFERROR(VLOOKUP($A53,계획서_3분기!$A:$X,13,0),\"\")","v":8},0,{"$f":"IFERROR(VLOOKUP($A53,계획서_3분기!$A:$X,15,0),\"\")","v":0},0,{"$f":"INT(SUMIFS('설정_In-Put'!$K:$K,'설정_In-Put'!$C:$C,$A53)*24)","v":0},{"$f":"ROUND((SUMIFS('설정_In-Put'!$K:$K,'설정_In-Put'!$C:$C,$A53)*24-Q53)*60,0)","v":0},null,null,0,0,{"$f":"IF(SUMIFS('7월'!$AA$26:$AA$56,'7월'!$L$26:$L$56,$L53)+SUMIFS('8월'!$AA$26:$AA$56,'8월'!$L$26:$L$56,$L53)+SUMIFS('9월'!$AA$26:$AA$56,'9월'!$L$26:$L$56,$L53)>3120,1,IF($A53=\"\",\"\",IF(OR($E53=\"일\",$F53<>\"\"),1,0)*IF(S53+T53<>0,1,0)))","v":0},{"$f":"IFERROR(VLOOKUP($A53&1,'설정_In-Put'!$B:$L,11,0)*24,\"\")","v":""},null,null,0,0,0]
[{"$f":"IFERROR(IF(A53+1>EOMONTH($A$26,0),\"\",A53+1),\"\")","v":"2018-09-29"},1,1,29,"토",{"$f":"IFERROR(VLOOKUP($A54,'관리자 Setting'!$K$6:$M$36,3,0),\"\")","v":""},null,null,{"$f":"IFERROR(IF(OR(E54=\"토\",E54=\"일\",F54<>\"\"),\"\",VLOOKUP(A54&0,'설정_In-Put'!$A:$L,6,0)),\"\")","v":""},null,5,39,{"$f":"IFERROR(VLOOKUP($A54,계획서_3분기!$A:$X,13,0),\"\")","v":0},0,{"$f":"IFERROR(VLOOKUP($A54,계획서_3분기!$A:$X,15,0),\"\")","v":0},0,{"$f":"INT(SUMIFS('설정_In-Put'!$K:$K,'설정_In-Put'!$C:$C,$A54)*24)","v":0},{"$f":"ROUND((SUMIFS('설정_In-Put'!$K:$K,'설정_In-Put'!$C:$C,$A54)*24-Q54)*60,0)","v":0},null,null,0,0,{"$f":"IF(SUMIFS('7월'!$AA$26:$AA$56,'7월'!$L$26:$L$56,$L54)+SUMIFS('8월'!$AA$26:$AA$56,'8월'!$L$26:$L$56,$L54)+SUMIFS('9월'!$AA$26:$AA$56,'9월'!$L$26:$L$56,$L54)>3120,1,IF($A54=\"\",\"\",IF(OR($E54=\"일\",$F54<>\"\"),1,0)*IF(S54+T54<>0,1,0)))","v":0},{"$f":"IFERROR(VLOOKUP($A54&1,'설정_In-Put'!$B:$L,11,0)*24,\"\")","v":""},null,null,0,0,0]
[{"$f":"IFERROR(IF(A54+1>EOMONTH($A$26,0),\"\",A54+1),\"\")","v":"2018-09-30"},0,0,30,"일",{"$f":"IFERROR(VLOOKUP($A55,'관리자 Setting'!$K$6:$M$36,3,0),\"\")","v":""},null,null,{"$f":"IFERROR(IF(OR(E55=\"토\",E55=\"일\",F55<>\"\"),\"\",VLOOKUP(A55&0,'설정_In-Put'!$A:$L,6,0)),\"\")","v":""},null,5,39,{"$f":"IFERROR(VLOOKUP($A55,계획서_3분기!$A:$X,13,0),\"\")","v":0},0,{"$f":"IFERROR(VLOOKUP($A55,계획서_3분기!$A:$X,15,0),\"\")","v":0},0,{"$f":"INT(SUMIFS('설정_In-Put'!$K:$K,'설정_In-Put'!$C:$C,$A55)*24)","v":0},{"$f":"ROUND((SUMIFS('설정_In-Put'!$K:$K,'설정_In-Put'!$C:$C,$A55)*24-Q55)*60,0)","v":0},null,null,0,0,{"$f":"IF(SUMIFS('7월'!$AA$26:$AA$56,'7월'!$L$26:$L$56,$L55)+SUMIFS('8월'!$AA$26:$AA$56,'8월'!$L$26:$L$56,$L55)+SUMIFS('9월'!$AA$26:$AA$56,'9월'!$L$26:$L$56,$L55)>3120,1,IF($A55=\"\",\"\",IF(OR($E55=\"일\",$F55<>\"\"),1,0)*IF(S55+T55<>0,1,0)))","v":0},{"$f":"IFERROR(VLOOKUP($A55&1,'설정_In-Put'!$B:$L,11,0)*24,\"\")","v":""},null,null,0,0,0]
["",1,1,31,"",{"$f":"IFERROR(VLOOKUP($A56,'관리자 Setting'!$K$6:$M$36,3,0),\"\")","v":""},null,null,{"$f":"IFERROR(IF(OR(E56=\"토\",E56=\"일\",F56<>\"\"),\"\",VLOOKUP(A56&0,'설정_In-Put'!$A:$L,6,0)),\"\")","v":""},null,"","",{"$f":"IFERROR(VLOOKUP($A56,계획서_3분기!$A:$X,13,0),\"\")","v":""},0,{"$f":"IFERROR(VLOOKUP($A56,계획서_3분기!$A:$X,15,0),\"\")","v":""},0,{"$f":"INT(SUMIFS('설정_In-Put'!$K:$K,'설정_In-Put'!$C:$C,$A56)*24)","v":0},{"$f":"ROUND((SUMIFS('설정_In-Put'!$K:$K,'설정_In-Put'!$C:$C,$A56)*24-Q56)*60,0)","v":0},null,null,0,0,{"$f":"IF(SUMIFS('7월'!$AA$26:$AA$56,'7월'!$L$26:$L$56,$L56)+SUMIFS('8월'!$AA$26:$AA$56,'8월'!$L$26:$L$56,$L56)+SUMIFS('9월'!$AA$26:$AA$56,'9월'!$L$26:$L$56,$L56)>3120,1,IF($A56=\"\",\"\",IF(OR($E56=\"일\",$F56<>\"\"),1,0)*IF(S56+T56<>0,1,0)))","v":""},{"$f":"IFERROR(VLOOKUP($A56&1,'설정_In-Put'!$B:$L,11,0)*24,\"\")","v":""},null,null,0,0,0]

{"sheet":"계획서_4분기","index":15,"n_rows":107,"n_cols":23,"rows_kept":107,"merged":[[1,3,2,23],[4,3,5,3],[4,4,5,6],[4,7,5,8],[4,9,5,11],[4,12,5,13],[4,14,5,15],[4,16,5,17],[4,18,5,19],[4,20,5,21],[4,22,5,23],[7,3,7,23],[8,3,8,4],[8,5,8,9],[8,10,8,11],[8,12,8,13],[8,14,8,15],[8,16,8,17],[8,19,8,23],[9,3,9,4],[9,5,9,7],[9,8,9,9],[9,10,9,11],[9,12,9,13],[9,14,9,15],[9,16,9,17],[9,19,9,23],[10,3,10,4],[10,5,10,7],[10,8,10,9],[10,10,10,11],[10,12,10,13],[10,14,10,15],[10,16,10,17],[10,19,10,23],[12,3,12,23],[13,3,14,3],[13,4,13,6],[13,7,14,9],[13,10,14,10],[13,11,14,11],[13,12,14,13],[13,14,14,15],[13,16,14,17],[13,18,14,18],[13,19,14,23],[15,7,15,9],[15,12,15,13],[15,14,15,15],[15,16,15,17],[15,19,15,23],[16,7,16,9],[16,12,16,13],[16,14,16,15],[16,16,16,17],[16,19,16,23],[17,7,17,9],[17,12,17,13],[17,14,17,15],[17,16,17,17],[17,19,17,23],[18,7,18,9],[18,12,18,13],[18,14,18,15],[18,16,18,17],[18,19,18,23],[19,7,19,9],[19,12,19,13],[19,14,19,15],[19,16,19,17],[19,19,19,23],[20,7,20,9],[20,12,20,13],[20,14,20,15],[20,16,20,17],[20,19,20,23],[21,7,21,9],[21,12,21,13],[21,14,21,15],[21,16,21,17],[21,19,21,23],[22,7,22,9],[22,12,22,13],[22,14,22,15],[22,16,22,17],[22,19,22,23],[23,7,23,9],[23,12,23,13],[23,14,23,15],[23,16,23,17],[23,19,23,23],[24,7,24,9],[24,12,24,13],[24,14,24,15],[24,16,24,17],[24,19,24,23],[25,7,25,9],[25,12,25,13],[25,14,25,15],[25,16,25,17],[25,19,25,23],[26,7,26,9],[26,12,26,13],[26,14,26,15],[26,16,26,17],[26,19,26,23],[27,7,27,9],[27,12,27,13],[27,14,27,15],[27,16,27,17],[27,19,27,23],[28,7,28,9],[28,12,28,13],[28,14,28,15],[28,16,28,17],[28,19,28,23],[29,7,29,9],[29,12,29,13],[29,14,29,15],[29,16,29,17],[29,19,29,23],[30,7,30,9],[30,12,30,13],[30,14,30,15],[30,16,30,17],[30,19,30,23],[31,7,31,9],[31,12,31,13],[31,14,31,15],[31,16,31,17],[31,19,31,23],[32,7,32,9],[32,12,32,13],[32,14,32,15],[32,16,32,17],[32,19,32,23],[33,7,33,9],[33,12,33,13],[33,14,33,15],[33,16,33,17],[33,19,33,23],[34,7,34,9],[34,12,34,13],[34,14,34,15],[34,16,34,17],[34,19,34,23],[35,7,35,9],[35,12,35,13],[35,14,35,15],[35,16,35,17],[35,19,35,23],[36,7,36,9],[36,12,36,13],[36,14,36,15],[36,16,36,17],[36,19,36,23],[37,7,37,9],[37,12,37,13],[37,14,37,15],[37,16,37,17],[37,19,37,23],[38,7,38,9],[38,12,38,13],[38,14,38,15],[38,16,38,17],[38,19,38,23],[39,7,39,9],[39,12,39,13],[39,14,39,15],[39,16,39,17],[39,19,39,23],[40,7,40,9],[40,12,40,13],[40,14,40,15],[40,16,40,17],[40,19,40,23],[41,7,41,9],[41,12,41,13],[41,14,41,15],[41,16,41,17],[41,19,41,23],[42,7,42,9],[42,12,42,13],[42,14,42,15],[42,16,42,17],[42,19,42,23],[43,7,43,9],[43,12,43,13],[43,14,43,15],[43,16,43,17],[43,19,43,23],[44,7,44,9],[44,12,44,13],[44,14,44,15],[44,16,44,17],[44,19,44,23],[45,7,45,9],[45,12,45,13],[45,14,45,15],[45,16,45,17],[45,19,45,23],[46,7,46,9],[46,12,46,13],[46,14,46,15],[46,16,46,17],[46,19,46,23],[47,7,47,9],[47,12,47,13],[47,14,47,15],[47,16,47,17],[47,19,47,23],[48,7,48,9],[48,12,48,13],[48,14,48,15],[48,16,48,17],[48,19,48,23],[49,7,49,9],[49,12,49,13],[49,14,49,15],[49,16,49,17],[49,19,49,23],[50,7,50,9],[50,12,50,13],[50,14,50,15],[50,16,50,17],[50,19,50,23],[51,7,51,9],[51,12,51,13],[51,14,51,15],[51,16,51,17],[51,19,51,23],[52,7,52,9],[52,12,52,13],[52,14,52,15],[52,16,52,17],[52,19,52,23],[53,7,53,9],[53,12,53,13],[53,14,53,15],[53,16,53,17],[53,19,53,23],[54,7,54,9],[54,12,54,13],[54,14,54,15],[54,16,54,17],[54,19,54,23],[55,7,55,9],[55,12,55,13],[55,14,55,15],[55,16,55,17],[55,19,55,23],[56,7,56,9],[56,12,56,13],[56,14,56,15],[56,16,56,17],[56,19,56,23],[57,7,57,9],[57,12,57,13],[57,14,57,15],[57,16,57,17],[57,19,57,23],[58,7,58,9],[58,12,58,13],[58,14,58,15],[58,16,58,17],[58,19,58,23],[59,7,59,9],[59,12,59,13],[59,14,59,15],[59,16,59,17],[59,19,59,23],[60,7,60,9],[60,12,60,13],[60,14,60,15],[60,16,60,17],[60,19,60,23],[61,7,61,9],[61,12,61,13],[61,14,61,15],[61,16,61,17],[61,19,61,23],[62,7,62,9],[62,12,62,13],[62,14,62,15],[62,16,62,17],[62,19,62,23],[63,7,63,9],[63,12,63,13],[63,14,63,15],[63,16,63,17],[63,19,63,23],[64,7,64,9],[64,12,64,13],[64,14,64,15],[64,16,64,17],[64,19,64,23],[65,7,65,9],[65,12,65,13],[65,14,65,15],[65,16,65,17],[65,19,65,23],[66,7,66,9],[66,12,66,13],[66,14,66,15],[66,16,66,17],[66,19,66,23],[67,7,67,9],[67,12,67,13],[67,14,67,15],[67,16,67,17],[67,19,67,23],[68,7,68,9],[68,12,68,13],[68,14,68,15],[68,16,68,17],[68,19,68,23],[69,7,69,9],[69,12,69,13],[69,14,69,15],[69,16,69,17],[69,19,69,23],[70,7,70,9],[70,12,70,13],[70,14,70,15],[70,16,70,17],[70,19,70,23],[71,7,71,9],[71,12,71,13],[71,14,71,15],[71,16,71,17],[71,19,71,23],[72,7,72,9],[72,12,72,13],[72,14,72,15],[72,16,72,17],[72,19,72,23],[73,7,73,9],[73,12,73,13],[73,14,73,15],[73,16,73,17],[73,19,73,23],[74,7,74,9],[74,12,74,13],[74,14,74,15],[74,16,74,17],[74,19,74,23],[75,7,75,9],[75,12,75,13],[75,14,75,15],[75,16,75,17],[75,19,75,23],[76,7,76,9],[76,12,76,13],[76,14,76,15],[76,16,76,17],[76,19,76,23],[77,7,77,9],[77,12,77,13],[77,14,77,15],[77,16,77,17],[77,19,77,23],[78,7,78,9],[78,12,78,13],[78,14,78,15],[78,16,78,17],[78,19,78,23],[79,7,79,9],[79,12,79,13],[79,14,79,15],[79,16,79,17],[79,19,79,23],[80,7,80,9],[80,12,80,13],[80,14,80,15],[80,16,80,17],[80,19,80,23],[81,7,81,9],[81,12,81,13],[81,14,81,15],[81,16,81,17],[81,19,81,23],[82,7,82,9],[82,12,82,13],[82,14,82,15],[82,16,82,17],[82,19,82,23],[83,7,83,9],[83,12,83,13],[83,14,83,15],[83,16,83,17],[83,19,83,23],[84,7,84,9],[84,12,84,13],[84,14,84,15],[84,16,84,17],[84,19,84,23],[85,7,85,9],[85,12,85,13],[85,14,85,15],[85,16,85,17],[85,19,85,23],[86,7,86,9],[86,12,86,13],[86,14,86,15],[86,16,86,17],[86,19,86,23],[87,7,87,9],[87,12,87,13],[87,14,87,15],[87,16,87,17],[87,19,87,23],[88,7,88,9],[88,12,88,13],[88,14,88,15],[88,16,88,17],[88,19,88,23],[89,7,89,9],[89,12,89,13],[89,14,89,15],[89,16,89,17],[89,19,89,23],[90,7,90,9],[90,12,90,13],[90,14,90,15],[90,16,90,17],[90,19,90,23],[91,7,91,9],[91,12,91,13],[91,14,91,15],[91,16,91,17],[91,19,91,23],[92,7,92,9],[92,12,92,13],[92,14,92,15],[92,16,92,17],[92,19,92,23],[93,7,93,9],[93,12,93,13],[93,14,93,15],[93,16,93,17],[93,19,93,23],[94,7,94,9],[94,12,94,13],[94,14,94,15],[94,16,94,17],[94,19,94,23],[95,7,95,9],[95,12,95,13],[95,14,95,15],[95,16,95,17],[95,19,95,23],[96,7,96,9],[96,12,96,13],[96,14,96,15],[96,16,96,17],[96,19,96,23],[97,7,97,9],[97,12,97,13],[97,14,97,15],[97,16,97,17],[97,19,97,23],[98,7,98,9],[98,12,98,13],[98,14,98,15],[98,16,98,17],[98,19,98,23],[99,7,99,9],[99,12,99,13],[99,14,99,15],[99,16,99,17],[99,19,99,23],[100,7,100,9],[100,12,100,13],[100,14,100,15],[100,16,100,17],[100,19,100,23],[101,7,101,9],[101,12,101,13],[101,14,101,15],[101,16,101,17],[101,19,101,23],[102,7,102,9],[102,12,102,13],[102,14,102,15],[102,16,102,17],[102,19,102,23],[103,7,103,9],[103,12,103,13],[103,14,103,15],[103,16,103,17],[103,19,103,23],[104,7,104,9],[104,12,104,13],[104,14,104,15],[104,16,104,17],[104,19,104,23],[105,7,105,9],[105,12,105,13],[105,14,105,15],[105,16,105,17],[105,19,105,23],[106,7,106,9],[106,12,106,13],[106,14,106,15],[106,16,106,17],[106,19,106,23]]}
[]
[null,4,null,{"$f":"'관리자 Setting'!$R$3&\"년 \"&계획서_4분기!$B$2&\"분기 탄력 근무 계획\"","v":"2018년 4분기 탄력 근무 계획"}]
[]
[]
[{"$nulls":3},"소속","무한도전",null,null,"부서명",null,{"$f":"IFERROR(VLOOKUP($W$5,'관리자 Setting'!$C$4:$G$53,4,0),\"\")","v":"무한본부"},null,null,"직급",null,{"$f":"IFERROR(VLOOKUP($W$5,'관리자 Setting'!$C$4:$G$53,3,0),\"\")","v":"1급"},null,"ERP 사번",null,{"$f":"IFERROR(VLOOKUP($W$5,'관리자 Setting'!$C$4:$G$53,2,0),\"\")","v":"0002"},null,"성명",null,"박명수"]
[]
[]
[{"$nulls":3},"───────────────　　월　/　분　기　계　획　현　황　　───────────────"]
[{"$nulls":3},"구분",null,"규정",{"$nulls":4},"합계/평균",null,{"v":10,"d":"10월"},null,{"v":11,"d":"11월"},null,{"v":12,"d":"12월"},null,"CHK","비고"]
[{"$nulls":3},"정규 근로",null,"분기 필수 합계",null,null,{"$f":"IFERROR(VLOOKUP($B$2,'관리자 Setting'!$O$6:$R$10,2,0),\"\")","v":504},null,{"$f":"IFERROR(IF(SUM(M10:R10)=0,\"\",SUM(M10:R10)),\"\")","v":472},null,{"$f":"SUMIFS($M$16:$M$107,$E$16:$E$107,M$9)","v":136},null,176,null,160,null,{"$f":"IF(K10<>I10,1,0)","v":1},{"$f":"IF(K10<I10,\"필수 근로 시간 부족\",IF(K10>I10,\"평균 주 40시간 초과\",\"\"))","v":"필수 근로 시간 부족"}]
[{"$nulls":3},"연장 근로",null,"월 평균 연장 근로",null,null,{"$f":"IFERROR(VLOOKUP($W$5,'관리자 Setting'!$C$3:$G$53,5,0),\"\")","v":35},null,{"$f":"IFERROR(AVERAGE(M11:R11),\"\")","v":{"v":0,"d":"0.0"}},null,{"$f":"SUMIFS($O$16:$O$107,$E$16:$E$107,M$9)","v":0},null,0,null,0,null,{"$f":"IF(K11>I11,1,0)","v":0},{"$f":"IF(S11=0,\"\",\"연장 근로시간 한도 초과\")","v":""}]
[]
[{"$nulls":3},"───────────────　　일　/　주　간　계　획　현　황　　───────────────"]
[{"$nulls":3},"No","날짜",null,null,"참고",null,null,"월\n주","연\n주차","정규\n근로 시간",null,"연장\n근로 시간",null,"총\n근로 시간",null,"CHK","비고"]
[{"$nulls":4},"월","일","요일"]
[{"$f":"IFERROR(VLOOKUP($B$2,'관리자 Setting'!$O$6:$R$10,3,0),\"\")","v":"2018-10-01"},{"$f":"IF(OR(G16=\"일\",H16<>\"\"),1,0)","v":0},{"$f":"IF(AND(G16<>\"토\",G16<>\"일\",H16<>\"\"),1,0)","v":0},1,{"$f":"IFERROR(MONTH(A16),\"\")","v":10},{"$f":"IFERROR(DAY(A16),\"\")","v":1},{"$f":"TEXT($A16,\"AAA\")","v":"월"},{"$f":"IFERROR(VLOOKUP($A16,'관리자 Setting'!$K$6:$M$36,3,0),\"\")","v":""},null,null,{"$f":"IFERROR(L16-WEEKNUM(A16-F16+1)+1,\"\")","v":1},{"$f":"IFERROR(WEEKNUM(A16,2),\"\")","v":40},{"$nulls":4},{"$f":"IF(SUM(M16:P16)=0,\"\",SUM(M16:P16))","v":""},null,{"$f":"IF(AND($B16=1,$M16<>0),3,IF(SUMIFS($M$16:$M$107,$L$16:$L$107,$L16)+SUMIFS($C$16:$C$107,$L$16:$L$107,$L16)*8>52,2,IF(SUMIFS($O$16:$O$107,$L$16:$L$107,L16)>12,1,0)))","v":0},{"$f":"IF(S16>=3,\"휴일 정규 근로 계획 불가\",IF(S16=2,\"정규 근로 주 52시간 한도 초과\",IF(S16=1,\"연장 근로 주 12시간 한도 초과\",\"\")))","v":""}]
[{"$f":"A16+1","v":"2018-10-02"},0,0,2,{"$f":"IFERROR(MONTH(A17),\"\")","v":10},{"$f":"IFERROR(DAY(A17),\"\")","v":2},"화",{"$f":"IFERROR(VLOOKUP($A17,'관리자 Setting'!$K$6:$M$36,3,0),\"\")","v":""},null,null,1,{"$f":"IFERROR(WEEKNUM(A17,2),\"\")","v":40},{"$nulls":4},"",null,0,{"$f":"IF(S17>=3,\"휴일 정규 근로 불가\",IF(S17=2,\"정규 근로 주 52시간 한도 초과\",IF(S17=1,\"연장 근로 주 12시간 한도 초과\",\"\")))","v":""}]
[{"$f":"A17+1","v":"2018-10-03"},1,1,3,10,3,"수",{"$f":"IFERROR(VLOOKUP($A18,'관리자 Setting'!$K$6:$M$36,3,0),\"\")","v":"개천절"},null,null,1,40,{"$nulls":4},"",null,0,""]
["2018-10-04",0,0,4,10,4,"목",{"$f":"IFERROR(VLOOKUP($A19,'관리자 Setting'!$K$6:$M$36,3,0),\"\")","v":""},null,null,1,40,{"$nulls":4},"",null,0,""]
["2018-10-05",0,0,5,10,5,"금",{"$f":"IFERROR(VLOOKUP($A20,'관리자 Setting'!$K$6:$M$36,3,0),\"\")","v":""},null,null,1,40,{"$nulls":4},"",null,0,""]
["2018-10-06",0,0,6,10,6,"토",{"$f":"IFERROR(VLOOKUP($A21,'관리자 Setting'!$K$6:$M$36,3,0),\"\")","v":""},null,null,1,40,{"$nulls":4},"",null,0,""]
["2018-10-07",1,0,7,10,7,"일",{"$f":"IFERROR(VLOOKUP($A22,'관리자 Setting'!$K$6:$M$36,3,0),\"\")","v":""},null,null,1,40,{"$nulls":4},"",null,0,""]
["2018-10-08",0,0,8,10,8,"월",{"$f":"IFERROR(VLOOKUP($A23,'관리자 Setting'!$K$6:$M$36,3,0),\"\")","v":""},null,null,2,41,8,{"$nulls":3},8,null,0,""]
["2018-10-09",1,1,9,10,9,"화",{"$f":"IFERROR(VLOOKUP($A24,'관리자 Setting'!$K$6:$M$36,3,0),\"\")","v":"한글날"},null,null,2,41,{"$nulls":4},"",null,0,""]
["2018-10-10",0,0,10,10,10,"수",{"$f":"IFERROR(VLOOKUP($A25,'관리자 Setting'!$K$6:$M$36,3,0),\"\")","v":""},null,null,2,41,8,{"$nulls":3},8,null,0,""]
["2018-10-11",0,0,11,10,11,"목",{"$f":"IFERROR(VLOOKUP($A26,'관리자 Setting'!$K$6:$M$36,3,0),\"\")","v":""},null,null,2,41,8,{"$nulls":3},8,null,0,""]
["2018-10-12",0,0,12,10,12,"금",{"$f":"IFERROR(VLOOKUP($A27,'관리자 Setting'!$K$6:$M$36,3,0),\"\")","v":""},null,null,2,41,8,{"$nulls":3},8,null,{"$f":"IF(AND($B27=1,$M27<>0),3,IF(SUMIFS($M$16:$M$107,$L$16:$L$107,$L27)+SUMIFS($C$16:$C$107,$L$16:$L$107,$L27)*8>52,2,IF(SUMIFS($O$16:$O$107,$L$16:$L$107,L27)>12,1,0)))","v":0},""]
["2018-10-13",0,0,13,10,13,"토",{"$f":"IFERROR(VLOOKUP($A28,'관리자 Setting'!$K$6:$M$36,3,0),\"\")","v":""},null,null,2,41,{"$nulls":4},"",null,0,""]
["2018-10-14",1,0,14,10,14,"일",{"$f":"IFERROR(VLOOKUP($A29,'관리자 Setting'!$K$6:$M$36,3,0),\"\")","v":""},null,null,2,41,{"$nulls":4},"",null,0,""]
["2018-10-15",0,0,15,10,15,"월",{"$f":"IFERROR(VLOOKUP($A30,'관리자 Setting'!$K$6:$M$36,3,0),\"\")","v":""},null,null,3,42,8,{"$nulls":3},8,null,0,""]
["2018-10-16",0,0,16,10,16,"화",{"$f":"IFERROR(VLOOKUP($A31,'관리자 Setting'!$K$6:$M$36,3,0),\"\")","v":""},null,null,3,42,8,{"$nulls":3},8,null,0,""]
["2018-10-17",0,0,17,10,17,"수",{"$f":"IFERROR(VLOOKUP($A32,'관리자 Setting'!$K$6:$M$36,3,0),\"\")","v":""},null,null,3,42,8,{"$nulls":3},8,null,0,""]
["2018-10-18",0,0,18,10,18,"목",{"$f":"IFERROR(VLOOKUP($A33,'관리자 Setting'!$K$6:$M$36,3,0),\"\")","v":""},null,null,3,42,8,{"$nulls":3},8,null,0,""]
["2018-10-19",0,0,19,10,19,"금",{"$f":"IFERROR(VLOOKUP($A34,'관리자 Setting'!$K$6:$M$36,3,0),\"\")","v":""},null,null,3,42,8,{"$nulls":3},8,null,0,""]
["2018-10-20",0,0,20,10,20,"토",{"$f":"IFERROR(VLOOKUP($A35,'관리자 Setting'!$K$6:$M$36,3,0),\"\")","v":""},null,null,3,42,{"$nulls":4},"",null,0,""]
["2018-10-21",1,0,21,10,21,"일",{"$f":"IFERROR(VLOOKUP($A36,'관리자 Setting'!$K$6:$M$36,3,0),\"\")","v":""},null,null,3,42,{"$nulls":4},"",null,0,""]
["2018-10-22",0,0,22,10,22,"월",{"$f":"IFERROR(VLOOKUP($A37,'관리자 Setting'!$K$6:$M$36,3,0),\"\")","v":""},null,null,4,43,8,{"$nulls":3},8,null,0,""]
["2018-10-23",0,0,23,10,23,"화",{"$f":"IFERROR(VLOOKUP($A38,'관리자 Setting'!$K$6:$M$36,3,0),\"\")","v":""},null,null,4,43,8,{"$nulls":3},8,null,0,""]
["2018-10-24",0,0,24,10,24,"수",{"$f":"IFERROR(VLOOKUP($A39,'관리자 Setting'!$K$6:$M$36,3,0),\"\")","v":""},null,null,4,43,8,{"$nulls":3},8,null,0,""]
["2018-10-25",0,0,25,10,25,"목",{"$f":"IFERROR(VLOOKUP($A40,'관리자 Setting'!$K$6:$M$36,3,0),\"\")","v":""},null,null,4,43,8,{"$nulls":3},8,null,0,""]
["2018-10-26",0,0,26,10,26,"금",{"$f":"IFERROR(VLOOKUP($A41,'관리자 Setting'!$K$6:$M$36,3,0),\"\")","v":""},null,null,4,43,8,{"$nulls":3},8,null,0,""]
["2018-10-27",0,0,27,10,27,"토",{"$f":"IFERROR(VLOOKUP($A42,'관리자 Setting'!$K$6:$M$36,3,0),\"\")","v":""},null,null,4,43,{"$nulls":4},"",null,0,""]
["2018-10-28",1,0,28,10,28,"일",{"$f":"IFERROR(VLOOKUP($A43,'관리자 Setting'!$K$6:$M$36,3,0),\"\")","v":""},null,null,4,43,{"$nulls":4},"",null,0,""]
["2018-10-29",0,0,29,10,29,"월",{"$f":"IFERROR(VLOOKUP($A44,'관리자 Setting'!$K$6:$M$36,3,0),\"\")","v":""},null,null,5,44,8,{"$nulls":3},8,null,0,""]
["2018-10-30",0,0,30,10,30,"화",{"$f":"IFERROR(VLOOKUP($A45,'관리자 Setting'!$K$6:$M$36,3,0),\"\")","v":""},null,null,5,44,8,{"$nulls":3},8,null,0,""]
["2018-10-31",0,0,31,10,31,"수",{"$f":"IFERROR(VLOOKUP($A46,'관리자 Setting'!$K$6:$M$36,3,0),\"\")","v":""},null,null,5,44,8,{"$nulls":3},8,null,0,""]
["2018-11-01",0,0,32,11,1,"목",{"$f":"IFERROR(VLOOKUP($A47,'관리자 Setting'!$K$6:$M$36,3,0),\"\")","v":""},null,null,1,44,8,{"$nulls":3},8,null,0,""]
["2018-11-02",{"$f":"IF(OR(G48=\"일\",H48<>\"\"),1,0)","v":0},0,33,11,2,"금",{"$f":"IFERROR(VLOOKUP($A48,'관리자 Setting'!$K$6:$M$36,3,0),\"\")","v":""},null,null,1,44,8,{"$nulls":3},{"$f":"IF(SUM(M48:P48)=0,\"\",SUM(M48:P48))","v":8},null,0,""]
["2018-11-03",0,0,34,11,3,"토",{"$f":"IFERROR(VLOOKUP($A49,'관리자 Setting'!$K$6:$M$36,3,0),\"\")","v":""},null,null,1,44,{"$nulls":4},"",null,0,""]
["2018-11-04",1,0,35,11,4,"일",{"$f":"IFERROR(VLOOKUP($A50,'관리자 Setting'!$K$6:$M$36,3,0),\"\")","v":""},null,null,1,44,{"$nulls":4},"",null,0,""]
["2018-11-05",0,0,36,11,5,"월",{"$f":"IFERROR(VLOOKUP($A51,'관리자 Setting'!$K$6:$M$36,3,0),\"\")","v":""},null,null,2,45,8,{"$nulls":3},8,null,0,""]
["2018-11-06",0,0,37,11,6,"화",{"$f":"IFERROR(VLOOKUP($A52,'관리자 Setting'!$K$6:$M$36,3,0),\"\")","v":""},null,null,2,45,8,{"$nulls":3},8,null,0,""]
["2018-11-07",0,0,38,11,7,"수",{"$f":"IFERROR(VLOOKUP($A53,'관리자 Setting'!$K$6:$M$36,3,0),\"\")","v":""},null,null,2,45,8,{"$nulls":3},8,null,0,""]
["2018-11-08",0,0,39,11,8,"목",{"$f":"IFERROR(VLOOKUP($A54,'관리자 Setting'!$K$6:$M$36,3,0),\"\")","v":""},null,null,2,45,8,{"$nulls":3},8,null,0,""]
["2018-11-09",0,0,40,11,9,"금",{"$f":"IFERROR(VLOOKUP($A55,'관리자 Setting'!$K$6:$M$36,3,0),\"\")","v":""},null,null,2,45,8,{"$nulls":3},8,null,0,""]
["2018-11-10",0,0,41,11,10,"토",{"$f":"IFERROR(VLOOKUP($A56,'관리자 Setting'!$K$6:$M$36,3,0),\"\")","v":""},null,null,2,45,{"$nulls":4},"",null,0,""]
["2018-11-11",1,0,42,11,11,"일",{"$f":"IFERROR(VLOOKUP($A57,'관리자 Setting'!$K$6:$M$36,3,0),\"\")","v":""},null,null,2,45,{"$nulls":4},"",null,0,""]
["2018-11-12",0,0,43,11,12,"월",{"$f":"IFERROR(VLOOKUP($A58,'관리자 Setting'!$K$6:$M$36,3,0),\"\")","v":""},null,null,3,46,8,{"$nulls":3},8,null,0,""]
["2018-11-13",0,0,44,11,13,"화",{"$f":"IFERROR(VLOOKUP($A59,'관리자 Setting'!$K$6:$M$36,3,0),\"\")","v":""},null,null,3,46,8,{"$nulls":3},8,null,0,""]
["2018-11-14",0,0,45,11,14,"수",{"$f":"IFERROR(VLOOKUP($A60,'관리자 Setting'!$K$6:$M$36,3,0),\"\")","v":""},null,null,3,46,8,{"$nulls":3},8,null,0,""]
["2018-11-15",0,0,46,11,15,"목",{"$f":"IFERROR(VLOOKUP($A61,'관리자 Setting'!$K$6:$M$36,3,0),\"\")","v":""},null,null,3,46,8,{"$nulls":3},8,null,0,""]
["2018-11-16",0,0,47,11,16,"금",{"$f":"IFERROR(VLOOKUP($A62,'관리자 Setting'!$K$6:$M$36,3,0),\"\")","v":""},null,null,3,46,8,{"$nulls":3},8,null,0,""]
["2018-11-17",0,0,48,11,17,"토",{"$f":"IFERROR(VLOOKUP($A63,'관리자 Setting'!$K$6:$M$36,3,0),\"\")","v":""},null,null,3,46,{"$nulls":4},"",null,0,""]
["2018-11-18",1,0,49,11,18,"일",{"$f":"IFERROR(VLOOKUP($A64,'관리자 Setting'!$K$6:$M$36,3,0),\"\")","v":""},null,null,3,46,{"$nulls":4},"",null,0,""]
["2018-11-19",0,0,50,11,19,"월",{"$f":"IFERROR(VLOOKUP($A65,'관리자 Setting'!$K$6:$M$36,3,0),\"\")","v":""},null,null,4,47,8,{"$nulls":3},8,null,0,""]
["2018-11-20",0,0,51,11,20,"화",{"$f":"IFERROR(VLOOKUP($A66,'관리자 Setting'!$K$6:$M$36,3,0),\"\")","v":""},null,null,4,47,8,{"$nulls":3},8,null,0,""]
["2018-11-21",0,0,52,11,21,"수",{"$f":"IFERROR(VLOOKUP($A67,'관리자 Setting'!$K$6:$M$36,3,0),\"\")","v":""},null,null,4,47,8,{"$nulls":3},8,null,0,""]
["2018-11-22",0,0,53,11,22,"목",{"$f":"IFERROR(VLOOKUP($A68,'관리자 Setting'!$K$6:$M$36,3,0),\"\")","v":""},null,null,4,47,8,{"$nulls":3},8,null,0,""]
["2018-11-23",0,0,54,11,23,"금",{"$f":"IFERROR(VLOOKUP($A69,'관리자 Setting'!$K$6:$M$36,3,0),\"\")","v":""},null,null,4,47,8,{"$nulls":3},8,null,0,""]
["2018-11-24",0,0,55,11,24,"토",{"$f":"IFERROR(VLOOKUP($A70,'관리자 Setting'!$K$6:$M$36,3,0),\"\")","v":""},null,null,4,47,{"$nulls":4},"",null,0,""]
["2018-11-25",1,0,56,11,25,"일",{"$f":"IFERROR(VLOOKUP($A71,'관리자 Setting'!$K$6:$M$36,3,0),\"\")","v":""},null,null,4,47,{"$nulls":4},"",null,0,""]
["2018-11-26",0,0,57,11,26,"월",{"$f":"IFERROR(VLOOKUP($A72,'관리자 Setting'!$K$6:$M$36,3,0),\"\")","v":""},null,null,5,48,8,{"$nulls":3},8,null,0,""]
["2018-11-27",0,0,58,11,27,"화",{"$f":"IFERROR(VLOOKUP($A73,'관리자 Setting'!$K$6:$M$36,3,0),\"\")","v":""},null,null,5,48,8,{"$nulls":3},8,null,0,""]
["2018-11-28",0,0,59,11,28,"수",{"$f":"IFERROR(VLOOKUP($A74,'관리자 Setting'!$K$6:$M$36,3,0),\"\")","v":""},null,null,5,48,8,{"$nulls":3},8,null,0,""]
["2018-11-29",0,0,60,11,29,"목",{"$f":"IFERROR(VLOOKUP($A75,'관리자 Setting'!$K$6:$M$36,3,0),\"\")","v":""},null,null,5,48,8,{"$nulls":3},8,null,0,""]
["2018-11-30",0,0,61,11,30,"금",{"$f":"IFERROR(VLOOKUP($A76,'관리자 Setting'!$K$6:$M$36,3,0),\"\")","v":""},null,null,5,48,8,{"$nulls":3},8,null,0,""]
["2018-12-01",0,0,62,12,1,"토",{"$f":"IFERROR(VLOOKUP($A77,'관리자 Setting'!$K$6:$M$36,3,0),\"\")","v":""},null,null,1,48,{"$nulls":4},"",null,0,""]
["2018-12-02",1,0,63,12,2,"일",{"$f":"IFERROR(VLOOKUP($A78,'관리자 Setting'!$K$6:$M$36,3,0),\"\")","v":""},null,null,1,48,{"$nulls":4},"",null,0,""]
["2018-12-03",0,0,64,12,3,"월",{"$f":"IFERROR(VLOOKUP($A79,'관리자 Setting'!$K$6:$M$36,3,0),\"\")","v":""},null,null,2,49,8,{"$nulls":3},8,null,0,""]
["2018-12-04",{"$f":"IF(OR(G80=\"일\",H80<>\"\"),1,0)","v":0},{"$f":"IF(AND(G80<>\"토\",G80<>\"일\",H80<>\"\"),1,0)","v":0},65,12,4,{"$f":"TEXT($A80,\"AAA\")","v":"화"},{"$f":"IFERROR(VLOOKUP($A80,'관리자 Setting'!$K$6:$M$36,3,0),\"\")","v":""},null,null,{"$f":"IFERROR(L80-WEEKNUM(A80-F80+1)+1,\"\")","v":2},49,8,{"$nulls":3},8,null,{"$f":"IF(AND($B80=1,$M80<>0),3,IF(SUMIFS($M$16:$M$107,$L$16:$L$107,$L80)+SUMIFS($C$16:$C$107,$L$16:$L$107,$L80)*8>52,2,IF(SUMIFS($O$16:$O$107,$L$16:$L$107,L80)>12,1,0)))","v":0},""]
["2018-12-05",0,0,66,{"$f":"IFERROR(MONTH(A81),\"\")","v":12},{"$f":"IFERROR(DAY(A81),\"\")","v":5},"수",{"$f":"IFERROR(VLOOKUP($A81,'관리자 Setting'!$K$6:$M$36,3,0),\"\")","v":""},null,null,2,{"$f":"IFERROR(WEEKNUM(A81,2),\"\")","v":49},8,{"$nulls":3},8,null,0,{"$f":"IF(S81>=3,\"휴일 정규 근로 불가\",IF(S81=2,\"정규 근로 주 52시간 한도 초과\",IF(S81=1,\"연장 근로 주 12시간 한도 초과\",\"\")))","v":""}]
[{"$f":"A81+1","v":"2018-12-06"},0,0,67,12,6,"목",{"$f":"IFERROR(VLOOKUP($A82,'관리자 Setting'!$K$6:$M$36,3,0),\"\")","v":""},null,null,2,49,8,{"$nulls":3},8,null,0,""]
["2018-12-07",0,0,68,12,7,"금",{"$f":"IFERROR(VLOOKUP($A83,'관리자 Setting'!$K$6:$M$36,3,0),\"\")","v":""},null,null,2,49,8,{"$nulls":3},8,null,0,""]
["2018-12-08",0,0,69,12,8,"토",{"$f":"IFERROR(VLOOKUP($A84,'관리자 Setting'!$K$6:$M$36,3,0),\"\")","v":""},null,null,2,49,{"$nulls":4},"",null,0,""]
["2018-12-09",1,0,70,12,9,"일",{"$f":"IFERROR(VLOOKUP($A85,'관리자 Setting'!$K$6:$M$36,3,0),\"\")","v":""},null,null,2,49,{"$nulls":4},"",null,0,""]
["2018-12-10",0,0,71,12,10,"월",{"$f":"IFERROR(VLOOKUP($A86,'관리자 Setting'!$K$6:$M$36,3,0),\"\")","v":""},null,null,3,50,8,{"$nulls":3},8,null,0,""]
["2018-12-11",0,0,72,12,11,"화",{"$f":"IFERROR(VLOOKUP($A87,'관리자 Setting'!$K$6:$M$36,3,0),\"\")","v":""},null,null,3,50,8,{"$nulls":3},8,null,0,""]
["2018-12-12",0,0,73,12,12,"수",{"$f":"IFERROR(VLOOKUP($A88,'관리자 Setting'!$K$6:$M$36,3,0),\"\")","v":""},null,null,3,50,8,{"$nulls":3},8,null,0,""]
["2018-12-13",0,0,74,12,13,"목",{"$f":"IFERROR(VLOOKUP($A89,'관리자 Setting'!$K$6:$M$36,3,0),\"\")","v":""},null,null,3,50,8,{"$nulls":3},8,null,0,""]
["2018-12-14",0,0,75,12,14,"금",{"$f":"IFERROR(VLOOKUP($A90,'관리자 Setting'!$K$6:$M$36,3,0),\"\")","v":""},null,null,3,50,8,{"$nulls":3},8,null,0,""]
["2018-12-15",0,0,76,12,15,"토",{"$f":"IFERROR(VLOOKUP($A91,'관리자 Setting'!$K$6:$M$36,3,0),\"\")","v":""},null,null,3,50,{"$nulls":4},"",null,0,""]
["2018-12-16",1,0,77,12,16,"일",{"$f":"IFERROR(VLOOKUP($A92,'관리자 Setting'!$K$6:$M$36,3,0),\"\")","v":""},null,null,3,50,{"$nulls":4},"",null,0,""]
["2018-12-17",0,0,78,12,17,"월",{"$f":"IFERROR(VLOOKUP($A93,'관리자 Setting'!$K$6:$M$36,3,0),\"\")","v":""},null,null,4,51,8,{"$nulls":3},8,null,0,""]
["2018-12-18",0,0,79,12,18,"화",{"$f":"IFERROR(VLOOKUP($A94,'관리자 Setting'!$K$6:$M$36,3,0),\"\")","v":""},null,null,4,51,8,{"$nulls":3},8,null,0,""]
["2018-12-19",0,0,80,12,19,"수",{"$f":"IFERROR(VLOOKUP($A95,'관리자 Setting'!$K$6:$M$36,3,0),\"\")","v":""},null,null,4,51,8,{"$nulls":3},8,null,0,""]
["2018-12-20",0,0,81,12,20,"목",{"$f":"IFERROR(VLOOKUP($A96,'관리자 Setting'!$K$6:$M$36,3,0),\"\")","v":""},null,null,4,51,8,{"$nulls":3},8,null,0,""]
["2018-12-21",0,0,82,12,21,"금",{"$f":"IFERROR(VLOOKUP($A97,'관리자 Setting'!$K$6:$M$36,3,0),\"\")","v":""},null,null,4,51,8,{"$nulls":3},8,null,0,""]
["2018-12-22",0,0,83,12,22,"토",{"$f":"IFERROR(VLOOKUP($A98,'관리자 Setting'!$K$6:$M$36,3,0),\"\")","v":""},null,null,4,51,{"$nulls":4},"",null,0,""]
["2018-12-23",1,0,84,12,23,"일",{"$f":"IFERROR(VLOOKUP($A99,'관리자 Setting'!$K$6:$M$36,3,0),\"\")","v":""},null,null,4,51,{"$nulls":4},"",null,0,""]
["2018-12-24",0,0,85,12,24,"월",{"$f":"IFERROR(VLOOKUP($A100,'관리자 Setting'!$K$6:$M$36,3,0),\"\")","v":""},null,null,5,52,8,{"$nulls":3},8,null,0,""]
["2018-12-25",1,1,86,12,25,"화",{"$f":"IFERROR(VLOOKUP($A101,'관리자 Setting'!$K$6:$M$36,3,0),\"\")","v":"크리스마스"},null,null,5,52,{"$nulls":4},"",null,0,""]
["2018-12-26",0,0,87,12,26,"수",{"$f":"IFERROR(VLOOKUP($A102,'관리자 Setting'!$K$6:$M$36,3,0),\"\")","v":""},null,null,5,52,8,{"$nulls":3},8,null,0,""]
[{"$f":"IFERROR(IF(A102+1>VLOOKUP($B$2,'관리자 Setting'!$O$6:$R$10,4,0),\"\",A102+1),\"\")","v":"2018-12-27"},0,0,88,12,27,"목",{"$f":"IFERROR(VLOOKUP($A103,'관리자 Setting'!$K$6:$M$36,3,0),\"\")","v":""},null,null,5,52,8,{"$nulls":3},8,null,0,""]
[{"$f":"IFERROR(IF(A103+1>VLOOKUP($B$2,'관리자 Setting'!$O$6:$R$10,4,0),\"\",A103+1),\"\")","v":"2018-12-28"},0,0,89,12,28,"금",{"$f":"IFERROR(VLOOKUP($A104,'관리자 Setting'!$K$6:$M$36,3,0),\"\")","v":""},null,null,5,52,8,{"$nulls":3},8,null,0,""]
[{"$f":"IFERROR(IF(A104+1>VLOOKUP($B$2,'관리자 Setting'!$O$6:$R$10,4,0),\"\",A104+1),\"\")","v":"2018-12-29"},0,0,90,12,29,"토",{"$f":"IFERROR(VLOOKUP($A105,'관리자 Setting'!$K$6:$M$36,3,0),\"\")","v":""},null,null,5,52,{"$nulls":4},"",null,0,""]
[{"$f":"IFERROR(IF(A105+1>VLOOKUP($B$2,'관리자 Setting'!$O$6:$R$10,4,0),\"\",A105+1),\"\")","v":"2018-12-30"},1,0,91,12,30,"일",{"$f":"IFERROR(VLOOKUP($A106,'관리자 Setting'!$K$6:$M$36,3,0),\"\")","v":""},null,null,5,52,{"$nulls":4},"",null,0,""]
[{"$f":"IFERROR(IF(A106+1>VLOOKUP($B$2,'관리자 Setting'!$O$6:$R$10,4,0),\"\",A106+1),\"\")","v":"2018-12-31"},0,0,92,12,31,"월",{"$f":"IFERROR(VLOOKUP($A107,'관리자 Setting'!$K$6:$M$36,3,0),\"\")","v":""},null,null,6,53,8,{"$nulls":3},8,null,0,""]

{"sheet":"10월","index":16,"n_rows":56,"n_cols":30,"rows_kept":56,"merged":[[1,3,2,5],[1,6,2,20],[1,21,2,23],[4,3,5,3],[4,4,5,6],[4,7,5,8],[4,9,5,11],[4,12,5,13],[4,14,5,15],[4,16,5,17],[4,18,5,19],[4,20,5,21],[4,22,5,23],[7,3,7,23],[8,3,8,4],[8,5,8,9],[8,10,8,12],[8,13,8,14],[8,15,8,16],[8,17,8,18],[8,20,8,23],[9,3,9,4],[9,5,9,7],[9,8,9,9],[9,10,9,12],[9,13,9,14],[9,15,9,16],[9,17,9,18],[9,20,9,23],[10,3,10,4],[10,5,10,7],[10,8,10,9],[10,10,10,12],[10,13,10,14],[10,15,10,16],[10,17,10,18],[10,19,10,23],[11,3,11,4],[11,5,11,7],[11,8,11,9],[11,10,11,12],[11,13,11,14],[11,15,11,16],[11,17,11,18],[11,20,11,23],[13,3,13,23],[14,3,15,4],[14,5,15,9],[14,10,14,13],[14,14,14,17],[14,18,15,18],[14,19,15,23],[15,10,15,11],[15,12,15,13],[15,14,15,15],[15,16,15,17],[16,3,16,4],[16,5,16,7],[16,8,16,9],[16,10,16,11],[16,12,16,13],[16,14,16,15],[16,16,16,17],[16,19,16,23],[17,3,17,4],[17,5,17,7],[17,8,17,9],[17,10,17,11],[17,12,17,13],[17,14,17,15],[17,16,17,17],[17,19,17,23],[18,3,18,4],[18,5,18,7],[18,8,18,9],[18,10,18,11],[18,12,18,13],[18,14,18,15],[18,16,18,17],[18,19,18,23],[20,3,20,23],[21,3,23,3],[21,4,23,4],[21,5,23,7],[21,8,23,9],[21,10,23,10],[21,11,23,11],[21,12,21,15],[21,16,22,17],[21,18,21,21],[21,22,23,22],[21,23,23,23],[22,12,22,13],[22,14,22,15],[22,18,22,19],[22,20,22,21],[25,5,25,7],[25,8,25,9],[26,5,26,7],[26,8,26,9],[27,5,27,7],[27,8,27,9],[28,5,28,7],[28,8,28,9],[29,5,29,7],[29,8,29,9],[30,5,30,7],[30,8,30,9],[31,5,31,7],[31,8,31,9],[32,5,32,7],[32,8,32,9],[33,5,33,7],[33,8,33,9],[34,5,34,7],[34,8,34,9],[35,5,35,7],[35,8,35,9],[36,5,36,7],[36,8,36,9],[37,5,37,7],[37,8,37,9],[38,5,38,7],[38,8,38,9],[39,5,39,7],[39,8,39,9],[40,5,40,7],[40,8,40,9],[41,5,41,7],[41,8,41,9],[42,5,42,7],[42,8,42,9],[43,5,43,7],[43,8,43,9],[44,5,44,7],[44,8,44,9],[45,5,45,7],[45,8,45,9],[46,5,46,7],[46,8,46,9],[47,5,47,7],[47,8,47,9],[48,5,48,7],[48,8,48,9],[49,5,49,7],[49,8,49,9],[50,5,50,7],[50,8,50,9],[51,5,51,7],[51,8,51,9],[52,5,52,7],[52,8,52,9],[53,5,53,7],[53,8,53,9],[54,5,54,7],[54,8,54,9],[55,5,55,7],[55,8,55,9]]}
[]
[{"$nulls":3},"전월",null,null,{"$f":"'관리자 Setting'!$R$3&\"년 \"&TEXT($A$6,\"00월 근태 현황 (\")&$B$6&\"분기)\"","v":"2018년 10월 근태 현황 (4분기)"},{"$nulls":14},"익월"]
[]
[]
["월","분기",null,"소속","무한도전",null,null,"부서명",null,{"$f":"계획서_4분기!$J$5","v":"무한본부"},null,null,"직급",null,{"$f":"계획서_4분기!$O$5","v":"1급"},null,"ERP 사번",null,{"$f":"계획서_4분기!$S$5","v":"0002"},null,"성명",null,{"$f":"IF(계획서_4분기!W5=0,\"\",계획서_4분기!W5)","v":"박명수"}]
[10,4]
[]
[{"$nulls":3},"───────────────　　분　기　근　무　현　황　　───────────────"]
[{"$nulls":3},"구분",null,"규정 및 참조",{"$nulls":4},"합계/평균",null,null,{"v":10,"d":"10월"},null,{"v":11,"d":"11월"},null,{"v":12,"d":"12월"},null,"CHK","비고",{"$nulls":5},"합/평",1,2,3]
[{"$nulls":3},"전체 근로",{"$nulls":6},{"$f":"INT(AA10/60)&\"시간 \"&TEXT(ROUND((AA10/60-INT(AA10/60))*60,0),\"00분\")","v":"0시간 00분"},null,null,{"$f":"INT(AB10/60)&\"시간 \"&TEXT(ROUND((AB10/60-INT(AB10/60))*60,0),\"00분\")","v":"0시간 00분"},{"$nulls":12},{"$f":"SUM(AB10:AD10)","v":0},{"$f":"'10월'!O17*60+'10월'!Q17","v":0}]
[{"$nulls":3},"정규 근로",null,"분기 필수 합계",null,null,{"$f":"IFERROR(VLOOKUP($B$6,'관리자 Setting'!$O$6:$R$10,2,0),\"\")","v":{"v":504,"d":"504 시간"}},null,"0시간 00분",null,null,{"$f":"INT(AB11/60)&\"시간 \"&TEXT(ROUND((AB11/60-INT(AB11/60))*60,0),\"00분\")","v":"0시간 00분"},{"$nulls":5},{"$f":"IF(I11*60>AB11,\"분기 필수 \"&INT((I11*60-AB11)/60)&\"시간 \"&TEXT(ROUND(((I11*60-AB11)/60-INT((I11*60-AB11)/60))*60,0),\"00분 남음\"),\"\")","v":"분기 필수 504시간 00분 남음"},{"$nulls":6},{"$f":"SUM(AB11:AD11)","v":0},{"$f":"'10월'!O18*60+'10월'!Q18","v":0}]
[{"$nulls":3},"연장 근로",null,"월 평균 연장 근로",null,null,{"$f":"IFERROR(VLOOKUP($W$5,'관리자 Setting'!$C$3:$G$53,5,0),\"\")","v":{"v":35,"d":"35 시간"}},null,"0시간 00분",null,null,{"$f":"INT(AB12/60)&\"시간 \"&TEXT(ROUND((AB12/60-INT(AB12/60))*60,0),\"00분\")","v":"0시간 00분"},{"$nulls":5},{"$f":"IF($I$12*60<AB12,1,0)","v":0},{"$f":"IF(T12=1,\"연장 근로 한도 초과\",\"\")","v":""},{"$nulls":5},{"$f":"AVERAGE(AB12:AD12)","v":0},{"$f":"'10월'!O19*60+'10월'!Q19","v":0}]
[]
[{"$nulls":3},"───────────────　　월　근　무　현　황　　───────────────"]
[{"$nulls":3},"구분",null,"규정 및 참조",{"$nulls":4},"근무 계획",{"$nulls":3},"근무 조정",{"$nulls":3},"CHK","비고"]
[{"$nulls":10},"시간",null,"분",null,"시간",null,"분"]
[{"$nulls":3},"전체 근로",{"$nulls":6},{"$f":"M25+O25","v":{"v":136,"d":"136 시간"}},null,"분",null,{"$f":"Q25+X25","v":0},null,{"$f":"R25","v":{"v":0,"d":"0 분"}}]
[{"$nulls":3},"정규 근로",{"$nulls":6},{"$f":"M25","v":{"v":136,"d":"136 시간"}},null,"분",null,{"$f":"S25+X25","v":0},null,{"$f":"T25","v":{"v":0,"d":"0 분"}}]
[{"$nulls":3},"연장 근로",null,"월 연장 근로 한도",null,null,{"$f":"IFERROR(VLOOKUP($W$5,'관리자 Setting'!$C$3:$G$53,5,0),\"\")","v":{"v":35,"d":"35 시간"}},null,{"$f":"O25","v":0},null,"분",null,{"$f":"U25","v":0},null,{"$f":"V25","v":{"v":0,"d":"0 분"}},null,{"$f":"IF($W$5=\"\",\"\",IF(I19*60<O19*60+Q19,1,0))","v":0},{"$f":"IF(S19=1,\"연장 근로 한도 시간 초과\",\"\")","v":""}]
[]
[{"$nulls":3},"───────────────　　일　/　주　간　근　무　현　황　　───────────────"]
[{"$nulls":3},"날짜","요일","참고",null,null,"상태",null,"주","주차","근무 계획",{"$nulls":3},"실\n근무시간",null,"조정",{"$nulls":3},"CHK","비고\n근무\n반영"]
[{"$nulls":12},"정규근로",null,"연장근로",{"$nulls":3},"정규근로",null,"연장근로"]
[{"$nulls":12},"시간","분","시간","분","시간","분","시간","분","시간","분",{"$nulls":4},"반영","실","연장"]
[{"$nulls":12},{"$f":"SUM(M26:M56)","v":136},0,{"$f":"SUM(O26:O56)","v":0},0,{"$f":"SUM(Q26:Q56)+INT(SUM(R26:R56)/60)","v":0},{"$f":"(SUM(R26:R56)/60-INT(SUM(R26:R56)/60))*60","v":0},{"$f":"SUM(S26:S56)+INT(SUM(T26:T56)/60)","v":0},{"$f":"(SUM(T26:T56)/60-INT(SUM(T26:T56)/60))*60","v":0},{"$f":"SUM(U26:U56)+INT(SUM(V26:V56)/60)","v":0},{"$f":"(SUM(V26:V56)/60-INT(SUM(V26:V56)/60))*60","v":0},null,{"$f":"SUM(X26:X56)","v":0}]
[{"$f":"DATE('관리자 Setting'!$R$3,$A$6,1)","v":"2018-10-01"},{"$f":"IF(OR($E26=\"일\",$F26<>\"\"),0,1)","v":1},1,1,{"$f":"TEXT($A26,\"AAA\")","v":"월"},{"$f":"IFERROR(VLOOKUP($A26,'관리자 Setting'!$K$6:$M$36,3,0),\"\")","v":""},null,null,{"$f":"IFERROR(IF(OR(E26=\"토\",E26=\"일\",F26<>\"\"),\"\",VLOOKUP(A26&0,'설정_In-Put'!$A:$L,6,0)),\"\")","v":""},null,{"$f":"IFERROR(L26-WEEKNUM(A26-D26+1)+1,\"\")","v":1},{"$f":"IFERROR(WEEKNUM(A26,2),\"\")","v":40},{"$f":"IFERROR(VLOOKUP($A26,계획서_4분기!$A:$X,13,0),\"\")","v":0},0,{"$f":"IFERROR(VLOOKUP($A26,계획서_4분기!$A:$X,15,0),\"\")","v":0},0,{"$f":"INT(SUMIFS('설정_In-Put'!$K:$K,'설정_In-Put'!$C:$C,'10월'!$A26)*24)","v":0},{"$f":"ROUND((SUMIFS('설정_In-Put'!$K:$K,'설정_In-Put'!$C:$C,'10월'!$A26)*24-Q26)*60,0)","v":0},null,null,{"$f":"INT(((Q26*60+R26)-(S26*60+T26))/60)","v":0},{"$f":"(((Q26*60+R26)-(S26*60+T26))/60-U26)*60","v":0},{"$f":"IF(SUMIFS('10월'!$AA$26:$AA$56,'10월'!$L$26:$L$56,$L26)+SUMIFS('11월'!$AA$26:$AA$56,'11월'!$L$26:$L$56,$L26)+SUMIFS('12월'!$AA$26:$AA$56,'12월'!$L$26:$L$56,$L26)>3120,1,IF($A26=\"\",\"\",IF(OR($E26=\"일\",$F26<>\"\"),1,0)*IF(S26+T26<>0,1,0)))","v":0},{"$f":"IFERROR(VLOOKUP($A26&1,'설정_In-Put'!$B:$L,11,0)*24,\"\")","v":""},null,null,{"$f":"SUM(S26,X26)*60+T26","v":0},{"$f":"S26*60+T26","v":0},{"$f":"U26*60+V26","v":0}]
[{"$f":"A26+1","v":"2018-10-02"},1,1,2,"화",{"$f":"IFERROR(VLOOKUP($A27,'관리자 Setting'!$K$6:$M$36,3,0),\"\")","v":""},null,null,{"$f":"IFERROR(IF(OR(E27=\"토\",E27=\"일\",F27<>\"\"),\"\",VLOOKUP(A27&0,'설정_In-Put'!$A:$L,6,0)),\"\")","v":""},null,1,40,{"$f":"IFERROR(VLOOKUP($A27,계획서_4분기!$A:$X,13,0),\"\")","v":0},0,{"$f":"IFERROR(VLOOKUP($A27,계획서_4분기!$A:$X,15,0),\"\")","v":0},0,{"$f":"INT(SUMIFS('설정_In-Put'!$K:$K,'설정_In-Put'!$C:$C,'10월'!$A27)*24)","v":0},{"$f":"ROUND((SUMIFS('설정_In-Put'!$K:$K,'설정_In-Put'!$C:$C,'10월'!$A27)*24-Q27)*60,0)","v":0},null,null,0,0,{"$f":"IF(SUMIFS('10월'!$AA$26:$AA$56,'10월'!$L$26:$L$56,$L27)+SUMIFS('11월'!$AA$26:$AA$56,'11월'!$L$26:$L$56,$L27)+SUMIFS('12월'!$AA$26:$AA$56,'12월'!$L$26:$L$56,$L27)>3120,1,IF($A27=\"\",\"\",IF(OR($E27=\"일\",$F27<>\"\"),1,0)*IF(S27+T27<>0,1,0)))","v":0},{"$f":"IFERROR(VLOOKUP($A27&1,'설정_In-Put'!$B:$L,11,0)*24,\"\")","v":""},null,null,{"$f":"SUM(S27,X27)*60+T27","v":0},{"$f":"S27*60+T27","v":0},{"$f":"U27*60+V27","v":0}]
[{"$f":"A27+1","v":"2018-10-03"},0,0,3,"수",{"$f":"IFERROR(VLOOKUP($A28,'관리자 Setting'!$K$6:$M$36,3,0),\"\")","v":"개천절"},null,null,{"$f":"IFERROR(IF(OR(E28=\"토\",E28=\"일\",F28<>\"\"),\"\",VLOOKUP(A28&0,'설정_In-Put'!$A:$L,6,0)),\"\")","v":""},null,1,40,{"$f":"IFERROR(VLOOKUP($A28,계획서_4분기!$A:$X,13,0),\"\")","v":0},0,{"$f":"IFERROR(VLOOKUP($A28,계획서_4분기!$A:$X,15,0),\"\")","v":0},0,{"$f":"INT(SUMIFS('설정_In-Put'!$K:$K,'설정_In-Put'!$C:$C,'10월'!$A28)*24)","v":0},{"$f":"ROUND((SUMIFS('설정_In-Put'!$K:$K,'설정_In-Put'!$C:$C,'10월'!$A28)*24-Q28)*60,0)","v":0},null,null,0,0,{"$f":"IF(SUMIFS('10월'!$AA$26:$AA$56,'10월'!$L$26:$L$56,$L28)+SUMIFS('11월'!$AA$26:$AA$56,'11월'!$L$26:$L$56,$L28)+SUMIFS('12월'!$AA$26:$AA$56,'12월'!$L$26:$L$56,$L28)>3120,1,IF($A28=\"\",\"\",IF(OR($E28=\"일\",$F28<>\"\"),1,0)*IF(S28+T28<>0,1,0)))","v":0},{"$f":"IFERROR(VLOOKUP($A28&1,'설정_In-Put'!$B:$L,11,0)*24,\"\")","v":""},null,null,0,0,0]
["2018-10-04",1,1,4,"목",{"$f":"IFERROR(VLOOKUP($A29,'관리자 Setting'!$K$6:$M$36,3,0),\"\")","v":""},null,null,{"$f":"IFERROR(IF(OR(E29=\"토\",E29=\"일\",F29<>\"\"),\"\",VLOOKUP(A29&0,'설정_In-Put'!$A:$L,6,0)),\"\")","v":""},null,1,40,{"$f":"IFERROR(VLOOKUP($A29,계획서_4분기!$A:$X,13,0),\"\")","v":0},0,{"$f":"IFERROR(VLOOKUP($A29,계획서_4분기!$A:$X,15,0),\"\")","v":0},0,{"$f":"INT(SUMIFS('설정_In-Put'!$K:$K,'설정_In-Put'!$C:$C,'10월'!$A29)*24)","v":0},{"$f":"ROUND((SUMIFS('설정_In-Put'!$K:$K,'설정_In-Put'!$C:$C,'10월'!$A29)*24-Q29)*60,0)","v":0},null,null,0,0,{"$f":"IF(SUMIFS('10월'!$AA$26:$AA$56,'10월'!$L$26:$L$56,$L29)+SUMIFS('11월'!$AA$26:$AA$56,'11월'!$L$26:$L$56,$L29)+SUMIFS('12월'!$AA$26:$AA$56,'12월'!$L$26:$L$56,$L29)>3120,1,IF($A29=\"\",\"\",IF(OR($E29=\"일\",$F29<>\"\"),1,0)*IF(S29+T29<>0,1,0)))","v":0},{"$f":"IFERROR(VLOOKUP($A29&1,'설정_In-Put'!$B:$L,11,0)*24,\"\")","v":""},null,null,0,0,0]
["2018-10-05",1,1,5,"금",{"$f":"IFERROR(VLOOKUP($A30,'관리자 Setting'!$K$6:$M$36,3,0),\"\")","v":""},null,null,{"$f":"IFERROR(IF(OR(E30=\"토\",E30=\"일\",F30<>\"\"),\"\",VLOOKUP(A30&0,'설정_In-Put'!$A:$L,6,0)),\"\")","v":""},null,1,40,{"$f":"IFERROR(VLOOKUP($A30,계획서_4분기!$A:$X,13,0),\"\")","v":0},0,{"$f":"IFERROR(VLOOKUP($A30,계획서_4분기!$A:$X,15,0),\"\")","v":0},0,{"$f":"INT(SUMIFS('설정_In-Put'!$K:$K,'설정_In-Put'!$C:$C,'10월'!$A30)*24)","v":0},{"$f":"ROUND((SUMIFS('설정_In-Put'!$K:$K,'설정_In-Put'!$C:$C,'10월'!$A30)*24-Q30)*60,0)","v":0},null,null,0,0,{"$f":"IF(SUMIFS('10월'!$AA$26:$AA$56,'10월'!$L$26:$L$56,$L30)+SUMIFS('11월'!$AA$26:$AA$56,'11월'!$L$26:$L$56,$L30)+SUMIFS('12월'!$AA$26:$AA$56,'12월'!$L$26:$L$56,$L30)>3120,1,IF($A30=\"\",\"\",IF(OR($E30=\"일\",$F30<>\"\"),1,0)*IF(S30+T30<>0,1,0)))","v":0},{"$f":"IFERROR(VLOOKUP($A30&1,'설정_In-Put'!$B:$L,11,0)*24,\"\")","v":""},null,null,0,0,0]
["2018-10-06",1,1,6,"토",{"$f":"IFERROR(VLOOKUP($A31,'관리자 Setting'!$K$6:$M$36,3,0),\"\")","v":""},null,null,{"$f":"IFERROR(IF(OR(E31=\"토\",E31=\"일\",F31<>\"\"),\"\",VLOOKUP(A31&0,'설정_In-Put'!$A:$L,6,0)),\"\")","v":""},null,1,40,{"$f":"IFERROR(VLOOKUP($A31,계획서_4분기!$A:$X,13,0),\"\")","v":0},0,{"$f":"IFERROR(VLOOKUP($A31,계획서_4분기!$A:$X,15,0),\"\")","v":0},0,{"$f":"INT(SUMIFS('설정_In-Put'!$K:$K,'설정_In-Put'!$C:$C,'10월'!$A31)*24)","v":0},{"$f":"ROUND((SUMIFS('설정_In-Put'!$K:$K,'설정_In-Put'!$C:$C,'10월'!$A31)*24-Q31)*60,0)","v":0},null,null,0,0,{"$f":"IF(SUMIFS('10월'!$AA$26:$AA$56,'10월'!$L$26:$L$56,$L31)+SUMIFS('11월'!$AA$26:$AA$56,'11월'!$L$26:$L$56,$L31)+SUMIFS('12월'!$AA$26:$AA$56,'12월'!$L$26:$L$56,$L31)>3120,1,IF($A31=\"\",\"\",IF(OR($E31=\"일\",$F31<>\"\"),1,0)*IF(S31+T31<>0,1,0)))","v":0},{"$f":"IFERROR(VLOOKUP($A31&1,'설정_In-Put'!$B:$L,11,0)*24,\"\")","v":""},null,null,0,0,0]
["2018-10-07",0,0,7,"일",{"$f":"IFERROR(VLOOKUP($A32,'관리자 Setting'!$K$6:$M$36,3,0),\"\")","v":""},null,null,{"$f":"IFERROR(IF(OR(E32=\"토\",E32=\"일\",F32<>\"\"),\"\",VLOOKUP(A32&0,'설정_In-Put'!$A:$L,6,0)),\"\")","v":""},null,1,40,{"$f":"IFERROR(VLOOKUP($A32,계획서_4분기!$A:$X,13,0),\"\")","v":0},0,{"$f":"IFERROR(VLOOKUP($A32,계획서_4분기!$A:$X,15,0),\"\")","v":0},0,{"$f":"INT(SUMIFS('설정_In-Put'!$K:$K,'설정_In-Put'!$C:$C,'10월'!$A32)*24)","v":0},{"$f":"ROUND((SUMIFS('설정_In-Put'!$K:$K,'설정_In-Put'!$C:$C,'10월'!$A32)*24-Q32)*60,0)","v":0},null,null,0,0,{"$f":"IF(SUMIFS('10월'!$AA$26:$AA$56,'10월'!$L$26:$L$56,$L32)+SUMIFS('11월'!$AA$26:$AA$56,'11월'!$L$26:$L$56,$L32)+SUMIFS('12월'!$AA$26:$AA$56,'12월'!$L$26:$L$56,$L32)>3120,1,IF($A32=\"\",\"\",IF(OR($E32=\"일\",$F32<>\"\"),1,0)*IF(S32+T32<>0,1,0)))","v":0},{"$f":"IFERROR(VLOOKUP($A32&1,'설정_In-Put'!$B:$L,11,0)*24,\"\")","v":""},null,null,0,0,0]
["2018-10-08",1,1,8,"월",{"$f":"IFERROR(VLOOKUP($A33,'관리자 Setting'!$K$6:$M$36,3,0),\"\")","v":""},null,null,{"$f":"IFERROR(IF(OR(E33=\"토\",E33=\"일\",F33<>\"\"),\"\",VLOOKUP(A33&0,'설정_In-Put'!$A:$L,6,0)),\"\")","v":""},null,2,41,{"$f":"IFERROR(VLOOKUP($A33,계획서_4분기!$A:$X,13,0),\"\")","v":8},0,{"$f":"IFERROR(VLOOKUP($A33,계획서_4분기!$A:$X,15,0),\"\")","v":0},0,{"$f":"INT(SUMIFS('설정_In-Put'!$K:$K,'설정_In-Put'!$C:$C,'10월'!$A33)*24)","v":0},{"$f":"ROUND((SUMIFS('설정_In-Put'!$K:$K,'설정_In-Put'!$C:$C,'10월'!$A33)*24-Q33)*60,0)","v":0},null,null,0,0,{"$f":"IF(SUMIFS('10월'!$AA$26:$AA$56,'10월'!$L$26:$L$56,$L33)+SUMIFS('11월'!$AA$26:$AA$56,'11월'!$L$26:$L$56,$L33)+SUMIFS('12월'!$AA$26:$AA$56,'12월'!$L$26:$L$56,$L33)>3120,1,IF($A33=\"\",\"\",IF(OR($E33=\"일\",$F33<>\"\"),1,0)*IF(S33+T33<>0,1,0)))","v":0},{"$f":"IFERROR(VLOOKUP($A33&1,'설정_In-Put'!$B:$L,11,0)*24,\"\")","v":""},null,null,0,0,0]
["2018-10-09",0,0,9,"화",{"$f":"IFERROR(VLOOKUP($A34,'관리자 Setting'!$K$6:$M$36,3,0),\"\")","v":"한글날"},null,null,{"$f":"IFERROR(IF(OR(E34=\"토\",E34=\"일\",F34<>\"\"),\"\",VLOOKUP(A34&0,'설정_In-Put'!$A:$L,6,0)),\"\")","v":""},null,2,41,{"$f":"IFERROR(VLOOKUP($A34,계획서_4분기!$A:$X,13,0),\"\")","v":0},0,{"$f":"IFERROR(VLOOKUP($A34,계획서_4분기!$A:$X,15,0),\"\")","v":0},0,{"$f":"INT(SUMIFS('설정_In-Put'!$K:$K,'설정_In-Put'!$C:$C,'10월'!$A34)*24)","v":0},{"$f":"ROUND((SUMIFS('설정_In-Put'!$K:$K,'설정_In-Put'!$C:$C,'10월'!$A34)*24-Q34)*60,0)","v":0},null,null,0,0,{"$f":"IF(SUMIFS('10월'!$AA$26:$AA$56,'10월'!$L$26:$L$56,$L34)+SUMIFS('11월'!$AA$26:$AA$56,'11월'!$L$26:$L$56,$L34)+SUMIFS('12월'!$AA$26:$AA$56,'12월'!$L$26:$L$56,$L34)>3120,1,IF($A34=\"\",\"\",IF(OR($E34=\"일\",$F34<>\"\"),1,0)*IF(S34+T34<>0,1,0)))","v":0},{"$f":"IFERROR(VLOOKUP($A34&1,'설정_In-Put'!$B:$L,11,0)*24,\"\")","v":""},null,null,0,0,0]
["2018-10-10",1,1,10,"수",{"$f":"IFERROR(VLOOKUP($A35,'관리자 Setting'!$K$6:$M$36,3,0),\"\")","v":""},null,null,{"$f":"IFERROR(IF(OR(E35=\"토\",E35=\"일\",F35<>\"\"),\"\",VLOOKUP(A35&0,'설정_In-Put'!$A:$L,6,0)),\"\")","v":""},null,2,41,{"$f":"IFERROR(VLOOKUP($A35,계획서_4분기!$A:$X,13,0),\"\")","v":8},0,{"$f":"IFERROR(VLOOKUP($A35,계획서_4분기!$A:$X,15,0),\"\")","v":0},0,{"$f":"INT(SUMIFS('설정_In-Put'!$K:$K,'설정_In-Put'!$C:$C,'10월'!$A35)*24)","v":0},{"$f":"ROUND((SUMIFS('설정_In-Put'!$K:$K,'설정_In-Put'!$C:$C,'10월'!$A35)*24-Q35)*60,0)","v":0},null,null,0,0,{"$f":"IF(SUMIFS('10월'!$AA$26:$AA$56,'10월'!$L$26:$L$56,$L35)+SUMIFS('11월'!$AA$26:$AA$56,'11월'!$L$26:$L$56,$L35)+SUMIFS('12월'!$AA$26:$AA$56,'12월'!$L$26:$L$56,$L35)>3120,1,IF($A35=\"\",\"\",IF(OR($E35=\"일\",$F35<>\"\"),1,0)*IF(S35+T35<>0,1,0)))","v":0},{"$f":"IFERROR(VLOOKUP($A35&1,'설정_In-Put'!$B:$L,11,0)*24,\"\")","v":""},null,null,0,0,0]
["2018-10-11",1,1,11,"목",{"$f":"IFERROR(VLOOKUP($A36,'관리자 Setting'!$K$6:$M$36,3,0),\"\")","v":""},null,null,{"$f":"IFERROR(IF(OR(E36=\"토\",E36=\"일\",F36<>\"\"),\"\",VLOOKUP(A36&0,'설정_In-Put'!$A:$L,6,0)),\"\")","v":""},null,2,41,{"$f":"IFERROR(VLOOKUP($A36,계획서_4분기!$A:$X,13,0),\"\")","v":8},0,{"$f":"IFERROR(VLOOKUP($A36,계획서_4분기!$A:$X,15,0),\"\")","v":0},0,{"$f":"INT(SUMIFS('설정_In-Put'!$K:$K,'설정_In-Put'!$C:$C,'10월'!$A36)*24)","v":0},{"$f":"ROUND((SUMIFS('설정_In-Put'!$K:$K,'설정_In-Put'!$C:$C,'10월'!$A36)*24-Q36)*60,0)","v":0},null,null,0,0,{"$f":"IF(SUMIFS('10월'!$AA$26:$AA$56,'10월'!$L$26:$L$56,$L36)+SUMIFS('11월'!$AA$26:$AA$56,'11월'!$L$26:$L$56,$L36)+SUMIFS('12월'!$AA$26:$AA$56,'12월'!$L$26:$L$56,$L36)>3120,1,IF($A36=\"\",\"\",IF(OR($E36=\"일\",$F36<>\"\"),1,0)*IF(S36+T36<>0,1,0)))","v":0},{"$f":"IFERROR(VLOOKUP($A36&1,'설정_In-Put'!$B:$L,11,0)*24,\"\")","v":""},null,null,0,0,0]
["2018-10-12",1,1,12,"금",{"$f":"IFERROR(VLOOKUP($A37,'관리자 Setting'!$K$6:$M$36,3,0),\"\")","v":""},null,null,{"$f":"IFERROR(IF(OR(E37=\"토\",E37=\"일\",F37<>\"\"),\"\",VLOOKUP(A37&0,'설정_In-Put'!$A:$L,6,0)),\"\")","v":""},null,2,41,{"$f":"IFERROR(VLOOKUP($A37,계획서_4분기!$A:$X,13,0),\"\")","v":8},0,{"$f":"IFERROR(VLOOKUP($A37,계획서_4분기!$A:$X,15,0),\"\")","v":0},0,{"$f":"INT(SUMIFS('설정_In-Put'!$K:$K,'설정_In-Put'!$C:$C,'10월'!$A37)*24)","v":0},{"$f":"ROUND((SUMIFS('설정_In-Put'!$K:$K,'설정_In-Put'!$C:$C,'10월'!$A37)*24-Q37)*60,0)","v":0},null,null,0,0,{"$f":"IF(SUMIFS('10월'!$AA$26:$AA$56,'10월'!$L$26:$L$56,$L37)+SUMIFS('11월'!$AA$26:$AA$56,'11월'!$L$26:$L$56,$L37)+SUMIFS('12월'!$AA$26:$AA$56,'12월'!$L$26:$L$56,$L37)>3120,1,IF($A37=\"\",\"\",IF(OR($E37=\"일\",$F37<>\"\"),1,0)*IF(S37+T37<>0,1,0)))","v":0},{"$f":"IFERROR(VLOOKUP($A37&1,'설정_In-Put'!$B:$L,11,0)*24,\"\")","v":""},null,null,0,0,0]
["2018-10-13",1,1,13,"토",{"$f":"IFERROR(VLOOKUP($A38,'관리자 Setting'!$K$6:$M$36,3,0),\"\")","v":""},null,null,{"$f":"IFERROR(IF(OR(E38=\"토\",E38=\"일\",F38<>\"\"),\"\",VLOOKUP(A38&0,'설정_In-Put'!$A:$L,6,0)),\"\")","v":""},null,2,41,{"$f":"IFERROR(VLOOKUP($A38,계획서_4분기!$A:$X,13,0),\"\")","v":0},0,{"$f":"IFERROR(VLOOKUP($A38,계획서_4분기!$A:$X,15,0),\"\")","v":0},0,{"$f":"INT(SUMIFS('설정_In-Put'!$K:$K,'설정_In-Put'!$C:$C,'10월'!$A38)*24)","v":0},{"$f":"ROUND((SUMIFS('설정_In-Put'!$K:$K,'설정_In-Put'!$C:$C,'10월'!$A38)*24-Q38)*60,0)","v":0},null,null,0,0,{"$f":"IF(SUMIFS('10월'!$AA$26:$AA$56,'10월'!$L$26:$L$56,$L38)+SUMIFS('11월'!$AA$26:$AA$56,'11월'!$L$26:$L$56,$L38)+SUMIFS('12월'!$AA$26:$AA$56,'12월'!$L$26:$L$56,$L38)>3120,1,IF($A38=\"\",\"\",IF(OR($E38=\"일\",$F38<>\"\"),1,0)*IF(S38+T38<>0,1,0)))","v":0},{"$f":"IFERROR(VLOOKUP($A38&1,'설정_In-Put'!$B:$L,11,0)*24,\"\")","v":""},null,null,0,0,0]
["2018-10-14",0,0,14,"일",{"$f":"IFERROR(VLOOKUP($A39,'관리자 Setting'!$K$6:$M$36,3,0),\"\")","v":""},null,null,{"$f":"IFERROR(IF(OR(E39=\"토\",E39=\"일\",F39<>\"\"),\"\",VLOOKUP(A39&0,'설정_In-Put'!$A:$L,6,0)),\"\")","v":""},null,2,41,{"$f":"IFERROR(VLOOKUP($A39,계획서_4분기!$A:$X,13,0),\"\")","v":0},0,{"$f":"IFERROR(VLOOKUP($A39,계획서_4분기!$A:$X,15,0),\"\")","v":0},0,{"$f":"INT(SUMIFS('설정_In-Put'!$K:$K,'설정_In-Put'!$C:$C,'10월'!$A39)*24)","v":0},{"$f":"ROUND((SUMIFS('설정_In-Put'!$K:$K,'설정_In-Put'!$C:$C,'10월'!$A39)*24-Q39)*60,0)","v":0},null,null,0,0,{"$f":"IF(SUMIFS('10월'!$AA$26:$AA$56,'10월'!$L$26:$L$56,$L39)+SUMIFS('11월'!$AA$26:$AA$56,'11월'!$L$26:$L$56,$L39)+SUMIFS('12월'!$AA$26:$AA$56,'12월'!$L$26:$L$56,$L39)>3120,1,IF($A39=\"\",\"\",IF(OR($E39=\"일\",$F39<>\"\"),1,0)*IF(S39+T39<>0,1,0)))","v":0},{"$f":"IFERROR(VLOOKUP($A39&1,'설정_In-Put'!$B:$L,11,0)*24,\"\")","v":""},null,null,0,0,0]
["2018-10-15",1,1,15,"월",{"$f":"IFERROR(VLOOKUP($A40,'관리자 Setting'!$K$6:$M$36,3,0),\"\")","v":""},null,null,{"$f":"IFERROR(IF(OR(E40=\"토\",E40=\"일\",F40<>\"\"),\"\",VLOOKUP(A40&0,'설정_In-Put'!$A:$L,6,0)),\"\")","v":""},null,3,42,{"$f":"IFERROR(VLOOKUP($A40,계획서_4분기!$A:$X,13,0),\"\")","v":8},0,{"$f":"IFERROR(VLOOKUP($A40,계획서_4분기!$A:$X,15,0),\"\")","v":0},0,{"$f":"INT(SUMIFS('설정_In-Put'!$K:$K,'설정_In-Put'!$C:$C,'10월'!$A40)*24)","v":0},{"$f":"ROUND((SUMIFS('설정_In-Put'!$K:$K,'설정_In-Put'!$C:$C,'10월'!$A40)*24-Q40)*60,0)","v":0},null,null,0,0,{"$f":"IF(SUMIFS('10월'!$AA$26:$AA$56,'10월'!$L$26:$L$56,$L40)+SUMIFS('11월'!$AA$26:$AA$56,'11월'!$L$26:$L$56,$L40)+SUMIFS('12월'!$AA$26:$AA$56,'12월'!$L$26:$L$56,$L40)>3120,1,IF($A40=\"\",\"\",IF(OR($E40=\"일\",$F40<>\"\"),1,0)*IF(S40+T40<>0,1,0)))","v":0},{"$f":"IFERROR(VLOOKUP($A40&1,'설정_In-Put'!$B:$L,11,0)*24,\"\")","v":""},null,null,0,0,0]
["2018-10-16",1,1,16,"화",{"$f":"IFERROR(VLOOKUP($A41,'관리자 Setting'!$K$6:$M$36,3,0),\"\")","v":""},null,null,{"$f":"IFERROR(IF(OR(E41=\"토\",E41=\"일\",F41<>\"\"),\"\",VLOOKUP(A41&0,'설정_In-Put'!$A:$L,6,0)),\"\")","v":""},null,3,42,{"$f":"IFERROR(VLOOKUP($A41,계획서_4분기!$A:$X,13,0),\"\")","v":8},0,{"$f":"IFERROR(VLOOKUP($A41,계획서_4분기!$A:$X,15,0),\"\")","v":0},0,{"$f":"INT(SUMIFS('설정_In-Put'!$K:$K,'설정_In-Put'!$C:$C,'10월'!$A41)*24)","v":0},{"$f":"ROUND((SUMIFS('설정_In-Put'!$K:$K,'설정_In-Put'!$C:$C,'10월'!$A41)*24-Q41)*60,0)","v":0},null,null,0,0,{"$f":"IF(SUMIFS('10월'!$AA$26:$AA$56,'10월'!$L$26:$L$56,$L41)+SUMIFS('11월'!$AA$26:$AA$56,'11월'!$L$26:$L$56,$L41)+SUMIFS('12월'!$AA$26:$AA$56,'12월'!$L$26:$L$56,$L41)>3120,1,IF($A41=\"\",\"\",IF(OR($E41=\"일\",$F41<>\"\"),1,0)*IF(S41+T41<>0,1,0)))","v":0},{"$f":"IFERROR(VLOOKUP($A41&1,'설정_In-Put'!$B:$L,11,0)*24,\"\")","v":""},null,null,0,0,0]
["2018-10-17",1,1,17,"수",{"$f":"IFERROR(VLOOKUP($A42,'관리자 Setting'!$K$6:$M$36,3,0),\"\")","v":""},null,null,{"$f":"IFERROR(IF(OR(E42=\"토\",E42=\"일\",F42<>\"\"),\"\",VLOOKUP(A42&0,'설정_In-Put'!$A:$L,6,0)),\"\")","v":""},null,3,42,{"$f":"IFERROR(VLOOKUP($A42,계획서_4분기!$A:$X,13,0),\"\")","v":8},0,{"$f":"IFERROR(VLOOKUP($A42,계획서_4분기!$A:$X,15,0),\"\")","v":0},0,{"$f":"INT(SUMIFS('설정_In-Put'!$K:$K,'설정_In-Put'!$C:$C,'10월'!$A42)*24)","v":0},{"$f":"ROUND((SUMIFS('설정_In-Put'!$K:$K,'설정_In-Put'!$C:$C,'10월'!$A42)*24-Q42)*60,0)","v":0},null,null,0,0,{"$f":"IF(SUMIFS('10월'!$AA$26:$AA$56,'10월'!$L$26:$L$56,$L42)+SUMIFS('11월'!$AA$26:$AA$56,'11월'!$L$26:$L$56,$L42)+SUMIFS('12월'!$AA$26:$AA$56,'12월'!$L$26:$L$56,$L42)>3120,1,IF($A42=\"\",\"\",IF(OR($E42=\"일\",$F42<>\"\"),1,0)*IF(S42+T42<>0,1,0)))","v":0},{"$f":"IFERROR(VLOOKUP($A42&1,'설정_In-Put'!$B:$L,11,0)*24,\"\")","v":""},null,null,0,0,0]
["2018-10-18",1,1,18,"목",{"$f":"IFERROR(VLOOKUP($A43,'관리자 Setting'!$K$6:$M$36,3,0),\"\")","v":""},null,null,{"$f":"IFERROR(IF(OR(E43=\"토\",E43=\"일\",F43<>\"\"),\"\",VLOOKUP(A43&0,'설정_In-Put'!$A:$L,6,0)),\"\")","v":""},null,3,42,{"$f":"IFERROR(VLOOKUP($A43,계획서_4분기!$A:$X,13,0),\"\")","v":8},0,{"$f":"IFERROR(VLOOKUP($A43,계획서_4분기!$A:$X,15,0),\"\")","v":0},0,{"$f":"INT(SUMIFS('설정_In-Put'!$K:$K,'설정_In-Put'!$C:$C,'10월'!$A43)*24)","v":0},{"$f":"ROUND((SUMIFS('설정_In-Put'!$K:$K,'설정_In-Put'!$C:$C,'10월'!$A43)*24-Q43)*60,0)","v":0},null,null,0,0,{"$f":"IF(SUMIFS('10월'!$AA$26:$AA$56,'10월'!$L$26:$L$56,$L43)+SUMIFS('11월'!$AA$26:$AA$56,'11월'!$L$26:$L$56,$L43)+SUMIFS('12월'!$AA$26:$AA$56,'12월'!$L$26:$L$56,$L43)>3120,1,IF($A43=\"\",\"\",IF(OR($E43=\"일\",$F43<>\"\"),1,0)*IF(S43+T43<>0,1,0)))","v":0},{"$f":"IFERROR(VLOOKUP($A43&1,'설정_In-Put'!$B:$L,11,0)*24,\"\")","v":""},null,null,0,0,0]
["2018-10-19",1,1,19,"금",{"$f":"IFERROR(VLOOKUP($A44,'관리자 Setting'!$K$6:$M$36,3,0),\"\")","v":""},null,null,{"$f":"IFERROR(IF(OR(E44=\"토\",E44=\"일\",F44<>\"\"),\"\",VLOOKUP(A44&0,'설정_In-Put'!$A:$L,6,0)),\"\")","v":""},null,3,42,{"$f":"IFERROR(VLOOKUP($A44,계획서_4분기!$A:$X,13,0),\"\")","v":8},0,{"$f":"IFERROR(VLOOKUP($A44,계획서_4분기!$A:$X,15,0),\"\")","v":0},0,{"$f":"INT(SUMIFS('설정_In-Put'!$K:$K,'설정_In-Put'!$C:$C,'10월'!$A44)*24)","v":0},{"$f":"ROUND((SUMIFS('설정_In-Put'!$K:$K,'설정_In-Put'!$C:$C,'10월'!$A44)*24-Q44)*60,0)","v":0},null,null,0,0,{"$f":"IF(SUMIFS('10월'!$AA$26:$AA$56,'10월'!$L$26:$L$56,$L44)+SUMIFS('11월'!$AA$26:$AA$56,'11월'!$L$26:$L$56,$L44)+SUMIFS('12월'!$AA$26:$AA$56,'12월'!$L$26:$L$56,$L44)>3120,1,IF($A44=\"\",\"\",IF(OR($E44=\"일\",$F44<>\"\"),1,0)*IF(S44+T44<>0,1,0)))","v":0},{"$f":"IFERROR(VLOOKUP($A44&1,'설정_In-Put'!$B:$L,11,0)*24,\"\")","v":""},null,null,0,0,0]
["2018-10-20",1,1,20,"토",{"$f":"IFERROR(VLOOKUP($A45,'관리자 Setting'!$K$6:$M$36,3,0),\"\")","v":""},null,null,{"$f":"IFERROR(IF(OR(E45=\"토\",E45=\"일\",F45<>\"\"),\"\",VLOOKUP(A45&0,'설정_In-Put'!$A:$L,6,0)),\"\")","v":""},null,3,42,{"$f":"IFERROR(VLOOKUP($A45,계획서_4분기!$A:$X,13,0),\"\")","v":0},0,{"$f":"IFERROR(VLOOKUP($A45,계획서_4분기!$A:$X,15,0),\"\")","v":0},0,{"$f":"INT(SUMIFS('설정_In-Put'!$K:$K,'설정_In-Put'!$C:$C,'10월'!$A45)*24)","v":0},{"$f":"ROUND((SUMIFS('설정_In-Put'!$K:$K,'설정_In-Put'!$C:$C,'10월'!$A45)*24-Q45)*60,0)","v":0},null,null,0,0,{"$f":"IF(SUMIFS('10월'!$AA$26:$AA$56,'10월'!$L$26:$L$56,$L45)+SUMIFS('11월'!$AA$26:$AA$56,'11월'!$L$26:$L$56,$L45)+SUMIFS('12월'!$AA$26:$AA$56,'12월'!$L$26:$L$56,$L45)>3120,1,IF($A45=\"\",\"\",IF(OR($E45=\"일\",$F45<>\"\"),1,0)*IF(S45+T45<>0,1,0)))","v":0},{"$f":"IFERROR(VLOOKUP($A45&1,'설정_In-Put'!$B:$L,11,0)*24,\"\")","v":""},null,null,0,0,0]
["2018-10-21",0,0,21,"일",{"$f":"IFERROR(VLOOKUP($A46,'관리자 Setting'!$K$6:$M$36,3,0),\"\")","v":""},null,null,{"$f":"IFERROR(IF(OR(E46=\"토\",E46=\"일\",F46<>\"\"),\"\",VLOOKUP(A46&0,'설정_In-Put'!$A:$L,6,0)),\"\")","v":""},null,3,42,{"$f":"IFERROR(VLOOKUP($A46,계획서_4분기!$A:$X,13,0),\"\")","v":0},0,{"$f":"IFERROR(VLOOKUP($A46,계획서_4분기!$A:$X,15,0),\"\")","v":0},0,{"$f":"INT(SUMIFS('설정_In-Put'!$K:$K,'설정_In-Put'!$C:$C,'10월'!$A46)*24)","v":0},{"$f":"ROUND((SUMIFS('설정_In-Put'!$K:$K,'설정_In-Put'!$C:$C,'10월'!$A46)*24-Q46)*60,0)","v":0},null,null,0,0,{"$f":"IF(SUMIFS('10월'!$AA$26:$AA$56,'10월'!$L$26:$L$56,$L46)+SUMIFS('11월'!$AA$26:$AA$56,'11월'!$L$26:$L$56,$L46)+SUMIFS('12월'!$AA$26:$AA$56,'12월'!$L$26:$L$56,$L46)>3120,1,IF($A46=\"\",\"\",IF(OR($E46=\"일\",$F46<>\"\"),1,0)*IF(S46+T46<>0,1,0)))","v":0},{"$f":"IFERROR(VLOOKUP($A46&1,'설정_In-Put'!$B:$L,11,0)*24,\"\")","v":""},null,null,0,0,0]
["2018-10-22",1,1,22,"월",{"$f":"IFERROR(VLOOKUP($A47,'관리자 Setting'!$K$6:$M$36,3,0),\"\")","v":""},null,null,{"$f":"IFERROR(IF(OR(E47=\"토\",E47=\"일\",F47<>\"\"),\"\",VLOOKUP(A47&0,'설정_In-Put'!$A:$L,6,0)),\"\")","v":""},null,4,43,{"$f":"IFERROR(VLOOKUP($A47,계획서_4분기!$A:$X,13,0),\"\")","v":8},0,{"$f":"IFERROR(VLOOKUP($A47,계획서_4분기!$A:$X,15,0),\"\")","v":0},0,{"$f":"INT(SUMIFS('설정_In-Put'!$K:$K,'설정_In-Put'!$C:$C,'10월'!$A47)*24)","v":0},{"$f":"ROUND((SUMIFS('설정_In-Put'!$K:$K,'설정_In-Put'!$C:$C,'10월'!$A47)*24-Q47)*60,0)","v":0},null,null,0,0,{"$f":"IF(SUMIFS('10월'!$AA$26:$AA$56,'10월'!$L$26:$L$56,$L47)+SUMIFS('11월'!$AA$26:$AA$56,'11월'!$L$26:$L$56,$L47)+SUMIFS('12월'!$AA$26:$AA$56,'12월'!$L$26:$L$56,$L47)>3120,1,IF($A47=\"\",\"\",IF(OR($E47=\"일\",$F47<>\"\"),1,0)*IF(S47+T47<>0,1,0)))","v":0},{"$f":"IFERROR(VLOOKUP($A47&1,'설정_In-Put'!$B:$L,11,0)*24,\"\")","v":""},null,null,0,0,0]
["2018-10-23",1,1,23,"화",{"$f":"IFERROR(VLOOKUP($A48,'관리자 Setting'!$K$6:$M$36,3,0),\"\")","v":""},null,null,{"$f":"IFERROR(IF(OR(E48=\"토\",E48=\"일\",F48<>\"\"),\"\",VLOOKUP(A48&0,'설정_In-Put'!$A:$L,6,0)),\"\")","v":""},null,4,43,{"$f":"IFERROR(VLOOKUP($A48,계획서_4분기!$A:$X,13,0),\"\")","v":8},0,{"$f":"IFERROR(VLOOKUP($A48,계획서_4분기!$A:$X,15,0),\"\")","v":0},0,{"$f":"INT(SUMIFS('설정_In-Put'!$K:$K,'설정_In-Put'!$C:$C,'10월'!$A48)*24)","v":0},{"$f":"ROUND((SUMIFS('설정_In-Put'!$K:$K,'설정_In-Put'!$C:$C,'10월'!$A48)*24-Q48)*60,0)","v":0},null,null,0,0,{"$f":"IF(SUMIFS('10월'!$AA$26:$AA$56,'10월'!$L$26:$L$56,$L48)+SUMIFS('11월'!$AA$26:$AA$56,'11월'!$L$26:$L$56,$L48)+SUMIFS('12월'!$AA$26:$AA$56,'12월'!$L$26:$L$56,$L48)>3120,1,IF($A48=\"\",\"\",IF(OR($E48=\"일\",$F48<>\"\"),1,0)*IF(S48+T48<>0,1,0)))","v":0},{"$f":"IFERROR(VLOOKUP($A48&1,'설정_In-Put'!$B:$L,11,0)*24,\"\")","v":""},null,null,0,0,0]
["2018-10-24",1,1,24,"수",{"$f":"IFERROR(VLOOKUP($A49,'관리자 Setting'!$K$6:$M$36,3,0),\"\")","v":""},null,null,{"$f":"IFERROR(IF(OR(E49=\"토\",E49=\"일\",F49<>\"\"),\"\",VLOOKUP(A49&0,'설정_In-Put'!$A:$L,6,0)),\"\")","v":""},null,4,43,{"$f":"IFERROR(VLOOKUP($A49,계획서_4분기!$A:$X,13,0),\"\")","v":8},0,{"$f":"IFERROR(VLOOKUP($A49,계획서_4분기!$A:$X,15,0),\"\")","v":0},0,{"$f":"INT(SUMIFS('설정_In-Put'!$K:$K,'설정_In-Put'!$C:$C,'10월'!$A49)*24)","v":0},{"$f":"ROUND((SUMIFS('설정_In-Put'!$K:$K,'설정_In-Put'!$C:$C,'10월'!$A49)*24-Q49)*60,0)","v":0},null,null,0,0,{"$f":"IF(SUMIFS('10월'!$AA$26:$AA$56,'10월'!$L$26:$L$56,$L49)+SUMIFS('11월'!$AA$26:$AA$56,'11월'!$L$26:$L$56,$L49)+SUMIFS('12월'!$AA$26:$AA$56,'12월'!$L$26:$L$56,$L49)>3120,1,IF($A49=\"\",\"\",IF(OR($E49=\"일\",$F49<>\"\"),1,0)*IF(S49+T49<>0,1,0)))","v":0},{"$f":"IFERROR(VLOOKUP($A49&1,'설정_In-Put'!$B:$L,11,0)*24,\"\")","v":""},null,null,0,0,0]
["2018-10-25",1,1,25,"목",{"$f":"IFERROR(VLOOKUP($A50,'관리자 Setting'!$K$6:$M$36,3,0),\"\")","v":""},null,null,{"$f":"IFERROR(IF(OR(E50=\"토\",E50=\"일\",F50<>\"\"),\"\",VLOOKUP(A50&0,'설정_In-Put'!$A:$L,6,0)),\"\")","v":""},null,4,43,{"$f":"IFERROR(VLOOKUP($A50,계획서_4분기!$A:$X,13,0),\"\")","v":8},0,{"$f":"IFERROR(VLOOKUP($A50,계획서_4분기!$A:$X,15,0),\"\")","v":0},0,{"$f":"INT(SUMIFS('설정_In-Put'!$K:$K,'설정_In-Put'!$C:$C,'10월'!$A50)*24)","v":0},{"$f":"ROUND((SUMIFS('설정_In-Put'!$K:$K,'설정_In-Put'!$C:$C,'10월'!$A50)*24-Q50)*60,0)","v":0},null,null,0,0,{"$f":"IF(SUMIFS('10월'!$AA$26:$AA$56,'10월'!$L$26:$L$56,$L50)+SUMIFS('11월'!$AA$26:$AA$56,'11월'!$L$26:$L$56,$L50)+SUMIFS('12월'!$AA$26:$AA$56,'12월'!$L$26:$L$56,$L50)>3120,1,IF($A50=\"\",\"\",IF(OR($E50=\"일\",$F50<>\"\"),1,0)*IF(S50+T50<>0,1,0)))","v":0},{"$f":"IFERROR(VLOOKUP($A50&1,'설정_In-Put'!$B:$L,11,0)*24,\"\")","v":""},null,null,0,0,0]
["2018-10-26",1,1,26,"금",{"$f":"IFERROR(VLOOKUP($A51,'관리자 Setting'!$K$6:$M$36,3,0),\"\")","v":""},null,null,{"$f":"IFERROR(IF(OR(E51=\"토\",E51=\"일\",F51<>\"\"),\"\",VLOOKUP(A51&0,'설정_In-Put'!$A:$L,6,0)),\"\")","v":""},null,4,43,{"$f":"IFERROR(VLOOKUP($A51,계획서_4분기!$A:$X,13,0),\"\")","v":8},0,{"$f":"IFERROR(VLOOKUP($A51,계획서_4분기!$A:$X,15,0),\"\")","v":0},0,{"$f":"INT(SUMIFS('설정_In-Put'!$K:$K,'설정_In-Put'!$C:$C,'10월'!$A51)*24)","v":0},{"$f":"ROUND((SUMIFS('설정_In-Put'!$K:$K,'설정_In-Put'!$C:$C,'10월'!$A51)*24-Q51)*60,0)","v":0},null,null,0,0,{"$f":"IF(SUMIFS('10월'!$AA$26:$AA$56,'10월'!$L$26:$L$56,$L51)+SUMIFS('11월'!$AA$26:$AA$56,'11월'!$L$26:$L$56,$L51)+SUMIFS('12월'!$AA$26:$AA$56,'12월'!$L$26:$L$56,$L51)>3120,1,IF($A51=\"\",\"\",IF(OR($E51=\"일\",$F51<>\"\"),1,0)*IF(S51+T51<>0,1,0)))","v":0},{"$f":"IFERROR(VLOOKUP($A51&1,'설정_In-Put'!$B:$L,11,0)*24,\"\")","v":""},null,null,0,0,0]
[{"$f":"IF(A51+1>EOMONTH($A$26,0),\"\",A51+1)","v":"2018-10-27"},1,1,27,"토",{"$f":"IFERROR(VLOOKUP($A52,'관리자 Setting'!$K$6:$M$36,3,0),\"\")","v":""},null,null,{"$f":"IFERROR(IF(OR(E52=\"토\",E52=\"일\",F52<>\"\"),\"\",VLOOKUP(A52&0,'설정_In-Put'!$A:$L,6,0)),\"\")","v":""},null,4,43,{"$f":"IFERROR(VLOOKUP($A52,계획서_4분기!$A:$X,13,0),\"\")","v":0},0,{"$f":"IFERROR(VLOOKUP($A52,계획서_4분기!$A:$X,15,0),\"\")","v":0},0,{"$f":"INT(SUMIFS('설정_In-Put'!$K:$K,'설정_In-Put'!$C:$C,'10월'!$A52)*24)","v":0},{"$f":"ROUND((SUMIFS('설정_In-Put'!$K:$K,'설정_In-Put'!$C:$C,'10월'!$A52)*24-Q52)*60,0)","v":0},null,null,0,0,{"$f":"IF(SUMIFS('10월'!$AA$26:$AA$56,'10월'!$L$26:$L$56,$L52)+SUMIFS('11월'!$AA$26:$AA$56,'11월'!$L$26:$L$56,$L52)+SUMIFS('12월'!$AA$26:$AA$56,'12월'!$L$26:$L$56,$L52)>3120,1,IF($A52=\"\",\"\",IF(OR($E52=\"일\",$F52<>\"\"),1,0)*IF(S52+T52<>0,1,0)))","v":0},{"$f":"IFERROR(VLOOKUP($A52&1,'설정_In-Put'!$B:$L,11,0)*24,\"\")","v":""},null,null,0,0,0]
[{"$f":"IFERROR(IF(A52+1>EOMONTH($A$26,0),\"\",A52+1),\"\")","v":"2018-10-28"},0,0,28,"일",{"$f":"IFERROR(VLOOKUP($A53,'관리자 Setting'!$K$6:$M$36,3,0),\"\")","v":""},null,null,{"$f":"IFERROR(IF(OR(E53=\"토\",E53=\"일\",F53<>\"\"),\"\",VLOOKUP(A53&0,'설정_In-Put'!$A:$L,6,0)),\"\")","v":""},null,4,43,{"$f":"IFERROR(VLOOKUP($A53,계획서_4분기!$A:$X,13,0),\"\")","v":0},0,{"$f":"IFERROR(VLOOKUP($A53,계획서_4분기!$A:$X,15,0),\"\")","v":0},0,{"$f":"INT(SUMIFS('설정_In-Put'!$K:$K,'설정_In-Put'!$C:$C,'10월'!$A53)*24)","v":0},{"$f":"ROUND((SUMIFS('설정_In-Put'!$K:$K,'설정_In-Put'!$C:$C,'10월'!$A53)*24-Q53)*60,0)","v":0},null,null,0,0,{"$f":"IF(SUMIFS('10월'!$AA$26:$AA$56,'10월'!$L$26:$L$56,$L53)+SUMIFS('11월'!$AA$26:$AA$56,'11월'!$L$26:$L$56,$L53)+SUMIFS('12월'!$AA$26:$AA$56,'12월'!$L$26:$L$56,$L53)>3120,1,IF($A53=\"\",\"\",IF(OR($E53=\"일\",$F53<>\"\"),1,0)*IF(S53+T53<>0,1,0)))","v":0},{"$f":"IFERROR(VLOOKUP($A53&1,'설정_In-Put'!$B:$L,11,0)*24,\"\")","v":""},null,null,0,0,0]
[{"$f":"IFERROR(IF(A53+1>EOMONTH($A$26,0),\"\",A53+1),\"\")","v":"2018-10-29"},1,1,29,"월",{"$f":"IFERROR(VLOOKUP($A54,'관리자 Setting'!$K$6:$M$36,3,0),\"\")","v":""},null,null,{"$f":"IFERROR(IF(OR(E54=\"토\",E54=\"일\",F54<>\"\"),\"\",VLOOKUP(A54&0,'설정_In-Put'!$A:$L,6,0)),\"\")","v":""},null,5,44,{"$f":"IFERROR(VLOOKUP($A54,계획서_4분기!$A:$X,13,0),\"\")","v":8},0,{"$f":"IFERROR(VLOOKUP($A54,계획서_4분기!$A:$X,15,0),\"\")","v":0},0,{"$f":"INT(SUMIFS('설정_In-Put'!$K:$K,'설정_In-Put'!$C:$C,'10월'!$A54)*24)","v":0},{"$f":"ROUND((SUMIFS('설정_In-Put'!$K:$K,'설정_In-Put'!$C:$C,'10월'!$A54)*24-Q54)*60,0)","v":0},null,null,0,0,{"$f":"IF(SUMIFS('10월'!$AA$26:$AA$56,'10월'!$L$26:$L$56,$L54)+SUMIFS('11월'!$AA$26:$AA$56,'11월'!$L$26:$L$56,$L54)+SUMIFS('12월'!$AA$26:$AA$56,'12월'!$L$26:$L$56,$L54)>3120,1,IF($A54=\"\",\"\",IF(OR($E54=\"일\",$F54<>\"\"),1,0)*IF(S54+T54<>0,1,0)))","v":0},{"$f":"IFERROR(VLOOKUP($A54&1,'설정_In-Put'!$B:$L,11,0)*24,\"\")","v":""},null,null,0,0,0]
[{"$f":"IFERROR(IF(A54+1>EOMONTH($A$26,0),\"\",A54+1),\"\")","v":"2018-10-30"},1,1,30,"화",{"$f":"IFERROR(VLOOKUP($A55,'관리자 Setting'!$K$6:$M$36,3,0),\"\")","v":""},null,null,{"$f":"IFERROR(IF(OR(E55=\"토\",E55=\"일\",F55<>\"\"),\"\",VLOOKUP(A55&0,'설정_In-Put'!$A:$L,6,0)),\"\")","v":""},null,5,44,{"$f":"IFERROR(VLOOKUP($A55,계획서_4분기!$A:$X,13,0),\"\")","v":8},0,{"$f":"IFERROR(VLOOKUP($A55,계획서_4분기!$A:$X,15,0),\"\")","v":0},0,{"$f":"INT(SUMIFS('설정_In-Put'!$K:$K,'설정_In-Put'!$C:$C,'10월'!$A55)*24)","v":0},{"$f":"ROUND((SUMIFS('설정_In-Put'!$K:$K,'설정_In-Put'!$C:$C,'10월'!$A55)*24-Q55)*60,0)","v":0},null,null,0,0,{"$f":"IF(SUMIFS('10월'!$AA$26:$AA$56,'10월'!$L$26:$L$56,$L55)+SUMIFS('11월'!$AA$26:$AA$56,'11월'!$L$26:$L$56,$L55)+SUMIFS('12월'!$AA$26:$AA$56,'12월'!$L$26:$L$56,$L55)>3120,1,IF($A55=\"\",\"\",IF(OR($E55=\"일\",$F55<>\"\"),1,0)*IF(S55+T55<>0,1,0)))","v":0},{"$f":"IFERROR(VLOOKUP($A55&1,'설정_In-Put'!$B:$L,11,0)*24,\"\")","v":""},null,null,0,0,0]
["2018-10-31",1,1,31,"수",{"$f":"IFERROR(VLOOKUP($A56,'관리자 Setting'!$K$6:$M$36,3,0),\"\")","v":""},null,null,{"$f":"IFERROR(IF(OR(E56=\"토\",E56=\"일\",F56<>\"\"),\"\",VLOOKUP(A56&0,'설정_In-Put'!$A:$L,6,0)),\"\")","v":""},null,5,44,{"$f":"IFERROR(VLOOKUP($A56,계획서_4분기!$A:$X,13,0),\"\")","v":8},0,{"$f":"IFERROR(VLOOKUP($A56,계획서_4분기!$A:$X,15,0),\"\")","v":0},0,{"$f":"INT(SUMIFS('설정_In-Put'!$K:$K,'설정_In-Put'!$C:$C,'10월'!$A56)*24)","v":0},{"$f":"ROUND((SUMIFS('설정_In-Put'!$K:$K,'설정_In-Put'!$C:$C,'10월'!$A56)*24-Q56)*60,0)","v":0},null,null,0,0,{"$f":"IF(SUMIFS('10월'!$AA$26:$AA$56,'10월'!$L$26:$L$56,$L56)+SUMIFS('11월'!$AA$26:$AA$56,'11월'!$L$26:$L$56,$L56)+SUMIFS('12월'!$AA$26:$AA$56,'12월'!$L$26:$L$56,$L56)>3120,1,IF($A56=\"\",\"\",IF(OR($E56=\"일\",$F56<>\"\"),1,0)*IF(S56+T56<>0,1,0)))","v":0},{"$f":"IFERROR(VLOOKUP($A56&1,'설정_In-Put'!$B:$L,11,0)*24,\"\")","v":""},null,null,0,0,0]

{"sheet":"11월","index":17,"n_rows":58,"n_cols":30,"rows_kept":58,"merged":[[1,3,2,5],[1,6,2,20],[1,21,2,23],[4,3,5,3],[4,4,5,6],[4,7,5,8],[4,9,5,11],[4,12,5,13],[4,14,5,15],[4,16,5,17],[4,18,5,19],[4,20,5,21],[4,22,5,23],[7,3,7,23],[8,3,8,4],[8,5,8,9],[8,10,8,12],[8,13,8,14],[8,15,8,16],[8,17,8,18],[8,20,8,23],[9,3,9,4],[9,5,9,7],[9,8,9,9],[9,10,9,12],[9,13,9,14],[9,15,9,16],[9,17,9,18],[9,20,9,23],[10,3,10,4],[10,5,10,7],[10,8,10,9],[10,10,10,12],[10,13,10,14],[10,15,10,16],[10,17,10,18],[10,19,10,23],[11,3,11,4],[11,5,11,7],[11,8,11,9],[11,10,11,12],[11,13,11,14],[11,15,11,16],[11,17,11,18],[11,20,11,23],[13,3,13,23],[14,3,15,4],[14,5,15,9],[14,10,14,13],[14,14,14,17],[14,18,15,18],[14,19,15,23],[15,10,15,11],[15,12,15,13],[15,14,15,15],[15,16,15,17],[16,3,16,4],[16,5,16,7],[16,8,16,9],[16,10,16,11],[16,12,16,13],[16,14,16,15],[16,16,16,17],[16,19,16,23],[17,3,17,4],[17,5,17,7],[17,8,17,9],[17,10,17,11],[17,12,17,13],[17,14,17,15],[17,16,17,17],[17,19,17,23],[18,3,18,4],[18,5,18,7],[18,8,18,9],[18,10,18,11],[18,12,18,13],[18,14,18,15],[18,16,18,17],[18,19,18,23],[20,3,20,23],[21,3,23,3],[21,4,23,4],[21,5,23,7],[21,8,23,9],[21,10,23,10],[21,11,23,11],[21,12,21,15],[21,16,22,17],[21,18,21,21],[21,22,23,22],[21,23,23,23],[22,12,22,13],[22,14,22,15],[22,18,22,19],[22,20,22,21],[25,5,25,7],[25,8,25,9],[26,5,26,7],[26,8,26,9],[27,5,27,7],[27,8,27,9],[28,5,28,7],[28,8,28,9],[29,5,29,7],[29,8,29,9],[30,5,30,7],[30,8,30,9],[31,5,31,7],[31,8,31,9],[32,5,32,7],[32,8,32,9],[33,5,33,7],[33,8,33,9],[34,5,34,7],[34,8,34,9],[35,5,35,7],[35,8,35,9],[36,5,36,7],[36,8,36,9],[37,5,37,7],[37,8,37,9],[38,5,38,7],[38,8,38,9],[39,5,39,7],[39,8,39,9],[40,5,40,7],[40,8,40,9],[41,5,41,7],[41,8,41,9],[42,5,42,7],[42,8,42,9],[43,5,43,7],[43,8,43,9],[44,5,44,7],[44,8,44,9],[45,5,45,7],[45,8,45,9],[46,5,46,7],[46,8,46,9],[47,5,47,7],[47,8,47,9],[48,5,48,7],[48,8,48,9],[49,5,49,7],[49,8,49,9],[50,5,50,7],[50,8,50,9],[51,5,51,7],[51,8,51,9],[52,5,52,7],[52,8,52,9],[53,5,53,7],[53,8,53,9],[54,5,54,7],[54,8,54,9],[55,5,55,7],[55,8,55,9]]}
[]
[{"$nulls":3},"전월",null,null,{"$f":"'관리자 Setting'!$R$3&\"년 \"&TEXT($A$6,\"00월 근태 현황 (\")&$B$6&\"분기)\"","v":"2018년 11월 근태 현황 (4분기)"},{"$nulls":14},"익월"]
[]
[]
["월","분기",null,"소속","무한도전",null,null,"부서명",null,{"$f":"계획서_4분기!$J$5","v":"무한본부"},null,null,"직급",null,{"$f":"계획서_4분기!$O$5","v":"1급"},null,"ERP 사번",null,{"$f":"계획서_4분기!$S$5","v":"0002"},null,"성명",null,{"$f":"IF(계획서_4분기!W5=0,\"\",계획서_4분기!W5)","v":"박명수"}]
[11,4]
[]
[{"$nulls":3},"───────────────　　분　기　근　무　현　황　　───────────────"]
[{"$nulls":3},"구분",null,"규정 및 참조",{"$nulls":4},"합계/평균",null,null,{"v":10,"d":"10월"},null,{"v":11,"d":"11월"},null,{"v":12,"d":"12월"},null,"CHK","비고",{"$nulls":5},"합/평",1,2,3]
[{"$nulls":3},"전체 근로",{"$nulls":6},{"$f":"INT(AA10/60)&\"시간 \"&TEXT(ROUND((AA10/60-INT(AA10/60))*60,0),\"00분\")","v":"0시간 00분"},null,null,{"$f":"INT(AB10/60)&\"시간 \"&TEXT(ROUND((AB10/60-INT(AB10/60))*60,0),\"00분\")","v":"0시간 00분"},null,{"$f":"INT(AC10/60)&\"시간 \"&TEXT(ROUND((AC10/60-INT(AC10/60))*60,0),\"00분\")","v":"0시간 00분"},{"$nulls":10},{"$f":"SUM(AB10:AD10)","v":0},{"$f":"'10월'!O17*60+'10월'!Q17","v":0},{"$f":"'11월'!O17*60+'11월'!Q17","v":0}]
[{"$nulls":3},"정규 근로",null,"분기 필수 합계",null,null,{"$f":"IFERROR(VLOOKUP($B$6,'관리자 Setting'!$O$6:$R$10,2,0),\"\")","v":{"v":504,"d":"504 시간"}},null,"0시간 00분",null,null,{"$f":"INT(AB11/60)&\"시간 \"&TEXT(ROUND((AB11/60-INT(AB11/60))*60,0),\"00분\")","v":"0시간 00분"},null,{"$f":"INT(AC11/60)&\"시간 \"&TEXT(ROUND((AC11/60-INT(AC11/60))*60,0),\"00분\")","v":"0시간 00분"},{"$nulls":3},{"$f":"IF(I11*60>AA11,\"분기 필수 \"&INT((I11*60-AA11)/60)&\"시간 \"&TEXT(ROUND(((I11*60-AA11)/60-INT((I11*60-AA11)/60))*60,0),\"00분 남음\"),\"\")","v":"분기 필수 504시간 00분 남음"},{"$nulls":6},{"$f":"SUM(AB11:AD11)","v":0},{"$f":"'10월'!O18*60+'10월'!Q18","v":0},{"$f":"'11월'!O18*60+'11월'!Q18","v":0}]
[{"$nulls":3},"연장 근로",null,"월 평균 연장 근로",null,null,{"$f":"IFERROR(VLOOKUP($W$5,'관리자 Setting'!$C$3:$G$53,5,0),\"\")","v":{"v":35,"d":"35 시간"}},null,"0시간 00분",null,null,{"$f":"INT(AB12/60)&\"시간 \"&TEXT(ROUND((AB12/60-INT(AB12/60))*60,0),\"00분\")","v":"0시간 00분"},null,{"$f":"INT(AC12/60)&\"시간 \"&TEXT(ROUND((AC12/60-INT(AC12/60))*60,0),\"00분\")","v":"0시간 00분"},{"$nulls":3},{"$f":"IF(OR($I$12*60<AA12,$I$12*60<AB12,$I$12*60<AC12),1,0)","v":0},{"$f":"IF(T12=1,\"연장 근로 한도 초과\",\"\")","v":""},{"$nulls":5},{"$f":"AVERAGE(AB12:AD12)","v":0},{"$f":"'10월'!O19*60+'10월'!Q19","v":0},{"$f":"'11월'!O19*60+'11월'!Q19","v":0}]
[]
[{"$nulls":3},"───────────────　　월　근　무　현　황　　───────────────"]
[{"$nulls":3},"구분",null,"규정 및 참조",{"$nulls":4},"근무 계획",{"$nulls":3},"근무 조정",{"$nulls":3},"CHK","비고"]
[{"$nulls":10},"시간",null,"분",null,"시간",null,"분"]
[{"$nulls":3},"전체 근로",{"$nulls":6},{"$f":"M25+O25","v":{"v":176,"d":"176 시간"}},null,"분",null,{"$f":"Q25+X25","v":0},null,{"$f":"R25","v":{"v":0,"d":"0 분"}}]
[{"$nulls":3},"정규 근로",{"$nulls":6},{"$f":"M25","v":{"v":176,"d":"176 시간"}},null,"분",null,{"$f":"S25+X25","v":0},null,{"$f":"T25","v":{"v":0,"d":"0 분"}}]
[{"$nulls":3},"연장 근로",null,"월 연장 근로 한도",null,null,{"$f":"IFERROR(VLOOKUP($W$5,'관리자 Setting'!$C$3:$G$53,5,0),\"\")","v":{"v":35,"d":"35 시간"}},null,{"$f":"O25","v":0},null,"분",null,{"$f":"U25","v":0},null,{"$f":"V25","v":{"v":0,"d":"0 분"}},null,{"$f":"IF($W$5=\"\",\"\",IF(I19*60<O19*60+Q19,1,0))","v":0},{"$f":"IF(S19=1,\"연장 근로 한도 시간 초과\",\"\")","v":""}]
[]
[{"$nulls":3},"───────────────　　일　/　주　간　근　무　현　황　　───────────────"]
[{"$nulls":3},"날짜","요일","참고",null,null,"상태",null,"주","주차","근무 계획",{"$nulls":3},"실\n근무시간",null,"조정",{"$nulls":3},"CHK","비고\n근무\n반영"]
[{"$nulls":12},"정규근로",null,"연장근로",{"$nulls":3},"정규근로",null,"연장근로"]
[{"$nulls":12},"시간","분","시간","분","시간","분","시간","분","시간","분",{"$nulls":4},"반영","실","연장"]
[{"$nulls":12},{"$f":"SUM(M26:M56)","v":176},0,{"$f":"SUM(O26:O56)","v":0},0,{"$f":"SUM(Q26:Q56)+INT(SUM(R26:R56)/60)","v":0},{"$f":"(SUM(R26:R56)/60-INT(SUM(R26:R56)/60))*60","v":0},{"$f":"SUM(S26:S56)+INT(SUM(T26:T56)/60)","v":0},{"$f":"(SUM(T26:T56)/60-INT(SUM(T26:T56)/60))*60","v":0},{"$f":"SUM(U26:U56)+INT(SUM(V26:V56)/60)","v":0},{"$f":"(SUM(V26:V56)/60-INT(SUM(V26:V56)/60))*60","v":0},null,{"$f":"SUM(X26:X56)","v":0}]
[{"$f":"DATE('관리자 Setting'!$R$3,$A$6,1)","v":"2018-11-01"},{"$f":"IF(OR($E26=\"일\",$F26<>\"\"),0,1)","v":1},1,1,{"$f":"TEXT($A26,\"AAA\")","v":"목"},{"$f":"IFERROR(VLOOKUP($A26,'관리자 Setting'!$K$6:$M$36,3,0),\"\")","v":""},null,null,{"$f":"IFERROR(IF(OR(E26=\"토\",E26=\"일\",F26<>\"\"),\"\",VLOOKUP(A26&0,'설정_In-Put'!$A:$L,6,0)),\"\")","v":""},null,{"$f":"IFERROR(L26-WEEKNUM(A26-D26+1)+1,\"\")","v":1},{"$f":"IFERROR(WEEKNUM(A26,2),\"\")","v":44},{"$f":"IFERROR(VLOOKUP($A26,계획서_4분기!$A:$X,13,0),\"\")","v":8},0,{"$f":"IFERROR(VLOOKUP($A26,계획서_4분기!$A:$X,15,0),\"\")","v":0},0,{"$f":"INT(SUMIFS('설정_In-Put'!$K:$K,'설정_In-Put'!$C:$C,$A26)*24)","v":0},{"$f":"ROUND((SUMIFS('설정_In-Put'!$K:$K,'설정_In-Put'!$C:$C,$A26)*24-Q26)*60,0)","v":0},null,null,{"$f":"INT(((Q26*60+R26)-(S26*60+T26))/60)","v":0},{"$f":"(((Q26*60+R26)-(S26*60+T26))/60-U26)*60","v":0},{"$f":"IF(SUMIFS('10월'!$AA$26:$AA$56,'10월'!$L$26:$L$56,$L26)+SUMIFS('11월'!$AA$26:$AA$56,'11월'!$L$26:$L$56,$L26)+SUMIFS('12월'!$AA$26:$AA$56,'12월'!$L$26:$L$56,$L26)>3120,1,IF($A26=\"\",\"\",IF(OR($E26=\"일\",$F26<>\"\"),1,0)*IF(S26+T26<>0,1,0)))","v":0},{"$f":"IFERROR(VLOOKUP($A26&1,'설정_In-Put'!$B:$L,11,0)*24,\"\")","v":""},null,null,{"$f":"SUM(S26,X26)*60+T26","v":0},{"$f":"S26*60+T26","v":0},{"$f":"U26*60+V26","v":0}]
[{"$f":"A26+1","v":"2018-11-02"},1,1,2,"금",{"$f":"IFERROR(VLOOKUP($A27,'관리자 Setting'!$K$6:$M$36,3,0),\"\")","v":""},null,null,{"$f":"IFERROR(IF(OR(E27=\"토\",E27=\"일\",F27<>\"\"),\"\",VLOOKUP(A27&0,'설정_In-Put'!$A:$L,6,0)),\"\")","v":""},null,1,44,{"$f":"IFERROR(VLOOKUP($A27,계획서_4분기!$A:$X,13,0),\"\")","v":8},0,{"$f":"IFERROR(VLOOKUP($A27,계획서_4분기!$A:$X,15,0),\"\")","v":0},0,{"$f":"INT(SUMIFS('설정_In-Put'!$K:$K,'설정_In-Put'!$C:$C,$A27)*24)","v":0},{"$f":"ROUND((SUMIFS('설정_In-Put'!$K:$K,'설정_In-Put'!$C:$C,$A27)*24-Q27)*60,0)","v":0},null,null,0,0,{"$f":"IF(SUMIFS('10월'!$AA$26:$AA$56,'10월'!$L$26:$L$56,$L27)+SUMIFS('11월'!$AA$26:$AA$56,'11월'!$L$26:$L$56,$L27)+SUMIFS('12월'!$AA$26:$AA$56,'12월'!$L$26:$L$56,$L27)>3120,1,IF($A27=\"\",\"\",IF(OR($E27=\"일\",$F27<>\"\"),1,0)*IF(S27+T27<>0,1,0)))","v":0},{"$f":"IFERROR(VLOOKUP($A27&1,'설정_In-Put'!$B:$L,11,0)*24,\"\")","v":""},null,null,{"$f":"SUM(S27,X27)*60+T27","v":0},{"$f":"S27*60+T27","v":0},{"$f":"U27*60+V27","v":0}]
[{"$f":"A27+1","v":"2018-11-03"},1,1,3,"토",{"$f":"IFERROR(VLOOKUP($A28,'관리자 Setting'!$K$6:$M$36,3,0),\"\")","v":""},null,null,{"$f":"IFERROR(IF(OR(E28=\"토\",E28=\"일\",F28<>\"\"),\"\",VLOOKUP(A28&0,'설정_In-Put'!$A:$L,6,0)),\"\")","v":""},null,1,44,{"$f":"IFERROR(VLOOKUP($A28,계획서_4분기!$A:$X,13,0),\"\")","v":0},0,{"$f":"IFERROR(VLOOKUP($A28,계획서_4분기!$A:$X,15,0),\"\")","v":0},0,{"$f":"INT(SUMIFS('설정_In-Put'!$K:$K,'설정_In-Put'!$C:$C,$A28)*24)","v":0},{"$f":"ROUND((SUMIFS('설정_In-Put'!$K:$K,'설정_In-Put'!$C:$C,$A28)*24-Q28)*60,0)","v":0},null,null,0,0,{"$f":"IF(SUMIFS('10월'!$AA$26:$AA$56,'10월'!$L$26:$L$56,$L28)+SUMIFS('11월'!$AA$26:$AA$56,'11월'!$L$26:$L$56,$L28)+SUMIFS('12월'!$AA$26:$AA$56,'12월'!$L$26:$L$56,$L28)>3120,1,IF($A28=\"\",\"\",IF(OR($E28=\"일\",$F28<>\"\"),1,0)*IF(S28+T28<>0,1,0)))","v":0},{"$f":"IFERROR(VLOOKUP($A28&1,'설정_In-Put'!$B:$L,11,0)*24,\"\")","v":""},null,null,0,0,0]
["2018-11-04",0,0,4,"일",{"$f":"IFERROR(VLOOKUP($A29,'관리자 Setting'!$K$6:$M$36,3,0),\"\")","v":""},null,null,{"$f":"IFERROR(IF(OR(E29=\"토\",E29=\"일\",F29<>\"\"),\"\",VLOOKUP(A29&0,'설정_In-Put'!$A:$L,6,0)),\"\")","v":""},null,1,44,{"$f":"IFERROR(VLOOKUP($A29,계획서_4분기!$A:$X,13,0),\"\")","v":0},0,{"$f":"IFERROR(VLOOKUP($A29,계획서_4분기!$A:$X,15,0),\"\")","v":0},0,{"$f":"INT(SUMIFS('설정_In-Put'!$K:$K,'설정_In-Put'!$C:$C,$A29)*24)","v":0},{"$f":"ROUND((SUMIFS('설정_In-Put'!$K:$K,'설정_In-Put'!$C:$C,$A29)*24-Q29)*60,0)","v":0},null,null,0,0,{"$f":"IF(SUMIFS('10월'!$AA$26:$AA$56,'10월'!$L$26:$L$56,$L29)+SUMIFS('11월'!$AA$26:$AA$56,'11월'!$L$26:$L$56,$L29)+SUMIFS('12월'!$AA$26:$AA$56,'12월'!$L$26:$L$56,$L29)>3120,1,IF($A29=\"\",\"\",IF(OR($E29=\"일\",$F29<>\"\"),1,0)*IF(S29+T29<>0,1,0)))","v":0},{"$f":"IFERROR(VLOOKUP($A29&1,'설정_In-Put'!$B:$L,11,0)*24,\"\")","v":""},null,null,0,0,0]
["2018-11-05",1,1,5,"월",{"$f":"IFERROR(VLOOKUP($A30,'관리자 Setting'!$K$6:$M$36,3,0),\"\")","v":""},null,null,{"$f":"IFERROR(IF(OR(E30=\"토\",E30=\"일\",F30<>\"\"),\"\",VLOOKUP(A30&0,'설정_In-Put'!$A:$L,6,0)),\"\")","v":""},null,2,45,{"$f":"IFERROR(VLOOKUP($A30,계획서_4분기!$A:$X,13,0),\"\")","v":8},0,{"$f":"IFERROR(VLOOKUP($A30,계획서_4분기!$A:$X,15,0),\"\")","v":0},0,{"$f":"INT(SUMIFS('설정_In-Put'!$K:$K,'설정_In-Put'!$C:$C,$A30)*24)","v":0},{"$f":"ROUND((SUMIFS('설정_In-Put'!$K:$K,'설정_In-Put'!$C:$C,$A30)*24-Q30)*60,0)","v":0},null,null,0,0,{"$f":"IF(SUMIFS('10월'!$AA$26:$AA$56,'10월'!$L$26:$L$56,$L30)+SUMIFS('11월'!$AA$26:$AA$56,'11월'!$L$26:$L$56,$L30)+SUMIFS('12월'!$AA$26:$AA$56,'12월'!$L$26:$L$56,$L30)>3120,1,IF($A30=\"\",\"\",IF(OR($E30=\"일\",$F30<>\"\"),1,0)*IF(S30+T30<>0,1,0)))","v":0},{"$f":"IFERROR(VLOOKUP($A30&1,'설정_In-Put'!$B:$L,11,0)*24,\"\")","v":""},null,null,0,0,0]
["2018-11-06",1,1,6,"화",{"$f":"IFERROR(VLOOKUP($A31,'관리자 Setting'!$K$6:$M$36,3,0),\"\")","v":""},null,null,{"$f":"IFERROR(IF(OR(E31=\"토\",E31=\"일\",F31<>\"\"),\"\",VLOOKUP(A31&0,'설정_In-Put'!$A:$L,6,0)),\"\")","v":""},null,2,45,{"$f":"IFERROR(VLOOKUP($A31,계획서_4분기!$A:$X,13,0),\"\")","v":8},0,{"$f":"IFERROR(VLOOKUP($A31,계획서_4분기!$A:$X,15,0),\"\")","v":0},0,{"$f":"INT(SUMIFS('설정_In-Put'!$K:$K,'설정_In-Put'!$C:$C,$A31)*24)","v":0},{"$f":"ROUND((SUMIFS('설정_In-Put'!$K:$K,'설정_In-Put'!$C:$C,$A31)*24-Q31)*60,0)","v":0},null,null,0,0,{"$f":"IF(SUMIFS('10월'!$AA$26:$AA$56,'10월'!$L$26:$L$56,$L31)+SUMIFS('11월'!$AA$26:$AA$56,'11월'!$L$26:$L$56,$L31)+SUMIFS('12월'!$AA$26:$AA$56,'12월'!$L$26:$L$56,$L31)>3120,1,IF($A31=\"\",\"\",IF(OR($E31=\"일\",$F31<>\"\"),1,0)*IF(S31+T31<>0,1,0)))","v":0},{"$f":"IFERROR(VLOOKUP($A31&1,'설정_In-Put'!$B:$L,11,0)*24,\"\")","v":""},null,null,0,0,0]
["2018-11-07",1,1,7,"수",{"$f":"IFERROR(VLOOKUP($A32,'관리자 Setting'!$K$6:$M$36,3,0),\"\")","v":""},null,null,{"$f":"IFERROR(IF(OR(E32=\"토\",E32=\"일\",F32<>\"\"),\"\",VLOOKUP(A32&0,'설정_In-Put'!$A:$L,6,0)),\"\")","v":""},null,2,45,{"$f":"IFERROR(VLOOKUP($A32,계획서_4분기!$A:$X,13,0),\"\")","v":8},0,{"$f":"IFERROR(VLOOKUP($A32,계획서_4분기!$A:$X,15,0),\"\")","v":0},0,{"$f":"INT(SUMIFS('설정_In-Put'!$K:$K,'설정_In-Put'!$C:$C,$A32)*24)","v":0},{"$f":"ROUND((SUMIFS('설정_In-Put'!$K:$K,'설정_In-Put'!$C:$C,$A32)*24-Q32)*60,0)","v":0},null,null,0,0,{"$f":"IF(SUMIFS('10월'!$AA$26:$AA$56,'10월'!$L$26:$L$56,$L32)+SUMIFS('11월'!$AA$26:$AA$56,'11월'!$L$26:$L$56,$L32)+SUMIFS('12월'!$AA$26:$AA$56,'12월'!$L$26:$L$56,$L32)>3120,1,IF($A32=\"\",\"\",IF(OR($E32=\"일\",$F32<>\"\"),1,0)*IF(S32+T32<>0,1,0)))","v":0},{"$f":"IFERROR(VLOOKUP($A32&1,'설정_In-Put'!$B:$L,11,0)*24,\"\")","v":""},null,null,0,0,0]
["2018-11-08",1,1,8,"목",{"$f":"IFERROR(VLOOKUP($A33,'관리자 Setting'!$K$6:$M$36,3,0),\"\")","v":""},null,null,{"$f":"IFERROR(IF(OR(E33=\"토\",E33=\"일\",F33<>\"\"),\"\",VLOOKUP(A33&0,'설정_In-Put'!$A:$L,6,0)),\"\")","v":""},null,2,45,{"$f":"IFERROR(VLOOKUP($A33,계획서_4분기!$A:$X,13,0),\"\")","v":8},0,{"$f":"IFERROR(VLOOKUP($A33,계획서_4분기!$A:$X,15,0),\"\")","v":0},0,{"$f":"INT(SUMIFS('설정_In-Put'!$K:$K,'설정_In-Put'!$C:$C,$A33)*24)","v":0},{"$f":"ROUND((SUMIFS('설정_In-Put'!$K:$K,'설정_In-Put'!$C:$C,$A33)*24-Q33)*60,0)","v":0},null,null,0,0,{"$f":"IF(SUMIFS('10월'!$AA$26:$AA$56,'10월'!$L$26:$L$56,$L33)+SUMIFS('11월'!$AA$26:$AA$56,'11월'!$L$26:$L$56,$L33)+SUMIFS('12월'!$AA$26:$AA$56,'12월'!$L$26:$L$56,$L33)>3120,1,IF($A33=\"\",\"\",IF(OR($E33=\"일\",$F33<>\"\"),1,0)*IF(S33+T33<>0,1,0)))","v":0},{"$f":"IFERROR(VLOOKUP($A33&1,'설정_In-Put'!$B:$L,11,0)*24,\"\")","v":""},null,null,0,0,0]
["2018-11-09",1,1,9,"금",{"$f":"IFERROR(VLOOKUP($A34,'관리자 Setting'!$K$6:$M$36,3,0),\"\")","v":""},null,null,{"$f":"IFERROR(IF(OR(E34=\"토\",E34=\"일\",F34<>\"\"),\"\",VLOOKUP(A34&0,'설정_In-Put'!$A:$L,6,0)),\"\")","v":""},null,2,45,{"$f":"IFERROR(VLOOKUP($A34,계획서_4분기!$A:$X,13,0),\"\")","v":8},0,{"$f":"IFERROR(VLOOKUP($A34,계획서_4분기!$A:$X,15,0),\"\")","v":0},0,{"$f":"INT(SUMIFS('설정_In-Put'!$K:$K,'설정_In-Put'!$C:$C,$A34)*24)","v":0},{"$f":"ROUND((SUMIFS('설정_In-Put'!$K:$K,'설정_In-Put'!$C:$C,$A34)*24-Q34)*60,0)","v":0},null,null,0,0,{"$f":"IF(SUMIFS('10월'!$AA$26:$AA$56,'10월'!$L$26:$L$56,$L34)+SUMIFS('11월'!$AA$26:$AA$56,'11월'!$L$26:$L$56,$L34)+SUMIFS('12월'!$AA$26:$AA$56,'12월'!$L$26:$L$56,$L34)>3120,1,IF($A34=\"\",\"\",IF(OR($E34=\"일\",$F34<>\"\"),1,0)*IF(S34+T34<>0,1,0)))","v":0},{"$f":"IFERROR(VLOOKUP($A34&1,'설정_In-Put'!$B:$L,11,0)*24,\"\")","v":""},null,null,0,0,0]
["2018-11-10",1,1,10,"토",{"$f":"IFERROR(VLOOKUP($A35,'관리자 Setting'!$K$6:$M$36,3,0),\"\")","v":""},null,null,{"$f":"IFERROR(IF(OR(E35=\"토\",E35=\"일\",F35<>\"\"),\"\",VLOOKUP(A35&0,'설정_In-Put'!$A:$L,6,0)),\"\")","v":""},null,2,45,{"$f":"IFERROR(VLOOKUP($A35,계획서_4분기!$A:$X,13,0),\"\")","v":0},0,{"$f":"IFERROR(VLOOKUP($A35,계획서_4분기!$A:$X,15,0),\"\")","v":0},0,{"$f":"INT(SUMIFS('설정_In-Put'!$K:$K,'설정_In-Put'!$C:$C,$A35)*24)","v":0},{"$f":"ROUND((SUMIFS('설정_In-Put'!$K:$K,'설정_In-Put'!$C:$C,$A35)*24-Q35)*60,0)","v":0},null,null,0,0,{"$f":"IF(SUMIFS('10월'!$AA$26:$AA$56,'10월'!$L$26:$L$56,$L35)+SUMIFS('11월'!$AA$26:$AA$56,'11월'!$L$26:$L$56,$L35)+SUMIFS('12월'!$AA$26:$AA$56,'12월'!$L$26:$L$56,$L35)>3120,1,IF($A35=\"\",\"\",IF(OR($E35=\"일\",$F35<>\"\"),1,0)*IF(S35+T35<>0,1,0)))","v":0},{"$f":"IFERROR(VLOOKUP($A35&1,'설정_In-Put'!$B:$L,11,0)*24,\"\")","v":""},null,null,0,0,0]
["2018-11-11",0,0,11,"일",{"$f":"IFERROR(VLOOKUP($A36,'관리자 Setting'!$K$6:$M$36,3,0),\"\")","v":""},null,null,{"$f":"IFERROR(IF(OR(E36=\"토\",E36=\"일\",F36<>\"\"),\"\",VLOOKUP(A36&0,'설정_In-Put'!$A:$L,6,0)),\"\")","v":""},null,2,45,{"$f":"IFERROR(VLOOKUP($A36,계획서_4분기!$A:$X,13,0),\"\")","v":0},0,{"$f":"IFERROR(VLOOKUP($A36,계획서_4분기!$A:$X,15,0),\"\")","v":0},0,{"$f":"INT(SUMIFS('설정_In-Put'!$K:$K,'설정_In-Put'!$C:$C,$A36)*24)","v":0},{"$f":"ROUND((SUMIFS('설정_In-Put'!$K:$K,'설정_In-Put'!$C:$C,$A36)*24-Q36)*60,0)","v":0},null,null,0,0,{"$f":"IF(SUMIFS('10월'!$AA$26:$AA$56,'10월'!$L$26:$L$56,$L36)+SUMIFS('11월'!$AA$26:$AA$56,'11월'!$L$26:$L$56,$L36)+SUMIFS('12월'!$AA$26:$AA$56,'12월'!$L$26:$L$56,$L36)>3120,1,IF($A36=\"\",\"\",IF(OR($E36=\"일\",$F36<>\"\"),1,0)*IF(S36+T36<>0,1,0)))","v":0},{"$f":"IFERROR(VLOOKUP($A36&1,'설정_In-Put'!$B:$L,11,0)*24,\"\")","v":""},null,null,0,0,0]
["2018-11-12",1,1,12,"월",{"$f":"IFERROR(VLOOKUP($A37,'관리자 Setting'!$K$6:$M$36,3,0),\"\")","v":""},null,null,{"$f":"IFERROR(IF(OR(E37=\"토\",E37=\"일\",F37<>\"\"),\"\",VLOOKUP(A37&0,'설정_In-Put'!$A:$L,6,0)),\"\")","v":""},null,3,46,{"$f":"IFERROR(VLOOKUP($A37,계획서_4분기!$A:$X,13,0),\"\")","v":8},0,{"$f":"IFERROR(VLOOKUP($A37,계획서_4분기!$A:$X,15,0),\"\")","v":0},0,{"$f":"INT(SUMIFS('설정_In-Put'!$K:$K,'설정_In-Put'!$C:$C,$A37)*24)","v":0},{"$f":"ROUND((SUMIFS('설정_In-Put'!$K:$K,'설정_In-Put'!$C:$C,$A37)*24-Q37)*60,0)","v":0},null,null,0,0,{"$f":"IF(SUMIFS('10월'!$AA$26:$AA$56,'10월'!$L$26:$L$56,$L37)+SUMIFS('11월'!$AA$26:$AA$56,'11월'!$L$26:$L$56,$L37)+SUMIFS('12월'!$AA$26:$AA$56,'12월'!$L$26:$L$56,$L37)>3120,1,IF($A37=\"\",\"\",IF(OR($E37=\"일\",$F37<>\"\"),1,0)*IF(S37+T37<>0,1,0)))","v":0},{"$f":"IFERROR(VLOOKUP($A37&1,'설정_In-Put'!$B:$L,11,0)*24,\"\")","v":""},null,null,0,0,0]
["2018-11-13",1,1,13,"화",{"$f":"IFERROR(VLOOKUP($A38,'관리자 Setting'!$K$6:$M$36,3,0),\"\")","v":""},null,null,{"$f":"IFERROR(IF(OR(E38=\"토\",E38=\"일\",F38<>\"\"),\"\",VLOOKUP(A38&0,'설정_In-Put'!$A:$L,6,0)),\"\")","v":""},null,3,46,{"$f":"IFERROR(VLOOKUP($A38,계획서_4분기!$A:$X,13,0),\"\")","v":8},0,{"$f":"IFERROR(VLOOKUP($A38,계획서_4분기!$A:$X,15,0),\"\")","v":0},0,{"$f":"INT(SUMIFS('설정_In-Put'!$K:$K,'설정_In-Put'!$C:$C,$A38)*24)","v":0},{"$f":"ROUND((SUMIFS('설정_In-Put'!$K:$K,'설정_In-Put'!$C:$C,$A38)*24-Q38)*60,0)","v":0},null,null,0,0,{"$f":"IF(SUMIFS('10월'!$AA$26:$AA$56,'10월'!$L$26:$L$56,$L38)+SUMIFS('11월'!$AA$26:$AA$56,'11월'!$L$26:$L$56,$L38)+SUMIFS('12월'!$AA$26:$AA$56,'12월'!$L$26:$L$56,$L38)>3120,1,IF($A38=\"\",\"\",IF(OR($E38=\"일\",$F38<>\"\"),1,0)*IF(S38+T38<>0,1,0)))","v":0},{"$f":"IFERROR(VLOOKUP($A38&1,'설정_In-Put'!$B:$L,11,0)*24,\"\")","v":""},null,null,0,0,0]
["2018-11-14",1,1,14,"수",{"$f":"IFERROR(VLOOKUP($A39,'관리자 Setting'!$K$6:$M$36,3,0),\"\")","v":""},null,null,{"$f":"IFERROR(IF(OR(E39=\"토\",E39=\"일\",F39<>\"\"),\"\",VLOOKUP(A39&0,'설정_In-Put'!$A:$L,6,0)),\"\")","v":""},null,3,46,{"$f":"IFERROR(VLOOKUP($A39,계획서_4분기!$A:$X,13,0),\"\")","v":8},0,{"$f":"IFERROR(VLOOKUP($A39,계획서_4분기!$A:$X,15,0),\"\")","v":0},0,{"$f":"INT(SUMIFS('설정_In-Put'!$K:$K,'설정_In-Put'!$C:$C,$A39)*24)","v":0},{"$f":"ROUND((SUMIFS('설정_In-Put'!$K:$K,'설정_In-Put'!$C:$C,$A39)*24-Q39)*60,0)","v":0},null,null,0,0,{"$f":"IF(SUMIFS('10월'!$AA$26:$AA$56,'10월'!$L$26:$L$56,$L39)+SUMIFS('11월'!$AA$26:$AA$56,'11월'!$L$26:$L$56,$L39)+SUMIFS('12월'!$AA$26:$AA$56,'12월'!$L$26:$L$56,$L39)>3120,1,IF($A39=\"\",\"\",IF(OR($E39=\"일\",$F39<>\"\"),1,0)*IF(S39+T39<>0,1,0)))","v":0},{"$f":"IFERROR(VLOOKUP($A39&1,'설정_In-Put'!$B:$L,11,0)*24,\"\")","v":""},null,null,0,0,0]
["2018-11-15",1,1,15,"목",{"$f":"IFERROR(VLOOKUP($A40,'관리자 Setting'!$K$6:$M$36,3,0),\"\")","v":""},null,null,{"$f":"IFERROR(IF(OR(E40=\"토\",E40=\"일\",F40<>\"\"),\"\",VLOOKUP(A40&0,'설정_In-Put'!$A:$L,6,0)),\"\")","v":""},null,3,46,{"$f":"IFERROR(VLOOKUP($A40,계획서_4분기!$A:$X,13,0),\"\")","v":8},0,{"$f":"IFERROR(VLOOKUP($A40,계획서_4분기!$A:$X,15,0),\"\")","v":0},0,{"$f":"INT(SUMIFS('설정_In-Put'!$K:$K,'설정_In-Put'!$C:$C,$A40)*24)","v":0},{"$f":"ROUND((SUMIFS('설정_In-Put'!$K:$K,'설정_In-Put'!$C:$C,$A40)*24-Q40)*60,0)","v":0},null,null,0,0,{"$f":"IF(SUMIFS('10월'!$AA$26:$AA$56,'10월'!$L$26:$L$56,$L40)+SUMIFS('11월'!$AA$26:$AA$56,'11월'!$L$26:$L$56,$L40)+SUMIFS('12월'!$AA$26:$AA$56,'12월'!$L$26:$L$56,$L40)>3120,1,IF($A40=\"\",\"\",IF(OR($E40=\"일\",$F40<>\"\"),1,0)*IF(S40+T40<>0,1,0)))","v":0},{"$f":"IFERROR(VLOOKUP($A40&1,'설정_In-Put'!$B:$L,11,0)*24,\"\")","v":""},null,null,0,0,0]
["2018-11-16",1,1,16,"금",{"$f":"IFERROR(VLOOKUP($A41,'관리자 Setting'!$K$6:$M$36,3,0),\"\")","v":""},null,null,{"$f":"IFERROR(IF(OR(E41=\"토\",E41=\"일\",F41<>\"\"),\"\",VLOOKUP(A41&0,'설정_In-Put'!$A:$L,6,0)),\"\")","v":""},null,3,46,{"$f":"IFERROR(VLOOKUP($A41,계획서_4분기!$A:$X,13,0),\"\")","v":8},0,{"$f":"IFERROR(VLOOKUP($A41,계획서_4분기!$A:$X,15,0),\"\")","v":0},0,{"$f":"INT(SUMIFS('설정_In-Put'!$K:$K,'설정_In-Put'!$C:$C,$A41)*24)","v":0},{"$f":"ROUND((SUMIFS('설정_In-Put'!$K:$K,'설정_In-Put'!$C:$C,$A41)*24-Q41)*60,0)","v":0},null,null,0,0,{"$f":"IF(SUMIFS('10월'!$AA$26:$AA$56,'10월'!$L$26:$L$56,$L41)+SUMIFS('11월'!$AA$26:$AA$56,'11월'!$L$26:$L$56,$L41)+SUMIFS('12월'!$AA$26:$AA$56,'12월'!$L$26:$L$56,$L41)>3120,1,IF($A41=\"\",\"\",IF(OR($E41=\"일\",$F41<>\"\"),1,0)*IF(S41+T41<>0,1,0)))","v":0},{"$f":"IFERROR(VLOOKUP($A41&1,'설정_In-Put'!$B:$L,11,0)*24,\"\")","v":""},null,null,0,0,0]
["2018-11-17",1,1,17,"토",{"$f":"IFERROR(VLOOKUP($A42,'관리자 Setting'!$K$6:$M$36,3,0),\"\")","v":""},null,null,{"$f":"IFERROR(IF(OR(E42=\"토\",E42=\"일\",F42<>\"\"),\"\",VLOOKUP(A42&0,'설정_In-Put'!$A:$L,6,0)),\"\")","v":""},null,3,46,{"$f":"IFERROR(VLOOKUP($A42,계획서_4분기!$A:$X,13,0),\"\")","v":0},0,{"$f":"IFERROR(VLOOKUP($A42,계획서_4분기!$A:$X,15,0),\"\")","v":0},0,{"$f":"INT(SUMIFS('설정_In-Put'!$K:$K,'설정_In-Put'!$C:$C,$A42)*24)","v":0},{"$f":"ROUND((SUMIFS('설정_In-Put'!$K:$K,'설정_In-Put'!$C:$C,$A42)*24-Q42)*60,0)","v":0},null,null,0,0,{"$f":"IF(SUMIFS('10월'!$AA$26:$AA$56,'10월'!$L$26:$L$56,$L42)+SUMIFS('11월'!$AA$26:$AA$56,'11월'!$L$26:$L$56,$L42)+SUMIFS('12월'!$AA$26:$AA$56,'12월'!$L$26:$L$56,$L42)>3120,1,IF($A42=\"\",\"\",IF(OR($E42=\"일\",$F42<>\"\"),1,0)*IF(S42+T42<>0,1,0)))","v":0},{"$f":"IFERROR(VLOOKUP($A42&1,'설정_In-Put'!$B:$L,11,0)*24,\"\")","v":""},null,null,0,0,0]
["2018-11-18",0,0,18,"일",{"$f":"IFERROR(VLOOKUP($A43,'관리자 Setting'!$K$6:$M$36,3,0),\"\")","v":""},null,null,{"$f":"IFERROR(IF(OR(E43=\"토\",E43=\"일\",F43<>\"\"),\"\",VLOOKUP(A43&0,'설정_In-Put'!$A:$L,6,0)),\"\")","v":""},null,3,46,{"$f":"IFERROR(VLOOKUP($A43,계획서_4분기!$A:$X,13,0),\"\")","v":0},0,{"$f":"IFERROR(VLOOKUP($A43,계획서_4분기!$A:$X,15,0),\"\")","v":0},0,{"$f":"INT(SUMIFS('설정_In-Put'!$K:$K,'설정_In-Put'!$C:$C,$A43)*24)","v":0},{"$f":"ROUND((SUMIFS('설정_In-Put'!$K:$K,'설정_In-Put'!$C:$C,$A43)*24-Q43)*60,0)","v":0},null,null,0,0,{"$f":"IF(SUMIFS('10월'!$AA$26:$AA$56,'10월'!$L$26:$L$56,$L43)+SUMIFS('11월'!$AA$26:$AA$56,'11월'!$L$26:$L$56,$L43)+SUMIFS('12월'!$AA$26:$AA$56,'12월'!$L$26:$L$56,$L43)>3120,1,IF($A43=\"\",\"\",IF(OR($E43=\"일\",$F43<>\"\"),1,0)*IF(S43+T43<>0,1,0)))","v":0},{"$f":"IFERROR(VLOOKUP($A43&1,'설정_In-Put'!$B:$L,11,0)*24,\"\")","v":""},null,null,0,0,0]
["2018-11-19",1,1,19,"월",{"$f":"IFERROR(VLOOKUP($A44,'관리자 Setting'!$K$6:$M$36,3,0),\"\")","v":""},null,null,{"$f":"IFERROR(IF(OR(E44=\"토\",E44=\"일\",F44<>\"\"),\"\",VLOOKUP(A44&0,'설정_In-Put'!$A:$L,6,0)),\"\")","v":""},null,4,47,{"$f":"IFERROR(VLOOKUP($A44,계획서_4분기!$A:$X,13,0),\"\")","v":8},0,{"$f":"IFERROR(VLOOKUP($A44,계획서_4분기!$A:$X,15,0),\"\")","v":0},0,{"$f":"INT(SUMIFS('설정_In-Put'!$K:$K,'설정_In-Put'!$C:$C,$A44)*24)","v":0},{"$f":"ROUND((SUMIFS('설정_In-Put'!$K:$K,'설정_In-Put'!$C:$C,$A44)*24-Q44)*60,0)","v":0},null,null,0,0,{"$f":"IF(SUMIFS('10월'!$AA$26:$AA$56,'10월'!$L$26:$L$56,$L44)+SUMIFS('11월'!$AA$26:$AA$56,'11월'!$L$26:$L$56,$L44)+SUMIFS('12월'!$AA$26:$AA$56,'12월'!$L$26:$L$56,$L44)>3120,1,IF($A44=\"\",\"\",IF(OR($E44=\"일\",$F44<>\"\"),1,0)*IF(S44+T44<>0,1,0)))","v":0},{"$f":"IFERROR(VLOOKUP($A44&1,'설정_In-Put'!$B:$L,11,0)*24,\"\")","v":""},null,null,0,0,0]
["2018-11-20",1,1,20,"화",{"$f":"IFERROR(VLOOKUP($A45,'관리자 Setting'!$K$6:$M$36,3,0),\"\")","v":""},null,null,{"$f":"IFERROR(IF(OR(E45=\"토\",E45=\"일\",F45<>\"\"),\"\",VLOOKUP(A45&0,'설정_In-Put'!$A:$L,6,0)),\"\")","v":""},null,4,47,{"$f":"IFERROR(VLOOKUP($A45,계획서_4분기!$A:$X,13,0),\"\")","v":8},0,{"$f":"IFERROR(VLOOKUP($A45,계획서_4분기!$A:$X,15,0),\"\")","v":0},0,{"$f":"INT(SUMIFS('설정_In-Put'!$K:$K,'설정_In-Put'!$C:$C,$A45)*24)","v":0},{"$f":"ROUND((SUMIFS('설정_In-Put'!$K:$K,'설정_In-Put'!$C:$C,$A45)*24-Q45)*60,0)","v":0},null,null,0,0,{"$f":"IF(SUMIFS('10월'!$AA$26:$AA$56,'10월'!$L$26:$L$56,$L45)+SUMIFS('11월'!$AA$26:$AA$56,'11월'!$L$26:$L$56,$L45)+SUMIFS('12월'!$AA$26:$AA$56,'12월'!$L$26:$L$56,$L45)>3120,1,IF($A45=\"\",\"\",IF(OR($E45=\"일\",$F45<>\"\"),1,0)*IF(S45+T45<>0,1,0)))","v":0},{"$f":"IFERROR(VLOOKUP($A45&1,'설정_In-Put'!$B:$L,11,0)*24,\"\")","v":""},null,null,0,0,0]
["2018-11-21",1,1,21,"수",{"$f":"IFERROR(VLOOKUP($A46,'관리자 Setting'!$K$6:$M$36,3,0),\"\")","v":""},null,null,{"$f":"IFERROR(IF(OR(E46=\"토\",E46=\"일\",F46<>\"\"),\"\",VLOOKUP(A46&0,'설정_In-Put'!$A:$L,6,0)),\"\")","v":""},null,4,47,{"$f":"IFERROR(VLOOKUP($A46,계획서_4분기!$A:$X,13,0),\"\")","v":8},0,{"$f":"IFERROR(VLOOKUP($A46,계획서_4분기!$A:$X,15,0),\"\")","v":0},0,{"$f":"INT(SUMIFS('설정_In-Put'!$K:$K,'설정_In-Put'!$C:$C,$A46)*24)","v":0},{"$f":"ROUND((SUMIFS('설정_In-Put'!$K:$K,'설정_In-Put'!$C:$C,$A46)*24-Q46)*60,0)","v":0},null,null,0,0,{"$f":"IF(SUMIFS('10월'!$AA$26:$AA$56,'10월'!$L$26:$L$56,$L46)+SUMIFS('11월'!$AA$26:$AA$56,'11월'!$L$26:$L$56,$L46)+SUMIFS('12월'!$AA$26:$AA$56,'12월'!$L$26:$L$56,$L46)>3120,1,IF($A46=\"\",\"\",IF(OR($E46=\"일\",$F46<>\"\"),1,0)*IF(S46+T46<>0,1,0)))","v":0},{"$f":"IFERROR(VLOOKUP($A46&1,'설정_In-Put'!$B:$L,11,0)*24,\"\")","v":""},null,null,0,0,0]
["2018-11-22",1,1,22,"목",{"$f":"IFERROR(VLOOKUP($A47,'관리자 Setting'!$K$6:$M$36,3,0),\"\")","v":""},null,null,{"$f":"IFERROR(IF(OR(E47=\"토\",E47=\"일\",F47<>\"\"),\"\",VLOOKUP(A47&0,'설정_In-Put'!$A:$L,6,0)),\"\")","v":""},null,4,47,{"$f":"IFERROR(VLOOKUP($A47,계획서_4분기!$A:$X,13,0),\"\")","v":8},0,{"$f":"IFERROR(VLOOKUP($A47,계획서_4분기!$A:$X,15,0),\"\")","v":0},0,{"$f":"INT(SUMIFS('설정_In-Put'!$K:$K,'설정_In-Put'!$C:$C,$A47)*24)","v":0},{"$f":"ROUND((SUMIFS('설정_In-Put'!$K:$K,'설정_In-Put'!$C:$C,$A47)*24-Q47)*60,0)","v":0},null,null,0,0,{"$f":"IF(SUMIFS('10월'!$AA$26:$AA$56,'10월'!$L$26:$L$56,$L47)+SUMIFS('11월'!$AA$26:$AA$56,'11월'!$L$26:$L$56,$L47)+SUMIFS('12월'!$AA$26:$AA$56,'12월'!$L$26:$L$56,$L47)>3120,1,IF($A47=\"\",\"\",IF(OR($E47=\"일\",$F47<>\"\"),1,0)*IF(S47+T47<>0,1,0)))","v":0},{"$f":"IFERROR(VLOOKUP($A47&1,'설정_In-Put'!$B:$L,11,0)*24,\"\")","v":""},null,null,0,0,0]
["2018-11-23",1,1,23,"금",{"$f":"IFERROR(VLOOKUP($A48,'관리자 Setting'!$K$6:$M$36,3,0),\"\")","v":""},null,null,{"$f":"IFERROR(IF(OR(E48=\"토\",E48=\"일\",F48<>\"\"),\"\",VLOOKUP(A48&0,'설정_In-Put'!$A:$L,6,0)),\"\")","v":""},null,4,47,{"$f":"IFERROR(VLOOKUP($A48,계획서_4분기!$A:$X,13,0),\"\")","v":8},0,{"$f":"IFERROR(VLOOKUP($A48,계획서_4분기!$A:$X,15,0),\"\")","v":0},0,{"$f":"INT(SUMIFS('설정_In-Put'!$K:$K,'설정_In-Put'!$C:$C,$A48)*24)","v":0},{"$f":"ROUND((SUMIFS('설정_In-Put'!$K:$K,'설정_In-Put'!$C:$C,$A48)*24-Q48)*60,0)","v":0},null,null,0,0,{"$f":"IF(SUMIFS('10월'!$AA$26:$AA$56,'10월'!$L$26:$L$56,$L48)+SUMIFS('11월'!$AA$26:$AA$56,'11월'!$L$26:$L$56,$L48)+SUMIFS('12월'!$AA$26:$AA$56,'12월'!$L$26:$L$56,$L48)>3120,1,IF($A48=\"\",\"\",IF(OR($E48=\"일\",$F48<>\"\"),1,0)*IF(S48+T48<>0,1,0)))","v":0},{"$f":"IFERROR(VLOOKUP($A48&1,'설정_In-Put'!$B:$L,11,0)*24,\"\")","v":""},null,null,0,0,0]
["2018-11-24",1,1,24,"토",{"$f":"IFERROR(VLOOKUP($A49,'관리자 Setting'!$K$6:$M$36,3,0),\"\")","v":""},null,null,{"$f":"IFERROR(IF(OR(E49=\"토\",E49=\"일\",F49<>\"\"),\"\",VLOOKUP(A49&0,'설정_In-Put'!$A:$L,6,0)),\"\")","v":""},null,4,47,{"$f":"IFERROR(VLOOKUP($A49,계획서_4분기!$A:$X,13,0),\"\")","v":0},0,{"$f":"IFERROR(VLOOKUP($A49,계획서_4분기!$A:$X,15,0),\"\")","v":0},0,{"$f":"INT(SUMIFS('설정_In-Put'!$K:$K,'설정_In-Put'!$C:$C,$A49)*24)","v":0},{"$f":"ROUND((SUMIFS('설정_In-Put'!$K:$K,'설정_In-Put'!$C:$C,$A49)*24-Q49)*60,0)","v":0},null,null,0,0,{"$f":"IF(SUMIFS('10월'!$AA$26:$AA$56,'10월'!$L$26:$L$56,$L49)+SUMIFS('11월'!$AA$26:$AA$56,'11월'!$L$26:$L$56,$L49)+SUMIFS('12월'!$AA$26:$AA$56,'12월'!$L$26:$L$56,$L49)>3120,1,IF($A49=\"\",\"\",IF(OR($E49=\"일\",$F49<>\"\"),1,0)*IF(S49+T49<>0,1,0)))","v":0},{"$f":"IFERROR(VLOOKUP($A49&1,'설정_In-Put'!$B:$L,11,0)*24,\"\")","v":""},null,null,0,0,0]
["2018-11-25",0,0,25,"일",{"$f":"IFERROR(VLOOKUP($A50,'관리자 Setting'!$K$6:$M$36,3,0),\"\")","v":""},null,null,{"$f":"IFERROR(IF(OR(E50=\"토\",E50=\"일\",F50<>\"\"),\"\",VLOOKUP(A50&0,'설정_In-Put'!$A:$L,6,0)),\"\")","v":""},null,4,47,{"$f":"IFERROR(VLOOKUP($A50,계획서_4분기!$A:$X,13,0),\"\")","v":0},0,{"$f":"IFERROR(VLOOKUP($A50,계획서_4분기!$A:$X,15,0),\"\")","v":0},0,{"$f":"INT(SUMIFS('설정_In-Put'!$K:$K,'설정_In-Put'!$C:$C,$A50)*24)","v":0},{"$f":"ROUND((SUMIFS('설정_In-Put'!$K:$K,'설정_In-Put'!$C:$C,$A50)*24-Q50)*60,0)","v":0},null,null,0,0,{"$f":"IF(SUMIFS('10월'!$AA$26:$AA$56,'10월'!$L$26:$L$56,$L50)+SUMIFS('11월'!$AA$26:$AA$56,'11월'!$L$26:$L$56,$L50)+SUMIFS('12월'!$AA$26:$AA$56,'12월'!$L$26:$L$56,$L50)>3120,1,IF($A50=\"\",\"\",IF(OR($E50=\"일\",$F50<>\"\"),1,0)*IF(S50+T50<>0,1,0)))","v":0},{"$f":"IFERROR(VLOOKUP($A50&1,'설정_In-Put'!$B:$L,11,0)*24,\"\")","v":""},null,null,0,0,0]
["2018-11-26",1,1,26,"월",{"$f":"IFERROR(VLOOKUP($A51,'관리자 Setting'!$K$6:$M$36,3,0),\"\")","v":""},null,null,{"$f":"IFERROR(IF(OR(E51=\"토\",E51=\"일\",F51<>\"\"),\"\",VLOOKUP(A51&0,'설정_In-Put'!$A:$L,6,0)),\"\")","v":""},null,5,48,{"$f":"IFERROR(VLOOKUP($A51,계획서_4분기!$A:$X,13,0),\"\")","v":8},0,{"$f":"IFERROR(VLOOKUP($A51,계획서_4분기!$A:$X,15,0),\"\")","v":0},0,{"$f":"INT(SUMIFS('설정_In-Put'!$K:$K,'설정_In-Put'!$C:$C,$A51)*24)","v":0},{"$f":"ROUND((SUMIFS('설정_In-Put'!$K:$K,'설정_In-Put'!$C:$C,$A51)*24-Q51)*60,0)","v":0},null,null,0,0,{"$f":"IF(SUMIFS('10월'!$AA$26:$AA$56,'10월'!$L$26:$L$56,$L51)+SUMIFS('11월'!$AA$26:$AA$56,'11월'!$L$26:$L$56,$L51)+SUMIFS('12월'!$AA$26:$AA$56,'12월'!$L$26:$L$56,$L51)>3120,1,IF($A51=\"\",\"\",IF(OR($E51=\"일\",$F51<>\"\"),1,0)*IF(S51+T51<>0,1,0)))","v":0},{"$f":"IFERROR(VLOOKUP($A51&1,'설정_In-Put'!$B:$L,11,0)*24,\"\")","v":""},null,null,0,0,0]
[{"$f":"IF(A51+1>EOMONTH($A$26,0),\"\",A51+1)","v":"2018-11-27"},1,1,27,"화",{"$f":"IFERROR(VLOOKUP($A52,'관리자 Setting'!$K$6:$M$36,3,0),\"\")","v":""},null,null,{"$f":"IFERROR(IF(OR(E52=\"토\",E52=\"일\",F52<>\"\"),\"\",VLOOKUP(A52&0,'설정_In-Put'!$A:$L,6,0)),\"\")","v":""},null,5,48,{"$f":"IFERROR(VLOOKUP($A52,계획서_4분기!$A:$X,13,0),\"\")","v":8},0,{"$f":"IFERROR(VLOOKUP($A52,계획서_4분기!$A:$X,15,0),\"\")","v":0},0,{"$f":"INT(SUMIFS('설정_In-Put'!$K:$K,'설정_In-Put'!$C:$C,$A52)*24)","v":0},{"$f":"ROUND((SUMIFS('설정_In-Put'!$K:$K,'설정_In-Put'!$C:$C,$A52)*24-Q52)*60,0)","v":0},null,null,0,0,{"$f":"IF(SUMIFS('10월'!$AA$26:$AA$56,'10월'!$L$26:$L$56,$L52)+SUMIFS('11월'!$AA$26:$AA$56,'11월'!$L$26:$L$56,$L52)+SUMIFS('12월'!$AA$26:$AA$56,'12월'!$L$26:$L$56,$L52)>3120,1,IF($A52=\"\",\"\",IF(OR($E52=\"일\",$F52<>\"\"),1,0)*IF(S52+T52<>0,1,0)))","v":0},{"$f":"IFERROR(VLOOKUP($A52&1,'설정_In-Put'!$B:$L,11,0)*24,\"\")","v":""},null,null,0,0,0]
[{"$f":"IFERROR(IF(A52+1>EOMONTH($A$26,0),\"\",A52+1),\"\")","v":"2018-11-28"},1,1,28,"수",{"$f":"IFERROR(VLOOKUP($A53,'관리자 Setting'!$K$6:$M$36,3,0),\"\")","v":""},null,null,{"$f":"IFERROR(IF(OR(E53=\"토\",E53=\"일\",F53<>\"\"),\"\",VLOOKUP(A53&0,'설정_In-Put'!$A:$L,6,0)),\"\")","v":""},null,5,48,{"$f":"IFERROR(VLOOKUP($A53,계획서_4분기!$A:$X,13,0),\"\")","v":8},0,{"$f":"IFERROR(VLOOKUP($A53,계획서_4분기!$A:$X,15,0),\"\")","v":0},0,{"$f":"INT(SUMIFS('설정_In-Put'!$K:$K,'설정_In-Put'!$C:$C,$A53)*24)","v":0},{"$f":"ROUND((SUMIFS('설정_In-Put'!$K:$K,'설정_In-Put'!$C:$C,$A53)*24-Q53)*60,0)","v":0},null,null,0,0,{"$f":"IF(SUMIFS('10월'!$AA$26:$AA$56,'10월'!$L$26:$L$56,$L53)+SUMIFS('11월'!$AA$26:$AA$56,'11월'!$L$26:$L$56,$L53)+SUMIFS('12월'!$AA$26:$AA$56,'12월'!$L$26:$L$56,$L53)>3120,1,IF($A53=\"\",\"\",IF(OR($E53=\"일\",$F53<>\"\"),1,0)*IF(S53+T53<>0,1,0)))","v":0},{"$f":"IFERROR(VLOOKUP($A53&1,'설정_In-Put'!$B:$L,11,0)*24,\"\")","v":""},null,null,0,0,0]
[{"$f":"IFERROR(IF(A53+1>EOMONTH($A$26,0),\"\",A53+1),\"\")","v":"2018-11-29"},1,1,29,"목",{"$f":"IFERROR(VLOOKUP($A54,'관리자 Setting'!$K$6:$M$36,3,0),\"\")","v":""},null,null,{"$f":"IFERROR(IF(OR(E54=\"토\",E54=\"일\",F54<>\"\"),\"\",VLOOKUP(A54&0,'설정_In-Put'!$A:$L,6,0)),\"\")","v":""},null,5,48,{"$f":"IFERROR(VLOOKUP($A54,계획서_4분기!$A:$X,13,0),\"\")","v":8},0,{"$f":"IFERROR(VLOOKUP($A54,계획서_4분기!$A:$X,15,0),\"\")","v":0},0,{"$f":"INT(SUMIFS('설정_In-Put'!$K:$K,'설정_In-Put'!$C:$C,$A54)*24)","v":0},{"$f":"ROUND((SUMIFS('설정_In-Put'!$K:$K,'설정_In-Put'!$C:$C,$A54)*24-Q54)*60,0)","v":0},null,null,0,0,{"$f":"IF(SUMIFS('10월'!$AA$26:$AA$56,'10월'!$L$26:$L$56,$L54)+SUMIFS('11월'!$AA$26:$AA$56,'11월'!$L$26:$L$56,$L54)+SUMIFS('12월'!$AA$26:$AA$56,'12월'!$L$26:$L$56,$L54)>3120,1,IF($A54=\"\",\"\",IF(OR($E54=\"일\",$F54<>\"\"),1,0)*IF(S54+T54<>0,1,0)))","v":0},{"$f":"IFERROR(VLOOKUP($A54&1,'설정_In-Put'!$B:$L,11,0)*24,\"\")","v":""},null,null,0,0,0]
[{"$f":"IFERROR(IF(A54+1>EOMONTH($A$26,0),\"\",A54+1),\"\")","v":"2018-11-30"},1,1,30,"금",{"$f":"IFERROR(VLOOKUP($A55,'관리자 Setting'!$K$6:$M$36,3,0),\"\")","v":""},null,null,{"$f":"IFERROR(IF(OR(E55=\"토\",E55=\"일\",F55<>\"\"),\"\",VLOOKUP(A55&0,'설정_In-Put'!$A:$L,6,0)),\"\")","v":""},null,5,48,{"$f":"IFERROR(VLOOKUP($A55,계획서_4분기!$A:$X,13,0),\"\")","v":8},0,{"$f":"IFERROR(VLOOKUP($A55,계획서_4분기!$A:$X,15,0),\"\")","v":0},0,{"$f":"INT(SUMIFS('설정_In-Put'!$K:$K,'설정_In-Put'!$C:$C,$A55)*24)","v":0},{"$f":"ROUND((SUMIFS('설정_In-Put'!$K:$K,'설정_In-Put'!$C:$C,$A55)*24-Q55)*60,0)","v":0},null,null,0,0,{"$f":"IF(SUMIFS('10월'!$AA$26:$AA$56,'10월'!$L$26:$L$56,$L55)+SUMIFS('11월'!$AA$26:$AA$56,'11월'!$L$26:$L$56,$L55)+SUMIFS('12월'!$AA$26:$AA$56,'12월'!$L$26:$L$56,$L55)>3120,1,IF($A55=\"\",\"\",IF(OR($E55=\"일\",$F55<>\"\"),1,0)*IF(S55+T55<>0,1,0)))","v":0},{"$f":"IFERROR(VLOOKUP($A55&1,'설정_In-Put'!$B:$L,11,0)*24,\"\")","v":""},null,null,0,0,0]
["",1,1,31,"",{"$f":"IFERROR(VLOOKUP($A56,'관리자 Setting'!$K$6:$M$36,3,0),\"\")","v":""},null,null,{"$f":"IFERROR(IF(OR(E56=\"토\",E56=\"일\",F56<>\"\"),\"\",VLOOKUP(A56&0,'설정_In-Put'!$A:$L,6,0)),\"\")","v":""},null,"","",{"$f":"IFERROR(VLOOKUP($A56,계획서_4분기!$A:$X,13,0),\"\")","v":""},0,{"$f":"IFERROR(VLOOKUP($A56,계획서_4분기!$A:$X,15,0),\"\")","v":""},0,{"$f":"INT(SUMIFS('설정_In-Put'!$K:$K,'설정_In-Put'!$C:$C,$A56)*24)","v":0},{"$f":"ROUND((SUMIFS('설정_In-Put'!$K:$K,'설정_In-Put'!$C:$C,$A56)*24-Q56)*60,0)","v":0},null,null,0,0,{"$f":"IF(SUMIFS('10월'!$AA$26:$AA$56,'10월'!$L$26:$L$56,$L56)+SUMIFS('11월'!$AA$26:$AA$56,'11월'!$L$26:$L$56,$L56)+SUMIFS('12월'!$AA$26:$AA$56,'12월'!$L$26:$L$56,$L56)>3120,1,IF($A56=\"\",\"\",IF(OR($E56=\"일\",$F56<>\"\"),1,0)*IF(S56+T56<>0,1,0)))","v":""},{"$f":"IFERROR(VLOOKUP($A56&1,'설정_In-Put'!$B:$L,11,0)*24,\"\")","v":""},null,null,0,0,0]
[]
[" "]

{"sheet":"12월","index":18,"n_rows":56,"n_cols":30,"rows_kept":56,"merged":[[1,3,2,5],[1,6,2,20],[1,21,2,23],[4,3,5,3],[4,4,5,6],[4,7,5,8],[4,9,5,11],[4,12,5,13],[4,14,5,15],[4,16,5,17],[4,18,5,19],[4,20,5,21],[4,22,5,23],[7,3,7,23],[8,3,8,4],[8,5,8,9],[8,10,8,12],[8,13,8,14],[8,15,8,16],[8,17,8,18],[8,20,8,23],[9,3,9,4],[9,5,9,7],[9,8,9,9],[9,10,9,12],[9,13,9,14],[9,15,9,16],[9,17,9,18],[9,20,9,23],[10,3,10,4],[10,5,10,7],[10,8,10,9],[10,10,10,12],[10,13,10,14],[10,15,10,16],[10,17,10,18],[10,20,10,23],[11,3,11,4],[11,5,11,7],[11,8,11,9],[11,10,11,12],[11,13,11,14],[11,15,11,16],[11,17,11,18],[11,20,11,23],[13,3,13,23],[14,3,15,4],[14,5,15,9],[14,10,14,13],[14,14,14,17],[14,18,15,18],[14,19,15,23],[15,10,15,11],[15,12,15,13],[15,14,15,15],[15,16,15,17],[16,3,16,4],[16,5,16,7],[16,8,16,9],[16,10,16,11],[16,12,16,13],[16,14,16,15],[16,16,16,17],[16,19,16,23],[17,3,17,4],[17,5,17,7],[17,8,17,9],[17,10,17,11],[17,12,17,13],[17,14,17,15],[17,16,17,17],[17,19,17,23],[18,3,18,4],[18,5,18,7],[18,8,18,9],[18,10,18,11],[18,12,18,13],[18,14,18,15],[18,16,18,17],[18,19,18,23],[20,3,20,23],[21,3,23,3],[21,4,23,4],[21,5,23,7],[21,8,23,9],[21,10,23,10],[21,11,23,11],[21,12,21,15],[21,16,22,17],[21,18,21,21],[21,22,23,22],[21,23,23,23],[22,12,22,13],[22,14,22,15],[22,18,22,19],[22,20,22,21],[25,5,25,7],[25,8,25,9],[26,5,26,7],[26,8,26,9],[27,5,27,7],[27,8,27,9],[28,5,28,7],[28,8,28,9],[29,5,29,7],[29,8,29,9],[30,5,30,7],[30,8,30,9],[31,5,31,7],[31,8,31,9],[32,5,32,7],[32,8,32,9],[33,5,33,7],[33,8,33,9],[34,5,34,7],[34,8,34,9],[35,5,35,7],[35,8,35,9],[36,5,36,7],[36,8,36,9],[37,5,37,7],[37,8,37,9],[38,5,38,7],[38,8,38,9],[39,5,39,7],[39,8,39,9],[40,5,40,7],[40,8,40,9],[41,5,41,7],[41,8,41,9],[42,5,42,7],[42,8,42,9],[43,5,43,7],[43,8,43,9],[44,5,44,7],[44,8,44,9],[45,5,45,7],[45,8,45,9],[46,5,46,7],[46,8,46,9],[47,5,47,7],[47,8,47,9],[48,5,48,7],[48,8,48,9],[49,5,49,7],[49,8,49,9],[50,5,50,7],[50,8,50,9],[51,5,51,7],[51,8,51,9],[52,5,52,7],[52,8,52,9],[53,5,53,7],[53,8,53,9],[54,5,54,7],[54,8,54,9],[55,5,55,7],[55,8,55,9]]}
[]
[{"$nulls":3},"전월",null,null,{"$f":"'관리자 Setting'!$R$3&\"년 \"&TEXT($A$6,\"00월 근태 현황 (\")&$B$6&\"분기)\"","v":"2018년 12월 근태 현황 (4분기)"}]
[]
[]
["월","분기",null,"소속","무한도전",null,null,"부서명",null,{"$f":"계획서_4분기!$J$5","v":"무한본부"},null,null,"직급",null,{"$f":"계획서_4분기!$O$5","v":"1급"},null,"ERP 사번",null,{"$f":"계획서_4분기!$S$5","v":"0002"},null,"성명",null,{"$f":"IF(계획서_4분기!W5=0,\"\",계획서_4분기!W5)","v":"박명수"}]
[12,4]
[]
[{"$nulls":3},"───────────────　　분　기　근　무　현　황　　───────────────"]
[{"$nulls":3},"구분",null,"규정 및 참조",{"$nulls":4},"합계/평균",null,null,{"v":10,"d":"10월"},null,{"v":11,"d":"11월"},null,{"v":12,"d":"12월"},null,"CHK","비고",{"$nulls":5},"합/평",1,2,3]
[{"$nulls":3},"전체 근로",{"$nulls":6},{"$f":"INT(AA10/60)&\"시간 \"&TEXT(ROUND((AA10/60-INT(AA10/60))*60,0),\"00분\")","v":"0시간 00분"},null,null,{"$f":"INT(AB10/60)&\"시간 \"&TEXT(ROUND((AB10/60-INT(AB10/60))*60,0),\"00분\")","v":"0시간 00분"},null,{"$f":"INT(AC10/60)&\"시간 \"&TEXT(ROUND((AC10/60-INT(AC10/60))*60,0),\"00분\")","v":"0시간 00분"},null,{"$f":"INT(AD10/60)&\"시간 \"&TEXT(ROUND((AD10/60-INT(AD10/60))*60,0),\"00분\")","v":"0시간 00분"},{"$nulls":8},{"$f":"SUM(AB10:AD10)","v":0},{"$f":"'10월'!O17*60+'10월'!Q17","v":0},{"$f":"'11월'!O17*60+'11월'!Q17","v":0},{"$f":"'12월'!O17*60+'12월'!Q17","v":0}]
[{"$nulls":3},"정규 근로",null,"분기 필수 합계",null,null,{"$f":"IFERROR(VLOOKUP($B$6,'관리자 Setting'!$O$6:$R$10,2,0),\"\")","v":{"v":504,"d":"504 시간"}},null,"0시간 00분",null,null,{"$f":"INT(AB11/60)&\"시간 \"&TEXT(ROUND((AB11/60-INT(AB11/60))*60,0),\"00분\")","v":"0시간 00분"},null,{"$f":"INT(AC11/60)&\"시간 \"&TEXT(ROUND((AC11/60-INT(AC11/60))*60,0),\"00분\")","v":"0시간 00분"},null,{"$f":"INT(AD11/60)&\"시간 \"&TEXT(ROUND((AD11/60-INT(AD11/60))*60,0),\"00분\")","v":"0시간 00분"},null,{"$f":"IF(I11*60>AA11,1,0)","v":1},{"$f":"IF(T11=1,\"분기 필수 근로 시간 부족\",\"\")","v":"분기 필수 근로 시간 부족"},{"$nulls":5},{"$f":"SUM(AB11:AD11)","v":0},{"$f":"'10월'!O18*60+'10월'!Q18","v":0},{"$f":"'11월'!O18*60+'11월'!Q18","v":0},{"$f":"'12월'!O18*60+'12월'!Q18","v":0}]
[{"$nulls":3},"연장 근로",null,"월 평균 연장 근로",null,null,{"$f":"IFERROR(VLOOKUP($W$5,'관리자 Setting'!$C$3:$G$53,5,0),\"\")","v":{"v":35,"d":"35 시간"}},null,"0시간 00분",null,null,{"$f":"INT(AB12/60)&\"시간 \"&TEXT(ROUND((AB12/60-INT(AB12/60))*60,0),\"00분\")","v":"0시간 00분"},null,{"$f":"INT(AC12/60)&\"시간 \"&TEXT(ROUND((AC12/60-INT(AC12/60))*60,0),\"00분\")","v":"0시간 00분"},null,{"$f":"INT(AD12/60)&\"시간 \"&TEXT(ROUND((AD12/60-INT(AD12/60))*60,0),\"00분\")","v":"0시간 00분"},null,{"$f":"IF(OR($I$12*60<AA12,$I$12*60<AB12,$I$12*60<AC12,$I$12*60<AD12),1,0)","v":0},{"$f":"IF(T12=1,\"연장 근로 한도 초과\",\"\")","v":""},{"$nulls":5},{"$f":"AVERAGE(AB12:AD12)","v":0},{"$f":"'10월'!O19*60+'10월'!Q19","v":0},{"$f":"'11월'!O19*60+'11월'!Q19","v":0},{"$f":"'12월'!O19*60+'12월'!Q19","v":0}]
[]
[{"$nulls":3},"───────────────　　월　근　무　현　황　　───────────────"]
[{"$nulls":3},"구분",null,"규정 및 참조",{"$nulls":4},"근무 계획",{"$nulls":3},"근무 조정",{"$nulls":3},"CHK","비고"]
[{"$nulls":10},"시간",null,"분",null,"시간",null,"분"]
[{"$nulls":3},"전체 근로",{"$nulls":6},{"$f":"M25+O25","v":{"v":160,"d":"160 시간"}},null,"분",null,{"$f":"Q25+X25","v":0},null,{"$f":"R25","v":{"v":0,"d":"0 분"}}]
[{"$nulls":3},"정규 근로",{"$nulls":6},{"$f":"M25","v":{"v":160,"d":"160 시간"}},null,"분",null,{"$f":"S25+X25","v":0},null,{"$f":"T25","v":{"v":0,"d":"0 분"}}]
[{"$nulls":3},"연장 근로",null,"월 연장 근로 한도",null,null,{"$f":"IFERROR(VLOOKUP($W$5,'관리자 Setting'!$C$3:$G$53,5,0),\"\")","v":{"v":35,"d":"35 시간"}},null,{"$f":"O25","v":0},null,"분",null,{"$f":"U25","v":0},null,{"$f":"V25","v":{"v":0,"d":"0 분"}},null,{"$f":"IF($W$5=\"\",\"\",IF(I19*60<O19*60+Q19,1,0))","v":0},{"$f":"IF(S19=1,\"연장 근로 한도 시간 초과\",\"\")","v":""}]
[]
[{"$nulls":3},"───────────────　　일　/　주　간　근　무　현　황　　───────────────"]
[{"$nulls":3},"날짜","요일","참고",null,null,"상태",null,"주","주차","근무 계획",{"$nulls":3},"실\n근무시간",null,"조정",{"$nulls":3},"CHK","비고\n근무\n반영"]
[{"$nulls":12},"정규근로",null,"연장근로",{"$nulls":3},"정규근로",null,"연장근로"]
[{"$nulls":12},"시간","분","시간","분","시간","분","시간","분","시간","분",{"$nulls":4},"반영","실","연장"]
[{"$nulls":12},{"$f":"SUM(M26:M56)","v":160},0,{"$f":"SUM(O26:O56)","v":0},0,{"$f":"SUM(Q26:Q56)+INT(SUM(R26:R56)/60)","v":0},{"$f":"(SUM(R26:R56)/60-INT(SUM(R26:R56)/60))*60","v":0},{"$f":"SUM(S26:S56)+INT(SUM(T26:T56)/60)","v":0},{"$f":"(SUM(T26:T56)/60-INT(SUM(T26:T56)/60))*60","v":0},{"$f":"SUM(U26:U56)+INT(SUM(V26:V56)/60)","v":0},{"$f":"(SUM(V26:V56)/60-INT(SUM(V26:V56)/60))*60","v":0},null,{"$f":"SUM(X26:X56)","v":0}]
[{"$f":"DATE('관리자 Setting'!$R$3,$A$6,1)","v":"2018-12-01"},{"$f":"IF(OR($E26=\"일\",$F26<>\"\"),0,1)","v":1},1,1,{"$f":"TEXT($A26,\"AAA\")","v":"토"},{"$f":"IFERROR(VLOOKUP($A26,'관리자 Setting'!$K$6:$M$36,3,0),\"\")","v":""},null,null,{"$f":"IFERROR(IF(OR(E26=\"토\",E26=\"일\",F26<>\"\"),\"\",VLOOKUP(A26&0,'설정_In-Put'!$A:$L,6,0)),\"\")","v":""},null,{"$f":"IFERROR(L26-WEEKNUM(A26-D26+1)+1,\"\")","v":1},{"$f":"IFERROR(WEEKNUM(A26,2),\"\")","v":48},{"$f":"IFERROR(VLOOKUP($A26,계획서_4분기!$A:$X,13,0),\"\")","v":0},0,{"$f":"IFERROR(VLOOKUP($A26,계획서_4분기!$A:$X,15,0),\"\")","v":0},0,{"$f":"INT(SUMIFS('설정_In-Put'!$K:$K,'설정_In-Put'!$C:$C,$A26)*24)","v":0},{"$f":"ROUND((SUMIFS('설정_In-Put'!$K:$K,'설정_In-Put'!$C:$C,$A26)*24-Q26)*60,0)","v":0},null,null,{"$f":"INT(((Q26*60+R26)-(S26*60+T26))/60)","v":0},{"$f":"(((Q26*60+R26)-(S26*60+T26))/60-U26)*60","v":0},{"$f":"IF(SUMIFS('10월'!$AA$26:$AA$56,'10월'!$L$26:$L$56,$L26)+SUMIFS('11월'!$AA$26:$AA$56,'11월'!$L$26:$L$56,$L26)+SUMIFS('12월'!$AA$26:$AA$56,'12월'!$L$26:$L$56,$L26)>3120,1,IF($A26=\"\",\"\",IF(OR($E26=\"일\",$F26<>\"\"),1,0)*IF(S26+T26<>0,1,0)))","v":0},{"$f":"IFERROR(VLOOKUP($A26&1,'설정_In-Put'!$B:$L,11,0)*24,\"\")","v":""},null,null,{"$f":"SUM(S26,X26)*60+T26","v":0},{"$f":"S26*60+T26","v":0},{"$f":"U26*60+V26","v":0}]
[{"$f":"A26+1","v":"2018-12-02"},0,0,2,"일",{"$f":"IFERROR(VLOOKUP($A27,'관리자 Setting'!$K$6:$M$36,3,0),\"\")","v":""},null,null,{"$f":"IFERROR(IF(OR(E27=\"토\",E27=\"일\",F27<>\"\"),\"\",VLOOKUP(A27&0,'설정_In-Put'!$A:$L,6,0)),\"\")","v":""},null,1,48,{"$f":"IFERROR(VLOOKUP($A27,계획서_4분기!$A:$X,13,0),\"\")","v":0},0,{"$f":"IFERROR(VLOOKUP($A27,계획서_4분기!$A:$X,15,0),\"\")","v":0},0,{"$f":"INT(SUMIFS('설정_In-Put'!$K:$K,'설정_In-Put'!$C:$C,$A27)*24)","v":0},{"$f":"ROUND((SUMIFS('설정_In-Put'!$K:$K,'설정_In-Put'!$C:$C,$A27)*24-Q27)*60,0)","v":0},null,null,0,0,{"$f":"IF(SUMIFS('10월'!$AA$26:$AA$56,'10월'!$L$26:$L$56,$L27)+SUMIFS('11월'!$AA$26:$AA$56,'11월'!$L$26:$L$56,$L27)+SUMIFS('12월'!$AA$26:$AA$56,'12월'!$L$26:$L$56,$L27)>3120,1,IF($A27=\"\",\"\",IF(OR($E27=\"일\",$F27<>\"\"),1,0)*IF(S27+T27<>0,1,0)))","v":0},{"$f":"IFERROR(VLOOKUP($A27&1,'설정_In-Put'!$B:$L,11,0)*24,\"\")","v":""},null,null,{"$f":"SUM(S27,X27)*60+T27","v":0},{"$f":"S27*60+T27","v":0},{"$f":"U27*60+V27","v":0}]
[{"$f":"A27+1","v":"2018-12-03"},1,1,3,"월",{"$f":"IFERROR(VLOOKUP($A28,'관리자 Setting'!$K$6:$M$36,3,0),\"\")","v":""},null,null,{"$f":"IFERROR(IF(OR(E28=\"토\",E28=\"일\",F28<>\"\"),\"\",VLOOKUP(A28&0,'설정_In-Put'!$A:$L,6,0)),\"\")","v":""},null,2,49,{"$f":"IFERROR(VLOOKUP($A28,계획서_4분기!$A:$X,13,0),\"\")","v":8},0,{"$f":"IFERROR(VLOOKUP($A28,계획서_4분기!$A:$X,15,0),\"\")","v":0},0,{"$f":"INT(SUMIFS('설정_In-Put'!$K:$K,'설정_In-Put'!$C:$C,$A28)*24)","v":0},{"$f":"ROUND((SUMIFS('설정_In-Put'!$K:$K,'설정_In-Put'!$C:$C,$A28)*24-Q28)*60,0)","v":0},null,null,0,0,{"$f":"IF(SUMIFS('10월'!$AA$26:$AA$56,'10월'!$L$26:$L$56,$L28)+SUMIFS('11월'!$AA$26:$AA$56,'11월'!$L$26:$L$56,$L28)+SUMIFS('12월'!$AA$26:$AA$56,'12월'!$L$26:$L$56,$L28)>3120,1,IF($A28=\"\",\"\",IF(OR($E28=\"일\",$F28<>\"\"),1,0)*IF(S28+T28<>0,1,0)))","v":0},{"$f":"IFERROR(VLOOKUP($A28&1,'설정_In-Put'!$B:$L,11,0)*24,\"\")","v":""},null,null,0,0,0]
["2018-12-04",1,1,4,"화",{"$f":"IFERROR(VLOOKUP($A29,'관리자 Setting'!$K$6:$M$36,3,0),\"\")","v":""},null,null,{"$f":"IFERROR(IF(OR(E29=\"토\",E29=\"일\",F29<>\"\"),\"\",VLOOKUP(A29&0,'설정_In-Put'!$A:$L,6,0)),\"\")","v":""},null,2,49,{"$f":"IFERROR(VLOOKUP($A29,계획서_4분기!$A:$X,13,0),\"\")","v":8},0,{"$f":"IFERROR(VLOOKUP($A29,계획서_4분기!$A:$X,15,0),\"\")","v":0},0,{"$f":"INT(SUMIFS('설정_In-Put'!$K:$K,'설정_In-Put'!$C:$C,$A29)*24)","v":0},{"$f":"ROUND((SUMIFS('설정_In-Put'!$K:$K,'설정_In-Put'!$C:$C,$A29)*24-Q29)*60,0)","v":0},null,null,0,0,{"$f":"IF(SUMIFS('10월'!$AA$26:$AA$56,'10월'!$L$26:$L$56,$L29)+SUMIFS('11월'!$AA$26:$AA$56,'11월'!$L$26:$L$56,$L29)+SUMIFS('12월'!$AA$26:$AA$56,'12월'!$L$26:$L$56,$L29)>3120,1,IF($A29=\"\",\"\",IF(OR($E29=\"일\",$F29<>\"\"),1,0)*IF(S29+T29<>0,1,0)))","v":0},{"$f":"IFERROR(VLOOKUP($A29&1,'설정_In-Put'!$B:$L,11,0)*24,\"\")","v":""},null,null,0,0,0]
["2018-12-05",1,1,5,"수",{"$f":"IFERROR(VLOOKUP($A30,'관리자 Setting'!$K$6:$M$36,3,0),\"\")","v":""},null,null,{"$f":"IFERROR(IF(OR(E30=\"토\",E30=\"일\",F30<>\"\"),\"\",VLOOKUP(A30&0,'설정_In-Put'!$A:$L,6,0)),\"\")","v":""},null,2,49,{"$f":"IFERROR(VLOOKUP($A30,계획서_4분기!$A:$X,13,0),\"\")","v":8},0,{"$f":"IFERROR(VLOOKUP($A30,계획서_4분기!$A:$X,15,0),\"\")","v":0},0,{"$f":"INT(SUMIFS('설정_In-Put'!$K:$K,'설정_In-Put'!$C:$C,$A30)*24)","v":0},{"$f":"ROUND((SUMIFS('설정_In-Put'!$K:$K,'설정_In-Put'!$C:$C,$A30)*24-Q30)*60,0)","v":0},null,null,0,0,{"$f":"IF(SUMIFS('10월'!$AA$26:$AA$56,'10월'!$L$26:$L$56,$L30)+SUMIFS('11월'!$AA$26:$AA$56,'11월'!$L$26:$L$56,$L30)+SUMIFS('12월'!$AA$26:$AA$56,'12월'!$L$26:$L$56,$L30)>3120,1,IF($A30=\"\",\"\",IF(OR($E30=\"일\",$F30<>\"\"),1,0)*IF(S30+T30<>0,1,0)))","v":0},{"$f":"IFERROR(VLOOKUP($A30&1,'설정_In-Put'!$B:$L,11,0)*24,\"\")","v":""},null,null,0,0,0]
["2018-12-06",1,1,6,"목",{"$f":"IFERROR(VLOOKUP($A31,'관리자 Setting'!$K$6:$M$36,3,0),\"\")","v":""},null,null,{"$f":"IFERROR(IF(OR(E31=\"토\",E31=\"일\",F31<>\"\"),\"\",VLOOKUP(A31&0,'설정_In-Put'!$A:$L,6,0)),\"\")","v":""},null,2,49,{"$f":"IFERROR(VLOOKUP($A31,계획서_4분기!$A:$X,13,0),\"\")","v":8},0,{"$f":"IFERROR(VLOOKUP($A31,계획서_4분기!$A:$X,15,0),\"\")","v":0},0,{"$f":"INT(SUMIFS('설정_In-Put'!$K:$K,'설정_In-Put'!$C:$C,$A31)*24)","v":0},{"$f":"ROUND((SUMIFS('설정_In-Put'!$K:$K,'설정_In-Put'!$C:$C,$A31)*24-Q31)*60,0)","v":0},null,null,0,0,{"$f":"IF(SUMIFS('10월'!$AA$26:$AA$56,'10월'!$L$26:$L$56,$L31)+SUMIFS('11월'!$AA$26:$AA$56,'11월'!$L$26:$L$56,$L31)+SUMIFS('12월'!$AA$26:$AA$56,'12월'!$L$26:$L$56,$L31)>3120,1,IF($A31=\"\",\"\",IF(OR($E31=\"일\",$F31<>\"\"),1,0)*IF(S31+T31<>0,1,0)))","v":0},{"$f":"IFERROR(VLOOKUP($A31&1,'설정_In-Put'!$B:$L,11,0)*24,\"\")","v":""},null,null,0,0,0]
["2018-12-07",1,1,7,"금",{"$f":"IFERROR(VLOOKUP($A32,'관리자 Setting'!$K$6:$M$36,3,0),\"\")","v":""},null,null,{"$f":"IFERROR(IF(OR(E32=\"토\",E32=\"일\",F32<>\"\"),\"\",VLOOKUP(A32&0,'설정_In-Put'!$A:$L,6,0)),\"\")","v":""},null,2,49,{"$f":"IFERROR(VLOOKUP($A32,계획서_4분기!$A:$X,13,0),\"\")","v":8},0,{"$f":"IFERROR(VLOOKUP($A32,계획서_4분기!$A:$X,15,0),\"\")","v":0},0,{"$f":"INT(SUMIFS('설정_In-Put'!$K:$K,'설정_In-Put'!$C:$C,$A32)*24)","v":0},{"$f":"ROUND((SUMIFS('설정_In-Put'!$K:$K,'설정_In-Put'!$C:$C,$A32)*24-Q32)*60,0)","v":0},null,null,0,0,{"$f":"IF(SUMIFS('10월'!$AA$26:$AA$56,'10월'!$L$26:$L$56,$L32)+SUMIFS('11월'!$AA$26:$AA$56,'11월'!$L$26:$L$56,$L32)+SUMIFS('12월'!$AA$26:$AA$56,'12월'!$L$26:$L$56,$L32)>3120,1,IF($A32=\"\",\"\",IF(OR($E32=\"일\",$F32<>\"\"),1,0)*IF(S32+T32<>0,1,0)))","v":0},{"$f":"IFERROR(VLOOKUP($A32&1,'설정_In-Put'!$B:$L,11,0)*24,\"\")","v":""},null,null,0,0,0]
["2018-12-08",1,1,8,"토",{"$f":"IFERROR(VLOOKUP($A33,'관리자 Setting'!$K$6:$M$36,3,0),\"\")","v":""},null,null,{"$f":"IFERROR(IF(OR(E33=\"토\",E33=\"일\",F33<>\"\"),\"\",VLOOKUP(A33&0,'설정_In-Put'!$A:$L,6,0)),\"\")","v":""},null,2,49,{"$f":"IFERROR(VLOOKUP($A33,계획서_4분기!$A:$X,13,0),\"\")","v":0},0,{"$f":"IFERROR(VLOOKUP($A33,계획서_4분기!$A:$X,15,0),\"\")","v":0},0,{"$f":"INT(SUMIFS('설정_In-Put'!$K:$K,'설정_In-Put'!$C:$C,$A33)*24)","v":0},{"$f":"ROUND((SUMIFS('설정_In-Put'!$K:$K,'설정_In-Put'!$C:$C,$A33)*24-Q33)*60,0)","v":0},null,null,0,0,{"$f":"IF(SUMIFS('10월'!$AA$26:$AA$56,'10월'!$L$26:$L$56,$L33)+SUMIFS('11월'!$AA$26:$AA$56,'11월'!$L$26:$L$56,$L33)+SUMIFS('12월'!$AA$26:$AA$56,'12월'!$L$26:$L$56,$L33)>3120,1,IF($A33=\"\",\"\",IF(OR($E33=\"일\",$F33<>\"\"),1,0)*IF(S33+T33<>0,1,0)))","v":0},{"$f":"IFERROR(VLOOKUP($A33&1,'설정_In-Put'!$B:$L,11,0)*24,\"\")","v":""},null,null,0,0,0]
["2018-12-09",0,0,9,"일",{"$f":"IFERROR(VLOOKUP($A34,'관리자 Setting'!$K$6:$M$36,3,0),\"\")","v":""},null,null,{"$f":"IFERROR(IF(OR(E34=\"토\",E34=\"일\",F34<>\"\"),\"\",VLOOKUP(A34&0,'설정_In-Put'!$A:$L,6,0)),\"\")","v":""},null,2,49,{"$f":"IFERROR(VLOOKUP($A34,계획서_4분기!$A:$X,13,0),\"\")","v":0},0,{"$f":"IFERROR(VLOOKUP($A34,계획서_4분기!$A:$X,15,0),\"\")","v":0},0,{"$f":"INT(SUMIFS('설정_In-Put'!$K:$K,'설정_In-Put'!$C:$C,$A34)*24)","v":0},{"$f":"ROUND((SUMIFS('설정_In-Put'!$K:$K,'설정_In-Put'!$C:$C,$A34)*24-Q34)*60,0)","v":0},null,null,0,0,{"$f":"IF(SUMIFS('10월'!$AA$26:$AA$56,'10월'!$L$26:$L$56,$L34)+SUMIFS('11월'!$AA$26:$AA$56,'11월'!$L$26:$L$56,$L34)+SUMIFS('12월'!$AA$26:$AA$56,'12월'!$L$26:$L$56,$L34)>3120,1,IF($A34=\"\",\"\",IF(OR($E34=\"일\",$F34<>\"\"),1,0)*IF(S34+T34<>0,1,0)))","v":0},{"$f":"IFERROR(VLOOKUP($A34&1,'설정_In-Put'!$B:$L,11,0)*24,\"\")","v":""},null,null,0,0,0]
["2018-12-10",1,1,10,"월",{"$f":"IFERROR(VLOOKUP($A35,'관리자 Setting'!$K$6:$M$36,3,0),\"\")","v":""},null,null,{"$f":"IFERROR(IF(OR(E35=\"토\",E35=\"일\",F35<>\"\"),\"\",VLOOKUP(A35&0,'설정_In-Put'!$A:$L,6,0)),\"\")","v":""},null,3,50,{"$f":"IFERROR(VLOOKUP($A35,계획서_4분기!$A:$X,13,0),\"\")","v":8},0,{"$f":"IFERROR(VLOOKUP($A35,계획서_4분기!$A:$X,15,0),\"\")","v":0},0,{"$f":"INT(SUMIFS('설정_In-Put'!$K:$K,'설정_In-Put'!$C:$C,$A35)*24)","v":0},{"$f":"ROUND((SUMIFS('설정_In-Put'!$K:$K,'설정_In-Put'!$C:$C,$A35)*24-Q35)*60,0)","v":0},null,null,0,0,{"$f":"IF(SUMIFS('10월'!$AA$26:$AA$56,'10월'!$L$26:$L$56,$L35)+SUMIFS('11월'!$AA$26:$AA$56,'11월'!$L$26:$L$56,$L35)+SUMIFS('12월'!$AA$26:$AA$56,'12월'!$L$26:$L$56,$L35)>3120,1,IF($A35=\"\",\"\",IF(OR($E35=\"일\",$F35<>\"\"),1,0)*IF(S35+T35<>0,1,0)))","v":0},{"$f":"IFERROR(VLOOKUP($A35&1,'설정_In-Put'!$B:$L,11,0)*24,\"\")","v":""},null,null,0,0,0]
["2018-12-11",1,1,11,"화",{"$f":"IFERROR(VLOOKUP($A36,'관리자 Setting'!$K$6:$M$36,3,0),\"\")","v":""},null,null,{"$f":"IFERROR(IF(OR(E36=\"토\",E36=\"일\",F36<>\"\"),\"\",VLOOKUP(A36&0,'설정_In-Put'!$A:$L,6,0)),\"\")","v":""},null,3,50,{"$f":"IFERROR(VLOOKUP($A36,계획서_4분기!$A:$X,13,0),\"\")","v":8},0,{"$f":"IFERROR(VLOOKUP($A36,계획서_4분기!$A:$X,15,0),\"\")","v":0},0,{"$f":"INT(SUMIFS('설정_In-Put'!$K:$K,'설정_In-Put'!$C:$C,$A36)*24)","v":0},{"$f":"ROUND((SUMIFS('설정_In-Put'!$K:$K,'설정_In-Put'!$C:$C,$A36)*24-Q36)*60,0)","v":0},null,null,0,0,{"$f":"IF(SUMIFS('10월'!$AA$26:$AA$56,'10월'!$L$26:$L$56,$L36)+SUMIFS('11월'!$AA$26:$AA$56,'11월'!$L$26:$L$56,$L36)+SUMIFS('12월'!$AA$26:$AA$56,'12월'!$L$26:$L$56,$L36)>3120,1,IF($A36=\"\",\"\",IF(OR($E36=\"일\",$F36<>\"\"),1,0)*IF(S36+T36<>0,1,0)))","v":0},{"$f":"IFERROR(VLOOKUP($A36&1,'설정_In-Put'!$B:$L,11,0)*24,\"\")","v":""},null,null,0,0,0]
["2018-12-12",1,1,12,"수",{"$f":"IFERROR(VLOOKUP($A37,'관리자 Setting'!$K$6:$M$36,3,0),\"\")","v":""},null,null,{"$f":"IFERROR(IF(OR(E37=\"토\",E37=\"일\",F37<>\"\"),\"\",VLOOKUP(A37&0,'설정_In-Put'!$A:$L,6,0)),\"\")","v":""},null,3,50,{"$f":"IFERROR(VLOOKUP($A37,계획서_4분기!$A:$X,13,0),\"\")","v":8},0,{"$f":"IFERROR(VLOOKUP($A37,계획서_4분기!$A:$X,15,0),\"\")","v":0},0,{"$f":"INT(SUMIFS('설정_In-Put'!$K:$K,'설정_In-Put'!$C:$C,$A37)*24)","v":0},{"$f":"ROUND((SUMIFS('설정_In-Put'!$K:$K,'설정_In-Put'!$C:$C,$A37)*24-Q37)*60,0)","v":0},null,null,0,0,{"$f":"IF(SUMIFS('10월'!$AA$26:$AA$56,'10월'!$L$26:$L$56,$L37)+SUMIFS('11월'!$AA$26:$AA$56,'11월'!$L$26:$L$56,$L37)+SUMIFS('12월'!$AA$26:$AA$56,'12월'!$L$26:$L$56,$L37)>3120,1,IF($A37=\"\",\"\",IF(OR($E37=\"일\",$F37<>\"\"),1,0)*IF(S37+T37<>0,1,0)))","v":0},{"$f":"IFERROR(VLOOKUP($A37&1,'설정_In-Put'!$B:$L,11,0)*24,\"\")","v":""},null,null,0,0,0]
["2018-12-13",1,1,13,"목",{"$f":"IFERROR(VLOOKUP($A38,'관리자 Setting'!$K$6:$M$36,3,0),\"\")","v":""},null,null,{"$f":"IFERROR(IF(OR(E38=\"토\",E38=\"일\",F38<>\"\"),\"\",VLOOKUP(A38&0,'설정_In-Put'!$A:$L,6,0)),\"\")","v":""},null,3,50,{"$f":"IFERROR(VLOOKUP($A38,계획서_4분기!$A:$X,13,0),\"\")","v":8},0,{"$f":"IFERROR(VLOOKUP($A38,계획서_4분기!$A:$X,15,0),\"\")","v":0},0,{"$f":"INT(SUMIFS('설정_In-Put'!$K:$K,'설정_In-Put'!$C:$C,$A38)*24)","v":0},{"$f":"ROUND((SUMIFS('설정_In-Put'!$K:$K,'설정_In-Put'!$C:$C,$A38)*24-Q38)*60,0)","v":0},null,null,0,0,{"$f":"IF(SUMIFS('10월'!$AA$26:$AA$56,'10월'!$L$26:$L$56,$L38)+SUMIFS('11월'!$AA$26:$AA$56,'11월'!$L$26:$L$56,$L38)+SUMIFS('12월'!$AA$26:$AA$56,'12월'!$L$26:$L$56,$L38)>3120,1,IF($A38=\"\",\"\",IF(OR($E38=\"일\",$F38<>\"\"),1,0)*IF(S38+T38<>0,1,0)))","v":0},{"$f":"IFERROR(VLOOKUP($A38&1,'설정_In-Put'!$B:$L,11,0)*24,\"\")","v":""},null,null,0,0,0]
["2018-12-14",1,1,14,"금",{"$f":"IFERROR(VLOOKUP($A39,'관리자 Setting'!$K$6:$M$36,3,0),\"\")","v":""},null,null,{"$f":"IFERROR(IF(OR(E39=\"토\",E39=\"일\",F39<>\"\"),\"\",VLOOKUP(A39&0,'설정_In-Put'!$A:$L,6,0)),\"\")","v":""},null,3,50,{"$f":"IFERROR(VLOOKUP($A39,계획서_4분기!$A:$X,13,0),\"\")","v":8},0,{"$f":"IFERROR(VLOOKUP($A39,계획서_4분기!$A:$X,15,0),\"\")","v":0},0,{"$f":"INT(SUMIFS('설정_In-Put'!$K:$K,'설정_In-Put'!$C:$C,$A39)*24)","v":0},{"$f":"ROUND((SUMIFS('설정_In-Put'!$K:$K,'설정_In-Put'!$C:$C,$A39)*24-Q39)*60,0)","v":0},null,null,0,0,{"$f":"IF(SUMIFS('10월'!$AA$26:$AA$56,'10월'!$L$26:$L$56,$L39)+SUMIFS('11월'!$AA$26:$AA$56,'11월'!$L$26:$L$56,$L39)+SUMIFS('12월'!$AA$26:$AA$56,'12월'!$L$26:$L$56,$L39)>3120,1,IF($A39=\"\",\"\",IF(OR($E39=\"일\",$F39<>\"\"),1,0)*IF(S39+T39<>0,1,0)))","v":0},{"$f":"IFERROR(VLOOKUP($A39&1,'설정_In-Put'!$B:$L,11,0)*24,\"\")","v":""},null,null,0,0,0]
["2018-12-15",1,1,15,"토",{"$f":"IFERROR(VLOOKUP($A40,'관리자 Setting'!$K$6:$M$36,3,0),\"\")","v":""},null,null,{"$f":"IFERROR(IF(OR(E40=\"토\",E40=\"일\",F40<>\"\"),\"\",VLOOKUP(A40&0,'설정_In-Put'!$A:$L,6,0)),\"\")","v":""},null,3,50,{"$f":"IFERROR(VLOOKUP($A40,계획서_4분기!$A:$X,13,0),\"\")","v":0},0,{"$f":"IFERROR(VLOOKUP($A40,계획서_4분기!$A:$X,15,0),\"\")","v":0},0,{"$f":"INT(SUMIFS('설정_In-Put'!$K:$K,'설정_In-Put'!$C:$C,$A40)*24)","v":0},{"$f":"ROUND((SUMIFS('설정_In-Put'!$K:$K,'설정_In-Put'!$C:$C,$A40)*24-Q40)*60,0)","v":0},null,null,0,0,{"$f":"IF(SUMIFS('10월'!$AA$26:$AA$56,'10월'!$L$26:$L$56,$L40)+SUMIFS('11월'!$AA$26:$AA$56,'11월'!$L$26:$L$56,$L40)+SUMIFS('12월'!$AA$26:$AA$56,'12월'!$L$26:$L$56,$L40)>3120,1,IF($A40=\"\",\"\",IF(OR($E40=\"일\",$F40<>\"\"),1,0)*IF(S40+T40<>0,1,0)))","v":0},{"$f":"IFERROR(VLOOKUP($A40&1,'설정_In-Put'!$B:$L,11,0)*24,\"\")","v":""},null,null,0,0,0]
["2018-12-16",0,0,16,"일",{"$f":"IFERROR(VLOOKUP($A41,'관리자 Setting'!$K$6:$M$36,3,0),\"\")","v":""},null,null,{"$f":"IFERROR(IF(OR(E41=\"토\",E41=\"일\",F41<>\"\"),\"\",VLOOKUP(A41&0,'설정_In-Put'!$A:$L,6,0)),\"\")","v":""},null,3,50,{"$f":"IFERROR(VLOOKUP($A41,계획서_4분기!$A:$X,13,0),\"\")","v":0},0,{"$f":"IFERROR(VLOOKUP($A41,계획서_4분기!$A:$X,15,0),\"\")","v":0},0,{"$f":"INT(SUMIFS('설정_In-Put'!$K:$K,'설정_In-Put'!$C:$C,$A41)*24)","v":0},{"$f":"ROUND((SUMIFS('설정_In-Put'!$K:$K,'설정_In-Put'!$C:$C,$A41)*24-Q41)*60,0)","v":0},null,null,0,0,{"$f":"IF(SUMIFS('10월'!$AA$26:$AA$56,'10월'!$L$26:$L$56,$L41)+SUMIFS('11월'!$AA$26:$AA$56,'11월'!$L$26:$L$56,$L41)+SUMIFS('12월'!$AA$26:$AA$56,'12월'!$L$26:$L$56,$L41)>3120,1,IF($A41=\"\",\"\",IF(OR($E41=\"일\",$F41<>\"\"),1,0)*IF(S41+T41<>0,1,0)))","v":0},{"$f":"IFERROR(VLOOKUP($A41&1,'설정_In-Put'!$B:$L,11,0)*24,\"\")","v":""},null,null,0,0,0]
["2018-12-17",1,1,17,"월",{"$f":"IFERROR(VLOOKUP($A42,'관리자 Setting'!$K$6:$M$36,3,0),\"\")","v":""},null,null,{"$f":"IFERROR(IF(OR(E42=\"토\",E42=\"일\",F42<>\"\"),\"\",VLOOKUP(A42&0,'설정_In-Put'!$A:$L,6,0)),\"\")","v":""},null,4,51,{"$f":"IFERROR(VLOOKUP($A42,계획서_4분기!$A:$X,13,0),\"\")","v":8},0,{"$f":"IFERROR(VLOOKUP($A42,계획서_4분기!$A:$X,15,0),\"\")","v":0},0,{"$f":"INT(SUMIFS('설정_In-Put'!$K:$K,'설정_In-Put'!$C:$C,$A42)*24)","v":0},{"$f":"ROUND((SUMIFS('설정_In-Put'!$K:$K,'설정_In-Put'!$C:$C,$A42)*24-Q42)*60,0)","v":0},null,null,0,0,{"$f":"IF(SUMIFS('10월'!$AA$26:$AA$56,'10월'!$L$26:$L$56,$L42)+SUMIFS('11월'!$AA$26:$AA$56,'11월'!$L$26:$L$56,$L42)+SUMIFS('12월'!$AA$26:$AA$56,'12월'!$L$26:$L$56,$L42)>3120,1,IF($A42=\"\",\"\",IF(OR($E42=\"일\",$F42<>\"\"),1,0)*IF(S42+T42<>0,1,0)))","v":0},{"$f":"IFERROR(VLOOKUP($A42&1,'설정_In-Put'!$B:$L,11,0)*24,\"\")","v":""},null,null,0,0,0]
["2018-12-18",1,1,18,"화",{"$f":"IFERROR(VLOOKUP($A43,'관리자 Setting'!$K$6:$M$36,3,0),\"\")","v":""},null,null,{"$f":"IFERROR(IF(OR(E43=\"토\",E43=\"일\",F43<>\"\"),\"\",VLOOKUP(A43&0,'설정_In-Put'!$A:$L,6,0)),\"\")","v":""},null,4,51,{"$f":"IFERROR(VLOOKUP($A43,계획서_4분기!$A:$X,13,0),\"\")","v":8},0,{"$f":"IFERROR(VLOOKUP($A43,계획서_4분기!$A:$X,15,0),\"\")","v":0},0,{"$f":"INT(SUMIFS('설정_In-Put'!$K:$K,'설정_In-Put'!$C:$C,$A43)*24)","v":0},{"$f":"ROUND((SUMIFS('설정_In-Put'!$K:$K,'설정_In-Put'!$C:$C,$A43)*24-Q43)*60,0)","v":0},null,null,0,0,{"$f":"IF(SUMIFS('10월'!$AA$26:$AA$56,'10월'!$L$26:$L$56,$L43)+SUMIFS('11월'!$AA$26:$AA$56,'11월'!$L$26:$L$56,$L43)+SUMIFS('12월'!$AA$26:$AA$56,'12월'!$L$26:$L$56,$L43)>3120,1,IF($A43=\"\",\"\",IF(OR($E43=\"일\",$F43<>\"\"),1,0)*IF(S43+T43<>0,1,0)))","v":0},{"$f":"IFERROR(VLOOKUP($A43&1,'설정_In-Put'!$B:$L,11,0)*24,\"\")","v":""},null,null,0,0,0]
["2018-12-19",1,1,19,"수",{"$f":"IFERROR(VLOOKUP($A44,'관리자 Setting'!$K$6:$M$36,3,0),\"\")","v":""},null,null,{"$f":"IFERROR(IF(OR(E44=\"토\",E44=\"일\",F44<>\"\"),\"\",VLOOKUP(A44&0,'설정_In-Put'!$A:$L,6,0)),\"\")","v":""},null,4,51,{"$f":"IFERROR(VLOOKUP($A44,계획서_4분기!$A:$X,13,0),\"\")","v":8},0,{"$f":"IFERROR(VLOOKUP($A44,계획서_4분기!$A:$X,15,0),\"\")","v":0},0,{"$f":"INT(SUMIFS('설정_In-Put'!$K:$K,'설정_In-Put'!$C:$C,$A44)*24)","v":0},{"$f":"ROUND((SUMIFS('설정_In-Put'!$K:$K,'설정_In-Put'!$C:$C,$A44)*24-Q44)*60,0)","v":0},null,null,0,0,{"$f":"IF(SUMIFS('10월'!$AA$26:$AA$56,'10월'!$L$26:$L$56,$L44)+SUMIFS('11월'!$AA$26:$AA$56,'11월'!$L$26:$L$56,$L44)+SUMIFS('12월'!$AA$26:$AA$56,'12월'!$L$26:$L$56,$L44)>3120,1,IF($A44=\"\",\"\",IF(OR($E44=\"일\",$F44<>\"\"),1,0)*IF(S44+T44<>0,1,0)))","v":0},{"$f":"IFERROR(VLOOKUP($A44&1,'설정_In-Put'!$B:$L,11,0)*24,\"\")","v":""},null,null,0,0,0]
["2018-12-20",1,1,20,"목",{"$f":"IFERROR(VLOOKUP($A45,'관리자 Setting'!$K$6:$M$36,3,0),\"\")","v":""},null,null,{"$f":"IFERROR(IF(OR(E45=\"토\",E45=\"일\",F45<>\"\"),\"\",VLOOKUP(A45&0,'설정_In-Put'!$A:$L,6,0)),\"\")","v":""},null,4,51,{"$f":"IFERROR(VLOOKUP($A45,계획서_4분기!$A:$X,13,0),\"\")","v":8},0,{"$f":"IFERROR(VLOOKUP($A45,계획서_4분기!$A:$X,15,0),\"\")","v":0},0,{"$f":"INT(SUMIFS('설정_In-Put'!$K:$K,'설정_In-Put'!$C:$C,$A45)*24)","v":0},{"$f":"ROUND((SUMIFS('설정_In-Put'!$K:$K,'설정_In-Put'!$C:$C,$A45)*24-Q45)*60,0)","v":0},null,null,0,0,{"$f":"IF(SUMIFS('10월'!$AA$26:$AA$56,'10월'!$L$26:$L$56,$L45)+SUMIFS('11월'!$AA$26:$AA$56,'11월'!$L$26:$L$56,$L45)+SUMIFS('12월'!$AA$26:$AA$56,'12월'!$L$26:$L$56,$L45)>3120,1,IF($A45=\"\",\"\",IF(OR($E45=\"일\",$F45<>\"\"),1,0)*IF(S45+T45<>0,1,0)))","v":0},{"$f":"IFERROR(VLOOKUP($A45&1,'설정_In-Put'!$B:$L,11,0)*24,\"\")","v":""},null,null,0,0,0]
["2018-12-21",1,1,21,"금",{"$f":"IFERROR(VLOOKUP($A46,'관리자 Setting'!$K$6:$M$36,3,0),\"\")","v":""},null,null,{"$f":"IFERROR(IF(OR(E46=\"토\",E46=\"일\",F46<>\"\"),\"\",VLOOKUP(A46&0,'설정_In-Put'!$A:$L,6,0)),\"\")","v":""},null,4,51,{"$f":"IFERROR(VLOOKUP($A46,계획서_4분기!$A:$X,13,0),\"\")","v":8},0,{"$f":"IFERROR(VLOOKUP($A46,계획서_4분기!$A:$X,15,0),\"\")","v":0},0,{"$f":"INT(SUMIFS('설정_In-Put'!$K:$K,'설정_In-Put'!$C:$C,$A46)*24)","v":0},{"$f":"ROUND((SUMIFS('설정_In-Put'!$K:$K,'설정_In-Put'!$C:$C,$A46)*24-Q46)*60,0)","v":0},null,null,0,0,{"$f":"IF(SUMIFS('10월'!$AA$26:$AA$56,'10월'!$L$26:$L$56,$L46)+SUMIFS('11월'!$AA$26:$AA$56,'11월'!$L$26:$L$56,$L46)+SUMIFS('12월'!$AA$26:$AA$56,'12월'!$L$26:$L$56,$L46)>3120,1,IF($A46=\"\",\"\",IF(OR($E46=\"일\",$F46<>\"\"),1,0)*IF(S46+T46<>0,1,0)))","v":0},{"$f":"IFERROR(VLOOKUP($A46&1,'설정_In-Put'!$B:$L,11,0)*24,\"\")","v":""},null,null,0,0,0]
["2018-12-22",1,1,22,"토",{"$f":"IFERROR(VLOOKUP($A47,'관리자 Setting'!$K$6:$M$36,3,0),\"\")","v":""},null,null,{"$f":"IFERROR(IF(OR(E47=\"토\",E47=\"일\",F47<>\"\"),\"\",VLOOKUP(A47&0,'설정_In-Put'!$A:$L,6,0)),\"\")","v":""},null,4,51,{"$f":"IFERROR(VLOOKUP($A47,계획서_4분기!$A:$X,13,0),\"\")","v":0},0,{"$f":"IFERROR(VLOOKUP($A47,계획서_4분기!$A:$X,15,0),\"\")","v":0},0,{"$f":"INT(SUMIFS('설정_In-Put'!$K:$K,'설정_In-Put'!$C:$C,$A47)*24)","v":0},{"$f":"ROUND((SUMIFS('설정_In-Put'!$K:$K,'설정_In-Put'!$C:$C,$A47)*24-Q47)*60,0)","v":0},null,null,0,0,{"$f":"IF(SUMIFS('10월'!$AA$26:$AA$56,'10월'!$L$26:$L$56,$L47)+SUMIFS('11월'!$AA$26:$AA$56,'11월'!$L$26:$L$56,$L47)+SUMIFS('12월'!$AA$26:$AA$56,'12월'!$L$26:$L$56,$L47)>3120,1,IF($A47=\"\",\"\",IF(OR($E47=\"일\",$F47<>\"\"),1,0)*IF(S47+T47<>0,1,0)))","v":0},{"$f":"IFERROR(VLOOKUP($A47&1,'설정_In-Put'!$B:$L,11,0)*24,\"\")","v":""},null,null,0,0,0]
["2018-12-23",0,0,23,"일",{"$f":"IFERROR(VLOOKUP($A48,'관리자 Setting'!$K$6:$M$36,3,0),\"\")","v":""},null,null,{"$f":"IFERROR(IF(OR(E48=\"토\",E48=\"일\",F48<>\"\"),\"\",VLOOKUP(A48&0,'설정_In-Put'!$A:$L,6,0)),\"\")","v":""},null,4,51,{"$f":"IFERROR(VLOOKUP($A48,계획서_4분기!$A:$X,13,0),\"\")","v":0},0,{"$f":"IFERROR(VLOOKUP($A48,계획서_4분기!$A:$X,15,0),\"\")","v":0},0,{"$f":"INT(SUMIFS('설정_In-Put'!$K:$K,'설정_In-Put'!$C:$C,$A48)*24)","v":0},{"$f":"ROUND((SUMIFS('설정_In-Put'!$K:$K,'설정_In-Put'!$C:$C,$A48)*24-Q48)*60,0)","v":0},null,null,0,0,{"$f":"IF(SUMIFS('10월'!$AA$26:$AA$56,'10월'!$L$26:$L$56,$L48)+SUMIFS('11월'!$AA$26:$AA$56,'11월'!$L$26:$L$56,$L48)+SUMIFS('12월'!$AA$26:$AA$56,'12월'!$L$26:$L$56,$L48)>3120,1,IF($A48=\"\",\"\",IF(OR($E48=\"일\",$F48<>\"\"),1,0)*IF(S48+T48<>0,1,0)))","v":0},{"$f":"IFERROR(VLOOKUP($A48&1,'설정_In-Put'!$B:$L,11,0)*24,\"\")","v":""},null,null,0,0,0]
["2018-12-24",1,1,24,"월",{"$f":"IFERROR(VLOOKUP($A49,'관리자 Setting'!$K$6:$M$36,3,0),\"\")","v":""},null,null,{"$f":"IFERROR(IF(OR(E49=\"토\",E49=\"일\",F49<>\"\"),\"\",VLOOKUP(A49&0,'설정_In-Put'!$A:$L,6,0)),\"\")","v":""},null,5,52,{"$f":"IFERROR(VLOOKUP($A49,계획서_4분기!$A:$X,13,0),\"\")","v":8},0,{"$f":"IFERROR(VLOOKUP($A49,계획서_4분기!$A:$X,15,0),\"\")","v":0},0,{"$f":"INT(SUMIFS('설정_In-Put'!$K:$K,'설정_In-Put'!$C:$C,$A49)*24)","v":0},{"$f":"ROUND((SUMIFS('설정_In-Put'!$K:$K,'설정_In-Put'!$C:$C,$A49)*24-Q49)*60,0)","v":0},null,null,0,0,{"$f":"IF(SUMIFS('10월'!$AA$26:$AA$56,'10월'!$L$26:$L$56,$L49)+SUMIFS('11월'!$AA$26:$AA$56,'11월'!$L$26:$L$56,$L49)+SUMIFS('12월'!$AA$26:$AA$56,'12월'!$L$26:$L$56,$L49)>3120,1,IF($A49=\"\",\"\",IF(OR($E49=\"일\",$F49<>\"\"),1,0)*IF(S49+T49<>0,1,0)))","v":0},{"$f":"IFERROR(VLOOKUP($A49&1,'설정_In-Put'!$B:$L,11,0)*24,\"\")","v":""},null,null,0,0,0]
["2018-12-25",0,0,25,"화",{"$f":"IFERROR(VLOOKUP($A50,'관리자 Setting'!$K$6:$M$36,3,0),\"\")","v":"크리스마스"},null,null,{"$f":"IFERROR(IF(OR(E50=\"토\",E50=\"일\",F50<>\"\"),\"\",VLOOKUP(A50&0,'설정_In-Put'!$A:$L,6,0)),\"\")","v":""},null,5,52,{"$f":"IFERROR(VLOOKUP($A50,계획서_4분기!$A:$X,13,0),\"\")","v":0},0,{"$f":"IFERROR(VLOOKUP($A50,계획서_4분기!$A:$X,15,0),\"\")","v":0},0,{"$f":"INT(SUMIFS('설정_In-Put'!$K:$K,'설정_In-Put'!$C:$C,$A50)*24)","v":0},{"$f":"ROUND((SUMIFS('설정_In-Put'!$K:$K,'설정_In-Put'!$C:$C,$A50)*24-Q50)*60,0)","v":0},null,null,0,0,{"$f":"IF(SUMIFS('10월'!$AA$26:$AA$56,'10월'!$L$26:$L$56,$L50)+SUMIFS('11월'!$AA$26:$AA$56,'11월'!$L$26:$L$56,$L50)+SUMIFS('12월'!$AA$26:$AA$56,'12월'!$L$26:$L$56,$L50)>3120,1,IF($A50=\"\",\"\",IF(OR($E50=\"일\",$F50<>\"\"),1,0)*IF(S50+T50<>0,1,0)))","v":0},{"$f":"IFERROR(VLOOKUP($A50&1,'설정_In-Put'!$B:$L,11,0)*24,\"\")","v":""},null,null,0,0,0]
["2018-12-26",1,1,26,"수",{"$f":"IFERROR(VLOOKUP($A51,'관리자 Setting'!$K$6:$M$36,3,0),\"\")","v":""},null,null,{"$f":"IFERROR(IF(OR(E51=\"토\",E51=\"일\",F51<>\"\"),\"\",VLOOKUP(A51&0,'설정_In-Put'!$A:$L,6,0)),\"\")","v":""},null,5,52,{"$f":"IFERROR(VLOOKUP($A51,계획서_4분기!$A:$X,13,0),\"\")","v":8},0,{"$f":"IFERROR(VLOOKUP($A51,계획서_4분기!$A:$X,15,0),\"\")","v":0},0,{"$f":"INT(SUMIFS('설정_In-Put'!$K:$K,'설정_In-Put'!$C:$C,$A51)*24)","v":0},{"$f":"ROUND((SUMIFS('설정_In-Put'!$K:$K,'설정_In-Put'!$C:$C,$A51)*24-Q51)*60,0)","v":0},null,null,0,0,{"$f":"IF(SUMIFS('10월'!$AA$26:$AA$56,'10월'!$L$26:$L$56,$L51)+SUMIFS('11월'!$AA$26:$AA$56,'11월'!$L$26:$L$56,$L51)+SUMIFS('12월'!$AA$26:$AA$56,'12월'!$L$26:$L$56,$L51)>3120,1,IF($A51=\"\",\"\",IF(OR($E51=\"일\",$F51<>\"\"),1,0)*IF(S51+T51<>0,1,0)))","v":0},{"$f":"IFERROR(VLOOKUP($A51&1,'설정_In-Put'!$B:$L,11,0)*24,\"\")","v":""},null,null,0,0,0]
[{"$f":"IF(A51+1>EOMONTH($A$26,0),\"\",A51+1)","v":"2018-12-27"},1,1,27,"목",{"$f":"IFERROR(VLOOKUP($A52,'관리자 Setting'!$K$6:$M$36,3,0),\"\")","v":""},null,null,{"$f":"IFERROR(IF(OR(E52=\"토\",E52=\"일\",F52<>\"\"),\"\",VLOOKUP(A52&0,'설정_In-Put'!$A:$L,6,0)),\"\")","v":""},null,5,52,{"$f":"IFERROR(VLOOKUP($A52,계획서_4분기!$A:$X,13,0),\"\")","v":8},0,{"$f":"IFERROR(VLOOKUP($A52,계획서_4분기!$A:$X,15,0),\"\")","v":0},0,{"$f":"INT(SUMIFS('설정_In-Put'!$K:$K,'설정_In-Put'!$C:$C,$A52)*24)","v":0},{"$f":"ROUND((SUMIFS('설정_In-Put'!$K:$K,'설정_In-Put'!$C:$C,$A52)*24-Q52)*60,0)","v":0},null,null,0,0,{"$f":"IF(SUMIFS('10월'!$AA$26:$AA$56,'10월'!$L$26:$L$56,$L52)+SUMIFS('11월'!$AA$26:$AA$56,'11월'!$L$26:$L$56,$L52)+SUMIFS('12월'!$AA$26:$AA$56,'12월'!$L$26:$L$56,$L52)>3120,1,IF($A52=\"\",\"\",IF(OR($E52=\"일\",$F52<>\"\"),1,0)*IF(S52+T52<>0,1,0)))","v":0},{"$f":"IFERROR(VLOOKUP($A52&1,'설정_In-Put'!$B:$L,11,0)*24,\"\")","v":""},null,null,0,0,0]
[{"$f":"IFERROR(IF(A52+1>EOMONTH($A$26,0),\"\",A52+1),\"\")","v":"2018-12-28"},1,1,28,"금",{"$f":"IFERROR(VLOOKUP($A53,'관리자 Setting'!$K$6:$M$36,3,0),\"\")","v":""},null,null,{"$f":"IFERROR(IF(OR(E53=\"토\",E53=\"일\",F53<>\"\"),\"\",VLOOKUP(A53&0,'설정_In-Put'!$A:$L,6,0)),\"\")","v":""},null,5,52,{"$f":"IFERROR(VLOOKUP($A53,계획서_4분기!$A:$X,13,0),\"\")","v":8},0,{"$f":"IFERROR(VLOOKUP($A53,계획서_4분기!$A:$X,15,0),\"\")","v":0},0,{"$f":"INT(SUMIFS('설정_In-Put'!$K:$K,'설정_In-Put'!$C:$C,$A53)*24)","v":0},{"$f":"ROUND((SUMIFS('설정_In-Put'!$K:$K,'설정_In-Put'!$C:$C,$A53)*24-Q53)*60,0)","v":0},null,null,0,0,{"$f":"IF(SUMIFS('10월'!$AA$26:$AA$56,'10월'!$L$26:$L$56,$L53)+SUMIFS('11월'!$AA$26:$AA$56,'11월'!$L$26:$L$56,$L53)+SUMIFS('12월'!$AA$26:$AA$56,'12월'!$L$26:$L$56,$L53)>3120,1,IF($A53=\"\",\"\",IF(OR($E53=\"일\",$F53<>\"\"),1,0)*IF(S53+T53<>0,1,0)))","v":0},{"$f":"IFERROR(VLOOKUP($A53&1,'설정_In-Put'!$B:$L,11,0)*24,\"\")","v":""},null,null,0,0,0]
[{"$f":"IFERROR(IF(A53+1>EOMONTH($A$26,0),\"\",A53+1),\"\")","v":"2018-12-29"},1,1,29,"토",{"$f":"IFERROR(VLOOKUP($A54,'관리자 Setting'!$K$6:$M$36,3,0),\"\")","v":""},null,null,{"$f":"IFERROR(IF(OR(E54=\"토\",E54=\"일\",F54<>\"\"),\"\",VLOOKUP(A54&0,'설정_In-Put'!$A:$L,6,0)),\"\")","v":""},null,5,52,{"$f":"IFERROR(VLOOKUP($A54,계획서_4분기!$A:$X,13,0),\"\")","v":0},0,{"$f":"IFERROR(VLOOKUP($A54,계획서_4분기!$A:$X,15,0),\"\")","v":0},0,{"$f":"INT(SUMIFS('설정_In-Put'!$K:$K,'설정_In-Put'!$C:$C,$A54)*24)","v":0},{"$f":"ROUND((SUMIFS('설정_In-Put'!$K:$K,'설정_In-Put'!$C:$C,$A54)*24-Q54)*60,0)","v":0},null,null,0,0,{"$f":"IF(SUMIFS('10월'!$AA$26:$AA$56,'10월'!$L$26:$L$56,$L54)+SUMIFS('11월'!$AA$26:$AA$56,'11월'!$L$26:$L$56,$L54)+SUMIFS('12월'!$AA$26:$AA$56,'12월'!$L$26:$L$56,$L54)>3120,1,IF($A54=\"\",\"\",IF(OR($E54=\"일\",$F54<>\"\"),1,0)*IF(S54+T54<>0,1,0)))","v":0},{"$f":"IFERROR(VLOOKUP($A54&1,'설정_In-Put'!$B:$L,11,0)*24,\"\")","v":""},null,null,0,0,0]
[{"$f":"IFERROR(IF(A54+1>EOMONTH($A$26,0),\"\",A54+1),\"\")","v":"2018-12-30"},0,0,30,"일",{"$f":"IFERROR(VLOOKUP($A55,'관리자 Setting'!$K$6:$M$36,3,0),\"\")","v":""},null,null,{"$f":"IFERROR(IF(OR(E55=\"토\",E55=\"일\",F55<>\"\"),\"\",VLOOKUP(A55&0,'설정_In-Put'!$A:$L,6,0)),\"\")","v":""},null,5,52,{"$f":"IFERROR(VLOOKUP($A55,계획서_4분기!$A:$X,13,0),\"\")","v":0},0,{"$f":"IFERROR(VLOOKUP($A55,계획서_4분기!$A:$X,15,0),\"\")","v":0},0,{"$f":"INT(SUMIFS('설정_In-Put'!$K:$K,'설정_In-Put'!$C:$C,$A55)*24)","v":0},{"$f":"ROUND((SUMIFS('설정_In-Put'!$K:$K,'설정_In-Put'!$C:$C,$A55)*24-Q55)*60,0)","v":0},null,null,0,0,{"$f":"IF(SUMIFS('10월'!$AA$26:$AA$56,'10월'!$L$26:$L$56,$L55)+SUMIFS('11월'!$AA$26:$AA$56,'11월'!$L$26:$L$56,$L55)+SUMIFS('12월'!$AA$26:$AA$56,'12월'!$L$26:$L$56,$L55)>3120,1,IF($A55=\"\",\"\",IF(OR($E55=\"일\",$F55<>\"\"),1,0)*IF(S55+T55<>0,1,0)))","v":0},{"$f":"IFERROR(VLOOKUP($A55&1,'설정_In-Put'!$B:$L,11,0)*24,\"\")","v":""},null,null,0,0,0]
["2018-12-31",1,1,31,"월",{"$f":"IFERROR(VLOOKUP($A56,'관리자 Setting'!$K$6:$M$36,3,0),\"\")","v":""},null,null,{"$f":"IFERROR(IF(OR(E56=\"토\",E56=\"일\",F56<>\"\"),\"\",VLOOKUP(A56&0,'설정_In-Put'!$A:$L,6,0)),\"\")","v":""},null,6,53,{"$f":"IFERROR(VLOOKUP($A56,계획서_4분기!$A:$X,13,0),\"\")","v":8},0,{"$f":"IFERROR(VLOOKUP($A56,계획서_4분기!$A:$X,15,0),\"\")","v":0},0,{"$f":"INT(SUMIFS('설정_In-Put'!$K:$K,'설정_In-Put'!$C:$C,$A56)*24)","v":0},{"$f":"ROUND((SUMIFS('설정_In-Put'!$K:$K,'설정_In-Put'!$C:$C,$A56)*24-Q56)*60,0)","v":0},null,null,0,0,{"$f":"IF(SUMIFS('10월'!$AA$26:$AA$56,'10월'!$L$26:$L$56,$L56)+SUMIFS('11월'!$AA$26:$AA$56,'11월'!$L$26:$L$56,$L56)+SUMIFS('12월'!$AA$26:$AA$56,'12월'!$L$26:$L$56,$L56)>3120,1,IF($A56=\"\",\"\",IF(OR($E56=\"일\",$F56<>\"\"),1,0)*IF(S56+T56<>0,1,0)))","v":0},{"$f":"IFERROR(VLOOKUP($A56&1,'설정_In-Put'!$B:$L,11,0)*24,\"\")","v":""},null,null,0,0,0]

{"sheet":"연간 현황","index":19,"n_rows":90,"n_cols":28,"rows_kept":90,"merged":[[1,3,2,23],[4,3,5,3],[4,4,5,6],[4,7,5,8],[4,9,5,11],[4,12,5,13],[4,14,5,15],[4,16,5,17],[4,18,5,19],[4,20,5,21],[4,22,5,23],[7,3,7,23],[8,3,10,4],[8,5,8,12],[8,13,8,20],[8,21,10,23],[9,5,9,8],[9,9,9,12],[9,13,9,16],[9,17,9,20],[10,5,10,6],[10,7,10,8],[10,9,10,10],[10,11,10,12],[10,13,10,14],[10,15,10,16],[10,17,10,18],[10,19,10,20],[11,3,11,4],[11,5,11,6],[11,7,11,8],[11,9,11,10],[11,11,11,12],[11,13,11,14],[11,15,11,16],[11,17,11,18],[11,19,11,20],[11,21,11,23],[12,3,12,4],[12,5,12,6],[12,7,12,8],[12,9,12,10],[12,11,12,12],[12,13,12,14],[12,15,12,16],[12,17,12,18],[12,19,12,20],[12,21,12,23],[13,3,13,4],[13,5,13,6],[13,7,13,8],[13,9,13,10],[13,11,13,12],[13,13,13,14],[13,15,13,16],[13,17,13,18],[13,19,13,20],[13,21,13,23],[14,3,14,4],[14,5,14,6],[14,7,14,8],[14,9,14,10],[14,11,14,12],[14,13,14,14],[14,15,14,16],[14,17,14,18],[14,19,14,20],[14,21,14,23],[16,3,16,23],[17,3,19,4],[17,5,17,12],[17,13,17,20],[17,21,19,23],[18,5,18,8],[18,9,18,12],[18,13,18,16],[18,17,18,20],[19,5,19,6],[19,7,19,8],[19,9,19,10],[19,11,19,12],[19,13,19,14],[19,15,19,16],[19,17,19,18],[19,19,19,20],[20,3,20,4],[20,5,20,6],[20,7,20,8],[20,9,20,10],[20,11,20,12],[20,13,20,14],[20,15,20,16],[20,17,20,18],[20,19,20,20],[20,21,20,23],[21,3,21,4],[21,5,21,6],[21,7,21,8],[21,9,21,10],[21,11,21,12],[21,13,21,14],[21,15,21,16],[21,17,21,18],[21,19,21,20],[21,21,21,23],[22,3,22,4],[22,5,22,6],[22,7,22,8],[22,9,22,10],[22,11,22,12],[22,13,22,14],[22,15,22,16],[22,17,22,18],[22,19,22,20],[22,21,22,23],[23,3,23,4],[23,5,23,6],[23,7,23,8],[23,9,23,10],[23,11,23,12],[23,13,23,14],[23,15,23,16],[23,17,23,18],[23,19,23,20],[23,21,23,23],[24,3,24,4],[24,5,24,6],[24,7,24,8],[24,9,24,10],[24,11,24,12],[24,13,24,14],[24,15,24,16],[24,17,24,18],[24,19,24,20],[24,21,24,23],[25,3,25,4],[25,5,25,6],[25,7,25,8],[25,9,25,10],[25,11,25,12],[25,13,25,14],[25,15,25,16],[25,17,25,18],[25,19,25,20],[25,21,25,23],[26,3,26,4],[26,5,26,6],[26,7,26,8],[26,9,26,10],[26,11,26,12],[26,13,26,14],[26,15,26,16],[26,17,26,18],[26,19,26,20],[26,21,26,23],[27,3,27,4],[27,5,27,6],[27,7,27,8],[27,9,27,10],[27,11,27,12],[27,13,27,14],[27,15,27,16],[27,17,27,18],[27,19,27,20],[27,21,27,23],[28,3,28,4],[28,5,28,6],[28,7,28,8],[28,9,28,10],[28,11,28,12],[28,13,28,14],[28,15,28,16],[28,17,28,18],[28,19,28,20],[28,21,28,23],[29,3,29,4],[29,5,29,6],[29,7,29,8],[29,9,29,10],[29,11,29,12],[29,13,29,14],[29,15,29,16],[29,17,29,18],[29,19,29,20],[29,21,29,23],[30,3,30,4],[30,5,30,6],[30,7,30,8],[30,9,30,10],[30,11,30,12],[30,13,30,14],[30,15,30,16],[30,17,30,18],[30,19,30,20],[30,21,30,23],[31,3,31,4],[31,5,31,6],[31,7,31,8],[31,9,31,10],[31,11,31,12],[31,13,31,14],[31,15,31,16],[31,17,31,18],[31,19,31,20],[31,21,31,23],[33,3,33,23],[34,3,36,4],[34,5,34,12],[34,13,34,20],[34,21,36,23],[35,5,35,8],[35,9,35,12],[35,13,35,16],[35,17,35,20],[36,5,36,6],[36,7,36,8],[36,9,36,10],[36,11,36,12],[36,13,36,14],[36,15,36,16],[36,17,36,18],[36,19,36,20],[37,3,37,4],[37,5,37,6],[37,7,37,8],[37,9,37,10],[37,11,37,12],[37,13,37,14],[37,15,37,16],[37,17,37,18],[37,19,37,20],[37,21,37,23],[38,3,38,4],[38,5,38,6],[38,7,38,8],[38,9,38,10],[38,11,38,12],[38,13,38,14],[38,15,38,16],[38,17,38,18],[38,19,38,20],[38,21,38,23],[39,3,39,4],[39,5,39,6],[39,7,39,8],[39,9,39,10],[39,11,39,12],[39,13,39,14],[39,15,39,16],[39,17,39,18],[39,19,39,20],[39,21,39,23],[40,3,40,4],[40,5,40,6],[40,7,40,8],[40,9,40,10],[40,11,40,12],[40,13,40,14],[40,15,40,16],[40,17,40,18],[40,19,40,20],[40,21,40,23],[41,3,41,4],[41,5,41,6],[41,7,41,8],[41,9,41,10],[41,11,41,12],[41,13,41,14],[41,15,41,16],[41,17,41,18],[41,19,41,20],[41,21,41,23],[42,3,42,4],[42,5,42,6],[42,7,42,8],[42,9,42,10],[42,11,42,12],[42,13,42,14],[42,15,42,16],[42,17,42,18],[42,19,42,20],[42,21,42,23],[43,3,43,4],[43,5,43,6],[43,7,43,8],[43,9,43,10],[43,11,43,12],[43,13,43,14],[43,15,43,16],[43,17,43,18],[43,19,43,20],[43,21,43,23],[44,3,44,4],[44,5,44,6],[44,7,44,8],[44,9,44,10],[44,11,44,12],[44,13,44,14],[44,15,44,16],[44,17,44,18],[44,19,44,20],[44,21,44,23],[45,3,45,4],[45,5,45,6],[45,7,45,8],[45,9,45,10],[45,11,45,12],[45,13,45,14],[45,15,45,16],[45,17,45,18],[45,19,45,20],[45,21,45,23],[46,3,46,4],[46,5,46,6],[46,7,46,8],[46,9,46,10],[46,11,46,12],[46,13,46,14],[46,15,46,16],[46,17,46,18],[46,19,46,20],[46,21,46,23],[47,3,47,4],[47,5,47,6],[47,7,47,8],[47,9,47,10],[47,11,47,12],[47,13,47,14],[47,15,47,16],[47,17,47,18],[47,19,47,20],[47,21,47,23],[48,3,48,4],[48,5,48,6],[48,7,48,8],[48,9,48,10],[48,11,48,12],[48,13,48,14],[48,15,48,16],[48,17,48,18],[48,19,48,20],[48,21,48,23],[49,3,49,4],[49,5,49,6],[49,7,49,8],[49,9,49,10],[49,11,49,12],[49,13,49,14],[49,15,49,16],[49,17,49,18],[49,19,49,20],[49,21,49,23],[50,3,50,4],[50,5,50,6],[50,7,50,8],[50,9,50,10],[50,11,50,12],[50,13,50,14],[50,15,50,16],[50,17,50,18],[50,19,50,20],[50,21,50,23],[51,3,51,4],[51,5,51,6],[51,7,51,8],[51,9,51,10],[51,11,51,12],[51,13,51,14],[51,15,51,16],[51,17,51,18],[51,19,51,20],[51,21,51,23],[52,3,52,4],[52,5,52,6],[52,7,52,8],[52,9,52,10],[52,11,52,12],[52,13,52,14],[52,15,52,16],[52,17,52,18],[52,19,52,20],[52,21,52,23],[53,3,53,4],[53,5,53,6],[53,7,53,8],[53,9,53,10],[53,11,53,12],[53,13,53,14],[53,15,53,16],[53,17,53,18],[53,19,53,20],[53,21,53,23],[54,3,54,4],[54,5,54,6],[54,7,54,8],[54,9,54,10],[54,11,54,12],[54,13,54,14],[54,15,54,16],[54,17,54,18],[54,19,54,20],[54,21,54,23],[55,3,55,4],[55,5,55,6],[55,7,55,8],[55,9,55,10],[55,11,55,12],[55,13,55,14],[55,15,55,16],[55,17,55,18],[55,19,55,20],[55,21,55,23],[56,3,56,4],[56,5,56,6],[56,7,56,8],[56,9,56,10],[56,11,56,12],[56,13,56,14],[56,15,56,16],[56,17,56,18],[56,19,56,20],[56,21,56,23],[57,3,57,4],[57,5,57,6],[57,7,57,8],[57,9,57,10],[57,11,57,12],[57,13,57,14],[57,15,57,16],[57,17,57,18],[57,19,57,20],[57,21,57,23],[58,3,58,4],[58,5,58,6],[58,7,58,8],[58,9,58,10],[58,11,58,12],[58,13,58,14],[58,15,58,16],[58,17,58,18],[58,19,58,20],[58,21,58,23],[59,3,59,4],[59,5,59,6],[59,7,59,8],[59,9,59,10],[59,11,59,12],[59,13,59,14],[59,15,59,16],[59,17,59,18],[59,19,59,20],[59,21,59,23],[60,3,60,4],[60,5,60,6],[60,7,60,8],[60,9,60,10],[60,11,60,12],[60,13,60,14],[60,15,60,16],[60,17,60,18],[60,19,60,20],[60,21,60,23],[61,3,61,4],[61,5,61,6],[61,7,61,8],[61,9,61,10],[61,11,61,12],[61,13,61,14],[61,15,61,16],[61,17,61,18],[61,19,61,20],[61,21,61,23],[62,3,62,4],[62,5,62,6],[62,7,62,8],[62,9,62,10],[62,11,62,12],[62,13,62,14],[62,15,62,16],[62,17,62,18],[62,19,62,20],[62,21,62,23],[63,3,63,4],[63,5,63,6],[63,7,63,8],[63,9,63,10],[63,11,63,12],[63,13,63,14],[63,15,63,16],[63,17,63,18],[63,19,63,20],[63,21,63,23],[64,3,64,4],[64,5,64,6],[64,7,64,8],[64,9,64,10],[64,11,64,12],[64,13,64,14],[64,15,64,16],[64,17,64,18],[64,19,64,20],[64,21,64,23],[65,3,65,4],[65,5,65,6],[65,7,65,8],[65,9,65,10],[65,11,65,12],[65,13,65,14],[65,15,65,16],[65,17,65,18],[65,19,65,20],[65,21,65,23],[66,3,66,4],[66,5,66,6],[66,7,66,8],[66,9,66,10],[66,11,66,12],[66,13,66,14],[66,15,66,16],[66,17,66,18],[66,19,66,20],[66,21,66,23],[67,3,67,4],[67,5,67,6],[67,7,67,8],[67,9,67,10],[67,11,67,12],[67,13,67,14],[67,15,67,16],[67,17,67,18],[67,19,67,20],[67,21,67,23],[68,3,68,4],[68,5,68,6],[68,7,68,8],[68,9,68,10],[68,11,68,12],[68,13,68,14],[68,15,68,16],[68,17,68,18],[68,19,68,20],[68,21,68,23],[69,3,69,4],[69,5,69,6],[69,7,69,8],[69,9,69,10],[69,11,69,12],[69,13,69,14],[69,15,69,16],[69,17,69,18],[69,19,69,20],[69,21,69,23],[70,3,70,4],[70,5,70,6],[70,7,70,8],[70,9,70,10],[70,11,70,12],[70,13,70,14],[70,15,70,16],[70,17,70,18],[70,19,70,20],[70,21,70,23],[71,3,71,4],[71,5,71,6],[71,7,71,8],[71,9,71,10],[71,11,71,12],[71,13,71,14],[71,15,71,16],[71,17,71,18],[71,19,71,20],[71,21,71,23],[72,3,72,4],[72,5,72,6],[72,7,72,8],[72,9,72,10],[72,11,72,12],[72,13,72,14],[72,15,72,16],[72,17,72,18],[72,19,72,20],[72,21,72,23],[73,3,73,4],[73,5,73,6],[73,7,73,8],[73,9,73,10],[73,11,73,12],[73,13,73,14],[73,15,73,16],[73,17,73,18],[73,19,73,20],[73,21,73,23],[74,3,74,4],[74,5,74,6],[74,7,74,8],[74,9,74,10],[74,11,74,12],[74,13,74,14],[74,15,74,16],[74,17,74,18],[74,19,74,20],[74,21,74,23],[75,3,75,4],[75,5,75,6],[75,7,75,8],[75,9,75,10],[75,11,75,12],[75,13,75,14],[75,15,75,16],[75,17,75,18],[75,19,75,20],[75,21,75,23],[76,3,76,4],[76,5,76,6],[76,7,76,8],[76,9,76,10],[76,11,76,12],[76,13,76,14],[76,15,76,16],[76,17,76,18],[76,19,76,20],[76,21,76,23],[77,3,77,4],[77,5,77,6],[77,7,77,8],[77,9,77,10],[77,11,77,12],[77,13,77,14],[77,15,77,16],[77,17,77,18],[77,19,77,20],[77,21,77,23],[78,3,78,4],[78,5,78,6],[78,7,78,8],[78,9,78,10],[78,11,78,12],[78,13,78,14],[78,15,78,16],[78,17,78,18],[78,19,78,20],[78,21,78,23],[79,3,79,4],[79,5,79,6],[79,7,79,8],[79,9,79,10],[79,11,79,12],[79,13,79,14],[79,15,79,16],[79,17,79,18],[79,19,79,20],[79,21,79,23],[80,3,80,4],[80,5,80,6],[80,7,80,8],[80,9,80,10],[80,11,80,12],[80,13,80,14],[80,15,80,16],[80,17,80,18],[80,19,80,20],[80,21,80,23],[81,3,81,4],[81,5,81,6],[81,7,81,8],[81,9,81,10],[81,11,81,12],[81,13,81,14],[81,15,81,16],[81,17,81,18],[81,19,81,20],[81,21,81,23],[82,3,82,4],[82,5,82,6],[82,7,82,8],[82,9,82,10],[82,11,82,12],[82,13,82,14],[82,15,82,16],[82,17,82,18],[82,19,82,20],[82,21,82,23],[83,3,83,4],[83,5,83,6],[83,7,83,8],[83,9,83,10],[83,11,83,12],[83,13,83,14],[83,15,83,16],[83,17,83,18],[83,19,83,20],[83,21,83,23],[84,3,84,4],[84,5,84,6],[84,7,84,8],[84,9,84,10],[84,11,84,12],[84,13,84,14],[84,15,84,16],[84,17,84,18],[84,19,84,20],[84,21,84,23],[85,3,85,4],[85,5,85,6],[85,7,85,8],[85,9,85,10],[85,11,85,12],[85,13,85,14],[85,15,85,16],[85,17,85,18],[85,19,85,20],[85,21,85,23],[86,3,86,4],[86,5,86,6],[86,7,86,8],[86,9,86,10],[86,11,86,12],[86,13,86,14],[86,15,86,16],[86,17,86,18],[86,19,86,20],[86,21,86,23],[87,3,87,4],[87,5,87,6],[87,7,87,8],[87,9,87,10],[87,11,87,12],[87,13,87,14],[87,15,87,16],[87,17,87,18],[87,19,87,20],[87,21,87,23],[88,3,88,4],[88,5,88,6],[88,7,88,8],[88,9,88,10],[88,11,88,12],[88,13,88,14],[88,15,88,16],[88,17,88,18],[88,19,88,20],[88,21,88,23],[89,3,89,4],[89,5,89,6],[89,7,89,8],[89,9,89,10],[89,11,89,12],[89,13,89,14],[89,15,89,16],[89,17,89,18],[89,19,89,20],[89,21,89,23]]}
[]
[{"$nulls":3},{"$f":"'관리자 Setting'!$R$3&\"년 연간 근태 현황\"","v":"2018년 연간 근태 현황"}]
[]
[]
[{"$nulls":3},"소속","무한도전",null,null,"부서명",null,{"$f":"IFERROR(VLOOKUP($W$5,'관리자 Setting'!$C$4:$G$53,4,0),\"\")","v":"무한본부"},null,null,"직급",null,{"$f":"IFERROR(VLOOKUP($W$5,'관리자 Setting'!$C$4:$G$53,3,0),\"\")","v":"1급"},null,"ERP 사번",null,{"$f":"IFERROR(VLOOKUP($W$5,'관리자 Setting'!$C$4:$G$53,2,0),\"\")","v":"0002"},null,"성명",null,"박명수"]
[]
[]
[{"$nulls":3},"───────────────　　분　기　별　근　무　현　황　　───────────────"]
[{"$nulls":3},"구분",null,"근무 계획",{"$nulls":7},"근무 현황",{"$nulls":7},"CHK"]
[{"$nulls":5},"정규 근로 시간 (합계)",{"$nulls":3},"연장 근로 시간 (평균)",{"$nulls":3},"정규 근로 시간 (합계)",{"$nulls":3},"연장 근로 시간 (평균)"]
[{"$nulls":5},"시간",null,"분",null,"시간",null,"분",null,"시간",null,"분",null,"시간",null,"분"]
[{"$nulls":3},"1분기",null,{"$f":"계획서_1분기!K10","v":""},null,"0 분",null,{"$f":"INT(계획서_1분기!K11)","v":0},null,{"$f":"ROUND((계획서_1분기!K11-INT(계획서_1분기!K11))*60,0)","v":{"v":0,"d":"0 분"}},null,{"$f":"INT('3월'!$AA$11/60)","v":{"v":0,"d":"0 시간"}},null,{"$f":"ROUND(('3월'!$AA$11/60-INT('3월'!$AA$11/60))*60,0)","v":{"v":0,"d":"0 분"}},null,{"$f":"INT('3월'!$AA$12/60)","v":{"v":0,"d":"0 시간"}},null,{"$f":"ROUND(('3월'!$AA$12/60-INT('3월'!$AA$12/60))*60,0)","v":{"v":0,"d":"0 분"}},null,{"$f":"IF($W$5=\"\",\"\",IF(N12<'관리자 Setting'!$P7,\"정규 시간 부족\",IF(R12*60+T12>VLOOKUP($W$5,'관리자 Setting'!$C$3:$G$37,5,0)*60,\"연장 근로 초과\",\"\")))","v":"정규 시간 부족"}]
[{"$nulls":3},"2분기",null,{"$f":"계획서_2분기!K10","v":""},null,"0 분",null,{"$f":"INT(계획서_2분기!K11)","v":0},null,{"$f":"ROUND((계획서_2분기!K11-INT(계획서_2분기!K11))*60,0)","v":{"v":0,"d":"0 분"}},null,{"$f":"INT('6월'!$AA$11/60)","v":{"v":0,"d":"0 시간"}},null,{"$f":"ROUND(('6월'!$AA$11/60-INT('6월'!$AA$11/60))*60,0)","v":{"v":0,"d":"0 분"}},null,{"$f":"INT('6월'!$AA$12/60)","v":{"v":0,"d":"0 시간"}},null,{"$f":"ROUND(('6월'!$AA$12/60-INT('6월'!$AA$12/60))*60,0)","v":{"v":0,"d":"0 분"}},null,{"$f":"IF($W$5=\"\",\"\",IF(N13<'관리자 Setting'!$P8,\"정규 시간 부족\",IF(R13*60+T13>VLOOKUP($W$5,'관리자 Setting'!$C$3:$G$37,5,0)*60,\"연장 근로 초과\",\"\")))","v":"정규 시간 부족"}]
[{"$nulls":3},"3분기",null,{"$f":"계획서_3분기!K10","v":{"v":496,"d":"496 시간"}},null,"0 분",null,{"$f":"INT(계획서_3분기!K11)","v":0},null,{"$f":"ROUND((계획서_3분기!K11-INT(계획서_3분기!K11))*60,0)","v":{"v":0,"d":"0 분"}},null,{"$f":"INT('9월'!$AA$11/60)","v":{"v":176,"d":"176 시간"}},null,{"$f":"ROUND(('9월'!$AA$11/60-INT('9월'!$AA$11/60))*60,0)","v":{"v":0,"d":"0 분"}},null,{"$f":"INT('9월'!$AA$12/60)","v":{"v":10,"d":"10 시간"}},null,{"$f":"ROUND(('9월'!$AA$12/60-INT('9월'!$AA$12/60))*60,0)","v":{"v":19,"d":"19 분"}},null,{"$f":"IF($W$5=\"\",\"\",IF(N14<'관리자 Setting'!$P9,\"정규 시간 부족\",IF(R14*60+T14>VLOOKUP($W$5,'관리자 Setting'!$C$3:$G$37,5,0)*60,\"연장 근로 초과\",\"\")))","v":"정규 시간 부족"}]
[{"$nulls":3},"4분기",null,{"$f":"계획서_4분기!K10","v":{"v":472,"d":"472 시간"}},null,"0 분",null,{"$f":"INT(계획서_4분기!K11)","v":0},null,{"$f":"ROUND((계획서_4분기!K11-INT(계획서_4분기!K11))*60,0)","v":{"v":0,"d":"0 분"}},null,{"$f":"INT('12월'!$AA$11/60)","v":{"v":0,"d":"0 시간"}},null,{"$f":"ROUND(('12월'!$AA$11/60-INT('12월'!$AA$11/60))*60,0)","v":{"v":0,"d":"0 분"}},null,{"$f":"INT('12월'!$AA$12/60)","v":{"v":0,"d":"0 시간"}},null,{"$f":"ROUND(('12월'!$AA$12/60-INT('12월'!$AA$12/60))*60,0)","v":{"v":0,"d":"0 분"}},null,{"$f":"IF($W$5=\"\",\"\",IF(N15<'관리자 Setting'!$P10,\"정규 시간 부족\",IF(R15*60+T15>VLOOKUP($W$5,'관리자 Setting'!$C$3:$G$37,5,0)*60,\"연장 근로 초과\",\"\")))","v":"정규 시간 부족"}]
[]
[{"$nulls":3},"───────────────　　월　별　근　무　현　황　　───────────────"]
[{"$nulls":3},"구분",null,"근무 계획",{"$nulls":7},"근무 현황",{"$nulls":7},"CHK"]
[{"$nulls":5},"정규 근로 시간",{"$nulls":3},"연장 근로 시간",{"$nulls":3},"정규 근로 시간",{"$nulls":3},"연장 근로 시간"]
[{"$nulls":5},"시간",null,"분",null,"시간",null,"분",null,"시간",null,"분",null,"시간",null,"분"]
[{"$nulls":3},{"v":1,"d":"1월"},null,{"$f":"'1월'!$K$18","v":{"v":0,"d":"0 시간"}},null,"0 분",null,{"$f":"'1월'!$K$19","v":0},null,"0 분",null,{"$f":"'1월'!$O$18","v":{"v":0,"d":"0 시간"}},null,{"$f":"'1월'!$Q$18","v":{"v":0,"d":"0 분"}},null,{"$f":"'1월'!$O$19","v":{"v":0,"d":"0 시간"}},null,{"$f":"'1월'!$Q$19","v":{"v":0,"d":"0 분"}},null,{"$f":"IF(R21*60+T21>VLOOKUP($W$5,'관리자 Setting'!$C$3:$G$37,5,0)*60,\"연장 근로 초과\",\"\")","v":""}]
[{"$nulls":3},{"v":2,"d":"2월"},null,{"$f":"'2월'!$K$18","v":{"v":0,"d":"0 시간"}},null,"0 분",null,{"$f":"'2월'!$K$19","v":0},null,"0 분",null,{"$f":"'2월'!$O$18","v":{"v":0,"d":"0 시간"}},null,{"$f":"'2월'!$Q$18","v":{"v":0,"d":"0 분"}},null,{"$f":"'2월'!$O$19","v":{"v":0,"d":"0 시간"}},null,{"$f":"'2월'!$Q$19","v":{"v":0,"d":"0 분"}},null,{"$f":"IF(R22*60+T22>VLOOKUP($W$5,'관리자 Setting'!$C$3:$G$37,5,0)*60,\"연장 근로 초과\",\"\")","v":""}]
[{"$nulls":3},{"v":3,"d":"3월"},null,{"$f":"'3월'!$K$18","v":{"v":0,"d":"0 시간"}},null,"0 분",null,{"$f":"'3월'!$K$19","v":0},null,"0 분",null,{"$f":"'3월'!$O$18","v":{"v":0,"d":"0 시간"}},null,{"$f":"'3월'!$Q$18","v":{"v":0,"d":"0 분"}},null,{"$f":"'3월'!$O$19","v":{"v":0,"d":"0 시간"}},null,{"$f":"'3월'!$Q$19","v":{"v":0,"d":"0 분"}},null,{"$f":"IF(R23*60+T23>VLOOKUP($W$5,'관리자 Setting'!$C$3:$G$37,5,0)*60,\"연장 근로 초과\",\"\")","v":""}]
[{"$nulls":3},{"v":4,"d":"4월"},null,{"$f":"'4월'!$K$18","v":{"v":0,"d":"0 시간"}},null,"0 분",null,{"$f":"'4월'!$K$19","v":0},null,"0 분",null,{"$f":"'4월'!$O$18","v":{"v":0,"d":"0 시간"}},null,{"$f":"'4월'!$Q$18","v":{"v":0,"d":"0 분"}},null,{"$f":"'4월'!$O$19","v":{"v":0,"d":"0 시간"}},null,{"$f":"'4월'!$Q$19","v":{"v":0,"d":"0 분"}},null,{"$f":"IF(R24*60+T24>VLOOKUP($W$5,'관리자 Setting'!$C$3:$G$37,5,0)*60,\"연장 근로 초과\",\"\")","v":""}]
[{"$nulls":3},{"v":5,"d":"5월"},null,{"$f":"'5월'!$K$18","v":{"v":0,"d":"0 시간"}},null,"0 분",null,{"$f":"'5월'!$K$19","v":0},null,"0 분",null,{"$f":"'5월'!$O$18","v":{"v":0,"d":"0 시간"}},null,{"$f":"'5월'!$Q$18","v":{"v":0,"d":"0 분"}},null,{"$f":"'5월'!$O$19","v":{"v":0,"d":"0 시간"}},null,{"$f":"'5월'!$Q$19","v":{"v":0,"d":"0 분"}},null,{"$f":"IF(R25*60+T25>VLOOKUP($W$5,'관리자 Setting'!$C$3:$G$37,5,0)*60,\"연장 근로 초과\",\"\")","v":""}]
[{"$nulls":3},{"v":6,"d":"6월"},null,{"$f":"'6월'!$K$18","v":{"v":0,"d":"0 시간"}},null,"0 분",null,{"$f":"'6월'!$K$19","v":0},null,"0 분",null,{"$f":"'6월'!$O$18","v":{"v":0,"d":"0 시간"}},null,{"$f":"'6월'!$Q$18","v":{"v":0,"d":"0 분"}},null,{"$f":"'6월'!$O$19","v":{"v":0,"d":"0 시간"}},null,{"$f":"'6월'!$Q$19","v":{"v":0,"d":"0 분"}},null,{"$f":"IF(R26*60+T26>VLOOKUP($W$5,'관리자 Setting'!$C$3:$G$37,5,0)*60,\"연장 근로 초과\",\"\")","v":""}]
[{"$nulls":3},{"v":7,"d":"7월"},null,{"$f":"'7월'!$K$18","v":{"v":184,"d":"184 시간"}},null,"0 분",null,{"$f":"'7월'!$K$19","v":{"v":5,"d":"5 시간"}},null,"0 분",null,{"$f":"'7월'!$O$18","v":{"v":176,"d":"176 시간"}},null,{"$f":"'7월'!$Q$18","v":{"v":0,"d":"0 분"}},null,{"$f":"'7월'!$O$19","v":{"v":30,"d":"30 시간"}},null,{"$f":"'7월'!$Q$19","v":{"v":58.00000000000001,"d":"58 분"}},null,{"$f":"IF(R27*60+T27>VLOOKUP($W$5,'관리자 Setting'!$C$3:$G$37,5,0)*60,\"연장 근로 초과\",\"\")","v":""}]
[{"$nulls":3},{"v":8,"d":"8월"},null,{"$f":"'8월'!$K$18","v":{"v":176,"d":"176 시간"}},null,"0 분",null,{"$f":"'8월'!$K$19","v":0},null,"0 분",null,{"$f":"'8월'!$O$18","v":{"v":0,"d":"0 시간"}},null,{"$f":"'8월'!$Q$18","v":{"v":0,"d":"0 분"}},null,{"$f":"'8월'!$O$19","v":{"v":0,"d":"0 시간"}},null,{"$f":"'8월'!$Q$19","v":{"v":0,"d":"0 분"}},null,{"$f":"IF(R28*60+T28>VLOOKUP($W$5,'관리자 Setting'!$C$3:$G$37,5,0)*60,\"연장 근로 초과\",\"\")","v":""}]
[{"$nulls":3},{"v":9,"d":"9월"},null,{"$f":"'9월'!$K$18","v":{"v":136,"d":"136 시간"}},null,"0 분",null,{"$f":"'9월'!$K$19","v":0},null,"0 분",null,{"$f":"'9월'!$O$18","v":{"v":0,"d":"0 시간"}},null,{"$f":"'9월'!$Q$18","v":{"v":0,"d":"0 분"}},null,{"$f":"'9월'!$O$19","v":{"v":0,"d":"0 시간"}},null,{"$f":"'9월'!$Q$19","v":{"v":0,"d":"0 분"}},null,{"$f":"IF(R29*60+T29>VLOOKUP($W$5,'관리자 Setting'!$C$3:$G$37,5,0)*60,\"연장 근로 초과\",\"\")","v":""}]
[{"$nulls":3},{"v":10,"d":"10월"},null,{"$f":"'10월'!$K$18","v":{"v":136,"d":"136 시간"}},null,"0 분",null,{"$f":"'10월'!$K$19","v":0},null,"0 분",null,{"$f":"'10월'!$O$18","v":{"v":0,"d":"0 시간"}},null,{"$f":"'10월'!$Q$18","v":{"v":0,"d":"0 분"}},null,{"$f":"'10월'!$O$19","v":{"v":0,"d":"0 시간"}},null,{"$f":"'10월'!$Q$19","v":{"v":0,"d":"0 분"}},null,{"$f":"IF(R30*60+T30>VLOOKUP($W$5,'관리자 Setting'!$C$3:$G$37,5,0)*60,\"연장 근로 초과\",\"\")","v":""}]
[{"$nulls":3},{"v":11,"d":"11월"},null,{"$f":"'11월'!$K$18","v":{"v":176,"d":"176 시간"}},null,"0 분",null,{"$f":"'11월'!$K$19","v":0},null,"0 분",null,{"$f":"'11월'!$O$18","v":{"v":0,"d":"0 시간"}},null,{"$f":"'11월'!$Q$18","v":{"v":0,"d":"0 분"}},null,{"$f":"'11월'!$O$19","v":{"v":0,"d":"0 시간"}},null,{"$f":"'11월'!$Q$19","v":{"v":0,"d":"0 분"}},null,{"$f":"IF(R31*60+T31>VLOOKUP($W$5,'관리자 Setting'!$C$3:$G$37,5,0)*60,\"연장 근로 초과\",\"\")","v":""}]
[{"$nulls":3},{"v":12,"d":"12월"},null,{"$f":"'12월'!$K$18","v":{"v":160,"d":"160 시간"}},null,"0 분",null,{"$f":"'12월'!$K$19","v":0},null,"0 분",null,{"$f":"'12월'!$O$18","v":{"v":0,"d":"0 시간"}},null,{"$f":"'12월'!$Q$18","v":{"v":0,"d":"0 분"}},null,{"$f":"'12월'!$O$19","v":{"v":0,"d":"0 시간"}},null,{"$f":"'12월'!$Q$19","v":{"v":0,"d":"0 분"}},null,{"$f":"IF(R32*60+T32>VLOOKUP($W$5,'관리자 Setting'!$C$3:$G$37,5,0)*60,\"연장 근로 초과\",\"\")","v":""}]
[]
[{"$nulls":3},"───────────────　　주　차　별　근　무　현　황　　───────────────"]
[{"$nulls":3},"구분",null,"근무 계획",{"$nulls":7},"근무 현황",{"$nulls":7},"CHK"]
[{"$nulls":5},"정규 근로 시간 (합계)",{"$nulls":3},"연장 근로 시간 (합계)",{"$nulls":3},"정규 근로 시간",{"$nulls":3},"연장 근로 시간"]
[{"$nulls":5},"시간",null,"분",null,"시간",null,"분",null,"시간",null,"분",null,"시간",null,"분",{"$nulls":6},"정규","연장"]
[{"$nulls":3},{"v":1,"d":"1주차"},null,{"$f":"SUMIFS('1월'!$M$26:$M$56,'1월'!$L$26:$L$56,'연간 현황'!$D38)+SUMIFS('2월'!$M$26:$M$56,'2월'!$L$26:$L$56,'연간 현황'!$D38)+SUMIFS('3월'!$M$26:$M$56,'3월'!$L$26:$L$56,'연간 현황'!$D38)+SUMIFS('4월'!$M$26:$M$56,'4월'!$L$26:$L$56,'연간 현황'!$D38)+SUMIFS('5월'!$M$26:$M$56,'5월'!$L$26:$L$56,'연간 현황'!$D38)+SUMIFS('6월'!$M$26:$M$56,'6월'!$L$26:$L$56,'연간 현황'!$D38)+SUMIFS('7월'!$M$26:$M$56,'7월'!$L$26:$L$56,'연간 현황'!$D38)+SUMIFS('8월'!$M$26:$M$56,'8월'!$L$26:$L$56,'연간 현황'!$D38)+SUMIFS('9월'!$M$26:$M$56,'9월'!$L$26:$L$56,'연간 현황'!$D38)+SUMIFS('10월'!$M$26:$M$56,'10월'!$L$26:$L$56,'연간 현황'!$D38)+SUMIFS('11월'!$M$26:$M$56,'11월'!$L$26:$L$56,'연간 현황'!$D38)+SUMIFS('12월'!$M$26:$M$56,'12월'!$L$26:$L$56,'연간 현황'!$D38)","v":{"v":0,"d":"0 시간"}},null,"0 분",null,{"$f":"SUMIFS('1월'!$O$26:$O$56,'1월'!$L$26:$L$56,'연간 현황'!$D38)+SUMIFS('2월'!$O$26:$O$56,'2월'!$L$26:$L$56,'연간 현황'!$D38)+SUMIFS('3월'!$O$26:$O$56,'3월'!$L$26:$L$56,'연간 현황'!$D38)+SUMIFS('4월'!$O$26:$O$56,'4월'!$L$26:$L$56,'연간 현황'!$D38)+SUMIFS('5월'!$O$26:$O$56,'5월'!$L$26:$L$56,'연간 현황'!$D38)+SUMIFS('6월'!$O$26:$O$56,'6월'!$L$26:$L$56,'연간 현황'!$D38)+SUMIFS('7월'!$O$26:$O$56,'7월'!$L$26:$L$56,'연간 현황'!$D38)+SUMIFS('8월'!$O$26:$O$56,'8월'!$L$26:$L$56,'연간 현황'!$D38)+SUMIFS('9월'!$O$26:$O$56,'9월'!$L$26:$L$56,'연간 현황'!$D38)+SUMIFS('10월'!$O$26:$O$56,'10월'!$L$26:$L$56,'연간 현황'!$D38)+SUMIFS('11월'!$O$26:$O$56,'11월'!$L$26:$L$56,'연간 현황'!$D38)+SUMIFS('12월'!$O$26:$O$56,'12월'!$L$26:$L$56,'연간 현황'!$D38)","v":{"v":0,"d":"0 시간"}},null,"0 분",null,{"$f":"INT($AA38/60)","v":{"v":0,"d":"0 시간"}},null,{"$f":"ROUND(($AA38/60-INT($AA38/60))*60,0)","v":{"v":0,"d":"0 분"}},null,{"$f":"INT($AB38/60)","v":{"v":0,"d":"0 시간"}},null,{"$f":"ROUND(($AB38/60-INT($AB38/60))*60,0)","v":{"v":0,"d":"0 분"}},null,{"$f":"IF($AA38>52*60,\"[정규] 주 52시간 초과\",IF($AB38>12*60,\"[연장] 주 12시간 초과\",\"\"))","v":""},{"$nulls":4},{"$f":"SUMIFS('1월'!$AA$26:$AA$56,'1월'!$L$26:$L$56,'연간 현황'!$D38)+SUMIFS('2월'!$AA$26:$AA$56,'2월'!$L$26:$L$56,'연간 현황'!$D38)+SUMIFS('3월'!$AA$26:$AA$56,'3월'!$L$26:$L$56,'연간 현황'!$D38)+SUMIFS('4월'!$AA$26:$AA$56,'4월'!$L$26:$L$56,'연간 현황'!$D38)+SUMIFS('5월'!$AA$26:$AA$56,'5월'!$L$26:$L$56,'연간 현황'!$D38)+SUMIFS('6월'!$AA$26:$AA$56,'6월'!$L$26:$L$56,'연간 현황'!$D38)+SUMIFS('7월'!$AA$26:$AA$56,'7월'!$L$26:$L$56,'연간 현황'!$D38)+SUMIFS('8월'!$AA$26:$AA$56,'8월'!$L$26:$L$56,'연간 현황'!$D38)+SUMIFS('9월'!$AA$26:$AA$56,'9월'!$L$26:$L$56,'연간 현황'!$D38)+SUMIFS('10월'!$AA$26:$AA$56,'10월'!$L$26:$L$56,'연간 현황'!$D38)+SUMIFS('11월'!$AA$26:$AA$56,'11월'!$L$26:$L$56,'연간 현황'!$D38)+SUMIFS('12월'!$AA$26:$AA$56,'12월'!$L$26:$L$56,'연간 현황'!$D38)","v":0},{"$f":"SUMIFS('1월'!$AC$26:$AC$56,'1월'!$L$26:$L$56,'연간 현황'!$D38)+SUMIFS('2월'!$AC$26:$AC$56,'2월'!$L$26:$L$56,'연간 현황'!$D38)+SUMIFS('3월'!$AC$26:$AC$56,'3월'!$L$26:$L$56,'연간 현황'!$D38)+SUMIFS('4월'!$AC$26:$AC$56,'4월'!$L$26:$L$56,'연간 현황'!$D38)+SUMIFS('5월'!$AC$26:$AC$56,'5월'!$L$26:$L$56,'연간 현황'!$D38)+SUMIFS('6월'!$AC$26:$AC$56,'6월'!$L$26:$L$56,'연간 현황'!$D38)+SUMIFS('7월'!$AC$26:$AC$56,'7월'!$L$26:$L$56,'연간 현황'!$D38)+SUMIFS('8월'!$AC$26:$AC$56,'8월'!$L$26:$L$56,'연간 현황'!$D38)+SUMIFS('9월'!$AC$26:$AC$56,'9월'!$L$26:$L$56,'연간 현황'!$D38)+SUMIFS('10월'!$AC$26:$AC$56,'10월'!$L$26:$L$56,'연간 현황'!$D38)+SUMIFS('11월'!$AC$26:$AC$56,'11월'!$L$26:$L$56,'연간 현황'!$D38)+SUMIFS('12월'!$AC$26:$AC$56,'12월'!$L$26:$L$56,'연간 현황'!$D38)","v":0}]
[{"$nulls":3},{"v":2,"d":"2주차"},null,{"$f":"SUMIFS('1월'!$M$26:$M$56,'1월'!$L$26:$L$56,'연간 현황'!$D39)+SUMIFS('2월'!$M$26:$M$56,'2월'!$L$26:$L$56,'연간 현황'!$D39)+SUMIFS('3월'!$M$26:$M$56,'3월'!$L$26:$L$56,'연간 현황'!$D39)+SUMIFS('4월'!$M$26:$M$56,'4월'!$L$26:$L$56,'연간 현황'!$D39)+SUMIFS('5월'!$M$26:$M$56,'5월'!$L$26:$L$56,'연간 현황'!$D39)+SUMIFS('6월'!$M$26:$M$56,'6월'!$L$26:$L$56,'연간 현황'!$D39)+SUMIFS('7월'!$M$26:$M$56,'7월'!$L$26:$L$56,'연간 현황'!$D39)+SUMIFS('8월'!$M$26:$M$56,'8월'!$L$26:$L$56,'연간 현황'!$D39)+SUMIFS('9월'!$M$26:$M$56,'9월'!$L$26:$L$56,'연간 현황'!$D39)+SUMIFS('10월'!$M$26:$M$56,'10월'!$L$26:$L$56,'연간 현황'!$D39)+SUMIFS('11월'!$M$26:$M$56,'11월'!$L$26:$L$56,'연간 현황'!$D39)+SUMIFS('12월'!$M$26:$M$56,'12월'!$L$26:$L$56,'연간 현황'!$D39)","v":{"v":0,"d":"0 시간"}},null,"0 분",null,{"$f":"SUMIFS('1월'!$O$26:$O$56,'1월'!$L$26:$L$56,'연간 현황'!$D39)+SUMIFS('2월'!$O$26:$O$56,'2월'!$L$26:$L$56,'연간 현황'!$D39)+SUMIFS('3월'!$O$26:$O$56,'3월'!$L$26:$L$56,'연간 현황'!$D39)+SUMIFS('4월'!$O$26:$O$56,'4월'!$L$26:$L$56,'연간 현황'!$D39)+SUMIFS('5월'!$O$26:$O$56,'5월'!$L$26:$L$56,'연간 현황'!$D39)+SUMIFS('6월'!$O$26:$O$56,'6월'!$L$26:$L$56,'연간 현황'!$D39)+SUMIFS('7월'!$O$26:$O$56,'7월'!$L$26:$L$56,'연간 현황'!$D39)+SUMIFS('8월'!$O$26:$O$56,'8월'!$L$26:$L$56,'연간 현황'!$D39)+SUMIFS('9월'!$O$26:$O$56,'9월'!$L$26:$L$56,'연간 현황'!$D39)+SUMIFS('10월'!$O$26:$O$56,'10월'!$L$26:$L$56,'연간 현황'!$D39)+SUMIFS('11월'!$O$26:$O$56,'11월'!$L$26:$L$56,'연간 현황'!$D39)+SUMIFS('12월'!$O$26:$O$56,'12월'!$L$26:$L$56,'연간 현황'!$D39)","v":{"v":0,"d":"0 시간"}},null,"0 분",null,{"$f":"INT($AA39/60)","v":{"v":0,"d":"0 시간"}},null,{"v":0,"d":"0 분"},null,{"v":0,"d":"0 시간"},null,{"v":0,"d":"0 분"},null,"",{"$nulls":4},{"$f":"SUMIFS('1월'!$AA$26:$AA$56,'1월'!$L$26:$L$56,'연간 현황'!$D39)+SUMIFS('2월'!$AA$26:$AA$56,'2월'!$L$26:$L$56,'연간 현황'!$D39)+SUMIFS('3월'!$AA$26:$AA$56,'3월'!$L$26:$L$56,'연간 현황'!$D39)+SUMIFS('4월'!$AA$26:$AA$56,'4월'!$L$26:$L$56,'연간 현황'!$D39)+SUMIFS('5월'!$AA$26:$AA$56,'5월'!$L$26:$L$56,'연간 현황'!$D39)+SUMIFS('6월'!$AA$26:$AA$56,'6월'!$L$26:$L$56,'연간 현황'!$D39)+SUMIFS('7월'!$AA$26:$AA$56,'7월'!$L$26:$L$56,'연간 현황'!$D39)+SUMIFS('8월'!$AA$26:$AA$56,'8월'!$L$26:$L$56,'연간 현황'!$D39)+SUMIFS('9월'!$AA$26:$AA$56,'9월'!$L$26:$L$56,'연간 현황'!$D39)+SUMIFS('10월'!$AA$26:$AA$56,'10월'!$L$26:$L$56,'연간 현황'!$D39)+SUMIFS('11월'!$AA$26:$AA$56,'11월'!$L$26:$L$56,'연간 현황'!$D39)+SUMIFS('12월'!$AA$26:$AA$56,'12월'!$L$26:$L$56,'연간 현황'!$D39)","v":0},{"$f":"SUMIFS('1월'!$AC$26:$AC$56,'1월'!$L$26:$L$56,'연간 현황'!$D39)+SUMIFS('2월'!$AC$26:$AC$56,'2월'!$L$26:$L$56,'연간 현황'!$D39)+SUMIFS('3월'!$AC$26:$AC$56,'3월'!$L$26:$L$56,'연간 현황'!$D39)+SUMIFS('4월'!$AC$26:$AC$56,'4월'!$L$26:$L$56,'연간 현황'!$D39)+SUMIFS('5월'!$AC$26:$AC$56,'5월'!$L$26:$L$56,'연간 현황'!$D39)+SUMIFS('6월'!$AC$26:$AC$56,'6월'!$L$26:$L$56,'연간 현황'!$D39)+SUMIFS('7월'!$AC$26:$AC$56,'7월'!$L$26:$L$56,'연간 현황'!$D39)+SUMIFS('8월'!$AC$26:$AC$56,'8월'!$L$26:$L$56,'연간 현황'!$D39)+SUMIFS('9월'!$AC$26:$AC$56,'9월'!$L$26:$L$56,'연간 현황'!$D39)+SUMIFS('10월'!$AC$26:$AC$56,'10월'!$L$26:$L$56,'연간 현황'!$D39)+SUMIFS('11월'!$AC$26:$AC$56,'11월'!$L$26:$L$56,'연간 현황'!$D39)+SUMIFS('12월'!$AC$26:$AC$56,'12월'!$L$26:$L$56,'연간 현황'!$D39)","v":0}]
[{"$nulls":3},{"v":3,"d":"3주차"},null,{"$f":"SUMIFS('1월'!$M$26:$M$56,'1월'!$L$26:$L$56,'연간 현황'!$D40)+SUMIFS('2월'!$M$26:$M$56,'2월'!$L$26:$L$56,'연간 현황'!$D40)+SUMIFS('3월'!$M$26:$M$56,'3월'!$L$26:$L$56,'연간 현황'!$D40)+SUMIFS('4월'!$M$26:$M$56,'4월'!$L$26:$L$56,'연간 현황'!$D40)+SUMIFS('5월'!$M$26:$M$56,'5월'!$L$26:$L$56,'연간 현황'!$D40)+SUMIFS('6월'!$M$26:$M$56,'6월'!$L$26:$L$56,'연간 현황'!$D40)+SUMIFS('7월'!$M$26:$M$56,'7월'!$L$26:$L$56,'연간 현황'!$D40)+SUMIFS('8월'!$M$26:$M$56,'8월'!$L$26:$L$56,'연간 현황'!$D40)+SUMIFS('9월'!$M$26:$M$56,'9월'!$L$26:$L$56,'연간 현황'!$D40)+SUMIFS('10월'!$M$26:$M$56,'10월'!$L$26:$L$56,'연간 현황'!$D40)+SUMIFS('11월'!$M$26:$M$56,'11월'!$L$26:$L$56,'연간 현황'!$D40)+SUMIFS('12월'!$M$26:$M$56,'12월'!$L$26:$L$56,'연간 현황'!$D40)","v":{"v":0,"d":"0 시간"}},null,"0 분",null,{"$f":"SUMIFS('1월'!$O$26:$O$56,'1월'!$L$26:$L$56,'연간 현황'!$D40)+SUMIFS('2월'!$O$26:$O$56,'2월'!$L$26:$L$56,'연간 현황'!$D40)+SUMIFS('3월'!$O$26:$O$56,'3월'!$L$26:$L$56,'연간 현황'!$D40)+SUMIFS('4월'!$O$26:$O$56,'4월'!$L$26:$L$56,'연간 현황'!$D40)+SUMIFS('5월'!$O$26:$O$56,'5월'!$L$26:$L$56,'연간 현황'!$D40)+SUMIFS('6월'!$O$26:$O$56,'6월'!$L$26:$L$56,'연간 현황'!$D40)+SUMIFS('7월'!$O$26:$O$56,'7월'!$L$26:$L$56,'연간 현황'!$D40)+SUMIFS('8월'!$O$26:$O$56,'8월'!$L$26:$L$56,'연간 현황'!$D40)+SUMIFS('9월'!$O$26:$O$56,'9월'!$L$26:$L$56,'연간 현황'!$D40)+SUMIFS('10월'!$O$26:$O$56,'10월'!$L$26:$L$56,'연간 현황'!$D40)+SUMIFS('11월'!$O$26:$O$56,'11월'!$L$26:$L$56,'연간 현황'!$D40)+SUMIFS('12월'!$O$26:$O$56,'12월'!$L$26:$L$56,'연간 현황'!$D40)","v":{"v":0,"d":"0 시간"}},null,"0 분",null,{"v":0,"d":"0 시간"},null,{"v":0,"d":"0 분"},null,{"v":0,"d":"0 시간"},null,{"v":0,"d":"0 분"},null,"",{"$nulls":4},{"$f":"SUMIFS('1월'!$AA$26:$AA$56,'1월'!$L$26:$L$56,'연간 현황'!$D40)+SUMIFS('2월'!$AA$26:$AA$56,'2월'!$L$26:$L$56,'연간 현황'!$D40)+SUMIFS('3월'!$AA$26:$AA$56,'3월'!$L$26:$L$56,'연간 현황'!$D40)+SUMIFS('4월'!$AA$26:$AA$56,'4월'!$L$26:$L$56,'연간 현황'!$D40)+SUMIFS('5월'!$AA$26:$AA$56,'5월'!$L$26:$L$56,'연간 현황'!$D40)+SUMIFS('6월'!$AA$26:$AA$56,'6월'!$L$26:$L$56,'연간 현황'!$D40)+SUMIFS('7월'!$AA$26:$AA$56,'7월'!$L$26:$L$56,'연간 현황'!$D40)+SUMIFS('8월'!$AA$26:$AA$56,'8월'!$L$26:$L$56,'연간 현황'!$D40)+SUMIFS('9월'!$AA$26:$AA$56,'9월'!$L$26:$L$56,'연간 현황'!$D40)+SUMIFS('10월'!$AA$26:$AA$56,'10월'!$L$26:$L$56,'연간 현황'!$D40)+SUMIFS('11월'!$AA$26:$AA$56,'11월'!$L$26:$L$56,'연간 현황'!$D40)+SUMIFS('12월'!$AA$26:$AA$56,'12월'!$L$26:$L$56,'연간 현황'!$D40)","v":0},{"$f":"SUMIFS('1월'!$AC$26:$AC$56,'1월'!$L$26:$L$56,'연간 현황'!$D40)+SUMIFS('2월'!$AC$26:$AC$56,'2월'!$L$26:$L$56,'연간 현황'!$D40)+SUMIFS('3월'!$AC$26:$AC$56,'3월'!$L$26:$L$56,'연간 현황'!$D40)+SUMIFS('4월'!$AC$26:$AC$56,'4월'!$L$26:$L$56,'연간 현황'!$D40)+SUMIFS('5월'!$AC$26:$AC$56,'5월'!$L$26:$L$56,'연간 현황'!$D40)+SUMIFS('6월'!$AC$26:$AC$56,'6월'!$L$26:$L$56,'연간 현황'!$D40)+SUMIFS('7월'!$AC$26:$AC$56,'7월'!$L$26:$L$56,'연간 현황'!$D40)+SUMIFS('8월'!$AC$26:$AC$56,'8월'!$L$26:$L$56,'연간 현황'!$D40)+SUMIFS('9월'!$AC$26:$AC$56,'9월'!$L$26:$L$56,'연간 현황'!$D40)+SUMIFS('10월'!$AC$26:$AC$56,'10월'!$L$26:$L$56,'연간 현황'!$D40)+SUMIFS('11월'!$AC$26:$AC$56,'11월'!$L$26:$L$56,'연간 현황'!$D40)+SUMIFS('12월'!$AC$26:$AC$56,'12월'!$L$26:$L$56,'연간 현황'!$D40)","v":0}]
[{"$nulls":3},{"v":4,"d":"4주차"},null,{"$f":"SUMIFS('1월'!$M$26:$M$56,'1월'!$L$26:$L$56,'연간 현황'!$D41)+SUMIFS('2월'!$M$26:$M$56,'2월'!$L$26:$L$56,'연간 현황'!$D41)+SUMIFS('3월'!$M$26:$M$56,'3월'!$L$26:$L$56,'연간 현황'!$D41)+SUMIFS('4월'!$M$26:$M$56,'4월'!$L$26:$L$56,'연간 현황'!$D41)+SUMIFS('5월'!$M$26:$M$56,'5월'!$L$26:$L$56,'연간 현황'!$D41)+SUMIFS('6월'!$M$26:$M$56,'6월'!$L$26:$L$56,'연간 현황'!$D41)+SUMIFS('7월'!$M$26:$M$56,'7월'!$L$26:$L$56,'연간 현황'!$D41)+SUMIFS('8월'!$M$26:$M$56,'8월'!$L$26:$L$56,'연간 현황'!$D41)+SUMIFS('9월'!$M$26:$M$56,'9월'!$L$26:$L$56,'연간 현황'!$D41)+SUMIFS('10월'!$M$26:$M$56,'10월'!$L$26:$L$56,'연간 현황'!$D41)+SUMIFS('11월'!$M$26:$M$56,'11월'!$L$26:$L$56,'연간 현황'!$D41)+SUMIFS('12월'!$M$26:$M$56,'12월'!$L$26:$L$56,'연간 현황'!$D41)","v":{"v":0,"d":"0 시간"}},null,"0 분",null,{"$f":"SUMIFS('1월'!$O$26:$O$56,'1월'!$L$26:$L$56,'연간 현황'!$D41)+SUMIFS('2월'!$O$26:$O$56,'2월'!$L$26:$L$56,'연간 현황'!$D41)+SUMIFS('3월'!$O$26:$O$56,'3월'!$L$26:$L$56,'연간 현황'!$D41)+SUMIFS('4월'!$O$26:$O$56,'4월'!$L$26:$L$56,'연간 현황'!$D41)+SUMIFS('5월'!$O$26:$O$56,'5월'!$L$26:$L$56,'연간 현황'!$D41)+SUMIFS('6월'!$O$26:$O$56,'6월'!$L$26:$L$56,'연간 현황'!$D41)+SUMIFS('7월'!$O$26:$O$56,'7월'!$L$26:$L$56,'연간 현황'!$D41)+SUMIFS('8월'!$O$26:$O$56,'8월'!$L$26:$L$56,'연간 현황'!$D41)+SUMIFS('9월'!$O$26:$O$56,'9월'!$L$26:$L$56,'연간 현황'!$D41)+SUMIFS('10월'!$O$26:$O$56,'10월'!$L$26:$L$56,'연간 현황'!$D41)+SUMIFS('11월'!$O$26:$O$56,'11월'!$L$26:$L$56,'연간 현황'!$D41)+SUMIFS('12월'!$O$26:$O$56,'12월'!$L$26:$L$56,'연간 현황'!$D41)","v":{"v":0,"d":"0 시간"}},null,"0 분",null,{"v":0,"d":"0 시간"},null,{"v":0,"d":"0 분"},null,{"v":0,"d":"0 시간"},null,{"v":0,"d":"0 분"},null,"",{"$nulls":4},{"$f":"SUMIFS('1월'!$AA$26:$AA$56,'1월'!$L$26:$L$56,'연간 현황'!$D41)+SUMIFS('2월'!$AA$26:$AA$56,'2월'!$L$26:$L$56,'연간 현황'!$D41)+SUMIFS('3월'!$AA$26:$AA$56,'3월'!$L$26:$L$56,'연간 현황'!$D41)+SUMIFS('4월'!$AA$26:$AA$56,'4월'!$L$26:$L$56,'연간 현황'!$D41)+SUMIFS('5월'!$AA$26:$AA$56,'5월'!$L$26:$L$56,'연간 현황'!$D41)+SUMIFS('6월'!$AA$26:$AA$56,'6월'!$L$26:$L$56,'연간 현황'!$D41)+SUMIFS('7월'!$AA$26:$AA$56,'7월'!$L$26:$L$56,'연간 현황'!$D41)+SUMIFS('8월'!$AA$26:$AA$56,'8월'!$L$26:$L$56,'연간 현황'!$D41)+SUMIFS('9월'!$AA$26:$AA$56,'9월'!$L$26:$L$56,'연간 현황'!$D41)+SUMIFS('10월'!$AA$26:$AA$56,'10월'!$L$26:$L$56,'연간 현황'!$D41)+SUMIFS('11월'!$AA$26:$AA$56,'11월'!$L$26:$L$56,'연간 현황'!$D41)+SUMIFS('12월'!$AA$26:$AA$56,'12월'!$L$26:$L$56,'연간 현황'!$D41)","v":0},{"$f":"SUMIFS('1월'!$AC$26:$AC$56,'1월'!$L$26:$L$56,'연간 현황'!$D41)+SUMIFS('2월'!$AC$26:$AC$56,'2월'!$L$26:$L$56,'연간 현황'!$D41)+SUMIFS('3월'!$AC$26:$AC$56,'3월'!$L$26:$L$56,'연간 현황'!$D41)+SUMIFS('4월'!$AC$26:$AC$56,'4월'!$L$26:$L$56,'연간 현황'!$D41)+SUMIFS('5월'!$AC$26:$AC$56,'5월'!$L$26:$L$56,'연간 현황'!$D41)+SUMIFS('6월'!$AC$26:$AC$56,'6월'!$L$26:$L$56,'연간 현황'!$D41)+SUMIFS('7월'!$AC$26:$AC$56,'7월'!$L$26:$L$56,'연간 현황'!$D41)+SUMIFS('8월'!$AC$26:$AC$56,'8월'!$L$26:$L$56,'연간 현황'!$D41)+SUMIFS('9월'!$AC$26:$AC$56,'9월'!$L$26:$L$56,'연간 현황'!$D41)+SUMIFS('10월'!$AC$26:$AC$56,'10월'!$L$26:$L$56,'연간 현황'!$D41)+SUMIFS('11월'!$AC$26:$AC$56,'11월'!$L$26:$L$56,'연간 현황'!$D41)+SUMIFS('12월'!$AC$26:$AC$56,'12월'!$L$26:$L$56,'연간 현황'!$D41)","v":0}]
[{"$nulls":3},{"v":5,"d":"5주차"},null,{"$f":"SUMIFS('1월'!$M$26:$M$56,'1월'!$L$26:$L$56,'연간 현황'!$D42)+SUMIFS('2월'!$M$26:$M$56,'2월'!$L$26:$L$56,'연간 현황'!$D42)+SUMIFS('3월'!$M$26:$M$56,'3월'!$L$26:$L$56,'연간 현황'!$D42)+SUMIFS('4월'!$M$26:$M$56,'4월'!$L$26:$L$56,'연간 현황'!$D42)+SUMIFS('5월'!$M$26:$M$56,'5월'!$L$26:$L$56,'연간 현황'!$D42)+SUMIFS('6월'!$M$26:$M$56,'6월'!$L$26:$L$56,'연간 현황'!$D42)+SUMIFS('7월'!$M$26:$M$56,'7월'!$L$26:$L$56,'연간 현황'!$D42)+SUMIFS('8월'!$M$26:$M$56,'8월'!$L$26:$L$56,'연간 현황'!$D42)+SUMIFS('9월'!$M$26:$M$56,'9월'!$L$26:$L$56,'연간 현황'!$D42)+SUMIFS('10월'!$M$26:$M$56,'10월'!$L$26:$L$56,'연간 현황'!$D42)+SUMIFS('11월'!$M$26:$M$56,'11월'!$L$26:$L$56,'연간 현황'!$D42)+SUMIFS('12월'!$M$26:$M$56,'12월'!$L$26:$L$56,'연간 현황'!$D42)","v":{"v":0,"d":"0 시간"}},null,"0 분",null,{"$f":"SUMIFS('1월'!$O$26:$O$56,'1월'!$L$26:$L$56,'연간 현황'!$D42)+SUMIFS('2월'!$O$26:$O$56,'2월'!$L$26:$L$56,'연간 현황'!$D42)+SUMIFS('3월'!$O$26:$O$56,'3월'!$L$26:$L$56,'연간 현황'!$D42)+SUMIFS('4월'!$O$26:$O$56,'4월'!$L$26:$L$56,'연간 현황'!$D42)+SUMIFS('5월'!$O$26:$O$56,'5월'!$L$26:$L$56,'연간 현황'!$D42)+SUMIFS('6월'!$O$26:$O$56,'6월'!$L$26:$L$56,'연간 현황'!$D42)+SUMIFS('7월'!$O$26:$O$56,'7월'!$L$26:$L$56,'연간 현황'!$D42)+SUMIFS('8월'!$O$26:$O$56,'8월'!$L$26:$L$56,'연간 현황'!$D42)+SUMIFS('9월'!$O$26:$O$56,'9월'!$L$26:$L$56,'연간 현황'!$D42)+SUMIFS('10월'!$O$26:$O$56,'10월'!$L$26:$L$56,'연간 현황'!$D42)+SUMIFS('11월'!$O$26:$O$56,'11월'!$L$26:$L$56,'연간 현황'!$D42)+SUMIFS('12월'!$O$26:$O$56,'12월'!$L$26:$L$56,'연간 현황'!$D42)","v":{"v":0,"d":"0 시간"}},null,"0 분",null,{"v":0,"d":"0 시간"},null,{"v":0,"d":"0 분"},null,{"v":0,"d":"0 시간"},null,{"v":0,"d":"0 분"},null,"",{"$nulls":4},{"$f":"SUMIFS('1월'!$AA$26:$AA$56,'1월'!$L$26:$L$56,'연간 현황'!$D42)+SUMIFS('2월'!$AA$26:$AA$56,'2월'!$L$26:$L$56,'연간 현황'!$D42)+SUMIFS('3월'!$AA$26:$AA$56,'3월'!$L$26:$L$56,'연간 현황'!$D42)+SUMIFS('4월'!$AA$26:$AA$56,'4월'!$L$26:$L$56,'연간 현황'!$D42)+SUMIFS('5월'!$AA$26:$AA$56,'5월'!$L$26:$L$56,'연간 현황'!$D42)+SUMIFS('6월'!$AA$26:$AA$56,'6월'!$L$26:$L$56,'연간 현황'!$D42)+SUMIFS('7월'!$AA$26:$AA$56,'7월'!$L$26:$L$56,'연간 현황'!$D42)+SUMIFS('8월'!$AA$26:$AA$56,'8월'!$L$26:$L$56,'연간 현황'!$D42)+SUMIFS('9월'!$AA$26:$AA$56,'9월'!$L$26:$L$56,'연간 현황'!$D42)+SUMIFS('10월'!$AA$26:$AA$56,'10월'!$L$26:$L$56,'연간 현황'!$D42)+SUMIFS('11월'!$AA$26:$AA$56,'11월'!$L$26:$L$56,'연간 현황'!$D42)+SUMIFS('12월'!$AA$26:$AA$56,'12월'!$L$26:$L$56,'연간 현황'!$D42)","v":0},{"$f":"SUMIFS('1월'!$AC$26:$AC$56,'1월'!$L$26:$L$56,'연간 현황'!$D42)+SUMIFS('2월'!$AC$26:$AC$56,'2월'!$L$26:$L$56,'연간 현황'!$D42)+SUMIFS('3월'!$AC$26:$AC$56,'3월'!$L$26:$L$56,'연간 현황'!$D42)+SUMIFS('4월'!$AC$26:$AC$56,'4월'!$L$26:$L$56,'연간 현황'!$D42)+SUMIFS('5월'!$AC$26:$AC$56,'5월'!$L$26:$L$56,'연간 현황'!$D42)+SUMIFS('6월'!$AC$26:$AC$56,'6월'!$L$26:$L$56,'연간 현황'!$D42)+SUMIFS('7월'!$AC$26:$AC$56,'7월'!$L$26:$L$56,'연간 현황'!$D42)+SUMIFS('8월'!$AC$26:$AC$56,'8월'!$L$26:$L$56,'연간 현황'!$D42)+SUMIFS('9월'!$AC$26:$AC$56,'9월'!$L$26:$L$56,'연간 현황'!$D42)+SUMIFS('10월'!$AC$26:$AC$56,'10월'!$L$26:$L$56,'연간 현황'!$D42)+SUMIFS('11월'!$AC$26:$AC$56,'11월'!$L$26:$L$56,'연간 현황'!$D42)+SUMIFS('12월'!$AC$26:$AC$56,'12월'!$L$26:$L$56,'연간 현황'!$D42)","v":0}]
[{"$nulls":3},{"v":6,"d":"6주차"},null,{"$f":"SUMIFS('1월'!$M$26:$M$56,'1월'!$L$26:$L$56,'연간 현황'!$D43)+SUMIFS('2월'!$M$26:$M$56,'2월'!$L$26:$L$56,'연간 현황'!$D43)+SUMIFS('3월'!$M$26:$M$56,'3월'!$L$26:$L$56,'연간 현황'!$D43)+SUMIFS('4월'!$M$26:$M$56,'4월'!$L$26:$L$56,'연간 현황'!$D43)+SUMIFS('5월'!$M$26:$M$56,'5월'!$L$26:$L$56,'연간 현황'!$D43)+SUMIFS('6월'!$M$26:$M$56,'6월'!$L$26:$L$56,'연간 현황'!$D43)+SUMIFS('7월'!$M$26:$M$56,'7월'!$L$26:$L$56,'연간 현황'!$D43)+SUMIFS('8월'!$M$26:$M$56,'8월'!$L$26:$L$56,'연간 현황'!$D43)+SUMIFS('9월'!$M$26:$M$56,'9월'!$L$26:$L$56,'연간 현황'!$D43)+SUMIFS('10월'!$M$26:$M$56,'10월'!$L$26:$L$56,'연간 현황'!$D43)+SUMIFS('11월'!$M$26:$M$56,'11월'!$L$26:$L$56,'연간 현황'!$D43)+SUMIFS('12월'!$M$26:$M$56,'12월'!$L$26:$L$56,'연간 현황'!$D43)","v":{"v":0,"d":"0 시간"}},null,"0 분",null,{"$f":"SUMIFS('1월'!$O$26:$O$56,'1월'!$L$26:$L$56,'연간 현황'!$D43)+SUMIFS('2월'!$O$26:$O$56,'2월'!$L$26:$L$56,'연간 현황'!$D43)+SUMIFS('3월'!$O$26:$O$56,'3월'!$L$26:$L$56,'연간 현황'!$D43)+SUMIFS('4월'!$O$26:$O$56,'4월'!$L$26:$L$56,'연간 현황'!$D43)+SUMIFS('5월'!$O$26:$O$56,'5월'!$L$26:$L$56,'연간 현황'!$D43)+SUMIFS('6월'!$O$26:$O$56,'6월'!$L$26:$L$56,'연간 현황'!$D43)+SUMIFS('7월'!$O$26:$O$56,'7월'!$L$26:$L$56,'연간 현황'!$D43)+SUMIFS('8월'!$O$26:$O$56,'8월'!$L$26:$L$56,'연간 현황'!$D43)+SUMIFS('9월'!$O$26:$O$56,'9월'!$L$26:$L$56,'연간 현황'!$D43)+SUMIFS('10월'!$O$26:$O$56,'10월'!$L$26:$L$56,'연간 현황'!$D43)+SUMIFS('11월'!$O$26:$O$56,'11월'!$L$26:$L$56,'연간 현황'!$D43)+SUMIFS('12월'!$O$26:$O$56,'12월'!$L$26:$L$56,'연간 현황'!$D43)","v":{"v":0,"d":"0 시간"}},null,"0 분",null,{"v":0,"d":"0 시간"},null,{"v":0,"d":"0 분"},null,{"v":0,"d":"0 시간"},null,{"v":0,"d":"0 분"},null,"",{"$nulls":4},{"$f":"SUMIFS('1월'!$AA$26:$AA$56,'1월'!$L$26:$L$56,'연간 현황'!$D43)+SUMIFS('2월'!$AA$26:$AA$56,'2월'!$L$26:$L$56,'연간 현황'!$D43)+SUMIFS('3월'!$AA$26:$AA$56,'3월'!$L$26:$L$56,'연간 현황'!$D43)+SUMIFS('4월'!$AA$26:$AA$56,'4월'!$L$26:$L$56,'연간 현황'!$D43)+SUMIFS('5월'!$AA$26:$AA$56,'5월'!$L$26:$L$56,'연간 현황'!$D43)+SUMIFS('6월'!$AA$26:$AA$56,'6월'!$L$26:$L$56,'연간 현황'!$D43)+SUMIFS('7월'!$AA$26:$AA$56,'7월'!$L$26:$L$56,'연간 현황'!$D43)+SUMIFS('8월'!$AA$26:$AA$56,'8월'!$L$26:$L$56,'연간 현황'!$D43)+SUMIFS('9월'!$AA$26:$AA$56,'9월'!$L$26:$L$56,'연간 현황'!$D43)+SUMIFS('10월'!$AA$26:$AA$56,'10월'!$L$26:$L$56,'연간 현황'!$D43)+SUMIFS('11월'!$AA$26:$AA$56,'11월'!$L$26:$L$56,'연간 현황'!$D43)+SUMIFS('12월'!$AA$26:$AA$56,'12월'!$L$26:$L$56,'연간 현황'!$D43)","v":0},{"$f":"SUMIFS('1월'!$AC$26:$AC$56,'1월'!$L$26:$L$56,'연간 현황'!$D43)+SUMIFS('2월'!$AC$26:$AC$56,'2월'!$L$26:$L$56,'연간 현황'!$D43)+SUMIFS('3월'!$AC$26:$AC$56,'3월'!$L$26:$L$56,'연간 현황'!$D43)+SUMIFS('4월'!$AC$26:$AC$56,'4월'!$L$26:$L$56,'연간 현황'!$D43)+SUMIFS('5월'!$AC$26:$AC$56,'5월'!$L$26:$L$56,'연간 현황'!$D43)+SUMIFS('6월'!$AC$26:$AC$56,'6월'!$L$26:$L$56,'연간 현황'!$D43)+SUMIFS('7월'!$AC$26:$AC$56,'7월'!$L$26:$L$56,'연간 현황'!$D43)+SUMIFS('8월'!$AC$26:$AC$56,'8월'!$L$26:$L$56,'연간 현황'!$D43)+SUMIFS('9월'!$AC$26:$AC$56,'9월'!$L$26:$L$56,'연간 현황'!$D43)+SUMIFS('10월'!$AC$26:$AC$56,'10월'!$L$26:$L$56,'연간 현황'!$D43)+SUMIFS('11월'!$AC$26:$AC$56,'11월'!$L$26:$L$56,'연간 현황'!$D43)+SUMIFS('12월'!$AC$26:$AC$56,'12월'!$L$26:$L$56,'연간 현황'!$D43)","v":0}]
[{"$nulls":3},{"v":7,"d":"7주차"},null,{"$f":"SUMIFS('1월'!$M$26:$M$56,'1월'!$L$26:$L$56,'연간 현황'!$D44)+SUMIFS('2월'!$M$26:$M$56,'2월'!$L$26:$L$56,'연간 현황'!$D44)+SUMIFS('3월'!$M$26:$M$56,'3월'!$L$26:$L$56,'연간 현황'!$D44)+SUMIFS('4월'!$M$26:$M$56,'4월'!$L$26:$L$56,'연간 현황'!$D44)+SUMIFS('5월'!$M$26:$M$56,'5월'!$L$26:$L$56,'연간 현황'!$D44)+SUMIFS('6월'!$M$26:$M$56,'6월'!$L$26:$L$56,'연간 현황'!$D44)+SUMIFS('7월'!$M$26:$M$56,'7월'!$L$26:$L$56,'연간 현황'!$D44)+SUMIFS('8월'!$M$26:$M$56,'8월'!$L$26:$L$56,'연간 현황'!$D44)+SUMIFS('9월'!$M$26:$M$56,'9월'!$L$26:$L$56,'연간 현황'!$D44)+SUMIFS('10월'!$M$26:$M$56,'10월'!$L$26:$L$56,'연간 현황'!$D44)+SUMIFS('11월'!$M$26:$M$56,'11월'!$L$26:$L$56,'연간 현황'!$D44)+SUMIFS('12월'!$M$26:$M$56,'12월'!$L$26:$L$56,'연간 현황'!$D44)","v":{"v":0,"d":"0 시간"}},null,"0 분",null,{"$f":"SUMIFS('1월'!$O$26:$O$56,'1월'!$L$26:$L$56,'연간 현황'!$D44)+SUMIFS('2월'!$O$26:$O$56,'2월'!$L$26:$L$56,'연간 현황'!$D44)+SUMIFS('3월'!$O$26:$O$56,'3월'!$L$26:$L$56,'연간 현황'!$D44)+SUMIFS('4월'!$O$26:$O$56,'4월'!$L$26:$L$56,'연간 현황'!$D44)+SUMIFS('5월'!$O$26:$O$56,'5월'!$L$26:$L$56,'연간 현황'!$D44)+SUMIFS('6월'!$O$26:$O$56,'6월'!$L$26:$L$56,'연간 현황'!$D44)+SUMIFS('7월'!$O$26:$O$56,'7월'!$L$26:$L$56,'연간 현황'!$D44)+SUMIFS('8월'!$O$26:$O$56,'8월'!$L$26:$L$56,'연간 현황'!$D44)+SUMIFS('9월'!$O$26:$O$56,'9월'!$L$26:$L$56,'연간 현황'!$D44)+SUMIFS('10월'!$O$26:$O$56,'10월'!$L$26:$L$56,'연간 현황'!$D44)+SUMIFS('11월'!$O$26:$O$56,'11월'!$L$26:$L$56,'연간 현황'!$D44)+SUMIFS('12월'!$O$26:$O$56,'12월'!$L$26:$L$56,'연간 현황'!$D44)","v":{"v":0,"d":"0 시간"}},null,"0 분",null,{"v":0,"d":"0 시간"},null,{"v":0,"d":"0 분"},null,{"v":0,"d":"0 시간"},null,{"v":0,"d":"0 분"},null,"",{"$nulls":4},{"$f":"SUMIFS('1월'!$AA$26:$AA$56,'1월'!$L$26:$L$56,'연간 현황'!$D44)+SUMIFS('2월'!$AA$26:$AA$56,'2월'!$L$26:$L$56,'연간 현황'!$D44)+SUMIFS('3월'!$AA$26:$AA$56,'3월'!$L$26:$L$56,'연간 현황'!$D44)+SUMIFS('4월'!$AA$26:$AA$56,'4월'!$L$26:$L$56,'연간 현황'!$D44)+SUMIFS('5월'!$AA$26:$AA$56,'5월'!$L$26:$L$56,'연간 현황'!$D44)+SUMIFS('6월'!$AA$26:$AA$56,'6월'!$L$26:$L$56,'연간 현황'!$D44)+SUMIFS('7월'!$AA$26:$AA$56,'7월'!$L$26:$L$56,'연간 현황'!$D44)+SUMIFS('8월'!$AA$26:$AA$56,'8월'!$L$26:$L$56,'연간 현황'!$D44)+SUMIFS('9월'!$AA$26:$AA$56,'9월'!$L$26:$L$56,'연간 현황'!$D44)+SUMIFS('10월'!$AA$26:$AA$56,'10월'!$L$26:$L$56,'연간 현황'!$D44)+SUMIFS('11월'!$AA$26:$AA$56,'11월'!$L$26:$L$56,'연간 현황'!$D44)+SUMIFS('12월'!$AA$26:$AA$56,'12월'!$L$26:$L$56,'연간 현황'!$D44)","v":0},{"$f":"SUMIFS('1월'!$AC$26:$AC$56,'1월'!$L$26:$L$56,'연간 현황'!$D44)+SUMIFS('2월'!$AC$26:$AC$56,'2월'!$L$26:$L$56,'연간 현황'!$D44)+SUMIFS('3월'!$AC$26:$AC$56,'3월'!$L$26:$L$56,'연간 현황'!$D44)+SUMIFS('4월'!$AC$26:$AC$56,'4월'!$L$26:$L$56,'연간 현황'!$D44)+SUMIFS('5월'!$AC$26:$AC$56,'5월'!$L$26:$L$56,'연간 현황'!$D44)+SUMIFS('6월'!$AC$26:$AC$56,'6월'!$L$26:$L$56,'연간 현황'!$D44)+SUMIFS('7월'!$AC$26:$AC$56,'7월'!$L$26:$L$56,'연간 현황'!$D44)+SUMIFS('8월'!$AC$26:$AC$56,'8월'!$L$26:$L$56,'연간 현황'!$D44)+SUMIFS('9월'!$AC$26:$AC$56,'9월'!$L$26:$L$56,'연간 현황'!$D44)+SUMIFS('10월'!$AC$26:$AC$56,'10월'!$L$26:$L$56,'연간 현황'!$D44)+SUMIFS('11월'!$AC$26:$AC$56,'11월'!$L$26:$L$56,'연간 현황'!$D44)+SUMIFS('12월'!$AC$26:$AC$56,'12월'!$L$26:$L$56,'연간 현황'!$D44)","v":0}]
[{"$nulls":3},{"v":8,"d":"8주차"},null,{"$f":"SUMIFS('1월'!$M$26:$M$56,'1월'!$L$26:$L$56,'연간 현황'!$D45)+SUMIFS('2월'!$M$26:$M$56,'2월'!$L$26:$L$56,'연간 현황'!$D45)+SUMIFS('3월'!$M$26:$M$56,'3월'!$L$26:$L$56,'연간 현황'!$D45)+SUMIFS('4월'!$M$26:$M$56,'4월'!$L$26:$L$56,'연간 현황'!$D45)+SUMIFS('5월'!$M$26:$M$56,'5월'!$L$26:$L$56,'연간 현황'!$D45)+SUMIFS('6월'!$M$26:$M$56,'6월'!$L$26:$L$56,'연간 현황'!$D45)+SUMIFS('7월'!$M$26:$M$56,'7월'!$L$26:$L$56,'연간 현황'!$D45)+SUMIFS('8월'!$M$26:$M$56,'8월'!$L$26:$L$56,'연간 현황'!$D45)+SUMIFS('9월'!$M$26:$M$56,'9월'!$L$26:$L$56,'연간 현황'!$D45)+SUMIFS('10월'!$M$26:$M$56,'10월'!$L$26:$L$56,'연간 현황'!$D45)+SUMIFS('11월'!$M$26:$M$56,'11월'!$L$26:$L$56,'연간 현황'!$D45)+SUMIFS('12월'!$M$26:$M$56,'12월'!$L$26:$L$56,'연간 현황'!$D45)","v":{"v":0,"d":"0 시간"}},null,"0 분",null,{"$f":"SUMIFS('1월'!$O$26:$O$56,'1월'!$L$26:$L$56,'연간 현황'!$D45)+SUMIFS('2월'!$O$26:$O$56,'2월'!$L$26:$L$56,'연간 현황'!$D45)+SUMIFS('3월'!$O$26:$O$56,'3월'!$L$26:$L$56,'연간 현황'!$D45)+SUMIFS('4월'!$O$26:$O$56,'4월'!$L$26:$L$56,'연간 현황'!$D45)+SUMIFS('5월'!$O$26:$O$56,'5월'!$L$26:$L$56,'연간 현황'!$D45)+SUMIFS('6월'!$O$26:$O$56,'6월'!$L$26:$L$56,'연간 현황'!$D45)+SUMIFS('7월'!$O$26:$O$56,'7월'!$L$26:$L$56,'연간 현황'!$D45)+SUMIFS('8월'!$O$26:$O$56,'8월'!$L$26:$L$56,'연간 현황'!$D45)+SUMIFS('9월'!$O$26:$O$56,'9월'!$L$26:$L$56,'연간 현황'!$D45)+SUMIFS('10월'!$O$26:$O$56,'10월'!$L$26:$L$56,'연간 현황'!$D45)+SUMIFS('11월'!$O$26:$O$56,'11월'!$L$26:$L$56,'연간 현황'!$D45)+SUMIFS('12월'!$O$26:$O$56,'12월'!$L$26:$L$56,'연간 현황'!$D45)","v":{"v":0,"d":"0 시간"}},null,"0 분",null,{"v":0,"d":"0 시간"},null,{"v":0,"d":"0 분"},null,{"v":0,"d":"0 시간"},null,{"v":0,"d":"0 분"},null,"",{"$nulls":4},{"$f":"SUMIFS('1월'!$AA$26:$AA$56,'1월'!$L$26:$L$56,'연간 현황'!$D45)+SUMIFS('2월'!$AA$26:$AA$56,'2월'!$L$26:$L$56,'연간 현황'!$D45)+SUMIFS('3월'!$AA$26:$AA$56,'3월'!$L$26:$L$56,'연간 현황'!$D45)+SUMIFS('4월'!$AA$26:$AA$56,'4월'!$L$26:$L$56,'연간 현황'!$D45)+SUMIFS('5월'!$AA$26:$AA$56,'5월'!$L$26:$L$56,'연간 현황'!$D45)+SUMIFS('6월'!$AA$26:$AA$56,'6월'!$L$26:$L$56,'연간 현황'!$D45)+SUMIFS('7월'!$AA$26:$AA$56,'7월'!$L$26:$L$56,'연간 현황'!$D45)+SUMIFS('8월'!$AA$26:$AA$56,'8월'!$L$26:$L$56,'연간 현황'!$D45)+SUMIFS('9월'!$AA$26:$AA$56,'9월'!$L$26:$L$56,'연간 현황'!$D45)+SUMIFS('10월'!$AA$26:$AA$56,'10월'!$L$26:$L$56,'연간 현황'!$D45)+SUMIFS('11월'!$AA$26:$AA$56,'11월'!$L$26:$L$56,'연간 현황'!$D45)+SUMIFS('12월'!$AA$26:$AA$56,'12월'!$L$26:$L$56,'연간 현황'!$D45)","v":0},{"$f":"SUMIFS('1월'!$AC$26:$AC$56,'1월'!$L$26:$L$56,'연간 현황'!$D45)+SUMIFS('2월'!$AC$26:$AC$56,'2월'!$L$26:$L$56,'연간 현황'!$D45)+SUMIFS('3월'!$AC$26:$AC$56,'3월'!$L$26:$L$56,'연간 현황'!$D45)+SUMIFS('4월'!$AC$26:$AC$56,'4월'!$L$26:$L$56,'연간 현황'!$D45)+SUMIFS('5월'!$AC$26:$AC$56,'5월'!$L$26:$L$56,'연간 현황'!$D45)+SUMIFS('6월'!$AC$26:$AC$56,'6월'!$L$26:$L$56,'연간 현황'!$D45)+SUMIFS('7월'!$AC$26:$AC$56,'7월'!$L$26:$L$56,'연간 현황'!$D45)+SUMIFS('8월'!$AC$26:$AC$56,'8월'!$L$26:$L$56,'연간 현황'!$D45)+SUMIFS('9월'!$AC$26:$AC$56,'9월'!$L$26:$L$56,'연간 현황'!$D45)+SUMIFS('10월'!$AC$26:$AC$56,'10월'!$L$26:$L$56,'연간 현황'!$D45)+SUMIFS('11월'!$AC$26:$AC$56,'11월'!$L$26:$L$56,'연간 현황'!$D45)+SUMIFS('12월'!$AC$26:$AC$56,'12월'!$L$26:$L$56,'연간 현황'!$D45)","v":0}]
[{"$nulls":3},{"v":9,"d":"9주차"},null,{"$f":"SUMIFS('1월'!$M$26:$M$56,'1월'!$L$26:$L$56,'연간 현황'!$D46)+SUMIFS('2월'!$M$26:$M$56,'2월'!$L$26:$L$56,'연간 현황'!$D46)+SUMIFS('3월'!$M$26:$M$56,'3월'!$L$26:$L$56,'연간 현황'!$D46)+SUMIFS('4월'!$M$26:$M$56,'4월'!$L$26:$L$56,'연간 현황'!$D46)+SUMIFS('5월'!$M$26:$M$56,'5월'!$L$26:$L$56,'연간 현황'!$D46)+SUMIFS('6월'!$M$26:$M$56,'6월'!$L$26:$L$56,'연간 현황'!$D46)+SUMIFS('7월'!$M$26:$M$56,'7월'!$L$26:$L$56,'연간 현황'!$D46)+SUMIFS('8월'!$M$26:$M$56,'8월'!$L$26:$L$56,'연간 현황'!$D46)+SUMIFS('9월'!$M$26:$M$56,'9월'!$L$26:$L$56,'연간 현황'!$D46)+SUMIFS('10월'!$M$26:$M$56,'10월'!$L$26:$L$56,'연간 현황'!$D46)+SUMIFS('11월'!$M$26:$M$56,'11월'!$L$26:$L$56,'연간 현황'!$D46)+SUMIFS('12월'!$M$26:$M$56,'12월'!$L$26:$L$56,'연간 현황'!$D46)","v":{"v":0,"d":"0 시간"}},null,"0 분",null,{"$f":"SUMIFS('1월'!$O$26:$O$56,'1월'!$L$26:$L$56,'연간 현황'!$D46)+SUMIFS('2월'!$O$26:$O$56,'2월'!$L$26:$L$56,'연간 현황'!$D46)+SUMIFS('3월'!$O$26:$O$56,'3월'!$L$26:$L$56,'연간 현황'!$D46)+SUMIFS('4월'!$O$26:$O$56,'4월'!$L$26:$L$56,'연간 현황'!$D46)+SUMIFS('5월'!$O$26:$O$56,'5월'!$L$26:$L$56,'연간 현황'!$D46)+SUMIFS('6월'!$O$26:$O$56,'6월'!$L$26:$L$56,'연간 현황'!$D46)+SUMIFS('7월'!$O$26:$O$56,'7월'!$L$26:$L$56,'연간 현황'!$D46)+SUMIFS('8월'!$O$26:$O$56,'8월'!$L$26:$L$56,'연간 현황'!$D46)+SUMIFS('9월'!$O$26:$O$56,'9월'!$L$26:$L$56,'연간 현황'!$D46)+SUMIFS('10월'!$O$26:$O$56,'10월'!$L$26:$L$56,'연간 현황'!$D46)+SUMIFS('11월'!$O$26:$O$56,'11월'!$L$26:$L$56,'연간 현황'!$D46)+SUMIFS('12월'!$O$26:$O$56,'12월'!$L$26:$L$56,'연간 현황'!$D46)","v":{"v":0,"d":"0 시간"}},null,"0 분",null,{"v":0,"d":"0 시간"},null,{"v":0,"d":"0 분"},null,{"v":0,"d":"0 시간"},null,{"v":0,"d":"0 분"},null,"",{"$nulls":4},{"$f":"SUMIFS('1월'!$AA$26:$AA$56,'1월'!$L$26:$L$56,'연간 현황'!$D46)+SUMIFS('2월'!$AA$26:$AA$56,'2월'!$L$26:$L$56,'연간 현황'!$D46)+SUMIFS('3월'!$AA$26:$AA$56,'3월'!$L$26:$L$56,'연간 현황'!$D46)+SUMIFS('4월'!$AA$26:$AA$56,'4월'!$L$26:$L$56,'연간 현황'!$D46)+SUMIFS('5월'!$AA$26:$AA$56,'5월'!$L$26:$L$56,'연간 현황'!$D46)+SUMIFS('6월'!$AA$26:$AA$56,'6월'!$L$26:$L$56,'연간 현황'!$D46)+SUMIFS('7월'!$AA$26:$AA$56,'7월'!$L$26:$L$56,'연간 현황'!$D46)+SUMIFS('8월'!$AA$26:$AA$56,'8월'!$L$26:$L$56,'연간 현황'!$D46)+SUMIFS('9월'!$AA$26:$AA$56,'9월'!$L$26:$L$56,'연간 현황'!$D46)+SUMIFS('10월'!$AA$26:$AA$56,'10월'!$L$26:$L$56,'연간 현황'!$D46)+SUMIFS('11월'!$AA$26:$AA$56,'11월'!$L$26:$L$56,'연간 현황'!$D46)+SUMIFS('12월'!$AA$26:$AA$56,'12월'!$L$26:$L$56,'연간 현황'!$D46)","v":0},{"$f":"SUMIFS('1월'!$AC$26:$AC$56,'1월'!$L$26:$L$56,'연간 현황'!$D46)+SUMIFS('2월'!$AC$26:$AC$56,'2월'!$L$26:$L$56,'연간 현황'!$D46)+SUMIFS('3월'!$AC$26:$AC$56,'3월'!$L$26:$L$56,'연간 현황'!$D46)+SUMIFS('4월'!$AC$26:$AC$56,'4월'!$L$26:$L$56,'연간 현황'!$D46)+SUMIFS('5월'!$AC$26:$AC$56,'5월'!$L$26:$L$56,'연간 현황'!$D46)+SUMIFS('6월'!$AC$26:$AC$56,'6월'!$L$26:$L$56,'연간 현황'!$D46)+SUMIFS('7월'!$AC$26:$AC$56,'7월'!$L$26:$L$56,'연간 현황'!$D46)+SUMIFS('8월'!$AC$26:$AC$56,'8월'!$L$26:$L$56,'연간 현황'!$D46)+SUMIFS('9월'!$AC$26:$AC$56,'9월'!$L$26:$L$56,'연간 현황'!$D46)+SUMIFS('10월'!$AC$26:$AC$56,'10월'!$L$26:$L$56,'연간 현황'!$D46)+SUMIFS('11월'!$AC$26:$AC$56,'11월'!$L$26:$L$56,'연간 현황'!$D46)+SUMIFS('12월'!$AC$26:$AC$56,'12월'!$L$26:$L$56,'연간 현황'!$D46)","v":0}]
[{"$nulls":3},{"v":10,"d":"10주차"},null,{"$f":"SUMIFS('1월'!$M$26:$M$56,'1월'!$L$26:$L$56,'연간 현황'!$D47)+SUMIFS('2월'!$M$26:$M$56,'2월'!$L$26:$L$56,'연간 현황'!$D47)+SUMIFS('3월'!$M$26:$M$56,'3월'!$L$26:$L$56,'연간 현황'!$D47)+SUMIFS('4월'!$M$26:$M$56,'4월'!$L$26:$L$56,'연간 현황'!$D47)+SUMIFS('5월'!$M$26:$M$56,'5월'!$L$26:$L$56,'연간 현황'!$D47)+SUMIFS('6월'!$M$26:$M$56,'6월'!$L$26:$L$56,'연간 현황'!$D47)+SUMIFS('7월'!$M$26:$M$56,'7월'!$L$26:$L$56,'연간 현황'!$D47)+SUMIFS('8월'!$M$26:$M$56,'8월'!$L$26:$L$56,'연간 현황'!$D47)+SUMIFS('9월'!$M$26:$M$56,'9월'!$L$26:$L$56,'연간 현황'!$D47)+SUMIFS('10월'!$M$26:$M$56,'10월'!$L$26:$L$56,'연간 현황'!$D47)+SUMIFS('11월'!$M$26:$M$56,'11월'!$L$26:$L$56,'연간 현황'!$D47)+SUMIFS('12월'!$M$26:$M$56,'12월'!$L$26:$L$56,'연간 현황'!$D47)","v":{"v":0,"d":"0 시간"}},null,"0 분",null,{"$f":"SUMIFS('1월'!$O$26:$O$56,'1월'!$L$26:$L$56,'연간 현황'!$D47)+SUMIFS('2월'!$O$26:$O$56,'2월'!$L$26:$L$56,'연간 현황'!$D47)+SUMIFS('3월'!$O$26:$O$56,'3월'!$L$26:$L$56,'연간 현황'!$D47)+SUMIFS('4월'!$O$26:$O$56,'4월'!$L$26:$L$56,'연간 현황'!$D47)+SUMIFS('5월'!$O$26:$O$56,'5월'!$L$26:$L$56,'연간 현황'!$D47)+SUMIFS('6월'!$O$26:$O$56,'6월'!$L$26:$L$56,'연간 현황'!$D47)+SUMIFS('7월'!$O$26:$O$56,'7월'!$L$26:$L$56,'연간 현황'!$D47)+SUMIFS('8월'!$O$26:$O$56,'8월'!$L$26:$L$56,'연간 현황'!$D47)+SUMIFS('9월'!$O$26:$O$56,'9월'!$L$26:$L$56,'연간 현황'!$D47)+SUMIFS('10월'!$O$26:$O$56,'10월'!$L$26:$L$56,'연간 현황'!$D47)+SUMIFS('11월'!$O$26:$O$56,'11월'!$L$26:$L$56,'연간 현황'!$D47)+SUMIFS('12월'!$O$26:$O$56,'12월'!$L$26:$L$56,'연간 현황'!$D47)","v":{"v":0,"d":"0 시간"}},null,"0 분",null,{"v":0,"d":"0 시간"},null,{"v":0,"d":"0 분"},null,{"v":0,"d":"0 시간"},null,{"v":0,"d":"0 분"},null,"",{"$nulls":4},{"$f":"SUMIFS('1월'!$AA$26:$AA$56,'1월'!$L$26:$L$56,'연간 현황'!$D47)+SUMIFS('2월'!$AA$26:$AA$56,'2월'!$L$26:$L$56,'연간 현황'!$D47)+SUMIFS('3월'!$AA$26:$AA$56,'3월'!$L$26:$L$56,'연간 현황'!$D47)+SUMIFS('4월'!$AA$26:$AA$56,'4월'!$L$26:$L$56,'연간 현황'!$D47)+SUMIFS('5월'!$AA$26:$AA$56,'5월'!$L$26:$L$56,'연간 현황'!$D47)+SUMIFS('6월'!$AA$26:$AA$56,'6월'!$L$26:$L$56,'연간 현황'!$D47)+SUMIFS('7월'!$AA$26:$AA$56,'7월'!$L$26:$L$56,'연간 현황'!$D47)+SUMIFS('8월'!$AA$26:$AA$56,'8월'!$L$26:$L$56,'연간 현황'!$D47)+SUMIFS('9월'!$AA$26:$AA$56,'9월'!$L$26:$L$56,'연간 현황'!$D47)+SUMIFS('10월'!$AA$26:$AA$56,'10월'!$L$26:$L$56,'연간 현황'!$D47)+SUMIFS('11월'!$AA$26:$AA$56,'11월'!$L$26:$L$56,'연간 현황'!$D47)+SUMIFS('12월'!$AA$26:$AA$56,'12월'!$L$26:$L$56,'연간 현황'!$D47)","v":0},{"$f":"SUMIFS('1월'!$AC$26:$AC$56,'1월'!$L$26:$L$56,'연간 현황'!$D47)+SUMIFS('2월'!$AC$26:$AC$56,'2월'!$L$26:$L$56,'연간 현황'!$D47)+SUMIFS('3월'!$AC$26:$AC$56,'3월'!$L$26:$L$56,'연간 현황'!$D47)+SUMIFS('4월'!$AC$26:$AC$56,'4월'!$L$26:$L$56,'연간 현황'!$D47)+SUMIFS('5월'!$AC$26:$AC$56,'5월'!$L$26:$L$56,'연간 현황'!$D47)+SUMIFS('6월'!$AC$26:$AC$56,'6월'!$L$26:$L$56,'연간 현황'!$D47)+SUMIFS('7월'!$AC$26:$AC$56,'7월'!$L$26:$L$56,'연간 현황'!$D47)+SUMIFS('8월'!$AC$26:$AC$56,'8월'!$L$26:$L$56,'연간 현황'!$D47)+SUMIFS('9월'!$AC$26:$AC$56,'9월'!$L$26:$L$56,'연간 현황'!$D47)+SUMIFS('10월'!$AC$26:$AC$56,'10월'!$L$26:$L$56,'연간 현황'!$D47)+SUMIFS('11월'!$AC$26:$AC$56,'11월'!$L$26:$L$56,'연간 현황'!$D47)+SUMIFS('12월'!$AC$26:$AC$56,'12월'!$L$26:$L$56,'연간 현황'!$D47)","v":0}]
[{"$nulls":3},{"v":11,"d":"11주차"},null,{"$f":"SUMIFS('1월'!$M$26:$M$56,'1월'!$L$26:$L$56,'연간 현황'!$D48)+SUMIFS('2월'!$M$26:$M$56,'2월'!$L$26:$L$56,'연간 현황'!$D48)+SUMIFS('3월'!$M$26:$M$56,'3월'!$L$26:$L$56,'연간 현황'!$D48)+SUMIFS('4월'!$M$26:$M$56,'4월'!$L$26:$L$56,'연간 현황'!$D48)+SUMIFS('5월'!$M$26:$M$56,'5월'!$L$26:$L$56,'연간 현황'!$D48)+SUMIFS('6월'!$M$26:$M$56,'6월'!$L$26:$L$56,'연간 현황'!$D48)+SUMIFS('7월'!$M$26:$M$56,'7월'!$L$26:$L$56,'연간 현황'!$D48)+SUMIFS('8월'!$M$26:$M$56,'8월'!$L$26:$L$56,'연간 현황'!$D48)+SUMIFS('9월'!$M$26:$M$56,'9월'!$L$26:$L$56,'연간 현황'!$D48)+SUMIFS('10월'!$M$26:$M$56,'10월'!$L$26:$L$56,'연간 현황'!$D48)+SUMIFS('11월'!$M$26:$M$56,'11월'!$L$26:$L$56,'연간 현황'!$D48)+SUMIFS('12월'!$M$26:$M$56,'12월'!$L$26:$L$56,'연간 현황'!$D48)","v":{"v":0,"d":"0 시간"}},null,"0 분",null,{"$f":"SUMIFS('1월'!$O$26:$O$56,'1월'!$L$26:$L$56,'연간 현황'!$D48)+SUMIFS('2월'!$O$26:$O$56,'2월'!$L$26:$L$56,'연간 현황'!$D48)+SUMIFS('3월'!$O$26:$O$56,'3월'!$L$26:$L$56,'연간 현황'!$D48)+SUMIFS('4월'!$O$26:$O$56,'4월'!$L$26:$L$56,'연간 현황'!$D48)+SUMIFS('5월'!$O$26:$O$56,'5월'!$L$26:$L$56,'연간 현황'!$D48)+SUMIFS('6월'!$O$26:$O$56,'6월'!$L$26:$L$56,'연간 현황'!$D48)+SUMIFS('7월'!$O$26:$O$56,'7월'!$L$26:$L$56,'연간 현황'!$D48)+SUMIFS('8월'!$O$26:$O$56,'8월'!$L$26:$L$56,'연간 현황'!$D48)+SUMIFS('9월'!$O$26:$O$56,'9월'!$L$26:$L$56,'연간 현황'!$D48)+SUMIFS('10월'!$O$26:$O$56,'10월'!$L$26:$L$56,'연간 현황'!$D48)+SUMIFS('11월'!$O$26:$O$56,'11월'!$L$26:$L$56,'연간 현황'!$D48)+SUMIFS('12월'!$O$26:$O$56,'12월'!$L$26:$L$56,'연간 현황'!$D48)","v":{"v":0,"d":"0 시간"}},null,"0 분",null,{"v":0,"d":"0 시간"},null,{"v":0,"d":"0 분"},null,{"v":0,"d":"0 시간"},null,{"v":0,"d":"0 분"},null,"",{"$nulls":4},{"$f":"SUMIFS('1월'!$AA$26:$AA$56,'1월'!$L$26:$L$56,'연간 현황'!$D48)+SUMIFS('2월'!$AA$26:$AA$56,'2월'!$L$26:$L$56,'연간 현황'!$D48)+SUMIFS('3월'!$AA$26:$AA$56,'3월'!$L$26:$L$56,'연간 현황'!$D48)+SUMIFS('4월'!$AA$26:$AA$56,'4월'!$L$26:$L$56,'연간 현황'!$D48)+SUMIFS('5월'!$AA$26:$AA$56,'5월'!$L$26:$L$56,'연간 현황'!$D48)+SUMIFS('6월'!$AA$26:$AA$56,'6월'!$L$26:$L$56,'연간 현황'!$D48)+SUMIFS('7월'!$AA$26:$AA$56,'7월'!$L$26:$L$56,'연간 현황'!$D48)+SUMIFS('8월'!$AA$26:$AA$56,'8월'!$L$26:$L$56,'연간 현황'!$D48)+SUMIFS('9월'!$AA$26:$AA$56,'9월'!$L$26:$L$56,'연간 현황'!$D48)+SUMIFS('10월'!$AA$26:$AA$56,'10월'!$L$26:$L$56,'연간 현황'!$D48)+SUMIFS('11월'!$AA$26:$AA$56,'11월'!$L$26:$L$56,'연간 현황'!$D48)+SUMIFS('12월'!$AA$26:$AA$56,'12월'!$L$26:$L$56,'연간 현황'!$D48)","v":0},{"$f":"SUMIFS('1월'!$AC$26:$AC$56,'1월'!$L$26:$L$56,'연간 현황'!$D48)+SUMIFS('2월'!$AC$26:$AC$56,'2월'!$L$26:$L$56,'연간 현황'!$D48)+SUMIFS('3월'!$AC$26:$AC$56,'3월'!$L$26:$L$56,'연간 현황'!$D48)+SUMIFS('4월'!$AC$26:$AC$56,'4월'!$L$26:$L$56,'연간 현황'!$D48)+SUMIFS('5월'!$AC$26:$AC$56,'5월'!$L$26:$L$56,'연간 현황'!$D48)+SUMIFS('6월'!$AC$26:$AC$56,'6월'!$L$26:$L$56,'연간 현황'!$D48)+SUMIFS('7월'!$AC$26:$AC$56,'7월'!$L$26:$L$56,'연간 현황'!$D48)+SUMIFS('8월'!$AC$26:$AC$56,'8월'!$L$26:$L$56,'연간 현황'!$D48)+SUMIFS('9월'!$AC$26:$AC$56,'9월'!$L$26:$L$56,'연간 현황'!$D48)+SUMIFS('10월'!$AC$26:$AC$56,'10월'!$L$26:$L$56,'연간 현황'!$D48)+SUMIFS('11월'!$AC$26:$AC$56,'11월'!$L$26:$L$56,'연간 현황'!$D48)+SUMIFS('12월'!$AC$26:$AC$56,'12월'!$L$26:$L$56,'연간 현황'!$D48)","v":0}]
[{"$nulls":3},{"v":12,"d":"12주차"},null,{"$f":"SUMIFS('1월'!$M$26:$M$56,'1월'!$L$26:$L$56,'연간 현황'!$D49)+SUMIFS('2월'!$M$26:$M$56,'2월'!$L$26:$L$56,'연간 현황'!$D49)+SUMIFS('3월'!$M$26:$M$56,'3월'!$L$26:$L$56,'연간 현황'!$D49)+SUMIFS('4월'!$M$26:$M$56,'4월'!$L$26:$L$56,'연간 현황'!$D49)+SUMIFS('5월'!$M$26:$M$56,'5월'!$L$26:$L$56,'연간 현황'!$D49)+SUMIFS('6월'!$M$26:$M$56,'6월'!$L$26:$L$56,'연간 현황'!$D49)+SUMIFS('7월'!$M$26:$M$56,'7월'!$L$26:$L$56,'연간 현황'!$D49)+SUMIFS('8월'!$M$26:$M$56,'8월'!$L$26:$L$56,'연간 현황'!$D49)+SUMIFS('9월'!$M$26:$M$56,'9월'!$L$26:$L$56,'연간 현황'!$D49)+SUMIFS('10월'!$M$26:$M$56,'10월'!$L$26:$L$56,'연간 현황'!$D49)+SUMIFS('11월'!$M$26:$M$56,'11월'!$L$26:$L$56,'연간 현황'!$D49)+SUMIFS('12월'!$M$26:$M$56,'12월'!$L$26:$L$56,'연간 현황'!$D49)","v":{"v":0,"d":"0 시간"}},null,"0 분",null,{"$f":"SUMIFS('1월'!$O$26:$O$56,'1월'!$L$26:$L$56,'연간 현황'!$D49)+SUMIFS('2월'!$O$26:$O$56,'2월'!$L$26:$L$56,'연간 현황'!$D49)+SUMIFS('3월'!$O$26:$O$56,'3월'!$L$26:$L$56,'연간 현황'!$D49)+SUMIFS('4월'!$O$26:$O$56,'4월'!$L$26:$L$56,'연간 현황'!$D49)+SUMIFS('5월'!$O$26:$O$56,'5월'!$L$26:$L$56,'연간 현황'!$D49)+SUMIFS('6월'!$O$26:$O$56,'6월'!$L$26:$L$56,'연간 현황'!$D49)+SUMIFS('7월'!$O$26:$O$56,'7월'!$L$26:$L$56,'연간 현황'!$D49)+SUMIFS('8월'!$O$26:$O$56,'8월'!$L$26:$L$56,'연간 현황'!$D49)+SUMIFS('9월'!$O$26:$O$56,'9월'!$L$26:$L$56,'연간 현황'!$D49)+SUMIFS('10월'!$O$26:$O$56,'10월'!$L$26:$L$56,'연간 현황'!$D49)+SUMIFS('11월'!$O$26:$O$56,'11월'!$L$26:$L$56,'연간 현황'!$D49)+SUMIFS('12월'!$O$26:$O$56,'12월'!$L$26:$L$56,'연간 현황'!$D49)","v":{"v":0,"d":"0 시간"}},null,"0 분",null,{"v":0,"d":"0 시간"},null,{"v":0,"d":"0 분"},null,{"v":0,"d":"0 시간"},null,{"v":0,"d":"0 분"},null,"",{"$nulls":4},{"$f":"SUMIFS('1월'!$AA$26:$AA$56,'1월'!$L$26:$L$56,'연간 현황'!$D49)+SUMIFS('2월'!$AA$26:$AA$56,'2월'!$L$26:$L$56,'연간 현황'!$D49)+SUMIFS('3월'!$AA$26:$AA$56,'3월'!$L$26:$L$56,'연간 현황'!$D49)+SUMIFS('4월'!$AA$26:$AA$56,'4월'!$L$26:$L$56,'연간 현황'!$D49)+SUMIFS('5월'!$AA$26:$AA$56,'5월'!$L$26:$L$56,'연간 현황'!$D49)+SUMIFS('6월'!$AA$26:$AA$56,'6월'!$L$26:$L$56,'연간 현황'!$D49)+SUMIFS('7월'!$AA$26:$AA$56,'7월'!$L$26:$L$56,'연간 현황'!$D49)+SUMIFS('8월'!$AA$26:$AA$56,'8월'!$L$26:$L$56,'연간 현황'!$D49)+SUMIFS('9월'!$AA$26:$AA$56,'9월'!$L$26:$L$56,'연간 현황'!$D49)+SUMIFS('10월'!$AA$26:$AA$56,'10월'!$L$26:$L$56,'연간 현황'!$D49)+SUMIFS('11월'!$AA$26:$AA$56,'11월'!$L$26:$L$56,'연간 현황'!$D49)+SUMIFS('12월'!$AA$26:$AA$56,'12월'!$L$26:$L$56,'연간 현황'!$D49)","v":0},{"$f":"SUMIFS('1월'!$AC$26:$AC$56,'1월'!$L$26:$L$56,'연간 현황'!$D49)+SUMIFS('2월'!$AC$26:$AC$56,'2월'!$L$26:$L$56,'연간 현황'!$D49)+SUMIFS('3월'!$AC$26:$AC$56,'3월'!$L$26:$L$56,'연간 현황'!$D49)+SUMIFS('4월'!$AC$26:$AC$56,'4월'!$L$26:$L$56,'연간 현황'!$D49)+SUMIFS('5월'!$AC$26:$AC$56,'5월'!$L$26:$L$56,'연간 현황'!$D49)+SUMIFS('6월'!$AC$26:$AC$56,'6월'!$L$26:$L$56,'연간 현황'!$D49)+SUMIFS('7월'!$AC$26:$AC$56,'7월'!$L$26:$L$56,'연간 현황'!$D49)+SUMIFS('8월'!$AC$26:$AC$56,'8월'!$L$26:$L$56,'연간 현황'!$D49)+SUMIFS('9월'!$AC$26:$AC$56,'9월'!$L$26:$L$56,'연간 현황'!$D49)+SUMIFS('10월'!$AC$26:$AC$56,'10월'!$L$26:$L$56,'연간 현황'!$D49)+SUMIFS('11월'!$AC$26:$AC$56,'11월'!$L$26:$L$56,'연간 현황'!$D49)+SUMIFS('12월'!$AC$26:$AC$56,'12월'!$L$26:$L$56,'연간 현황'!$D49)","v":0}]
[{"$nulls":3},{"v":13,"d":"13주차"},null,{"$f":"SUMIFS('1월'!$M$26:$M$56,'1월'!$L$26:$L$56,'연간 현황'!$D50)+SUMIFS('2월'!$M$26:$M$56,'2월'!$L$26:$L$56,'연간 현황'!$D50)+SUMIFS('3월'!$M$26:$M$56,'3월'!$L$26:$L$56,'연간 현황'!$D50)+SUMIFS('4월'!$M$26:$M$56,'4월'!$L$26:$L$56,'연간 현황'!$D50)+SUMIFS('5월'!$M$26:$M$56,'5월'!$L$26:$L$56,'연간 현황'!$D50)+SUMIFS('6월'!$M$26:$M$56,'6월'!$L$26:$L$56,'연간 현황'!$D50)+SUMIFS('7월'!$M$26:$M$56,'7월'!$L$26:$L$56,'연간 현황'!$D50)+SUMIFS('8월'!$M$26:$M$56,'8월'!$L$26:$L$56,'연간 현황'!$D50)+SUMIFS('9월'!$M$26:$M$56,'9월'!$L$26:$L$56,'연간 현황'!$D50)+SUMIFS('10월'!$M$26:$M$56,'10월'!$L$26:$L$56,'연간 현황'!$D50)+SUMIFS('11월'!$M$26:$M$56,'11월'!$L$26:$L$56,'연간 현황'!$D50)+SUMIFS('12월'!$M$26:$M$56,'12월'!$L$26:$L$56,'연간 현황'!$D50)","v":{"v":0,"d":"0 시간"}},null,"0 분",null,{"$f":"SUMIFS('1월'!$O$26:$O$56,'1월'!$L$26:$L$56,'연간 현황'!$D50)+SUMIFS('2월'!$O$26:$O$56,'2월'!$L$26:$L$56,'연간 현황'!$D50)+SUMIFS('3월'!$O$26:$O$56,'3월'!$L$26:$L$56,'연간 현황'!$D50)+SUMIFS('4월'!$O$26:$O$56,'4월'!$L$26:$L$56,'연간 현황'!$D50)+SUMIFS('5월'!$O$26:$O$56,'5월'!$L$26:$L$56,'연간 현황'!$D50)+SUMIFS('6월'!$O$26:$O$56,'6월'!$L$26:$L$56,'연간 현황'!$D50)+SUMIFS('7월'!$O$26:$O$56,'7월'!$L$26:$L$56,'연간 현황'!$D50)+SUMIFS('8월'!$O$26:$O$56,'8월'!$L$26:$L$56,'연간 현황'!$D50)+SUMIFS('9월'!$O$26:$O$56,'9월'!$L$26:$L$56,'연간 현황'!$D50)+SUMIFS('10월'!$O$26:$O$56,'10월'!$L$26:$L$56,'연간 현황'!$D50)+SUMIFS('11월'!$O$26:$O$56,'11월'!$L$26:$L$56,'연간 현황'!$D50)+SUMIFS('12월'!$O$26:$O$56,'12월'!$L$26:$L$56,'연간 현황'!$D50)","v":{"v":0,"d":"0 시간"}},null,"0 분",null,{"v":0,"d":"0 시간"},null,{"v":0,"d":"0 분"},null,{"v":0,"d":"0 시간"},null,{"v":0,"d":"0 분"},null,"",{"$nulls":4},{"$f":"SUMIFS('1월'!$AA$26:$AA$56,'1월'!$L$26:$L$56,'연간 현황'!$D50)+SUMIFS('2월'!$AA$26:$AA$56,'2월'!$L$26:$L$56,'연간 현황'!$D50)+SUMIFS('3월'!$AA$26:$AA$56,'3월'!$L$26:$L$56,'연간 현황'!$D50)+SUMIFS('4월'!$AA$26:$AA$56,'4월'!$L$26:$L$56,'연간 현황'!$D50)+SUMIFS('5월'!$AA$26:$AA$56,'5월'!$L$26:$L$56,'연간 현황'!$D50)+SUMIFS('6월'!$AA$26:$AA$56,'6월'!$L$26:$L$56,'연간 현황'!$D50)+SUMIFS('7월'!$AA$26:$AA$56,'7월'!$L$26:$L$56,'연간 현황'!$D50)+SUMIFS('8월'!$AA$26:$AA$56,'8월'!$L$26:$L$56,'연간 현황'!$D50)+SUMIFS('9월'!$AA$26:$AA$56,'9월'!$L$26:$L$56,'연간 현황'!$D50)+SUMIFS('10월'!$AA$26:$AA$56,'10월'!$L$26:$L$56,'연간 현황'!$D50)+SUMIFS('11월'!$AA$26:$AA$56,'11월'!$L$26:$L$56,'연간 현황'!$D50)+SUMIFS('12월'!$AA$26:$AA$56,'12월'!$L$26:$L$56,'연간 현황'!$D50)","v":0},{"$f":"SUMIFS('1월'!$AC$26:$AC$56,'1월'!$L$26:$L$56,'연간 현황'!$D50)+SUMIFS('2월'!$AC$26:$AC$56,'2월'!$L$26:$L$56,'연간 현황'!$D50)+SUMIFS('3월'!$AC$26:$AC$56,'3월'!$L$26:$L$56,'연간 현황'!$D50)+SUMIFS('4월'!$AC$26:$AC$56,'4월'!$L$26:$L$56,'연간 현황'!$D50)+SUMIFS('5월'!$AC$26:$AC$56,'5월'!$L$26:$L$56,'연간 현황'!$D50)+SUMIFS('6월'!$AC$26:$AC$56,'6월'!$L$26:$L$56,'연간 현황'!$D50)+SUMIFS('7월'!$AC$26:$AC$56,'7월'!$L$26:$L$56,'연간 현황'!$D50)+SUMIFS('8월'!$AC$26:$AC$56,'8월'!$L$26:$L$56,'연간 현황'!$D50)+SUMIFS('9월'!$AC$26:$AC$56,'9월'!$L$26:$L$56,'연간 현황'!$D50)+SUMIFS('10월'!$AC$26:$AC$56,'10월'!$L$26:$L$56,'연간 현황'!$D50)+SUMIFS('11월'!$AC$26:$AC$56,'11월'!$L$26:$L$56,'연간 현황'!$D50)+SUMIFS('12월'!$AC$26:$AC$56,'12월'!$L$26:$L$56,'연간 현황'!$D50)","v":0}]
[{"$nulls":3},{"v":14,"d":"14주차"},null,{"$f":"SUMIFS('1월'!$M$26:$M$56,'1월'!$L$26:$L$56,'연간 현황'!$D51)+SUMIFS('2월'!$M$26:$M$56,'2월'!$L$26:$L$56,'연간 현황'!$D51)+SUMIFS('3월'!$M$26:$M$56,'3월'!$L$26:$L$56,'연간 현황'!$D51)+SUMIFS('4월'!$M$26:$M$56,'4월'!$L$26:$L$56,'연간 현황'!$D51)+SUMIFS('5월'!$M$26:$M$56,'5월'!$L$26:$L$56,'연간 현황'!$D51)+SUMIFS('6월'!$M$26:$M$56,'6월'!$L$26:$L$56,'연간 현황'!$D51)+SUMIFS('7월'!$M$26:$M$56,'7월'!$L$26:$L$56,'연간 현황'!$D51)+SUMIFS('8월'!$M$26:$M$56,'8월'!$L$26:$L$56,'연간 현황'!$D51)+SUMIFS('9월'!$M$26:$M$56,'9월'!$L$26:$L$56,'연간 현황'!$D51)+SUMIFS('10월'!$M$26:$M$56,'10월'!$L$26:$L$56,'연간 현황'!$D51)+SUMIFS('11월'!$M$26:$M$56,'11월'!$L$26:$L$56,'연간 현황'!$D51)+SUMIFS('12월'!$M$26:$M$56,'12월'!$L$26:$L$56,'연간 현황'!$D51)","v":{"v":0,"d":"0 시간"}},null,"0 분",null,{"$f":"SUMIFS('1월'!$O$26:$O$56,'1월'!$L$26:$L$56,'연간 현황'!$D51)+SUMIFS('2월'!$O$26:$O$56,'2월'!$L$26:$L$56,'연간 현황'!$D51)+SUMIFS('3월'!$O$26:$O$56,'3월'!$L$26:$L$56,'연간 현황'!$D51)+SUMIFS('4월'!$O$26:$O$56,'4월'!$L$26:$L$56,'연간 현황'!$D51)+SUMIFS('5월'!$O$26:$O$56,'5월'!$L$26:$L$56,'연간 현황'!$D51)+SUMIFS('6월'!$O$26:$O$56,'6월'!$L$26:$L$56,'연간 현황'!$D51)+SUMIFS('7월'!$O$26:$O$56,'7월'!$L$26:$L$56,'연간 현황'!$D51)+SUMIFS('8월'!$O$26:$O$56,'8월'!$L$26:$L$56,'연간 현황'!$D51)+SUMIFS('9월'!$O$26:$O$56,'9월'!$L$26:$L$56,'연간 현황'!$D51)+SUMIFS('10월'!$O$26:$O$56,'10월'!$L$26:$L$56,'연간 현황'!$D51)+SUMIFS('11월'!$O$26:$O$56,'11월'!$L$26:$L$56,'연간 현황'!$D51)+SUMIFS('12월'!$O$26:$O$56,'12월'!$L$26:$L$56,'연간 현황'!$D51)","v":{"v":0,"d":"0 시간"}},null,"0 분",null,{"v":0,"d":"0 시간"},null,{"v":0,"d":"0 분"},null,{"v":0,"d":"0 시간"},null,{"v":0,"d":"0 분"},null,"",{"$nulls":4},{"$f":"SUMIFS('1월'!$AA$26:$AA$56,'1월'!$L$26:$L$56,'연간 현황'!$D51)+SUMIFS('2월'!$AA$26:$AA$56,'2월'!$L$26:$L$56,'연간 현황'!$D51)+SUMIFS('3월'!$AA$26:$AA$56,'3월'!$L$26:$L$56,'연간 현황'!$D51)+SUMIFS('4월'!$AA$26:$AA$56,'4월'!$L$26:$L$56,'연간 현황'!$D51)+SUMIFS('5월'!$AA$26:$AA$56,'5월'!$L$26:$L$56,'연간 현황'!$D51)+SUMIFS('6월'!$AA$26:$AA$56,'6월'!$L$26:$L$56,'연간 현황'!$D51)+SUMIFS('7월'!$AA$26:$AA$56,'7월'!$L$26:$L$56,'연간 현황'!$D51)+SUMIFS('8월'!$AA$26:$AA$56,'8월'!$L$26:$L$56,'연간 현황'!$D51)+SUMIFS('9월'!$AA$26:$AA$56,'9월'!$L$26:$L$56,'연간 현황'!$D51)+SUMIFS('10월'!$AA$26:$AA$56,'10월'!$L$26:$L$56,'연간 현황'!$D51)+SUMIFS('11월'!$AA$26:$AA$56,'11월'!$L$26:$L$56,'연간 현황'!$D51)+SUMIFS('12월'!$AA$26:$AA$56,'12월'!$L$26:$L$56,'연간 현황'!$D51)","v":0},{"$f":"SUMIFS('1월'!$AC$26:$AC$56,'1월'!$L$26:$L$56,'연간 현황'!$D51)+SUMIFS('2월'!$AC$26:$AC$56,'2월'!$L$26:$L$56,'연간 현황'!$D51)+SUMIFS('3월'!$AC$26:$AC$56,'3월'!$L$26:$L$56,'연간 현황'!$D51)+SUMIFS('4월'!$AC$26:$AC$56,'4월'!$L$26:$L$56,'연간 현황'!$D51)+SUMIFS('5월'!$AC$26:$AC$56,'5월'!$L$26:$L$56,'연간 현황'!$D51)+SUMIFS('6월'!$AC$26:$AC$56,'6월'!$L$26:$L$56,'연간 현황'!$D51)+SUMIFS('7월'!$AC$26:$AC$56,'7월'!$L$26:$L$56,'연간 현황'!$D51)+SUMIFS('8월'!$AC$26:$AC$56,'8월'!$L$26:$L$56,'연간 현황'!$D51)+SUMIFS('9월'!$AC$26:$AC$56,'9월'!$L$26:$L$56,'연간 현황'!$D51)+SUMIFS('10월'!$AC$26:$AC$56,'10월'!$L$26:$L$56,'연간 현황'!$D51)+SUMIFS('11월'!$AC$26:$AC$56,'11월'!$L$26:$L$56,'연간 현황'!$D51)+SUMIFS('12월'!$AC$26:$AC$56,'12월'!$L$26:$L$56,'연간 현황'!$D51)","v":0}]
[{"$nulls":3},{"v":15,"d":"15주차"},null,{"$f":"SUMIFS('1월'!$M$26:$M$56,'1월'!$L$26:$L$56,'연간 현황'!$D52)+SUMIFS('2월'!$M$26:$M$56,'2월'!$L$26:$L$56,'연간 현황'!$D52)+SUMIFS('3월'!$M$26:$M$56,'3월'!$L$26:$L$56,'연간 현황'!$D52)+SUMIFS('4월'!$M$26:$M$56,'4월'!$L$26:$L$56,'연간 현황'!$D52)+SUMIFS('5월'!$M$26:$M$56,'5월'!$L$26:$L$56,'연간 현황'!$D52)+SUMIFS('6월'!$M$26:$M$56,'6월'!$L$26:$L$56,'연간 현황'!$D52)+SUMIFS('7월'!$M$26:$M$56,'7월'!$L$26:$L$56,'연간 현황'!$D52)+SUMIFS('8월'!$M$26:$M$56,'8월'!$L$26:$L$56,'연간 현황'!$D52)+SUMIFS('9월'!$M$26:$M$56,'9월'!$L$26:$L$56,'연간 현황'!$D52)+SUMIFS('10월'!$M$26:$M$56,'10월'!$L$26:$L$56,'연간 현황'!$D52)+SUMIFS('11월'!$M$26:$M$56,'11월'!$L$26:$L$56,'연간 현황'!$D52)+SUMIFS('12월'!$M$26:$M$56,'12월'!$L$26:$L$56,'연간 현황'!$D52)","v":{"v":0,"d":"0 시간"}},null,"0 분",null,{"$f":"SUMIFS('1월'!$O$26:$O$56,'1월'!$L$26:$L$56,'연간 현황'!$D52)+SUMIFS('2월'!$O$26:$O$56,'2월'!$L$26:$L$56,'연간 현황'!$D52)+SUMIFS('3월'!$O$26:$O$56,'3월'!$L$26:$L$56,'연간 현황'!$D52)+SUMIFS('4월'!$O$26:$O$56,'4월'!$L$26:$L$56,'연간 현황'!$D52)+SUMIFS('5월'!$O$26:$O$56,'5월'!$L$26:$L$56,'연간 현황'!$D52)+SUMIFS('6월'!$O$26:$O$56,'6월'!$L$26:$L$56,'연간 현황'!$D52)+SUMIFS('7월'!$O$26:$O$56,'7월'!$L$26:$L$56,'연간 현황'!$D52)+SUMIFS('8월'!$O$26:$O$56,'8월'!$L$26:$L$56,'연간 현황'!$D52)+SUMIFS('9월'!$O$26:$O$56,'9월'!$L$26:$L$56,'연간 현황'!$D52)+SUMIFS('10월'!$O$26:$O$56,'10월'!$L$26:$L$56,'연간 현황'!$D52)+SUMIFS('11월'!$O$26:$O$56,'11월'!$L$26:$L$56,'연간 현황'!$D52)+SUMIFS('12월'!$O$26:$O$56,'12월'!$L$26:$L$56,'연간 현황'!$D52)","v":{"v":0,"d":"0 시간"}},null,"0 분",null,{"v":0,"d":"0 시간"},null,{"v":0,"d":"0 분"},null,{"v":0,"d":"0 시간"},null,{"v":0,"d":"0 분"},null,"",{"$nulls":4},{"$f":"SUMIFS('1월'!$AA$26:$AA$56,'1월'!$L$26:$L$56,'연간 현황'!$D52)+SUMIFS('2월'!$AA$26:$AA$56,'2월'!$L$26:$L$56,'연간 현황'!$D52)+SUMIFS('3월'!$AA$26:$AA$56,'3월'!$L$26:$L$56,'연간 현황'!$D52)+SUMIFS('4월'!$AA$26:$AA$56,'4월'!$L$26:$L$56,'연간 현황'!$D52)+SUMIFS('5월'!$AA$26:$AA$56,'5월'!$L$26:$L$56,'연간 현황'!$D52)+SUMIFS('6월'!$AA$26:$AA$56,'6월'!$L$26:$L$56,'연간 현황'!$D52)+SUMIFS('7월'!$AA$26:$AA$56,'7월'!$L$26:$L$56,'연간 현황'!$D52)+SUMIFS('8월'!$AA$26:$AA$56,'8월'!$L$26:$L$56,'연간 현황'!$D52)+SUMIFS('9월'!$AA$26:$AA$56,'9월'!$L$26:$L$56,'연간 현황'!$D52)+SUMIFS('10월'!$AA$26:$AA$56,'10월'!$L$26:$L$56,'연간 현황'!$D52)+SUMIFS('11월'!$AA$26:$AA$56,'11월'!$L$26:$L$56,'연간 현황'!$D52)+SUMIFS('12월'!$AA$26:$AA$56,'12월'!$L$26:$L$56,'연간 현황'!$D52)","v":0},{"$f":"SUMIFS('1월'!$AC$26:$AC$56,'1월'!$L$26:$L$56,'연간 현황'!$D52)+SUMIFS('2월'!$AC$26:$AC$56,'2월'!$L$26:$L$56,'연간 현황'!$D52)+SUMIFS('3월'!$AC$26:$AC$56,'3월'!$L$26:$L$56,'연간 현황'!$D52)+SUMIFS('4월'!$AC$26:$AC$56,'4월'!$L$26:$L$56,'연간 현황'!$D52)+SUMIFS('5월'!$AC$26:$AC$56,'5월'!$L$26:$L$56,'연간 현황'!$D52)+SUMIFS('6월'!$AC$26:$AC$56,'6월'!$L$26:$L$56,'연간 현황'!$D52)+SUMIFS('7월'!$AC$26:$AC$56,'7월'!$L$26:$L$56,'연간 현황'!$D52)+SUMIFS('8월'!$AC$26:$AC$56,'8월'!$L$26:$L$56,'연간 현황'!$D52)+SUMIFS('9월'!$AC$26:$AC$56,'9월'!$L$26:$L$56,'연간 현황'!$D52)+SUMIFS('10월'!$AC$26:$AC$56,'10월'!$L$26:$L$56,'연간 현황'!$D52)+SUMIFS('11월'!$AC$26:$AC$56,'11월'!$L$26:$L$56,'연간 현황'!$D52)+SUMIFS('12월'!$AC$26:$AC$56,'12월'!$L$26:$L$56,'연간 현황'!$D52)","v":0}]
[{"$nulls":3},{"v":16,"d":"16주차"},null,{"$f":"SUMIFS('1월'!$M$26:$M$56,'1월'!$L$26:$L$56,'연간 현황'!$D53)+SUMIFS('2월'!$M$26:$M$56,'2월'!$L$26:$L$56,'연간 현황'!$D53)+SUMIFS('3월'!$M$26:$M$56,'3월'!$L$26:$L$56,'연간 현황'!$D53)+SUMIFS('4월'!$M$26:$M$56,'4월'!$L$26:$L$56,'연간 현황'!$D53)+SUMIFS('5월'!$M$26:$M$56,'5월'!$L$26:$L$56,'연간 현황'!$D53)+SUMIFS('6월'!$M$26:$M$56,'6월'!$L$26:$L$56,'연간 현황'!$D53)+SUMIFS('7월'!$M$26:$M$56,'7월'!$L$26:$L$56,'연간 현황'!$D53)+SUMIFS('8월'!$M$26:$M$56,'8월'!$L$26:$L$56,'연간 현황'!$D53)+SUMIFS('9월'!$M$26:$M$56,'9월'!$L$26:$L$56,'연간 현황'!$D53)+SUMIFS('10월'!$M$26:$M$56,'10월'!$L$26:$L$56,'연간 현황'!$D53)+SUMIFS('11월'!$M$26:$M$56,'11월'!$L$26:$L$56,'연간 현황'!$D53)+SUMIFS('12월'!$M$26:$M$56,'12월'!$L$26:$L$56,'연간 현황'!$D53)","v":{"v":0,"d":"0 시간"}},null,"0 분",null,{"$f":"SUMIFS('1월'!$O$26:$O$56,'1월'!$L$26:$L$56,'연간 현황'!$D53)+SUMIFS('2월'!$O$26:$O$56,'2월'!$L$26:$L$56,'연간 현황'!$D53)+SUMIFS('3월'!$O$26:$O$56,'3월'!$L$26:$L$56,'연간 현황'!$D53)+SUMIFS('4월'!$O$26:$O$56,'4월'!$L$26:$L$56,'연간 현황'!$D53)+SUMIFS('5월'!$O$26:$O$56,'5월'!$L$26:$L$56,'연간 현황'!$D53)+SUMIFS('6월'!$O$26:$O$56,'6월'!$L$26:$L$56,'연간 현황'!$D53)+SUMIFS('7월'!$O$26:$O$56,'7월'!$L$26:$L$56,'연간 현황'!$D53)+SUMIFS('8월'!$O$26:$O$56,'8월'!$L$26:$L$56,'연간 현황'!$D53)+SUMIFS('9월'!$O$26:$O$56,'9월'!$L$26:$L$56,'연간 현황'!$D53)+SUMIFS('10월'!$O$26:$O$56,'10월'!$L$26:$L$56,'연간 현황'!$D53)+SUMIFS('11월'!$O$26:$O$56,'11월'!$L$26:$L$56,'연간 현황'!$D53)+SUMIFS('12월'!$O$26:$O$56,'12월'!$L$26:$L$56,'연간 현황'!$D53)","v":{"v":0,"d":"0 시간"}},null,"0 분",null,{"v":0,"d":"0 시간"},null,{"v":0,"d":"0 분"},null,{"v":0,"d":"0 시간"},null,{"v":0,"d":"0 분"},null,"",{"$nulls":4},{"$f":"SUMIFS('1월'!$AA$26:$AA$56,'1월'!$L$26:$L$56,'연간 현황'!$D53)+SUMIFS('2월'!$AA$26:$AA$56,'2월'!$L$26:$L$56,'연간 현황'!$D53)+SUMIFS('3월'!$AA$26:$AA$56,'3월'!$L$26:$L$56,'연간 현황'!$D53)+SUMIFS('4월'!$AA$26:$AA$56,'4월'!$L$26:$L$56,'연간 현황'!$D53)+SUMIFS('5월'!$AA$26:$AA$56,'5월'!$L$26:$L$56,'연간 현황'!$D53)+SUMIFS('6월'!$AA$26:$AA$56,'6월'!$L$26:$L$56,'연간 현황'!$D53)+SUMIFS('7월'!$AA$26:$AA$56,'7월'!$L$26:$L$56,'연간 현황'!$D53)+SUMIFS('8월'!$AA$26:$AA$56,'8월'!$L$26:$L$56,'연간 현황'!$D53)+SUMIFS('9월'!$AA$26:$AA$56,'9월'!$L$26:$L$56,'연간 현황'!$D53)+SUMIFS('10월'!$AA$26:$AA$56,'10월'!$L$26:$L$56,'연간 현황'!$D53)+SUMIFS('11월'!$AA$26:$AA$56,'11월'!$L$26:$L$56,'연간 현황'!$D53)+SUMIFS('12월'!$AA$26:$AA$56,'12월'!$L$26:$L$56,'연간 현황'!$D53)","v":0},{"$f":"SUMIFS('1월'!$AC$26:$AC$56,'1월'!$L$26:$L$56,'연간 현황'!$D53)+SUMIFS('2월'!$AC$26:$AC$56,'2월'!$L$26:$L$56,'연간 현황'!$D53)+SUMIFS('3월'!$AC$26:$AC$56,'3월'!$L$26:$L$56,'연간 현황'!$D53)+SUMIFS('4월'!$AC$26:$AC$56,'4월'!$L$26:$L$56,'연간 현황'!$D53)+SUMIFS('5월'!$AC$26:$AC$56,'5월'!$L$26:$L$56,'연간 현황'!$D53)+SUMIFS('6월'!$AC$26:$AC$56,'6월'!$L$26:$L$56,'연간 현황'!$D53)+SUMIFS('7월'!$AC$26:$AC$56,'7월'!$L$26:$L$56,'연간 현황'!$D53)+SUMIFS('8월'!$AC$26:$AC$56,'8월'!$L$26:$L$56,'연간 현황'!$D53)+SUMIFS('9월'!$AC$26:$AC$56,'9월'!$L$26:$L$56,'연간 현황'!$D53)+SUMIFS('10월'!$AC$26:$AC$56,'10월'!$L$26:$L$56,'연간 현황'!$D53)+SUMIFS('11월'!$AC$26:$AC$56,'11월'!$L$26:$L$56,'연간 현황'!$D53)+SUMIFS('12월'!$AC$26:$AC$56,'12월'!$L$26:$L$56,'연간 현황'!$D53)","v":0}]
[{"$nulls":3},{"v":17,"d":"17주차"},null,{"$f":"SUMIFS('1월'!$M$26:$M$56,'1월'!$L$26:$L$56,'연간 현황'!$D54)+SUMIFS('2월'!$M$26:$M$56,'2월'!$L$26:$L$56,'연간 현황'!$D54)+SUMIFS('3월'!$M$26:$M$56,'3월'!$L$26:$L$56,'연간 현황'!$D54)+SUMIFS('4월'!$M$26:$M$56,'4월'!$L$26:$L$56,'연간 현황'!$D54)+SUMIFS('5월'!$M$26:$M$56,'5월'!$L$26:$L$56,'연간 현황'!$D54)+SUMIFS('6월'!$M$26:$M$56,'6월'!$L$26:$L$56,'연간 현황'!$D54)+SUMIFS('7월'!$M$26:$M$56,'7월'!$L$26:$L$56,'연간 현황'!$D54)+SUMIFS('8월'!$M$26:$M$56,'8월'!$L$26:$L$56,'연간 현황'!$D54)+SUMIFS('9월'!$M$26:$M$56,'9월'!$L$26:$L$56,'연간 현황'!$D54)+SUMIFS('10월'!$M$26:$M$56,'10월'!$L$26:$L$56,'연간 현황'!$D54)+SUMIFS('11월'!$M$26:$M$56,'11월'!$L$26:$L$56,'연간 현황'!$D54)+SUMIFS('12월'!$M$26:$M$56,'12월'!$L$26:$L$56,'연간 현황'!$D54)","v":{"v":0,"d":"0 시간"}},null,"0 분",null,{"$f":"SUMIFS('1월'!$O$26:$O$56,'1월'!$L$26:$L$56,'연간 현황'!$D54)+SUMIFS('2월'!$O$26:$O$56,'2월'!$L$26:$L$56,'연간 현황'!$D54)+SUMIFS('3월'!$O$26:$O$56,'3월'!$L$26:$L$56,'연간 현황'!$D54)+SUMIFS('4월'!$O$26:$O$56,'4월'!$L$26:$L$56,'연간 현황'!$D54)+SUMIFS('5월'!$O$26:$O$56,'5월'!$L$26:$L$56,'연간 현황'!$D54)+SUMIFS('6월'!$O$26:$O$56,'6월'!$L$26:$L$56,'연간 현황'!$D54)+SUMIFS('7월'!$O$26:$O$56,'7월'!$L$26:$L$56,'연간 현황'!$D54)+SUMIFS('8월'!$O$26:$O$56,'8월'!$L$26:$L$56,'연간 현황'!$D54)+SUMIFS('9월'!$O$26:$O$56,'9월'!$L$26:$L$56,'연간 현황'!$D54)+SUMIFS('10월'!$O$26:$O$56,'10월'!$L$26:$L$56,'연간 현황'!$D54)+SUMIFS('11월'!$O$26:$O$56,'11월'!$L$26:$L$56,'연간 현황'!$D54)+SUMIFS('12월'!$O$26:$O$56,'12월'!$L$26:$L$56,'연간 현황'!$D54)","v":{"v":0,"d":"0 시간"}},null,"0 분",null,{"v":0,"d":"0 시간"},null,{"v":0,"d":"0 분"},null,{"v":0,"d":"0 시간"},null,{"v":0,"d":"0 분"},null,"",{"$nulls":4},{"$f":"SUMIFS('1월'!$AA$26:$AA$56,'1월'!$L$26:$L$56,'연간 현황'!$D54)+SUMIFS('2월'!$AA$26:$AA$56,'2월'!$L$26:$L$56,'연간 현황'!$D54)+SUMIFS('3월'!$AA$26:$AA$56,'3월'!$L$26:$L$56,'연간 현황'!$D54)+SUMIFS('4월'!$AA$26:$AA$56,'4월'!$L$26:$L$56,'연간 현황'!$D54)+SUMIFS('5월'!$AA$26:$AA$56,'5월'!$L$26:$L$56,'연간 현황'!$D54)+SUMIFS('6월'!$AA$26:$AA$56,'6월'!$L$26:$L$56,'연간 현황'!$D54)+SUMIFS('7월'!$AA$26:$AA$56,'7월'!$L$26:$L$56,'연간 현황'!$D54)+SUMIFS('8월'!$AA$26:$AA$56,'8월'!$L$26:$L$56,'연간 현황'!$D54)+SUMIFS('9월'!$AA$26:$AA$56,'9월'!$L$26:$L$56,'연간 현황'!$D54)+SUMIFS('10월'!$AA$26:$AA$56,'10월'!$L$26:$L$56,'연간 현황'!$D54)+SUMIFS('11월'!$AA$26:$AA$56,'11월'!$L$26:$L$56,'연간 현황'!$D54)+SUMIFS('12월'!$AA$26:$AA$56,'12월'!$L$26:$L$56,'연간 현황'!$D54)","v":0},{"$f":"SUMIFS('1월'!$AC$26:$AC$56,'1월'!$L$26:$L$56,'연간 현황'!$D54)+SUMIFS('2월'!$AC$26:$AC$56,'2월'!$L$26:$L$56,'연간 현황'!$D54)+SUMIFS('3월'!$AC$26:$AC$56,'3월'!$L$26:$L$56,'연간 현황'!$D54)+SUMIFS('4월'!$AC$26:$AC$56,'4월'!$L$26:$L$56,'연간 현황'!$D54)+SUMIFS('5월'!$AC$26:$AC$56,'5월'!$L$26:$L$56,'연간 현황'!$D54)+SUMIFS('6월'!$AC$26:$AC$56,'6월'!$L$26:$L$56,'연간 현황'!$D54)+SUMIFS('7월'!$AC$26:$AC$56,'7월'!$L$26:$L$56,'연간 현황'!$D54)+SUMIFS('8월'!$AC$26:$AC$56,'8월'!$L$26:$L$56,'연간 현황'!$D54)+SUMIFS('9월'!$AC$26:$AC$56,'9월'!$L$26:$L$56,'연간 현황'!$D54)+SUMIFS('10월'!$AC$26:$AC$56,'10월'!$L$26:$L$56,'연간 현황'!$D54)+SUMIFS('11월'!$AC$26:$AC$56,'11월'!$L$26:$L$56,'연간 현황'!$D54)+SUMIFS('12월'!$AC$26:$AC$56,'12월'!$L$26:$L$56,'연간 현황'!$D54)","v":0}]
[{"$nulls":3},{"v":18,"d":"18주차"},null,{"$f":"SUMIFS('1월'!$M$26:$M$56,'1월'!$L$26:$L$56,'연간 현황'!$D55)+SUMIFS('2월'!$M$26:$M$56,'2월'!$L$26:$L$56,'연간 현황'!$D55)+SUMIFS('3월'!$M$26:$M$56,'3월'!$L$26:$L$56,'연간 현황'!$D55)+SUMIFS('4월'!$M$26:$M$56,'4월'!$L$26:$L$56,'연간 현황'!$D55)+SUMIFS('5월'!$M$26:$M$56,'5월'!$L$26:$L$56,'연간 현황'!$D55)+SUMIFS('6월'!$M$26:$M$56,'6월'!$L$26:$L$56,'연간 현황'!$D55)+SUMIFS('7월'!$M$26:$M$56,'7월'!$L$26:$L$56,'연간 현황'!$D55)+SUMIFS('8월'!$M$26:$M$56,'8월'!$L$26:$L$56,'연간 현황'!$D55)+SUMIFS('9월'!$M$26:$M$56,'9월'!$L$26:$L$56,'연간 현황'!$D55)+SUMIFS('10월'!$M$26:$M$56,'10월'!$L$26:$L$56,'연간 현황'!$D55)+SUMIFS('11월'!$M$26:$M$56,'11월'!$L$26:$L$56,'연간 현황'!$D55)+SUMIFS('12월'!$M$26:$M$56,'12월'!$L$26:$L$56,'연간 현황'!$D55)","v":{"v":0,"d":"0 시간"}},null,"0 분",null,{"$f":"SUMIFS('1월'!$O$26:$O$56,'1월'!$L$26:$L$56,'연간 현황'!$D55)+SUMIFS('2월'!$O$26:$O$56,'2월'!$L$26:$L$56,'연간 현황'!$D55)+SUMIFS('3월'!$O$26:$O$56,'3월'!$L$26:$L$56,'연간 현황'!$D55)+SUMIFS('4월'!$O$26:$O$56,'4월'!$L$26:$L$56,'연간 현황'!$D55)+SUMIFS('5월'!$O$26:$O$56,'5월'!$L$26:$L$56,'연간 현황'!$D55)+SUMIFS('6월'!$O$26:$O$56,'6월'!$L$26:$L$56,'연간 현황'!$D55)+SUMIFS('7월'!$O$26:$O$56,'7월'!$L$26:$L$56,'연간 현황'!$D55)+SUMIFS('8월'!$O$26:$O$56,'8월'!$L$26:$L$56,'연간 현황'!$D55)+SUMIFS('9월'!$O$26:$O$56,'9월'!$L$26:$L$56,'연간 현황'!$D55)+SUMIFS('10월'!$O$26:$O$56,'10월'!$L$26:$L$56,'연간 현황'!$D55)+SUMIFS('11월'!$O$26:$O$56,'11월'!$L$26:$L$56,'연간 현황'!$D55)+SUMIFS('12월'!$O$26:$O$56,'12월'!$L$26:$L$56,'연간 현황'!$D55)","v":{"v":0,"d":"0 시간"}},null,"0 분",null,{"v":0,"d":"0 시간"},null,{"v":0,"d":"0 분"},null,{"v":0,"d":"0 시간"},null,{"v":0,"d":"0 분"},null,"",{"$nulls":4},{"$f":"SUMIFS('1월'!$AA$26:$AA$56,'1월'!$L$26:$L$56,'연간 현황'!$D55)+SUMIFS('2월'!$AA$26:$AA$56,'2월'!$L$26:$L$56,'연간 현황'!$D55)+SUMIFS('3월'!$AA$26:$AA$56,'3월'!$L$26:$L$56,'연간 현황'!$D55)+SUMIFS('4월'!$AA$26:$AA$56,'4월'!$L$26:$L$56,'연간 현황'!$D55)+SUMIFS('5월'!$AA$26:$AA$56,'5월'!$L$26:$L$56,'연간 현황'!$D55)+SUMIFS('6월'!$AA$26:$AA$56,'6월'!$L$26:$L$56,'연간 현황'!$D55)+SUMIFS('7월'!$AA$26:$AA$56,'7월'!$L$26:$L$56,'연간 현황'!$D55)+SUMIFS('8월'!$AA$26:$AA$56,'8월'!$L$26:$L$56,'연간 현황'!$D55)+SUMIFS('9월'!$AA$26:$AA$56,'9월'!$L$26:$L$56,'연간 현황'!$D55)+SUMIFS('10월'!$AA$26:$AA$56,'10월'!$L$26:$L$56,'연간 현황'!$D55)+SUMIFS('11월'!$AA$26:$AA$56,'11월'!$L$26:$L$56,'연간 현황'!$D55)+SUMIFS('12월'!$AA$26:$AA$56,'12월'!$L$26:$L$56,'연간 현황'!$D55)","v":0},{"$f":"SUMIFS('1월'!$AC$26:$AC$56,'1월'!$L$26:$L$56,'연간 현황'!$D55)+SUMIFS('2월'!$AC$26:$AC$56,'2월'!$L$26:$L$56,'연간 현황'!$D55)+SUMIFS('3월'!$AC$26:$AC$56,'3월'!$L$26:$L$56,'연간 현황'!$D55)+SUMIFS('4월'!$AC$26:$AC$56,'4월'!$L$26:$L$56,'연간 현황'!$D55)+SUMIFS('5월'!$AC$26:$AC$56,'5월'!$L$26:$L$56,'연간 현황'!$D55)+SUMIFS('6월'!$AC$26:$AC$56,'6월'!$L$26:$L$56,'연간 현황'!$D55)+SUMIFS('7월'!$AC$26:$AC$56,'7월'!$L$26:$L$56,'연간 현황'!$D55)+SUMIFS('8월'!$AC$26:$AC$56,'8월'!$L$26:$L$56,'연간 현황'!$D55)+SUMIFS('9월'!$AC$26:$AC$56,'9월'!$L$26:$L$56,'연간 현황'!$D55)+SUMIFS('10월'!$AC$26:$AC$56,'10월'!$L$26:$L$56,'연간 현황'!$D55)+SUMIFS('11월'!$AC$26:$AC$56,'11월'!$L$26:$L$56,'연간 현황'!$D55)+SUMIFS('12월'!$AC$26:$AC$56,'12월'!$L$26:$L$56,'연간 현황'!$D55)","v":0}]
[{"$nulls":3},{"v":19,"d":"19주차"},null,{"$f":"SUMIFS('1월'!$M$26:$M$56,'1월'!$L$26:$L$56,'연간 현황'!$D56)+SUMIFS('2월'!$M$26:$M$56,'2월'!$L$26:$L$56,'연간 현황'!$D56)+SUMIFS('3월'!$M$26:$M$56,'3월'!$L$26:$L$56,'연간 현황'!$D56)+SUMIFS('4월'!$M$26:$M$56,'4월'!$L$26:$L$56,'연간 현황'!$D56)+SUMIFS('5월'!$M$26:$M$56,'5월'!$L$26:$L$56,'연간 현황'!$D56)+SUMIFS('6월'!$M$26:$M$56,'6월'!$L$26:$L$56,'연간 현황'!$D56)+SUMIFS('7월'!$M$26:$M$56,'7월'!$L$26:$L$56,'연간 현황'!$D56)+SUMIFS('8월'!$M$26:$M$56,'8월'!$L$26:$L$56,'연간 현황'!$D56)+SUMIFS('9월'!$M$26:$M$56,'9월'!$L$26:$L$56,'연간 현황'!$D56)+SUMIFS('10월'!$M$26:$M$56,'10월'!$L$26:$L$56,'연간 현황'!$D56)+SUMIFS('11월'!$M$26:$M$56,'11월'!$L$26:$L$56,'연간 현황'!$D56)+SUMIFS('12월'!$M$26:$M$56,'12월'!$L$26:$L$56,'연간 현황'!$D56)","v":{"v":0,"d":"0 시간"}},null,"0 분",null,{"$f":"SUMIFS('1월'!$O$26:$O$56,'1월'!$L$26:$L$56,'연간 현황'!$D56)+SUMIFS('2월'!$O$26:$O$56,'2월'!$L$26:$L$56,'연간 현황'!$D56)+SUMIFS('3월'!$O$26:$O$56,'3월'!$L$26:$L$56,'연간 현황'!$D56)+SUMIFS('4월'!$O$26:$O$56,'4월'!$L$26:$L$56,'연간 현황'!$D56)+SUMIFS('5월'!$O$26:$O$56,'5월'!$L$26:$L$56,'연간 현황'!$D56)+SUMIFS('6월'!$O$26:$O$56,'6월'!$L$26:$L$56,'연간 현황'!$D56)+SUMIFS('7월'!$O$26:$O$56,'7월'!$L$26:$L$56,'연간 현황'!$D56)+SUMIFS('8월'!$O$26:$O$56,'8월'!$L$26:$L$56,'연간 현황'!$D56)+SUMIFS('9월'!$O$26:$O$56,'9월'!$L$26:$L$56,'연간 현황'!$D56)+SUMIFS('10월'!$O$26:$O$56,'10월'!$L$26:$L$56,'연간 현황'!$D56)+SUMIFS('11월'!$O$26:$O$56,'11월'!$L$26:$L$56,'연간 현황'!$D56)+SUMIFS('12월'!$O$26:$O$56,'12월'!$L$26:$L$56,'연간 현황'!$D56)","v":{"v":0,"d":"0 시간"}},null,"0 분",null,{"v":0,"d":"0 시간"},null,{"v":0,"d":"0 분"},null,{"v":0,"d":"0 시간"},null,{"v":0,"d":"0 분"},null,"",{"$nulls":4},{"$f":"SUMIFS('1월'!$AA$26:$AA$56,'1월'!$L$26:$L$56,'연간 현황'!$D56)+SUMIFS('2월'!$AA$26:$AA$56,'2월'!$L$26:$L$56,'연간 현황'!$D56)+SUMIFS('3월'!$AA$26:$AA$56,'3월'!$L$26:$L$56,'연간 현황'!$D56)+SUMIFS('4월'!$AA$26:$AA$56,'4월'!$L$26:$L$56,'연간 현황'!$D56)+SUMIFS('5월'!$AA$26:$AA$56,'5월'!$L$26:$L$56,'연간 현황'!$D56)+SUMIFS('6월'!$AA$26:$AA$56,'6월'!$L$26:$L$56,'연간 현황'!$D56)+SUMIFS('7월'!$AA$26:$AA$56,'7월'!$L$26:$L$56,'연간 현황'!$D56)+SUMIFS('8월'!$AA$26:$AA$56,'8월'!$L$26:$L$56,'연간 현황'!$D56)+SUMIFS('9월'!$AA$26:$AA$56,'9월'!$L$26:$L$56,'연간 현황'!$D56)+SUMIFS('10월'!$AA$26:$AA$56,'10월'!$L$26:$L$56,'연간 현황'!$D56)+SUMIFS('11월'!$AA$26:$AA$56,'11월'!$L$26:$L$56,'연간 현황'!$D56)+SUMIFS('12월'!$AA$26:$AA$56,'12월'!$L$26:$L$56,'연간 현황'!$D56)","v":0},{"$f":"SUMIFS('1월'!$AC$26:$AC$56,'1월'!$L$26:$L$56,'연간 현황'!$D56)+SUMIFS('2월'!$AC$26:$AC$56,'2월'!$L$26:$L$56,'연간 현황'!$D56)+SUMIFS('3월'!$AC$26:$AC$56,'3월'!$L$26:$L$56,'연간 현황'!$D56)+SUMIFS('4월'!$AC$26:$AC$56,'4월'!$L$26:$L$56,'연간 현황'!$D56)+SUMIFS('5월'!$AC$26:$AC$56,'5월'!$L$26:$L$56,'연간 현황'!$D56)+SUMIFS('6월'!$AC$26:$AC$56,'6월'!$L$26:$L$56,'연간 현황'!$D56)+SUMIFS('7월'!$AC$26:$AC$56,'7월'!$L$26:$L$56,'연간 현황'!$D56)+SUMIFS('8월'!$AC$26:$AC$56,'8월'!$L$26:$L$56,'연간 현황'!$D56)+SUMIFS('9월'!$AC$26:$AC$56,'9월'!$L$26:$L$56,'연간 현황'!$D56)+SUMIFS('10월'!$AC$26:$AC$56,'10월'!$L$26:$L$56,'연간 현황'!$D56)+SUMIFS('11월'!$AC$26:$AC$56,'11월'!$L$26:$L$56,'연간 현황'!$D56)+SUMIFS('12월'!$AC$26:$AC$56,'12월'!$L$26:$L$56,'연간 현황'!$D56)","v":0}]
[{"$nulls":3},{"v":20,"d":"20주차"},null,{"$f":"SUMIFS('1월'!$M$26:$M$56,'1월'!$L$26:$L$56,'연간 현황'!$D57)+SUMIFS('2월'!$M$26:$M$56,'2월'!$L$26:$L$56,'연간 현황'!$D57)+SUMIFS('3월'!$M$26:$M$56,'3월'!$L$26:$L$56,'연간 현황'!$D57)+SUMIFS('4월'!$M$26:$M$56,'4월'!$L$26:$L$56,'연간 현황'!$D57)+SUMIFS('5월'!$M$26:$M$56,'5월'!$L$26:$L$56,'연간 현황'!$D57)+SUMIFS('6월'!$M$26:$M$56,'6월'!$L$26:$L$56,'연간 현황'!$D57)+SUMIFS('7월'!$M$26:$M$56,'7월'!$L$26:$L$56,'연간 현황'!$D57)+SUMIFS('8월'!$M$26:$M$56,'8월'!$L$26:$L$56,'연간 현황'!$D57)+SUMIFS('9월'!$M$26:$M$56,'9월'!$L$26:$L$56,'연간 현황'!$D57)+SUMIFS('10월'!$M$26:$M$56,'10월'!$L$26:$L$56,'연간 현황'!$D57)+SUMIFS('11월'!$M$26:$M$56,'11월'!$L$26:$L$56,'연간 현황'!$D57)+SUMIFS('12월'!$M$26:$M$56,'12월'!$L$26:$L$56,'연간 현황'!$D57)","v":{"v":0,"d":"0 시간"}},null,"0 분",null,{"$f":"SUMIFS('1월'!$O$26:$O$56,'1월'!$L$26:$L$56,'연간 현황'!$D57)+SUMIFS('2월'!$O$26:$O$56,'2월'!$L$26:$L$56,'연간 현황'!$D57)+SUMIFS('3월'!$O$26:$O$56,'3월'!$L$26:$L$56,'연간 현황'!$D57)+SUMIFS('4월'!$O$26:$O$56,'4월'!$L$26:$L$56,'연간 현황'!$D57)+SUMIFS('5월'!$O$26:$O$56,'5월'!$L$26:$L$56,'연간 현황'!$D57)+SUMIFS('6월'!$O$26:$O$56,'6월'!$L$26:$L$56,'연간 현황'!$D57)+SUMIFS('7월'!$O$26:$O$56,'7월'!$L$26:$L$56,'연간 현황'!$D57)+SUMIFS('8월'!$O$26:$O$56,'8월'!$L$26:$L$56,'연간 현황'!$D57)+SUMIFS('9월'!$O$26:$O$56,'9월'!$L$26:$L$56,'연간 현황'!$D57)+SUMIFS('10월'!$O$26:$O$56,'10월'!$L$26:$L$56,'연간 현황'!$D57)+SUMIFS('11월'!$O$26:$O$56,'11월'!$L$26:$L$56,'연간 현황'!$D57)+SUMIFS('12월'!$O$26:$O$56,'12월'!$L$26:$L$56,'연간 현황'!$D57)","v":{"v":0,"d":"0 시간"}},null,"0 분",null,{"v":0,"d":"0 시간"},null,{"v":0,"d":"0 분"},null,{"v":0,"d":"0 시간"},null,{"v":0,"d":"0 분"},null,"",{"$nulls":4},{"$f":"SUMIFS('1월'!$AA$26:$AA$56,'1월'!$L$26:$L$56,'연간 현황'!$D57)+SUMIFS('2월'!$AA$26:$AA$56,'2월'!$L$26:$L$56,'연간 현황'!$D57)+SUMIFS('3월'!$AA$26:$AA$56,'3월'!$L$26:$L$56,'연간 현황'!$D57)+SUMIFS('4월'!$AA$26:$AA$56,'4월'!$L$26:$L$56,'연간 현황'!$D57)+SUMIFS('5월'!$AA$26:$AA$56,'5월'!$L$26:$L$56,'연간 현황'!$D57)+SUMIFS('6월'!$AA$26:$AA$56,'6월'!$L$26:$L$56,'연간 현황'!$D57)+SUMIFS('7월'!$AA$26:$AA$56,'7월'!$L$26:$L$56,'연간 현황'!$D57)+SUMIFS('8월'!$AA$26:$AA$56,'8월'!$L$26:$L$56,'연간 현황'!$D57)+SUMIFS('9월'!$AA$26:$AA$56,'9월'!$L$26:$L$56,'연간 현황'!$D57)+SUMIFS('10월'!$AA$26:$AA$56,'10월'!$L$26:$L$56,'연간 현황'!$D57)+SUMIFS('11월'!$AA$26:$AA$56,'11월'!$L$26:$L$56,'연간 현황'!$D57)+SUMIFS('12월'!$AA$26:$AA$56,'12월'!$L$26:$L$56,'연간 현황'!$D57)","v":0},{"$f":"SUMIFS('1월'!$AC$26:$AC$56,'1월'!$L$26:$L$56,'연간 현황'!$D57)+SUMIFS('2월'!$AC$26:$AC$56,'2월'!$L$26:$L$56,'연간 현황'!$D57)+SUMIFS('3월'!$AC$26:$AC$56,'3월'!$L$26:$L$56,'연간 현황'!$D57)+SUMIFS('4월'!$AC$26:$AC$56,'4월'!$L$26:$L$56,'연간 현황'!$D57)+SUMIFS('5월'!$AC$26:$AC$56,'5월'!$L$26:$L$56,'연간 현황'!$D57)+SUMIFS('6월'!$AC$26:$AC$56,'6월'!$L$26:$L$56,'연간 현황'!$D57)+SUMIFS('7월'!$AC$26:$AC$56,'7월'!$L$26:$L$56,'연간 현황'!$D57)+SUMIFS('8월'!$AC$26:$AC$56,'8월'!$L$26:$L$56,'연간 현황'!$D57)+SUMIFS('9월'!$AC$26:$AC$56,'9월'!$L$26:$L$56,'연간 현황'!$D57)+SUMIFS('10월'!$AC$26:$AC$56,'10월'!$L$26:$L$56,'연간 현황'!$D57)+SUMIFS('11월'!$AC$26:$AC$56,'11월'!$L$26:$L$56,'연간 현황'!$D57)+SUMIFS('12월'!$AC$26:$AC$56,'12월'!$L$26:$L$56,'연간 현황'!$D57)","v":0}]
[{"$nulls":3},{"v":21,"d":"21주차"},null,{"$f":"SUMIFS('1월'!$M$26:$M$56,'1월'!$L$26:$L$56,'연간 현황'!$D58)+SUMIFS('2월'!$M$26:$M$56,'2월'!$L$26:$L$56,'연간 현황'!$D58)+SUMIFS('3월'!$M$26:$M$56,'3월'!$L$26:$L$56,'연간 현황'!$D58)+SUMIFS('4월'!$M$26:$M$56,'4월'!$L$26:$L$56,'연간 현황'!$D58)+SUMIFS('5월'!$M$26:$M$56,'5월'!$L$26:$L$56,'연간 현황'!$D58)+SUMIFS('6월'!$M$26:$M$56,'6월'!$L$26:$L$56,'연간 현황'!$D58)+SUMIFS('7월'!$M$26:$M$56,'7월'!$L$26:$L$56,'연간 현황'!$D58)+SUMIFS('8월'!$M$26:$M$56,'8월'!$L$26:$L$56,'연간 현황'!$D58)+SUMIFS('9월'!$M$26:$M$56,'9월'!$L$26:$L$56,'연간 현황'!$D58)+SUMIFS('10월'!$M$26:$M$56,'10월'!$L$26:$L$56,'연간 현황'!$D58)+SUMIFS('11월'!$M$26:$M$56,'11월'!$L$26:$L$56,'연간 현황'!$D58)+SUMIFS('12월'!$M$26:$M$56,'12월'!$L$26:$L$56,'연간 현황'!$D58)","v":{"v":0,"d":"0 시간"}},null,"0 분",null,{"$f":"SUMIFS('1월'!$O$26:$O$56,'1월'!$L$26:$L$56,'연간 현황'!$D58)+SUMIFS('2월'!$O$26:$O$56,'2월'!$L$26:$L$56,'연간 현황'!$D58)+SUMIFS('3월'!$O$26:$O$56,'3월'!$L$26:$L$56,'연간 현황'!$D58)+SUMIFS('4월'!$O$26:$O$56,'4월'!$L$26:$L$56,'연간 현황'!$D58)+SUMIFS('5월'!$O$26:$O$56,'5월'!$L$26:$L$56,'연간 현황'!$D58)+SUMIFS('6월'!$O$26:$O$56,'6월'!$L$26:$L$56,'연간 현황'!$D58)+SUMIFS('7월'!$O$26:$O$56,'7월'!$L$26:$L$56,'연간 현황'!$D58)+SUMIFS('8월'!$O$26:$O$56,'8월'!$L$26:$L$56,'연간 현황'!$D58)+SUMIFS('9월'!$O$26:$O$56,'9월'!$L$26:$L$56,'연간 현황'!$D58)+SUMIFS('10월'!$O$26:$O$56,'10월'!$L$26:$L$56,'연간 현황'!$D58)+SUMIFS('11월'!$O$26:$O$56,'11월'!$L$26:$L$56,'연간 현황'!$D58)+SUMIFS('12월'!$O$26:$O$56,'12월'!$L$26:$L$56,'연간 현황'!$D58)","v":{"v":0,"d":"0 시간"}},null,"0 분",null,{"$f":"INT($AA58/60)","v":{"v":0,"d":"0 시간"}},null,{"$f":"ROUND(($AA58/60-INT($AA58/60))*60,0)","v":{"v":0,"d":"0 분"}},null,{"v":0,"d":"0 시간"},null,{"v":0,"d":"0 분"},null,{"$f":"IF($AA58>52*60,\"[정규] 주 52시간 초과\",IF($AB58>12*60,\"[연장] 주 12시간 초과\",\"\"))","v":""},{"$nulls":4},{"$f":"SUMIFS('1월'!$AA$26:$AA$56,'1월'!$L$26:$L$56,'연간 현황'!$D58)+SUMIFS('2월'!$AA$26:$AA$56,'2월'!$L$26:$L$56,'연간 현황'!$D58)+SUMIFS('3월'!$AA$26:$AA$56,'3월'!$L$26:$L$56,'연간 현황'!$D58)+SUMIFS('4월'!$AA$26:$AA$56,'4월'!$L$26:$L$56,'연간 현황'!$D58)+SUMIFS('5월'!$AA$26:$AA$56,'5월'!$L$26:$L$56,'연간 현황'!$D58)+SUMIFS('6월'!$AA$26:$AA$56,'6월'!$L$26:$L$56,'연간 현황'!$D58)+SUMIFS('7월'!$AA$26:$AA$56,'7월'!$L$26:$L$56,'연간 현황'!$D58)+SUMIFS('8월'!$AA$26:$AA$56,'8월'!$L$26:$L$56,'연간 현황'!$D58)+SUMIFS('9월'!$AA$26:$AA$56,'9월'!$L$26:$L$56,'연간 현황'!$D58)+SUMIFS('10월'!$AA$26:$AA$56,'10월'!$L$26:$L$56,'연간 현황'!$D58)+SUMIFS('11월'!$AA$26:$AA$56,'11월'!$L$26:$L$56,'연간 현황'!$D58)+SUMIFS('12월'!$AA$26:$AA$56,'12월'!$L$26:$L$56,'연간 현황'!$D58)","v":0},{"$f":"SUMIFS('1월'!$AC$26:$AC$56,'1월'!$L$26:$L$56,'연간 현황'!$D58)+SUMIFS('2월'!$AC$26:$AC$56,'2월'!$L$26:$L$56,'연간 현황'!$D58)+SUMIFS('3월'!$AC$26:$AC$56,'3월'!$L$26:$L$56,'연간 현황'!$D58)+SUMIFS('4월'!$AC$26:$AC$56,'4월'!$L$26:$L$56,'연간 현황'!$D58)+SUMIFS('5월'!$AC$26:$AC$56,'5월'!$L$26:$L$56,'연간 현황'!$D58)+SUMIFS('6월'!$AC$26:$AC$56,'6월'!$L$26:$L$56,'연간 현황'!$D58)+SUMIFS('7월'!$AC$26:$AC$56,'7월'!$L$26:$L$56,'연간 현황'!$D58)+SUMIFS('8월'!$AC$26:$AC$56,'8월'!$L$26:$L$56,'연간 현황'!$D58)+SUMIFS('9월'!$AC$26:$AC$56,'9월'!$L$26:$L$56,'연간 현황'!$D58)+SUMIFS('10월'!$AC$26:$AC$56,'10월'!$L$26:$L$56,'연간 현황'!$D58)+SUMIFS('11월'!$AC$26:$AC$56,'11월'!$L$26:$L$56,'연간 현황'!$D58)+SUMIFS('12월'!$AC$26:$AC$56,'12월'!$L$26:$L$56,'연간 현황'!$D58)","v":0}]
[{"$nulls":3},{"v":22,"d":"22주차"},null,{"$f":"SUMIFS('1월'!$M$26:$M$56,'1월'!$L$26:$L$56,'연간 현황'!$D59)+SUMIFS('2월'!$M$26:$M$56,'2월'!$L$26:$L$56,'연간 현황'!$D59)+SUMIFS('3월'!$M$26:$M$56,'3월'!$L$26:$L$56,'연간 현황'!$D59)+SUMIFS('4월'!$M$26:$M$56,'4월'!$L$26:$L$56,'연간 현황'!$D59)+SUMIFS('5월'!$M$26:$M$56,'5월'!$L$26:$L$56,'연간 현황'!$D59)+SUMIFS('6월'!$M$26:$M$56,'6월'!$L$26:$L$56,'연간 현황'!$D59)+SUMIFS('7월'!$M$26:$M$56,'7월'!$L$26:$L$56,'연간 현황'!$D59)+SUMIFS('8월'!$M$26:$M$56,'8월'!$L$26:$L$56,'연간 현황'!$D59)+SUMIFS('9월'!$M$26:$M$56,'9월'!$L$26:$L$56,'연간 현황'!$D59)+SUMIFS('10월'!$M$26:$M$56,'10월'!$L$26:$L$56,'연간 현황'!$D59)+SUMIFS('11월'!$M$26:$M$56,'11월'!$L$26:$L$56,'연간 현황'!$D59)+SUMIFS('12월'!$M$26:$M$56,'12월'!$L$26:$L$56,'연간 현황'!$D59)","v":{"v":0,"d":"0 시간"}},null,"0 분",null,{"$f":"SUMIFS('1월'!$O$26:$O$56,'1월'!$L$26:$L$56,'연간 현황'!$D59)+SUMIFS('2월'!$O$26:$O$56,'2월'!$L$26:$L$56,'연간 현황'!$D59)+SUMIFS('3월'!$O$26:$O$56,'3월'!$L$26:$L$56,'연간 현황'!$D59)+SUMIFS('4월'!$O$26:$O$56,'4월'!$L$26:$L$56,'연간 현황'!$D59)+SUMIFS('5월'!$O$26:$O$56,'5월'!$L$26:$L$56,'연간 현황'!$D59)+SUMIFS('6월'!$O$26:$O$56,'6월'!$L$26:$L$56,'연간 현황'!$D59)+SUMIFS('7월'!$O$26:$O$56,'7월'!$L$26:$L$56,'연간 현황'!$D59)+SUMIFS('8월'!$O$26:$O$56,'8월'!$L$26:$L$56,'연간 현황'!$D59)+SUMIFS('9월'!$O$26:$O$56,'9월'!$L$26:$L$56,'연간 현황'!$D59)+SUMIFS('10월'!$O$26:$O$56,'10월'!$L$26:$L$56,'연간 현황'!$D59)+SUMIFS('11월'!$O$26:$O$56,'11월'!$L$26:$L$56,'연간 현황'!$D59)+SUMIFS('12월'!$O$26:$O$56,'12월'!$L$26:$L$56,'연간 현황'!$D59)","v":{"v":0,"d":"0 시간"}},null,"0 분",null,{"v":0,"d":"0 시간"},null,{"v":0,"d":"0 분"},null,{"v":0,"d":"0 시간"},null,{"v":0,"d":"0 분"},null,"",{"$nulls":4},{"$f":"SUMIFS('1월'!$AA$26:$AA$56,'1월'!$L$26:$L$56,'연간 현황'!$D59)+SUMIFS('2월'!$AA$26:$AA$56,'2월'!$L$26:$L$56,'연간 현황'!$D59)+SUMIFS('3월'!$AA$26:$AA$56,'3월'!$L$26:$L$56,'연간 현황'!$D59)+SUMIFS('4월'!$AA$26:$AA$56,'4월'!$L$26:$L$56,'연간 현황'!$D59)+SUMIFS('5월'!$AA$26:$AA$56,'5월'!$L$26:$L$56,'연간 현황'!$D59)+SUMIFS('6월'!$AA$26:$AA$56,'6월'!$L$26:$L$56,'연간 현황'!$D59)+SUMIFS('7월'!$AA$26:$AA$56,'7월'!$L$26:$L$56,'연간 현황'!$D59)+SUMIFS('8월'!$AA$26:$AA$56,'8월'!$L$26:$L$56,'연간 현황'!$D59)+SUMIFS('9월'!$AA$26:$AA$56,'9월'!$L$26:$L$56,'연간 현황'!$D59)+SUMIFS('10월'!$AA$26:$AA$56,'10월'!$L$26:$L$56,'연간 현황'!$D59)+SUMIFS('11월'!$AA$26:$AA$56,'11월'!$L$26:$L$56,'연간 현황'!$D59)+SUMIFS('12월'!$AA$26:$AA$56,'12월'!$L$26:$L$56,'연간 현황'!$D59)","v":0},{"$f":"SUMIFS('1월'!$AC$26:$AC$56,'1월'!$L$26:$L$56,'연간 현황'!$D59)+SUMIFS('2월'!$AC$26:$AC$56,'2월'!$L$26:$L$56,'연간 현황'!$D59)+SUMIFS('3월'!$AC$26:$AC$56,'3월'!$L$26:$L$56,'연간 현황'!$D59)+SUMIFS('4월'!$AC$26:$AC$56,'4월'!$L$26:$L$56,'연간 현황'!$D59)+SUMIFS('5월'!$AC$26:$AC$56,'5월'!$L$26:$L$56,'연간 현황'!$D59)+SUMIFS('6월'!$AC$26:$AC$56,'6월'!$L$26:$L$56,'연간 현황'!$D59)+SUMIFS('7월'!$AC$26:$AC$56,'7월'!$L$26:$L$56,'연간 현황'!$D59)+SUMIFS('8월'!$AC$26:$AC$56,'8월'!$L$26:$L$56,'연간 현황'!$D59)+SUMIFS('9월'!$AC$26:$AC$56,'9월'!$L$26:$L$56,'연간 현황'!$D59)+SUMIFS('10월'!$AC$26:$AC$56,'10월'!$L$26:$L$56,'연간 현황'!$D59)+SUMIFS('11월'!$AC$26:$AC$56,'11월'!$L$26:$L$56,'연간 현황'!$D59)+SUMIFS('12월'!$AC$26:$AC$56,'12월'!$L$26:$L$56,'연간 현황'!$D59)","v":0}]
[{"$nulls":3},{"v":23,"d":"23주차"},null,{"$f":"SUMIFS('1월'!$M$26:$M$56,'1월'!$L$26:$L$56,'연간 현황'!$D60)+SUMIFS('2월'!$M$26:$M$56,'2월'!$L$26:$L$56,'연간 현황'!$D60)+SUMIFS('3월'!$M$26:$M$56,'3월'!$L$26:$L$56,'연간 현황'!$D60)+SUMIFS('4월'!$M$26:$M$56,'4월'!$L$26:$L$56,'연간 현황'!$D60)+SUMIFS('5월'!$M$26:$M$56,'5월'!$L$26:$L$56,'연간 현황'!$D60)+SUMIFS('6월'!$M$26:$M$56,'6월'!$L$26:$L$56,'연간 현황'!$D60)+SUMIFS('7월'!$M$26:$M$56,'7월'!$L$26:$L$56,'연간 현황'!$D60)+SUMIFS('8월'!$M$26:$M$56,'8월'!$L$26:$L$56,'연간 현황'!$D60)+SUMIFS('9월'!$M$26:$M$56,'9월'!$L$26:$L$56,'연간 현황'!$D60)+SUMIFS('10월'!$M$26:$M$56,'10월'!$L$26:$L$56,'연간 현황'!$D60)+SUMIFS('11월'!$M$26:$M$56,'11월'!$L$26:$L$56,'연간 현황'!$D60)+SUMIFS('12월'!$M$26:$M$56,'12월'!$L$26:$L$56,'연간 현황'!$D60)","v":{"v":0,"d":"0 시간"}},null,"0 분",null,{"$f":"SUMIFS('1월'!$O$26:$O$56,'1월'!$L$26:$L$56,'연간 현황'!$D60)+SUMIFS('2월'!$O$26:$O$56,'2월'!$L$26:$L$56,'연간 현황'!$D60)+SUMIFS('3월'!$O$26:$O$56,'3월'!$L$26:$L$56,'연간 현황'!$D60)+SUMIFS('4월'!$O$26:$O$56,'4월'!$L$26:$L$56,'연간 현황'!$D60)+SUMIFS('5월'!$O$26:$O$56,'5월'!$L$26:$L$56,'연간 현황'!$D60)+SUMIFS('6월'!$O$26:$O$56,'6월'!$L$26:$L$56,'연간 현황'!$D60)+SUMIFS('7월'!$O$26:$O$56,'7월'!$L$26:$L$56,'연간 현황'!$D60)+SUMIFS('8월'!$O$26:$O$56,'8월'!$L$26:$L$56,'연간 현황'!$D60)+SUMIFS('9월'!$O$26:$O$56,'9월'!$L$26:$L$56,'연간 현황'!$D60)+SUMIFS('10월'!$O$26:$O$56,'10월'!$L$26:$L$56,'연간 현황'!$D60)+SUMIFS('11월'!$O$26:$O$56,'11월'!$L$26:$L$56,'연간 현황'!$D60)+SUMIFS('12월'!$O$26:$O$56,'12월'!$L$26:$L$56,'연간 현황'!$D60)","v":{"v":0,"d":"0 시간"}},null,"0 분",null,{"v":0,"d":"0 시간"},null,{"v":0,"d":"0 분"},null,{"v":0,"d":"0 시간"},null,{"v":0,"d":"0 분"},null,"",{"$nulls":4},{"$f":"SUMIFS('1월'!$AA$26:$AA$56,'1월'!$L$26:$L$56,'연간 현황'!$D60)+SUMIFS('2월'!$AA$26:$AA$56,'2월'!$L$26:$L$56,'연간 현황'!$D60)+SUMIFS('3월'!$AA$26:$AA$56,'3월'!$L$26:$L$56,'연간 현황'!$D60)+SUMIFS('4월'!$AA$26:$AA$56,'4월'!$L$26:$L$56,'연간 현황'!$D60)+SUMIFS('5월'!$AA$26:$AA$56,'5월'!$L$26:$L$56,'연간 현황'!$D60)+SUMIFS('6월'!$AA$26:$AA$56,'6월'!$L$26:$L$56,'연간 현황'!$D60)+SUMIFS('7월'!$AA$26:$AA$56,'7월'!$L$26:$L$56,'연간 현황'!$D60)+SUMIFS('8월'!$AA$26:$AA$56,'8월'!$L$26:$L$56,'연간 현황'!$D60)+SUMIFS('9월'!$AA$26:$AA$56,'9월'!$L$26:$L$56,'연간 현황'!$D60)+SUMIFS('10월'!$AA$26:$AA$56,'10월'!$L$26:$L$56,'연간 현황'!$D60)+SUMIFS('11월'!$AA$26:$AA$56,'11월'!$L$26:$L$56,'연간 현황'!$D60)+SUMIFS('12월'!$AA$26:$AA$56,'12월'!$L$26:$L$56,'연간 현황'!$D60)","v":0},{"$f":"SUMIFS('1월'!$AC$26:$AC$56,'1월'!$L$26:$L$56,'연간 현황'!$D60)+SUMIFS('2월'!$AC$26:$AC$56,'2월'!$L$26:$L$56,'연간 현황'!$D60)+SUMIFS('3월'!$AC$26:$AC$56,'3월'!$L$26:$L$56,'연간 현황'!$D60)+SUMIFS('4월'!$AC$26:$AC$56,'4월'!$L$26:$L$56,'연간 현황'!$D60)+SUMIFS('5월'!$AC$26:$AC$56,'5월'!$L$26:$L$56,'연간 현황'!$D60)+SUMIFS('6월'!$AC$26:$AC$56,'6월'!$L$26:$L$56,'연간 현황'!$D60)+SUMIFS('7월'!$AC$26:$AC$56,'7월'!$L$26:$L$56,'연간 현황'!$D60)+SUMIFS('8월'!$AC$26:$AC$56,'8월'!$L$26:$L$56,'연간 현황'!$D60)+SUMIFS('9월'!$AC$26:$AC$56,'9월'!$L$26:$L$56,'연간 현황'!$D60)+SUMIFS('10월'!$AC$26:$AC$56,'10월'!$L$26:$L$56,'연간 현황'!$D60)+SUMIFS('11월'!$AC$26:$AC$56,'11월'!$L$26:$L$56,'연간 현황'!$D60)+SUMIFS('12월'!$AC$26:$AC$56,'12월'!$L$26:$L$56,'연간 현황'!$D60)","v":0}]
[{"$nulls":3},{"v":24,"d":"24주차"},null,{"$f":"SUMIFS('1월'!$M$26:$M$56,'1월'!$L$26:$L$56,'연간 현황'!$D61)+SUMIFS('2월'!$M$26:$M$56,'2월'!$L$26:$L$56,'연간 현황'!$D61)+SUMIFS('3월'!$M$26:$M$56,'3월'!$L$26:$L$56,'연간 현황'!$D61)+SUMIFS('4월'!$M$26:$M$56,'4월'!$L$26:$L$56,'연간 현황'!$D61)+SUMIFS('5월'!$M$26:$M$56,'5월'!$L$26:$L$56,'연간 현황'!$D61)+SUMIFS('6월'!$M$26:$M$56,'6월'!$L$26:$L$56,'연간 현황'!$D61)+SUMIFS('7월'!$M$26:$M$56,'7월'!$L$26:$L$56,'연간 현황'!$D61)+SUMIFS('8월'!$M$26:$M$56,'8월'!$L$26:$L$56,'연간 현황'!$D61)+SUMIFS('9월'!$M$26:$M$56,'9월'!$L$26:$L$56,'연간 현황'!$D61)+SUMIFS('10월'!$M$26:$M$56,'10월'!$L$26:$L$56,'연간 현황'!$D61)+SUMIFS('11월'!$M$26:$M$56,'11월'!$L$26:$L$56,'연간 현황'!$D61)+SUMIFS('12월'!$M$26:$M$56,'12월'!$L$26:$L$56,'연간 현황'!$D61)","v":{"v":0,"d":"0 시간"}},null,"0 분",null,{"$f":"SUMIFS('1월'!$O$26:$O$56,'1월'!$L$26:$L$56,'연간 현황'!$D61)+SUMIFS('2월'!$O$26:$O$56,'2월'!$L$26:$L$56,'연간 현황'!$D61)+SUMIFS('3월'!$O$26:$O$56,'3월'!$L$26:$L$56,'연간 현황'!$D61)+SUMIFS('4월'!$O$26:$O$56,'4월'!$L$26:$L$56,'연간 현황'!$D61)+SUMIFS('5월'!$O$26:$O$56,'5월'!$L$26:$L$56,'연간 현황'!$D61)+SUMIFS('6월'!$O$26:$O$56,'6월'!$L$26:$L$56,'연간 현황'!$D61)+SUMIFS('7월'!$O$26:$O$56,'7월'!$L$26:$L$56,'연간 현황'!$D61)+SUMIFS('8월'!$O$26:$O$56,'8월'!$L$26:$L$56,'연간 현황'!$D61)+SUMIFS('9월'!$O$26:$O$56,'9월'!$L$26:$L$56,'연간 현황'!$D61)+SUMIFS('10월'!$O$26:$O$56,'10월'!$L$26:$L$56,'연간 현황'!$D61)+SUMIFS('11월'!$O$26:$O$56,'11월'!$L$26:$L$56,'연간 현황'!$D61)+SUMIFS('12월'!$O$26:$O$56,'12월'!$L$26:$L$56,'연간 현황'!$D61)","v":{"v":0,"d":"0 시간"}},null,"0 분",null,{"v":0,"d":"0 시간"},null,{"v":0,"d":"0 분"},null,{"v":0,"d":"0 시간"},null,{"v":0,"d":"0 분"},null,"",{"$nulls":4},{"$f":"SUMIFS('1월'!$AA$26:$AA$56,'1월'!$L$26:$L$56,'연간 현황'!$D61)+SUMIFS('2월'!$AA$26:$AA$56,'2월'!$L$26:$L$56,'연간 현황'!$D61)+SUMIFS('3월'!$AA$26:$AA$56,'3월'!$L$26:$L$56,'연간 현황'!$D61)+SUMIFS('4월'!$AA$26:$AA$56,'4월'!$L$26:$L$56,'연간 현황'!$D61)+SUMIFS('5월'!$AA$26:$AA$56,'5월'!$L$26:$L$56,'연간 현황'!$D61)+SUMIFS('6월'!$AA$26:$AA$56,'6월'!$L$26:$L$56,'연간 현황'!$D61)+SUMIFS('7월'!$AA$26:$AA$56,'7월'!$L$26:$L$56,'연간 현황'!$D61)+SUMIFS('8월'!$AA$26:$AA$56,'8월'!$L$26:$L$56,'연간 현황'!$D61)+SUMIFS('9월'!$AA$26:$AA$56,'9월'!$L$26:$L$56,'연간 현황'!$D61)+SUMIFS('10월'!$AA$26:$AA$56,'10월'!$L$26:$L$56,'연간 현황'!$D61)+SUMIFS('11월'!$AA$26:$AA$56,'11월'!$L$26:$L$56,'연간 현황'!$D61)+SUMIFS('12월'!$AA$26:$AA$56,'12월'!$L$26:$L$56,'연간 현황'!$D61)","v":0},{"$f":"SUMIFS('1월'!$AC$26:$AC$56,'1월'!$L$26:$L$56,'연간 현황'!$D61)+SUMIFS('2월'!$AC$26:$AC$56,'2월'!$L$26:$L$56,'연간 현황'!$D61)+SUMIFS('3월'!$AC$26:$AC$56,'3월'!$L$26:$L$56,'연간 현황'!$D61)+SUMIFS('4월'!$AC$26:$AC$56,'4월'!$L$26:$L$56,'연간 현황'!$D61)+SUMIFS('5월'!$AC$26:$AC$56,'5월'!$L$26:$L$56,'연간 현황'!$D61)+SUMIFS('6월'!$AC$26:$AC$56,'6월'!$L$26:$L$56,'연간 현황'!$D61)+SUMIFS('7월'!$AC$26:$AC$56,'7월'!$L$26:$L$56,'연간 현황'!$D61)+SUMIFS('8월'!$AC$26:$AC$56,'8월'!$L$26:$L$56,'연간 현황'!$D61)+SUMIFS('9월'!$AC$26:$AC$56,'9월'!$L$26:$L$56,'연간 현황'!$D61)+SUMIFS('10월'!$AC$26:$AC$56,'10월'!$L$26:$L$56,'연간 현황'!$D61)+SUMIFS('11월'!$AC$26:$AC$56,'11월'!$L$26:$L$56,'연간 현황'!$D61)+SUMIFS('12월'!$AC$26:$AC$56,'12월'!$L$26:$L$56,'연간 현황'!$D61)","v":0}]
[{"$nulls":3},{"v":25,"d":"25주차"},null,{"$f":"SUMIFS('1월'!$M$26:$M$56,'1월'!$L$26:$L$56,'연간 현황'!$D62)+SUMIFS('2월'!$M$26:$M$56,'2월'!$L$26:$L$56,'연간 현황'!$D62)+SUMIFS('3월'!$M$26:$M$56,'3월'!$L$26:$L$56,'연간 현황'!$D62)+SUMIFS('4월'!$M$26:$M$56,'4월'!$L$26:$L$56,'연간 현황'!$D62)+SUMIFS('5월'!$M$26:$M$56,'5월'!$L$26:$L$56,'연간 현황'!$D62)+SUMIFS('6월'!$M$26:$M$56,'6월'!$L$26:$L$56,'연간 현황'!$D62)+SUMIFS('7월'!$M$26:$M$56,'7월'!$L$26:$L$56,'연간 현황'!$D62)+SUMIFS('8월'!$M$26:$M$56,'8월'!$L$26:$L$56,'연간 현황'!$D62)+SUMIFS('9월'!$M$26:$M$56,'9월'!$L$26:$L$56,'연간 현황'!$D62)+SUMIFS('10월'!$M$26:$M$56,'10월'!$L$26:$L$56,'연간 현황'!$D62)+SUMIFS('11월'!$M$26:$M$56,'11월'!$L$26:$L$56,'연간 현황'!$D62)+SUMIFS('12월'!$M$26:$M$56,'12월'!$L$26:$L$56,'연간 현황'!$D62)","v":{"v":0,"d":"0 시간"}},null,"0 분",null,{"$f":"SUMIFS('1월'!$O$26:$O$56,'1월'!$L$26:$L$56,'연간 현황'!$D62)+SUMIFS('2월'!$O$26:$O$56,'2월'!$L$26:$L$56,'연간 현황'!$D62)+SUMIFS('3월'!$O$26:$O$56,'3월'!$L$26:$L$56,'연간 현황'!$D62)+SUMIFS('4월'!$O$26:$O$56,'4월'!$L$26:$L$56,'연간 현황'!$D62)+SUMIFS('5월'!$O$26:$O$56,'5월'!$L$26:$L$56,'연간 현황'!$D62)+SUMIFS('6월'!$O$26:$O$56,'6월'!$L$26:$L$56,'연간 현황'!$D62)+SUMIFS('7월'!$O$26:$O$56,'7월'!$L$26:$L$56,'연간 현황'!$D62)+SUMIFS('8월'!$O$26:$O$56,'8월'!$L$26:$L$56,'연간 현황'!$D62)+SUMIFS('9월'!$O$26:$O$56,'9월'!$L$26:$L$56,'연간 현황'!$D62)+SUMIFS('10월'!$O$26:$O$56,'10월'!$L$26:$L$56,'연간 현황'!$D62)+SUMIFS('11월'!$O$26:$O$56,'11월'!$L$26:$L$56,'연간 현황'!$D62)+SUMIFS('12월'!$O$26:$O$56,'12월'!$L$26:$L$56,'연간 현황'!$D62)","v":{"v":0,"d":"0 시간"}},null,"0 분",null,{"v":0,"d":"0 시간"},null,{"v":0,"d":"0 분"},null,{"v":0,"d":"0 시간"},null,{"v":0,"d":"0 분"},null,"",{"$nulls":4},{"$f":"SUMIFS('1월'!$AA$26:$AA$56,'1월'!$L$26:$L$56,'연간 현황'!$D62)+SUMIFS('2월'!$AA$26:$AA$56,'2월'!$L$26:$L$56,'연간 현황'!$D62)+SUMIFS('3월'!$AA$26:$AA$56,'3월'!$L$26:$L$56,'연간 현황'!$D62)+SUMIFS('4월'!$AA$26:$AA$56,'4월'!$L$26:$L$56,'연간 현황'!$D62)+SUMIFS('5월'!$AA$26:$AA$56,'5월'!$L$26:$L$56,'연간 현황'!$D62)+SUMIFS('6월'!$AA$26:$AA$56,'6월'!$L$26:$L$56,'연간 현황'!$D62)+SUMIFS('7월'!$AA$26:$AA$56,'7월'!$L$26:$L$56,'연간 현황'!$D62)+SUMIFS('8월'!$AA$26:$AA$56,'8월'!$L$26:$L$56,'연간 현황'!$D62)+SUMIFS('9월'!$AA$26:$AA$56,'9월'!$L$26:$L$56,'연간 현황'!$D62)+SUMIFS('10월'!$AA$26:$AA$56,'10월'!$L$26:$L$56,'연간 현황'!$D62)+SUMIFS('11월'!$AA$26:$AA$56,'11월'!$L$26:$L$56,'연간 현황'!$D62)+SUMIFS('12월'!$AA$26:$AA$56,'12월'!$L$26:$L$56,'연간 현황'!$D62)","v":0},{"$f":"SUMIFS('1월'!$AC$26:$AC$56,'1월'!$L$26:$L$56,'연간 현황'!$D62)+SUMIFS('2월'!$AC$26:$AC$56,'2월'!$L$26:$L$56,'연간 현황'!$D62)+SUMIFS('3월'!$AC$26:$AC$56,'3월'!$L$26:$L$56,'연간 현황'!$D62)+SUMIFS('4월'!$AC$26:$AC$56,'4월'!$L$26:$L$56,'연간 현황'!$D62)+SUMIFS('5월'!$AC$26:$AC$56,'5월'!$L$26:$L$56,'연간 현황'!$D62)+SUMIFS('6월'!$AC$26:$AC$56,'6월'!$L$26:$L$56,'연간 현황'!$D62)+SUMIFS('7월'!$AC$26:$AC$56,'7월'!$L$26:$L$56,'연간 현황'!$D62)+SUMIFS('8월'!$AC$26:$AC$56,'8월'!$L$26:$L$56,'연간 현황'!$D62)+SUMIFS('9월'!$AC$26:$AC$56,'9월'!$L$26:$L$56,'연간 현황'!$D62)+SUMIFS('10월'!$AC$26:$AC$56,'10월'!$L$26:$L$56,'연간 현황'!$D62)+SUMIFS('11월'!$AC$26:$AC$56,'11월'!$L$26:$L$56,'연간 현황'!$D62)+SUMIFS('12월'!$AC$26:$AC$56,'12월'!$L$26:$L$56,'연간 현황'!$D62)","v":0}]
[{"$nulls":3},{"v":26,"d":"26주차"},null,{"$f":"SUMIFS('1월'!$M$26:$M$56,'1월'!$L$26:$L$56,'연간 현황'!$D63)+SUMIFS('2월'!$M$26:$M$56,'2월'!$L$26:$L$56,'연간 현황'!$D63)+SUMIFS('3월'!$M$26:$M$56,'3월'!$L$26:$L$56,'연간 현황'!$D63)+SUMIFS('4월'!$M$26:$M$56,'4월'!$L$26:$L$56,'연간 현황'!$D63)+SUMIFS('5월'!$M$26:$M$56,'5월'!$L$26:$L$56,'연간 현황'!$D63)+SUMIFS('6월'!$M$26:$M$56,'6월'!$L$26:$L$56,'연간 현황'!$D63)+SUMIFS('7월'!$M$26:$M$56,'7월'!$L$26:$L$56,'연간 현황'!$D63)+SUMIFS('8월'!$M$26:$M$56,'8월'!$L$26:$L$56,'연간 현황'!$D63)+SUMIFS('9월'!$M$26:$M$56,'9월'!$L$26:$L$56,'연간 현황'!$D63)+SUMIFS('10월'!$M$26:$M$56,'10월'!$L$26:$L$56,'연간 현황'!$D63)+SUMIFS('11월'!$M$26:$M$56,'11월'!$L$26:$L$56,'연간 현황'!$D63)+SUMIFS('12월'!$M$26:$M$56,'12월'!$L$26:$L$56,'연간 현황'!$D63)","v":{"v":0,"d":"0 시간"}},null,"0 분",null,{"$f":"SUMIFS('1월'!$O$26:$O$56,'1월'!$L$26:$L$56,'연간 현황'!$D63)+SUMIFS('2월'!$O$26:$O$56,'2월'!$L$26:$L$56,'연간 현황'!$D63)+SUMIFS('3월'!$O$26:$O$56,'3월'!$L$26:$L$56,'연간 현황'!$D63)+SUMIFS('4월'!$O$26:$O$56,'4월'!$L$26:$L$56,'연간 현황'!$D63)+SUMIFS('5월'!$O$26:$O$56,'5월'!$L$26:$L$56,'연간 현황'!$D63)+SUMIFS('6월'!$O$26:$O$56,'6월'!$L$26:$L$56,'연간 현황'!$D63)+SUMIFS('7월'!$O$26:$O$56,'7월'!$L$26:$L$56,'연간 현황'!$D63)+SUMIFS('8월'!$O$26:$O$56,'8월'!$L$26:$L$56,'연간 현황'!$D63)+SUMIFS('9월'!$O$26:$O$56,'9월'!$L$26:$L$56,'연간 현황'!$D63)+SUMIFS('10월'!$O$26:$O$56,'10월'!$L$26:$L$56,'연간 현황'!$D63)+SUMIFS('11월'!$O$26:$O$56,'11월'!$L$26:$L$56,'연간 현황'!$D63)+SUMIFS('12월'!$O$26:$O$56,'12월'!$L$26:$L$56,'연간 현황'!$D63)","v":{"v":0,"d":"0 시간"}},null,"0 분",null,{"v":0,"d":"0 시간"},null,{"v":0,"d":"0 분"},null,{"v":0,"d":"0 시간"},null,{"v":0,"d":"0 분"},null,"",{"$nulls":4},{"$f":"SUMIFS('1월'!$AA$26:$AA$56,'1월'!$L$26:$L$56,'연간 현황'!$D63)+SUMIFS('2월'!$AA$26:$AA$56,'2월'!$L$26:$L$56,'연간 현황'!$D63)+SUMIFS('3월'!$AA$26:$AA$56,'3월'!$L$26:$L$56,'연간 현황'!$D63)+SUMIFS('4월'!$AA$26:$AA$56,'4월'!$L$26:$L$56,'연간 현황'!$D63)+SUMIFS('5월'!$AA$26:$AA$56,'5월'!$L$26:$L$56,'연간 현황'!$D63)+SUMIFS('6월'!$AA$26:$AA$56,'6월'!$L$26:$L$56,'연간 현황'!$D63)+SUMIFS('7월'!$AA$26:$AA$56,'7월'!$L$26:$L$56,'연간 현황'!$D63)+SUMIFS('8월'!$AA$26:$AA$56,'8월'!$L$26:$L$56,'연간 현황'!$D63)+SUMIFS('9월'!$AA$26:$AA$56,'9월'!$L$26:$L$56,'연간 현황'!$D63)+SUMIFS('10월'!$AA$26:$AA$56,'10월'!$L$26:$L$56,'연간 현황'!$D63)+SUMIFS('11월'!$AA$26:$AA$56,'11월'!$L$26:$L$56,'연간 현황'!$D63)+SUMIFS('12월'!$AA$26:$AA$56,'12월'!$L$26:$L$56,'연간 현황'!$D63)","v":0},{"$f":"SUMIFS('1월'!$AC$26:$AC$56,'1월'!$L$26:$L$56,'연간 현황'!$D63)+SUMIFS('2월'!$AC$26:$AC$56,'2월'!$L$26:$L$56,'연간 현황'!$D63)+SUMIFS('3월'!$AC$26:$AC$56,'3월'!$L$26:$L$56,'연간 현황'!$D63)+SUMIFS('4월'!$AC$26:$AC$56,'4월'!$L$26:$L$56,'연간 현황'!$D63)+SUMIFS('5월'!$AC$26:$AC$56,'5월'!$L$26:$L$56,'연간 현황'!$D63)+SUMIFS('6월'!$AC$26:$AC$56,'6월'!$L$26:$L$56,'연간 현황'!$D63)+SUMIFS('7월'!$AC$26:$AC$56,'7월'!$L$26:$L$56,'연간 현황'!$D63)+SUMIFS('8월'!$AC$26:$AC$56,'8월'!$L$26:$L$56,'연간 현황'!$D63)+SUMIFS('9월'!$AC$26:$AC$56,'9월'!$L$26:$L$56,'연간 현황'!$D63)+SUMIFS('10월'!$AC$26:$AC$56,'10월'!$L$26:$L$56,'연간 현황'!$D63)+SUMIFS('11월'!$AC$26:$AC$56,'11월'!$L$26:$L$56,'연간 현황'!$D63)+SUMIFS('12월'!$AC$26:$AC$56,'12월'!$L$26:$L$56,'연간 현황'!$D63)","v":0}]
[{"$nulls":3},{"v":27,"d":"27주차"},null,{"$f":"SUMIFS('1월'!$M$26:$M$56,'1월'!$L$26:$L$56,'연간 현황'!$D64)+SUMIFS('2월'!$M$26:$M$56,'2월'!$L$26:$L$56,'연간 현황'!$D64)+SUMIFS('3월'!$M$26:$M$56,'3월'!$L$26:$L$56,'연간 현황'!$D64)+SUMIFS('4월'!$M$26:$M$56,'4월'!$L$26:$L$56,'연간 현황'!$D64)+SUMIFS('5월'!$M$26:$M$56,'5월'!$L$26:$L$56,'연간 현황'!$D64)+SUMIFS('6월'!$M$26:$M$56,'6월'!$L$26:$L$56,'연간 현황'!$D64)+SUMIFS('7월'!$M$26:$M$56,'7월'!$L$26:$L$56,'연간 현황'!$D64)+SUMIFS('8월'!$M$26:$M$56,'8월'!$L$26:$L$56,'연간 현황'!$D64)+SUMIFS('9월'!$M$26:$M$56,'9월'!$L$26:$L$56,'연간 현황'!$D64)+SUMIFS('10월'!$M$26:$M$56,'10월'!$L$26:$L$56,'연간 현황'!$D64)+SUMIFS('11월'!$M$26:$M$56,'11월'!$L$26:$L$56,'연간 현황'!$D64)+SUMIFS('12월'!$M$26:$M$56,'12월'!$L$26:$L$56,'연간 현황'!$D64)","v":{"v":48,"d":"48 시간"}},null,"0 분",null,{"$f":"SUMIFS('1월'!$O$26:$O$56,'1월'!$L$26:$L$56,'연간 현황'!$D64)+SUMIFS('2월'!$O$26:$O$56,'2월'!$L$26:$L$56,'연간 현황'!$D64)+SUMIFS('3월'!$O$26:$O$56,'3월'!$L$26:$L$56,'연간 현황'!$D64)+SUMIFS('4월'!$O$26:$O$56,'4월'!$L$26:$L$56,'연간 현황'!$D64)+SUMIFS('5월'!$O$26:$O$56,'5월'!$L$26:$L$56,'연간 현황'!$D64)+SUMIFS('6월'!$O$26:$O$56,'6월'!$L$26:$L$56,'연간 현황'!$D64)+SUMIFS('7월'!$O$26:$O$56,'7월'!$L$26:$L$56,'연간 현황'!$D64)+SUMIFS('8월'!$O$26:$O$56,'8월'!$L$26:$L$56,'연간 현황'!$D64)+SUMIFS('9월'!$O$26:$O$56,'9월'!$L$26:$L$56,'연간 현황'!$D64)+SUMIFS('10월'!$O$26:$O$56,'10월'!$L$26:$L$56,'연간 현황'!$D64)+SUMIFS('11월'!$O$26:$O$56,'11월'!$L$26:$L$56,'연간 현황'!$D64)+SUMIFS('12월'!$O$26:$O$56,'12월'!$L$26:$L$56,'연간 현황'!$D64)","v":{"v":0,"d":"0 시간"}},null,"0 분",null,{"v":40,"d":"40 시간"},null,{"v":0,"d":"0 분"},null,{"v":9,"d":"9 시간"},null,{"v":29,"d":"29 분"},null,"",{"$nulls":4},{"$f":"SUMIFS('1월'!$AA$26:$AA$56,'1월'!$L$26:$L$56,'연간 현황'!$D64)+SUMIFS('2월'!$AA$26:$AA$56,'2월'!$L$26:$L$56,'연간 현황'!$D64)+SUMIFS('3월'!$AA$26:$AA$56,'3월'!$L$26:$L$56,'연간 현황'!$D64)+SUMIFS('4월'!$AA$26:$AA$56,'4월'!$L$26:$L$56,'연간 현황'!$D64)+SUMIFS('5월'!$AA$26:$AA$56,'5월'!$L$26:$L$56,'연간 현황'!$D64)+SUMIFS('6월'!$AA$26:$AA$56,'6월'!$L$26:$L$56,'연간 현황'!$D64)+SUMIFS('7월'!$AA$26:$AA$56,'7월'!$L$26:$L$56,'연간 현황'!$D64)+SUMIFS('8월'!$AA$26:$AA$56,'8월'!$L$26:$L$56,'연간 현황'!$D64)+SUMIFS('9월'!$AA$26:$AA$56,'9월'!$L$26:$L$56,'연간 현황'!$D64)+SUMIFS('10월'!$AA$26:$AA$56,'10월'!$L$26:$L$56,'연간 현황'!$D64)+SUMIFS('11월'!$AA$26:$AA$56,'11월'!$L$26:$L$56,'연간 현황'!$D64)+SUMIFS('12월'!$AA$26:$AA$56,'12월'!$L$26:$L$56,'연간 현황'!$D64)","v":{"v":2400,"d":"2,400"}},{"$f":"SUMIFS('1월'!$AC$26:$AC$56,'1월'!$L$26:$L$56,'연간 현황'!$D64)+SUMIFS('2월'!$AC$26:$AC$56,'2월'!$L$26:$L$56,'연간 현황'!$D64)+SUMIFS('3월'!$AC$26:$AC$56,'3월'!$L$26:$L$56,'연간 현황'!$D64)+SUMIFS('4월'!$AC$26:$AC$56,'4월'!$L$26:$L$56,'연간 현황'!$D64)+SUMIFS('5월'!$AC$26:$AC$56,'5월'!$L$26:$L$56,'연간 현황'!$D64)+SUMIFS('6월'!$AC$26:$AC$56,'6월'!$L$26:$L$56,'연간 현황'!$D64)+SUMIFS('7월'!$AC$26:$AC$56,'7월'!$L$26:$L$56,'연간 현황'!$D64)+SUMIFS('8월'!$AC$26:$AC$56,'8월'!$L$26:$L$56,'연간 현황'!$D64)+SUMIFS('9월'!$AC$26:$AC$56,'9월'!$L$26:$L$56,'연간 현황'!$D64)+SUMIFS('10월'!$AC$26:$AC$56,'10월'!$L$26:$L$56,'연간 현황'!$D64)+SUMIFS('11월'!$AC$26:$AC$56,'11월'!$L$26:$L$56,'연간 현황'!$D64)+SUMIFS('12월'!$AC$26:$AC$56,'12월'!$L$26:$L$56,'연간 현황'!$D64)","v":569}]
[{"$nulls":3},{"v":28,"d":"28주차"},null,{"$f":"SUMIFS('1월'!$M$26:$M$56,'1월'!$L$26:$L$56,'연간 현황'!$D65)+SUMIFS('2월'!$M$26:$M$56,'2월'!$L$26:$L$56,'연간 현황'!$D65)+SUMIFS('3월'!$M$26:$M$56,'3월'!$L$26:$L$56,'연간 현황'!$D65)+SUMIFS('4월'!$M$26:$M$56,'4월'!$L$26:$L$56,'연간 현황'!$D65)+SUMIFS('5월'!$M$26:$M$56,'5월'!$L$26:$L$56,'연간 현황'!$D65)+SUMIFS('6월'!$M$26:$M$56,'6월'!$L$26:$L$56,'연간 현황'!$D65)+SUMIFS('7월'!$M$26:$M$56,'7월'!$L$26:$L$56,'연간 현황'!$D65)+SUMIFS('8월'!$M$26:$M$56,'8월'!$L$26:$L$56,'연간 현황'!$D65)+SUMIFS('9월'!$M$26:$M$56,'9월'!$L$26:$L$56,'연간 현황'!$D65)+SUMIFS('10월'!$M$26:$M$56,'10월'!$L$26:$L$56,'연간 현황'!$D65)+SUMIFS('11월'!$M$26:$M$56,'11월'!$L$26:$L$56,'연간 현황'!$D65)+SUMIFS('12월'!$M$26:$M$56,'12월'!$L$26:$L$56,'연간 현황'!$D65)","v":{"v":40,"d":"40 시간"}},null,"0 분",null,{"$f":"SUMIFS('1월'!$O$26:$O$56,'1월'!$L$26:$L$56,'연간 현황'!$D65)+SUMIFS('2월'!$O$26:$O$56,'2월'!$L$26:$L$56,'연간 현황'!$D65)+SUMIFS('3월'!$O$26:$O$56,'3월'!$L$26:$L$56,'연간 현황'!$D65)+SUMIFS('4월'!$O$26:$O$56,'4월'!$L$26:$L$56,'연간 현황'!$D65)+SUMIFS('5월'!$O$26:$O$56,'5월'!$L$26:$L$56,'연간 현황'!$D65)+SUMIFS('6월'!$O$26:$O$56,'6월'!$L$26:$L$56,'연간 현황'!$D65)+SUMIFS('7월'!$O$26:$O$56,'7월'!$L$26:$L$56,'연간 현황'!$D65)+SUMIFS('8월'!$O$26:$O$56,'8월'!$L$26:$L$56,'연간 현황'!$D65)+SUMIFS('9월'!$O$26:$O$56,'9월'!$L$26:$L$56,'연간 현황'!$D65)+SUMIFS('10월'!$O$26:$O$56,'10월'!$L$26:$L$56,'연간 현황'!$D65)+SUMIFS('11월'!$O$26:$O$56,'11월'!$L$26:$L$56,'연간 현황'!$D65)+SUMIFS('12월'!$O$26:$O$56,'12월'!$L$26:$L$56,'연간 현황'!$D65)","v":{"v":5,"d":"5 시간"}},null,"0 분",null,{"v":40,"d":"40 시간"},null,{"v":0,"d":"0 분"},null,{"v":9,"d":"9 시간"},null,{"v":34,"d":"34 분"},null,"",{"$nulls":4},{"$f":"SUMIFS('1월'!$AA$26:$AA$56,'1월'!$L$26:$L$56,'연간 현황'!$D65)+SUMIFS('2월'!$AA$26:$AA$56,'2월'!$L$26:$L$56,'연간 현황'!$D65)+SUMIFS('3월'!$AA$26:$AA$56,'3월'!$L$26:$L$56,'연간 현황'!$D65)+SUMIFS('4월'!$AA$26:$AA$56,'4월'!$L$26:$L$56,'연간 현황'!$D65)+SUMIFS('5월'!$AA$26:$AA$56,'5월'!$L$26:$L$56,'연간 현황'!$D65)+SUMIFS('6월'!$AA$26:$AA$56,'6월'!$L$26:$L$56,'연간 현황'!$D65)+SUMIFS('7월'!$AA$26:$AA$56,'7월'!$L$26:$L$56,'연간 현황'!$D65)+SUMIFS('8월'!$AA$26:$AA$56,'8월'!$L$26:$L$56,'연간 현황'!$D65)+SUMIFS('9월'!$AA$26:$AA$56,'9월'!$L$26:$L$56,'연간 현황'!$D65)+SUMIFS('10월'!$AA$26:$AA$56,'10월'!$L$26:$L$56,'연간 현황'!$D65)+SUMIFS('11월'!$AA$26:$AA$56,'11월'!$L$26:$L$56,'연간 현황'!$D65)+SUMIFS('12월'!$AA$26:$AA$56,'12월'!$L$26:$L$56,'연간 현황'!$D65)","v":{"v":2400,"d":"2,400"}},{"$f":"SUMIFS('1월'!$AC$26:$AC$56,'1월'!$L$26:$L$56,'연간 현황'!$D65)+SUMIFS('2월'!$AC$26:$AC$56,'2월'!$L$26:$L$56,'연간 현황'!$D65)+SUMIFS('3월'!$AC$26:$AC$56,'3월'!$L$26:$L$56,'연간 현황'!$D65)+SUMIFS('4월'!$AC$26:$AC$56,'4월'!$L$26:$L$56,'연간 현황'!$D65)+SUMIFS('5월'!$AC$26:$AC$56,'5월'!$L$26:$L$56,'연간 현황'!$D65)+SUMIFS('6월'!$AC$26:$AC$56,'6월'!$L$26:$L$56,'연간 현황'!$D65)+SUMIFS('7월'!$AC$26:$AC$56,'7월'!$L$26:$L$56,'연간 현황'!$D65)+SUMIFS('8월'!$AC$26:$AC$56,'8월'!$L$26:$L$56,'연간 현황'!$D65)+SUMIFS('9월'!$AC$26:$AC$56,'9월'!$L$26:$L$56,'연간 현황'!$D65)+SUMIFS('10월'!$AC$26:$AC$56,'10월'!$L$26:$L$56,'연간 현황'!$D65)+SUMIFS('11월'!$AC$26:$AC$56,'11월'!$L$26:$L$56,'연간 현황'!$D65)+SUMIFS('12월'!$AC$26:$AC$56,'12월'!$L$26:$L$56,'연간 현황'!$D65)","v":574}]
[{"$nulls":3},{"v":29,"d":"29주차"},null,{"$f":"SUMIFS('1월'!$M$26:$M$56,'1월'!$L$26:$L$56,'연간 현황'!$D66)+SUMIFS('2월'!$M$26:$M$56,'2월'!$L$26:$L$56,'연간 현황'!$D66)+SUMIFS('3월'!$M$26:$M$56,'3월'!$L$26:$L$56,'연간 현황'!$D66)+SUMIFS('4월'!$M$26:$M$56,'4월'!$L$26:$L$56,'연간 현황'!$D66)+SUMIFS('5월'!$M$26:$M$56,'5월'!$L$26:$L$56,'연간 현황'!$D66)+SUMIFS('6월'!$M$26:$M$56,'6월'!$L$26:$L$56,'연간 현황'!$D66)+SUMIFS('7월'!$M$26:$M$56,'7월'!$L$26:$L$56,'연간 현황'!$D66)+SUMIFS('8월'!$M$26:$M$56,'8월'!$L$26:$L$56,'연간 현황'!$D66)+SUMIFS('9월'!$M$26:$M$56,'9월'!$L$26:$L$56,'연간 현황'!$D66)+SUMIFS('10월'!$M$26:$M$56,'10월'!$L$26:$L$56,'연간 현황'!$D66)+SUMIFS('11월'!$M$26:$M$56,'11월'!$L$26:$L$56,'연간 현황'!$D66)+SUMIFS('12월'!$M$26:$M$56,'12월'!$L$26:$L$56,'연간 현황'!$D66)","v":{"v":40,"d":"40 시간"}},null,"0 분",null,{"$f":"SUMIFS('1월'!$O$26:$O$56,'1월'!$L$26:$L$56,'연간 현황'!$D66)+SUMIFS('2월'!$O$26:$O$56,'2월'!$L$26:$L$56,'연간 현황'!$D66)+SUMIFS('3월'!$O$26:$O$56,'3월'!$L$26:$L$56,'연간 현황'!$D66)+SUMIFS('4월'!$O$26:$O$56,'4월'!$L$26:$L$56,'연간 현황'!$D66)+SUMIFS('5월'!$O$26:$O$56,'5월'!$L$26:$L$56,'연간 현황'!$D66)+SUMIFS('6월'!$O$26:$O$56,'6월'!$L$26:$L$56,'연간 현황'!$D66)+SUMIFS('7월'!$O$26:$O$56,'7월'!$L$26:$L$56,'연간 현황'!$D66)+SUMIFS('8월'!$O$26:$O$56,'8월'!$L$26:$L$56,'연간 현황'!$D66)+SUMIFS('9월'!$O$26:$O$56,'9월'!$L$26:$L$56,'연간 현황'!$D66)+SUMIFS('10월'!$O$26:$O$56,'10월'!$L$26:$L$56,'연간 현황'!$D66)+SUMIFS('11월'!$O$26:$O$56,'11월'!$L$26:$L$56,'연간 현황'!$D66)+SUMIFS('12월'!$O$26:$O$56,'12월'!$L$26:$L$56,'연간 현황'!$D66)","v":{"v":0,"d":"0 시간"}},null,"0 분",null,{"v":40,"d":"40 시간"},null,{"v":0,"d":"0 분"},null,{"v":1,"d":"1 시간"},null,{"v":23,"d":"23 분"},null,"",{"$nulls":4},{"$f":"SUMIFS('1월'!$AA$26:$AA$56,'1월'!$L$26:$L$56,'연간 현황'!$D66)+SUMIFS('2월'!$AA$26:$AA$56,'2월'!$L$26:$L$56,'연간 현황'!$D66)+SUMIFS('3월'!$AA$26:$AA$56,'3월'!$L$26:$L$56,'연간 현황'!$D66)+SUMIFS('4월'!$AA$26:$AA$56,'4월'!$L$26:$L$56,'연간 현황'!$D66)+SUMIFS('5월'!$AA$26:$AA$56,'5월'!$L$26:$L$56,'연간 현황'!$D66)+SUMIFS('6월'!$AA$26:$AA$56,'6월'!$L$26:$L$56,'연간 현황'!$D66)+SUMIFS('7월'!$AA$26:$AA$56,'7월'!$L$26:$L$56,'연간 현황'!$D66)+SUMIFS('8월'!$AA$26:$AA$56,'8월'!$L$26:$L$56,'연간 현황'!$D66)+SUMIFS('9월'!$AA$26:$AA$56,'9월'!$L$26:$L$56,'연간 현황'!$D66)+SUMIFS('10월'!$AA$26:$AA$56,'10월'!$L$26:$L$56,'연간 현황'!$D66)+SUMIFS('11월'!$AA$26:$AA$56,'11월'!$L$26:$L$56,'연간 현황'!$D66)+SUMIFS('12월'!$AA$26:$AA$56,'12월'!$L$26:$L$56,'연간 현황'!$D66)","v":{"v":2400,"d":"2,400"}},{"$f":"SUMIFS('1월'!$AC$26:$AC$56,'1월'!$L$26:$L$56,'연간 현황'!$D66)+SUMIFS('2월'!$AC$26:$AC$56,'2월'!$L$26:$L$56,'연간 현황'!$D66)+SUMIFS('3월'!$AC$26:$AC$56,'3월'!$L$26:$L$56,'연간 현황'!$D66)+SUMIFS('4월'!$AC$26:$AC$56,'4월'!$L$26:$L$56,'연간 현황'!$D66)+SUMIFS('5월'!$AC$26:$AC$56,'5월'!$L$26:$L$56,'연간 현황'!$D66)+SUMIFS('6월'!$AC$26:$AC$56,'6월'!$L$26:$L$56,'연간 현황'!$D66)+SUMIFS('7월'!$AC$26:$AC$56,'7월'!$L$26:$L$56,'연간 현황'!$D66)+SUMIFS('8월'!$AC$26:$AC$56,'8월'!$L$26:$L$56,'연간 현황'!$D66)+SUMIFS('9월'!$AC$26:$AC$56,'9월'!$L$26:$L$56,'연간 현황'!$D66)+SUMIFS('10월'!$AC$26:$AC$56,'10월'!$L$26:$L$56,'연간 현황'!$D66)+SUMIFS('11월'!$AC$26:$AC$56,'11월'!$L$26:$L$56,'연간 현황'!$D66)+SUMIFS('12월'!$AC$26:$AC$56,'12월'!$L$26:$L$56,'연간 현황'!$D66)","v":83}]
[{"$nulls":3},{"v":30,"d":"30주차"},null,{"$f":"SUMIFS('1월'!$M$26:$M$56,'1월'!$L$26:$L$56,'연간 현황'!$D67)+SUMIFS('2월'!$M$26:$M$56,'2월'!$L$26:$L$56,'연간 현황'!$D67)+SUMIFS('3월'!$M$26:$M$56,'3월'!$L$26:$L$56,'연간 현황'!$D67)+SUMIFS('4월'!$M$26:$M$56,'4월'!$L$26:$L$56,'연간 현황'!$D67)+SUMIFS('5월'!$M$26:$M$56,'5월'!$L$26:$L$56,'연간 현황'!$D67)+SUMIFS('6월'!$M$26:$M$56,'6월'!$L$26:$L$56,'연간 현황'!$D67)+SUMIFS('7월'!$M$26:$M$56,'7월'!$L$26:$L$56,'연간 현황'!$D67)+SUMIFS('8월'!$M$26:$M$56,'8월'!$L$26:$L$56,'연간 현황'!$D67)+SUMIFS('9월'!$M$26:$M$56,'9월'!$L$26:$L$56,'연간 현황'!$D67)+SUMIFS('10월'!$M$26:$M$56,'10월'!$L$26:$L$56,'연간 현황'!$D67)+SUMIFS('11월'!$M$26:$M$56,'11월'!$L$26:$L$56,'연간 현황'!$D67)+SUMIFS('12월'!$M$26:$M$56,'12월'!$L$26:$L$56,'연간 현황'!$D67)","v":{"v":40,"d":"40 시간"}},null,"0 분",null,{"$f":"SUMIFS('1월'!$O$26:$O$56,'1월'!$L$26:$L$56,'연간 현황'!$D67)+SUMIFS('2월'!$O$26:$O$56,'2월'!$L$26:$L$56,'연간 현황'!$D67)+SUMIFS('3월'!$O$26:$O$56,'3월'!$L$26:$L$56,'연간 현황'!$D67)+SUMIFS('4월'!$O$26:$O$56,'4월'!$L$26:$L$56,'연간 현황'!$D67)+SUMIFS('5월'!$O$26:$O$56,'5월'!$L$26:$L$56,'연간 현황'!$D67)+SUMIFS('6월'!$O$26:$O$56,'6월'!$L$26:$L$56,'연간 현황'!$D67)+SUMIFS('7월'!$O$26:$O$56,'7월'!$L$26:$L$56,'연간 현황'!$D67)+SUMIFS('8월'!$O$26:$O$56,'8월'!$L$26:$L$56,'연간 현황'!$D67)+SUMIFS('9월'!$O$26:$O$56,'9월'!$L$26:$L$56,'연간 현황'!$D67)+SUMIFS('10월'!$O$26:$O$56,'10월'!$L$26:$L$56,'연간 현황'!$D67)+SUMIFS('11월'!$O$26:$O$56,'11월'!$L$26:$L$56,'연간 현황'!$D67)+SUMIFS('12월'!$O$26:$O$56,'12월'!$L$26:$L$56,'연간 현황'!$D67)","v":{"v":0,"d":"0 시간"}},null,"0 분",null,{"v":41,"d":"41 시간"},null,{"v":0,"d":"0 분"},null,{"v":9,"d":"9 시간"},null,{"v":57,"d":"57 분"},null,"",{"$nulls":4},{"$f":"SUMIFS('1월'!$AA$26:$AA$56,'1월'!$L$26:$L$56,'연간 현황'!$D67)+SUMIFS('2월'!$AA$26:$AA$56,'2월'!$L$26:$L$56,'연간 현황'!$D67)+SUMIFS('3월'!$AA$26:$AA$56,'3월'!$L$26:$L$56,'연간 현황'!$D67)+SUMIFS('4월'!$AA$26:$AA$56,'4월'!$L$26:$L$56,'연간 현황'!$D67)+SUMIFS('5월'!$AA$26:$AA$56,'5월'!$L$26:$L$56,'연간 현황'!$D67)+SUMIFS('6월'!$AA$26:$AA$56,'6월'!$L$26:$L$56,'연간 현황'!$D67)+SUMIFS('7월'!$AA$26:$AA$56,'7월'!$L$26:$L$56,'연간 현황'!$D67)+SUMIFS('8월'!$AA$26:$AA$56,'8월'!$L$26:$L$56,'연간 현황'!$D67)+SUMIFS('9월'!$AA$26:$AA$56,'9월'!$L$26:$L$56,'연간 현황'!$D67)+SUMIFS('10월'!$AA$26:$AA$56,'10월'!$L$26:$L$56,'연간 현황'!$D67)+SUMIFS('11월'!$AA$26:$AA$56,'11월'!$L$26:$L$56,'연간 현황'!$D67)+SUMIFS('12월'!$AA$26:$AA$56,'12월'!$L$26:$L$56,'연간 현황'!$D67)","v":{"v":2460,"d":"2,460"}},{"$f":"SUMIFS('1월'!$AC$26:$AC$56,'1월'!$L$26:$L$56,'연간 현황'!$D67)+SUMIFS('2월'!$AC$26:$AC$56,'2월'!$L$26:$L$56,'연간 현황'!$D67)+SUMIFS('3월'!$AC$26:$AC$56,'3월'!$L$26:$L$56,'연간 현황'!$D67)+SUMIFS('4월'!$AC$26:$AC$56,'4월'!$L$26:$L$56,'연간 현황'!$D67)+SUMIFS('5월'!$AC$26:$AC$56,'5월'!$L$26:$L$56,'연간 현황'!$D67)+SUMIFS('6월'!$AC$26:$AC$56,'6월'!$L$26:$L$56,'연간 현황'!$D67)+SUMIFS('7월'!$AC$26:$AC$56,'7월'!$L$26:$L$56,'연간 현황'!$D67)+SUMIFS('8월'!$AC$26:$AC$56,'8월'!$L$26:$L$56,'연간 현황'!$D67)+SUMIFS('9월'!$AC$26:$AC$56,'9월'!$L$26:$L$56,'연간 현황'!$D67)+SUMIFS('10월'!$AC$26:$AC$56,'10월'!$L$26:$L$56,'연간 현황'!$D67)+SUMIFS('11월'!$AC$26:$AC$56,'11월'!$L$26:$L$56,'연간 현황'!$D67)+SUMIFS('12월'!$AC$26:$AC$56,'12월'!$L$26:$L$56,'연간 현황'!$D67)","v":597}]
[{"$nulls":3},{"v":31,"d":"31주차"},null,{"$f":"SUMIFS('1월'!$M$26:$M$56,'1월'!$L$26:$L$56,'연간 현황'!$D68)+SUMIFS('2월'!$M$26:$M$56,'2월'!$L$26:$L$56,'연간 현황'!$D68)+SUMIFS('3월'!$M$26:$M$56,'3월'!$L$26:$L$56,'연간 현황'!$D68)+SUMIFS('4월'!$M$26:$M$56,'4월'!$L$26:$L$56,'연간 현황'!$D68)+SUMIFS('5월'!$M$26:$M$56,'5월'!$L$26:$L$56,'연간 현황'!$D68)+SUMIFS('6월'!$M$26:$M$56,'6월'!$L$26:$L$56,'연간 현황'!$D68)+SUMIFS('7월'!$M$26:$M$56,'7월'!$L$26:$L$56,'연간 현황'!$D68)+SUMIFS('8월'!$M$26:$M$56,'8월'!$L$26:$L$56,'연간 현황'!$D68)+SUMIFS('9월'!$M$26:$M$56,'9월'!$L$26:$L$56,'연간 현황'!$D68)+SUMIFS('10월'!$M$26:$M$56,'10월'!$L$26:$L$56,'연간 현황'!$D68)+SUMIFS('11월'!$M$26:$M$56,'11월'!$L$26:$L$56,'연간 현황'!$D68)+SUMIFS('12월'!$M$26:$M$56,'12월'!$L$26:$L$56,'연간 현황'!$D68)","v":{"v":40,"d":"40 시간"}},null,"0 분",null,{"$f":"SUMIFS('1월'!$O$26:$O$56,'1월'!$L$26:$L$56,'연간 현황'!$D68)+SUMIFS('2월'!$O$26:$O$56,'2월'!$L$26:$L$56,'연간 현황'!$D68)+SUMIFS('3월'!$O$26:$O$56,'3월'!$L$26:$L$56,'연간 현황'!$D68)+SUMIFS('4월'!$O$26:$O$56,'4월'!$L$26:$L$56,'연간 현황'!$D68)+SUMIFS('5월'!$O$26:$O$56,'5월'!$L$26:$L$56,'연간 현황'!$D68)+SUMIFS('6월'!$O$26:$O$56,'6월'!$L$26:$L$56,'연간 현황'!$D68)+SUMIFS('7월'!$O$26:$O$56,'7월'!$L$26:$L$56,'연간 현황'!$D68)+SUMIFS('8월'!$O$26:$O$56,'8월'!$L$26:$L$56,'연간 현황'!$D68)+SUMIFS('9월'!$O$26:$O$56,'9월'!$L$26:$L$56,'연간 현황'!$D68)+SUMIFS('10월'!$O$26:$O$56,'10월'!$L$26:$L$56,'연간 현황'!$D68)+SUMIFS('11월'!$O$26:$O$56,'11월'!$L$26:$L$56,'연간 현황'!$D68)+SUMIFS('12월'!$O$26:$O$56,'12월'!$L$26:$L$56,'연간 현황'!$D68)","v":{"v":0,"d":"0 시간"}},null,"0 분",null,{"v":15,"d":"15 시간"},null,{"v":0,"d":"0 분"},null,{"v":0,"d":"0 시간"},null,{"v":35,"d":"35 분"},null,"",{"$nulls":4},{"$f":"SUMIFS('1월'!$AA$26:$AA$56,'1월'!$L$26:$L$56,'연간 현황'!$D68)+SUMIFS('2월'!$AA$26:$AA$56,'2월'!$L$26:$L$56,'연간 현황'!$D68)+SUMIFS('3월'!$AA$26:$AA$56,'3월'!$L$26:$L$56,'연간 현황'!$D68)+SUMIFS('4월'!$AA$26:$AA$56,'4월'!$L$26:$L$56,'연간 현황'!$D68)+SUMIFS('5월'!$AA$26:$AA$56,'5월'!$L$26:$L$56,'연간 현황'!$D68)+SUMIFS('6월'!$AA$26:$AA$56,'6월'!$L$26:$L$56,'연간 현황'!$D68)+SUMIFS('7월'!$AA$26:$AA$56,'7월'!$L$26:$L$56,'연간 현황'!$D68)+SUMIFS('8월'!$AA$26:$AA$56,'8월'!$L$26:$L$56,'연간 현황'!$D68)+SUMIFS('9월'!$AA$26:$AA$56,'9월'!$L$26:$L$56,'연간 현황'!$D68)+SUMIFS('10월'!$AA$26:$AA$56,'10월'!$L$26:$L$56,'연간 현황'!$D68)+SUMIFS('11월'!$AA$26:$AA$56,'11월'!$L$26:$L$56,'연간 현황'!$D68)+SUMIFS('12월'!$AA$26:$AA$56,'12월'!$L$26:$L$56,'연간 현황'!$D68)","v":900},{"$f":"SUMIFS('1월'!$AC$26:$AC$56,'1월'!$L$26:$L$56,'연간 현황'!$D68)+SUMIFS('2월'!$AC$26:$AC$56,'2월'!$L$26:$L$56,'연간 현황'!$D68)+SUMIFS('3월'!$AC$26:$AC$56,'3월'!$L$26:$L$56,'연간 현황'!$D68)+SUMIFS('4월'!$AC$26:$AC$56,'4월'!$L$26:$L$56,'연간 현황'!$D68)+SUMIFS('5월'!$AC$26:$AC$56,'5월'!$L$26:$L$56,'연간 현황'!$D68)+SUMIFS('6월'!$AC$26:$AC$56,'6월'!$L$26:$L$56,'연간 현황'!$D68)+SUMIFS('7월'!$AC$26:$AC$56,'7월'!$L$26:$L$56,'연간 현황'!$D68)+SUMIFS('8월'!$AC$26:$AC$56,'8월'!$L$26:$L$56,'연간 현황'!$D68)+SUMIFS('9월'!$AC$26:$AC$56,'9월'!$L$26:$L$56,'연간 현황'!$D68)+SUMIFS('10월'!$AC$26:$AC$56,'10월'!$L$26:$L$56,'연간 현황'!$D68)+SUMIFS('11월'!$AC$26:$AC$56,'11월'!$L$26:$L$56,'연간 현황'!$D68)+SUMIFS('12월'!$AC$26:$AC$56,'12월'!$L$26:$L$56,'연간 현황'!$D68)","v":35}]
[{"$nulls":3},{"v":32,"d":"32주차"},null,{"$f":"SUMIFS('1월'!$M$26:$M$56,'1월'!$L$26:$L$56,'연간 현황'!$D69)+SUMIFS('2월'!$M$26:$M$56,'2월'!$L$26:$L$56,'연간 현황'!$D69)+SUMIFS('3월'!$M$26:$M$56,'3월'!$L$26:$L$56,'연간 현황'!$D69)+SUMIFS('4월'!$M$26:$M$56,'4월'!$L$26:$L$56,'연간 현황'!$D69)+SUMIFS('5월'!$M$26:$M$56,'5월'!$L$26:$L$56,'연간 현황'!$D69)+SUMIFS('6월'!$M$26:$M$56,'6월'!$L$26:$L$56,'연간 현황'!$D69)+SUMIFS('7월'!$M$26:$M$56,'7월'!$L$26:$L$56,'연간 현황'!$D69)+SUMIFS('8월'!$M$26:$M$56,'8월'!$L$26:$L$56,'연간 현황'!$D69)+SUMIFS('9월'!$M$26:$M$56,'9월'!$L$26:$L$56,'연간 현황'!$D69)+SUMIFS('10월'!$M$26:$M$56,'10월'!$L$26:$L$56,'연간 현황'!$D69)+SUMIFS('11월'!$M$26:$M$56,'11월'!$L$26:$L$56,'연간 현황'!$D69)+SUMIFS('12월'!$M$26:$M$56,'12월'!$L$26:$L$56,'연간 현황'!$D69)","v":{"v":40,"d":"40 시간"}},null,"0 분",null,{"$f":"SUMIFS('1월'!$O$26:$O$56,'1월'!$L$26:$L$56,'연간 현황'!$D69)+SUMIFS('2월'!$O$26:$O$56,'2월'!$L$26:$L$56,'연간 현황'!$D69)+SUMIFS('3월'!$O$26:$O$56,'3월'!$L$26:$L$56,'연간 현황'!$D69)+SUMIFS('4월'!$O$26:$O$56,'4월'!$L$26:$L$56,'연간 현황'!$D69)+SUMIFS('5월'!$O$26:$O$56,'5월'!$L$26:$L$56,'연간 현황'!$D69)+SUMIFS('6월'!$O$26:$O$56,'6월'!$L$26:$L$56,'연간 현황'!$D69)+SUMIFS('7월'!$O$26:$O$56,'7월'!$L$26:$L$56,'연간 현황'!$D69)+SUMIFS('8월'!$O$26:$O$56,'8월'!$L$26:$L$56,'연간 현황'!$D69)+SUMIFS('9월'!$O$26:$O$56,'9월'!$L$26:$L$56,'연간 현황'!$D69)+SUMIFS('10월'!$O$26:$O$56,'10월'!$L$26:$L$56,'연간 현황'!$D69)+SUMIFS('11월'!$O$26:$O$56,'11월'!$L$26:$L$56,'연간 현황'!$D69)+SUMIFS('12월'!$O$26:$O$56,'12월'!$L$26:$L$56,'연간 현황'!$D69)","v":{"v":0,"d":"0 시간"}},null,"0 분",null,{"v":0,"d":"0 시간"},null,{"v":0,"d":"0 분"},null,{"v":0,"d":"0 시간"},null,{"v":0,"d":"0 분"},null,"",{"$nulls":4},{"$f":"SUMIFS('1월'!$AA$26:$AA$56,'1월'!$L$26:$L$56,'연간 현황'!$D69)+SUMIFS('2월'!$AA$26:$AA$56,'2월'!$L$26:$L$56,'연간 현황'!$D69)+SUMIFS('3월'!$AA$26:$AA$56,'3월'!$L$26:$L$56,'연간 현황'!$D69)+SUMIFS('4월'!$AA$26:$AA$56,'4월'!$L$26:$L$56,'연간 현황'!$D69)+SUMIFS('5월'!$AA$26:$AA$56,'5월'!$L$26:$L$56,'연간 현황'!$D69)+SUMIFS('6월'!$AA$26:$AA$56,'6월'!$L$26:$L$56,'연간 현황'!$D69)+SUMIFS('7월'!$AA$26:$AA$56,'7월'!$L$26:$L$56,'연간 현황'!$D69)+SUMIFS('8월'!$AA$26:$AA$56,'8월'!$L$26:$L$56,'연간 현황'!$D69)+SUMIFS('9월'!$AA$26:$AA$56,'9월'!$L$26:$L$56,'연간 현황'!$D69)+SUMIFS('10월'!$AA$26:$AA$56,'10월'!$L$26:$L$56,'연간 현황'!$D69)+SUMIFS('11월'!$AA$26:$AA$56,'11월'!$L$26:$L$56,'연간 현황'!$D69)+SUMIFS('12월'!$AA$26:$AA$56,'12월'!$L$26:$L$56,'연간 현황'!$D69)","v":0},{"$f":"SUMIFS('1월'!$AC$26:$AC$56,'1월'!$L$26:$L$56,'연간 현황'!$D69)+SUMIFS('2월'!$AC$26:$AC$56,'2월'!$L$26:$L$56,'연간 현황'!$D69)+SUMIFS('3월'!$AC$26:$AC$56,'3월'!$L$26:$L$56,'연간 현황'!$D69)+SUMIFS('4월'!$AC$26:$AC$56,'4월'!$L$26:$L$56,'연간 현황'!$D69)+SUMIFS('5월'!$AC$26:$AC$56,'5월'!$L$26:$L$56,'연간 현황'!$D69)+SUMIFS('6월'!$AC$26:$AC$56,'6월'!$L$26:$L$56,'연간 현황'!$D69)+SUMIFS('7월'!$AC$26:$AC$56,'7월'!$L$26:$L$56,'연간 현황'!$D69)+SUMIFS('8월'!$AC$26:$AC$56,'8월'!$L$26:$L$56,'연간 현황'!$D69)+SUMIFS('9월'!$AC$26:$AC$56,'9월'!$L$26:$L$56,'연간 현황'!$D69)+SUMIFS('10월'!$AC$26:$AC$56,'10월'!$L$26:$L$56,'연간 현황'!$D69)+SUMIFS('11월'!$AC$26:$AC$56,'11월'!$L$26:$L$56,'연간 현황'!$D69)+SUMIFS('12월'!$AC$26:$AC$56,'12월'!$L$26:$L$56,'연간 현황'!$D69)","v":0}]
[{"$nulls":3},{"v":33,"d":"33주차"},null,{"$f":"SUMIFS('1월'!$M$26:$M$56,'1월'!$L$26:$L$56,'연간 현황'!$D70)+SUMIFS('2월'!$M$26:$M$56,'2월'!$L$26:$L$56,'연간 현황'!$D70)+SUMIFS('3월'!$M$26:$M$56,'3월'!$L$26:$L$56,'연간 현황'!$D70)+SUMIFS('4월'!$M$26:$M$56,'4월'!$L$26:$L$56,'연간 현황'!$D70)+SUMIFS('5월'!$M$26:$M$56,'5월'!$L$26:$L$56,'연간 현황'!$D70)+SUMIFS('6월'!$M$26:$M$56,'6월'!$L$26:$L$56,'연간 현황'!$D70)+SUMIFS('7월'!$M$26:$M$56,'7월'!$L$26:$L$56,'연간 현황'!$D70)+SUMIFS('8월'!$M$26:$M$56,'8월'!$L$26:$L$56,'연간 현황'!$D70)+SUMIFS('9월'!$M$26:$M$56,'9월'!$L$26:$L$56,'연간 현황'!$D70)+SUMIFS('10월'!$M$26:$M$56,'10월'!$L$26:$L$56,'연간 현황'!$D70)+SUMIFS('11월'!$M$26:$M$56,'11월'!$L$26:$L$56,'연간 현황'!$D70)+SUMIFS('12월'!$M$26:$M$56,'12월'!$L$26:$L$56,'연간 현황'!$D70)","v":{"v":32,"d":"32 시간"}},null,"0 분",null,{"$f":"SUMIFS('1월'!$O$26:$O$56,'1월'!$L$26:$L$56,'연간 현황'!$D70)+SUMIFS('2월'!$O$26:$O$56,'2월'!$L$26:$L$56,'연간 현황'!$D70)+SUMIFS('3월'!$O$26:$O$56,'3월'!$L$26:$L$56,'연간 현황'!$D70)+SUMIFS('4월'!$O$26:$O$56,'4월'!$L$26:$L$56,'연간 현황'!$D70)+SUMIFS('5월'!$O$26:$O$56,'5월'!$L$26:$L$56,'연간 현황'!$D70)+SUMIFS('6월'!$O$26:$O$56,'6월'!$L$26:$L$56,'연간 현황'!$D70)+SUMIFS('7월'!$O$26:$O$56,'7월'!$L$26:$L$56,'연간 현황'!$D70)+SUMIFS('8월'!$O$26:$O$56,'8월'!$L$26:$L$56,'연간 현황'!$D70)+SUMIFS('9월'!$O$26:$O$56,'9월'!$L$26:$L$56,'연간 현황'!$D70)+SUMIFS('10월'!$O$26:$O$56,'10월'!$L$26:$L$56,'연간 현황'!$D70)+SUMIFS('11월'!$O$26:$O$56,'11월'!$L$26:$L$56,'연간 현황'!$D70)+SUMIFS('12월'!$O$26:$O$56,'12월'!$L$26:$L$56,'연간 현황'!$D70)","v":{"v":0,"d":"0 시간"}},null,"0 분",null,{"v":0,"d":"0 시간"},null,{"v":0,"d":"0 분"},null,{"$f":"INT($AB70/60)","v":{"v":0,"d":"0 시간"}},null,{"$f":"ROUND(($AB70/60-INT($AB70/60))*60,0)","v":{"v":0,"d":"0 분"}},null,"",{"$nulls":4},{"$f":"SUMIFS('1월'!$AA$26:$AA$56,'1월'!$L$26:$L$56,'연간 현황'!$D70)+SUMIFS('2월'!$AA$26:$AA$56,'2월'!$L$26:$L$56,'연간 현황'!$D70)+SUMIFS('3월'!$AA$26:$AA$56,'3월'!$L$26:$L$56,'연간 현황'!$D70)+SUMIFS('4월'!$AA$26:$AA$56,'4월'!$L$26:$L$56,'연간 현황'!$D70)+SUMIFS('5월'!$AA$26:$AA$56,'5월'!$L$26:$L$56,'연간 현황'!$D70)+SUMIFS('6월'!$AA$26:$AA$56,'6월'!$L$26:$L$56,'연간 현황'!$D70)+SUMIFS('7월'!$AA$26:$AA$56,'7월'!$L$26:$L$56,'연간 현황'!$D70)+SUMIFS('8월'!$AA$26:$AA$56,'8월'!$L$26:$L$56,'연간 현황'!$D70)+SUMIFS('9월'!$AA$26:$AA$56,'9월'!$L$26:$L$56,'연간 현황'!$D70)+SUMIFS('10월'!$AA$26:$AA$56,'10월'!$L$26:$L$56,'연간 현황'!$D70)+SUMIFS('11월'!$AA$26:$AA$56,'11월'!$L$26:$L$56,'연간 현황'!$D70)+SUMIFS('12월'!$AA$26:$AA$56,'12월'!$L$26:$L$56,'연간 현황'!$D70)","v":0},{"$f":"SUMIFS('1월'!$AC$26:$AC$56,'1월'!$L$26:$L$56,'연간 현황'!$D70)+SUMIFS('2월'!$AC$26:$AC$56,'2월'!$L$26:$L$56,'연간 현황'!$D70)+SUMIFS('3월'!$AC$26:$AC$56,'3월'!$L$26:$L$56,'연간 현황'!$D70)+SUMIFS('4월'!$AC$26:$AC$56,'4월'!$L$26:$L$56,'연간 현황'!$D70)+SUMIFS('5월'!$AC$26:$AC$56,'5월'!$L$26:$L$56,'연간 현황'!$D70)+SUMIFS('6월'!$AC$26:$AC$56,'6월'!$L$26:$L$56,'연간 현황'!$D70)+SUMIFS('7월'!$AC$26:$AC$56,'7월'!$L$26:$L$56,'연간 현황'!$D70)+SUMIFS('8월'!$AC$26:$AC$56,'8월'!$L$26:$L$56,'연간 현황'!$D70)+SUMIFS('9월'!$AC$26:$AC$56,'9월'!$L$26:$L$56,'연간 현황'!$D70)+SUMIFS('10월'!$AC$26:$AC$56,'10월'!$L$26:$L$56,'연간 현황'!$D70)+SUMIFS('11월'!$AC$26:$AC$56,'11월'!$L$26:$L$56,'연간 현황'!$D70)+SUMIFS('12월'!$AC$26:$AC$56,'12월'!$L$26:$L$56,'연간 현황'!$D70)","v":0}]
[{"$nulls":3},{"v":34,"d":"34주차"},null,{"$f":"SUMIFS('1월'!$M$26:$M$56,'1월'!$L$26:$L$56,'연간 현황'!$D71)+SUMIFS('2월'!$M$26:$M$56,'2월'!$L$26:$L$56,'연간 현황'!$D71)+SUMIFS('3월'!$M$26:$M$56,'3월'!$L$26:$L$56,'연간 현황'!$D71)+SUMIFS('4월'!$M$26:$M$56,'4월'!$L$26:$L$56,'연간 현황'!$D71)+SUMIFS('5월'!$M$26:$M$56,'5월'!$L$26:$L$56,'연간 현황'!$D71)+SUMIFS('6월'!$M$26:$M$56,'6월'!$L$26:$L$56,'연간 현황'!$D71)+SUMIFS('7월'!$M$26:$M$56,'7월'!$L$26:$L$56,'연간 현황'!$D71)+SUMIFS('8월'!$M$26:$M$56,'8월'!$L$26:$L$56,'연간 현황'!$D71)+SUMIFS('9월'!$M$26:$M$56,'9월'!$L$26:$L$56,'연간 현황'!$D71)+SUMIFS('10월'!$M$26:$M$56,'10월'!$L$26:$L$56,'연간 현황'!$D71)+SUMIFS('11월'!$M$26:$M$56,'11월'!$L$26:$L$56,'연간 현황'!$D71)+SUMIFS('12월'!$M$26:$M$56,'12월'!$L$26:$L$56,'연간 현황'!$D71)","v":{"v":40,"d":"40 시간"}},null,"0 분",null,{"$f":"SUMIFS('1월'!$O$26:$O$56,'1월'!$L$26:$L$56,'연간 현황'!$D71)+SUMIFS('2월'!$O$26:$O$56,'2월'!$L$26:$L$56,'연간 현황'!$D71)+SUMIFS('3월'!$O$26:$O$56,'3월'!$L$26:$L$56,'연간 현황'!$D71)+SUMIFS('4월'!$O$26:$O$56,'4월'!$L$26:$L$56,'연간 현황'!$D71)+SUMIFS('5월'!$O$26:$O$56,'5월'!$L$26:$L$56,'연간 현황'!$D71)+SUMIFS('6월'!$O$26:$O$56,'6월'!$L$26:$L$56,'연간 현황'!$D71)+SUMIFS('7월'!$O$26:$O$56,'7월'!$L$26:$L$56,'연간 현황'!$D71)+SUMIFS('8월'!$O$26:$O$56,'8월'!$L$26:$L$56,'연간 현황'!$D71)+SUMIFS('9월'!$O$26:$O$56,'9월'!$L$26:$L$56,'연간 현황'!$D71)+SUMIFS('10월'!$O$26:$O$56,'10월'!$L$26:$L$56,'연간 현황'!$D71)+SUMIFS('11월'!$O$26:$O$56,'11월'!$L$26:$L$56,'연간 현황'!$D71)+SUMIFS('12월'!$O$26:$O$56,'12월'!$L$26:$L$56,'연간 현황'!$D71)","v":{"v":0,"d":"0 시간"}},null,"0 분",null,{"v":0,"d":"0 시간"},null,{"v":0,"d":"0 분"},null,{"v":0,"d":"0 시간"},null,{"v":0,"d":"0 분"},null,"",{"$nulls":4},{"$f":"SUMIFS('1월'!$AA$26:$AA$56,'1월'!$L$26:$L$56,'연간 현황'!$D71)+SUMIFS('2월'!$AA$26:$AA$56,'2월'!$L$26:$L$56,'연간 현황'!$D71)+SUMIFS('3월'!$AA$26:$AA$56,'3월'!$L$26:$L$56,'연간 현황'!$D71)+SUMIFS('4월'!$AA$26:$AA$56,'4월'!$L$26:$L$56,'연간 현황'!$D71)+SUMIFS('5월'!$AA$26:$AA$56,'5월'!$L$26:$L$56,'연간 현황'!$D71)+SUMIFS('6월'!$AA$26:$AA$56,'6월'!$L$26:$L$56,'연간 현황'!$D71)+SUMIFS('7월'!$AA$26:$AA$56,'7월'!$L$26:$L$56,'연간 현황'!$D71)+SUMIFS('8월'!$AA$26:$AA$56,'8월'!$L$26:$L$56,'연간 현황'!$D71)+SUMIFS('9월'!$AA$26:$AA$56,'9월'!$L$26:$L$56,'연간 현황'!$D71)+SUMIFS('10월'!$AA$26:$AA$56,'10월'!$L$26:$L$56,'연간 현황'!$D71)+SUMIFS('11월'!$AA$26:$AA$56,'11월'!$L$26:$L$56,'연간 현황'!$D71)+SUMIFS('12월'!$AA$26:$AA$56,'12월'!$L$26:$L$56,'연간 현황'!$D71)","v":0},{"$f":"SUMIFS('1월'!$AC$26:$AC$56,'1월'!$L$26:$L$56,'연간 현황'!$D71)+SUMIFS('2월'!$AC$26:$AC$56,'2월'!$L$26:$L$56,'연간 현황'!$D71)+SUMIFS('3월'!$AC$26:$AC$56,'3월'!$L$26:$L$56,'연간 현황'!$D71)+SUMIFS('4월'!$AC$26:$AC$56,'4월'!$L$26:$L$56,'연간 현황'!$D71)+SUMIFS('5월'!$AC$26:$AC$56,'5월'!$L$26:$L$56,'연간 현황'!$D71)+SUMIFS('6월'!$AC$26:$AC$56,'6월'!$L$26:$L$56,'연간 현황'!$D71)+SUMIFS('7월'!$AC$26:$AC$56,'7월'!$L$26:$L$56,'연간 현황'!$D71)+SUMIFS('8월'!$AC$26:$AC$56,'8월'!$L$26:$L$56,'연간 현황'!$D71)+SUMIFS('9월'!$AC$26:$AC$56,'9월'!$L$26:$L$56,'연간 현황'!$D71)+SUMIFS('10월'!$AC$26:$AC$56,'10월'!$L$26:$L$56,'연간 현황'!$D71)+SUMIFS('11월'!$AC$26:$AC$56,'11월'!$L$26:$L$56,'연간 현황'!$D71)+SUMIFS('12월'!$AC$26:$AC$56,'12월'!$L$26:$L$56,'연간 현황'!$D71)","v":0}]
[{"$nulls":3},{"v":35,"d":"35주차"},null,{"$f":"SUMIFS('1월'!$M$26:$M$56,'1월'!$L$26:$L$56,'연간 현황'!$D72)+SUMIFS('2월'!$M$26:$M$56,'2월'!$L$26:$L$56,'연간 현황'!$D72)+SUMIFS('3월'!$M$26:$M$56,'3월'!$L$26:$L$56,'연간 현황'!$D72)+SUMIFS('4월'!$M$26:$M$56,'4월'!$L$26:$L$56,'연간 현황'!$D72)+SUMIFS('5월'!$M$26:$M$56,'5월'!$L$26:$L$56,'연간 현황'!$D72)+SUMIFS('6월'!$M$26:$M$56,'6월'!$L$26:$L$56,'연간 현황'!$D72)+SUMIFS('7월'!$M$26:$M$56,'7월'!$L$26:$L$56,'연간 현황'!$D72)+SUMIFS('8월'!$M$26:$M$56,'8월'!$L$26:$L$56,'연간 현황'!$D72)+SUMIFS('9월'!$M$26:$M$56,'9월'!$L$26:$L$56,'연간 현황'!$D72)+SUMIFS('10월'!$M$26:$M$56,'10월'!$L$26:$L$56,'연간 현황'!$D72)+SUMIFS('11월'!$M$26:$M$56,'11월'!$L$26:$L$56,'연간 현황'!$D72)+SUMIFS('12월'!$M$26:$M$56,'12월'!$L$26:$L$56,'연간 현황'!$D72)","v":{"v":40,"d":"40 시간"}},null,"0 분",null,{"$f":"SUMIFS('1월'!$O$26:$O$56,'1월'!$L$26:$L$56,'연간 현황'!$D72)+SUMIFS('2월'!$O$26:$O$56,'2월'!$L$26:$L$56,'연간 현황'!$D72)+SUMIFS('3월'!$O$26:$O$56,'3월'!$L$26:$L$56,'연간 현황'!$D72)+SUMIFS('4월'!$O$26:$O$56,'4월'!$L$26:$L$56,'연간 현황'!$D72)+SUMIFS('5월'!$O$26:$O$56,'5월'!$L$26:$L$56,'연간 현황'!$D72)+SUMIFS('6월'!$O$26:$O$56,'6월'!$L$26:$L$56,'연간 현황'!$D72)+SUMIFS('7월'!$O$26:$O$56,'7월'!$L$26:$L$56,'연간 현황'!$D72)+SUMIFS('8월'!$O$26:$O$56,'8월'!$L$26:$L$56,'연간 현황'!$D72)+SUMIFS('9월'!$O$26:$O$56,'9월'!$L$26:$L$56,'연간 현황'!$D72)+SUMIFS('10월'!$O$26:$O$56,'10월'!$L$26:$L$56,'연간 현황'!$D72)+SUMIFS('11월'!$O$26:$O$56,'11월'!$L$26:$L$56,'연간 현황'!$D72)+SUMIFS('12월'!$O$26:$O$56,'12월'!$L$26:$L$56,'연간 현황'!$D72)","v":{"v":0,"d":"0 시간"}},null,"0 분",null,{"v":0,"d":"0 시간"},null,{"v":0,"d":"0 분"},null,{"v":0,"d":"0 시간"},null,{"v":0,"d":"0 분"},null,"",{"$nulls":4},{"$f":"SUMIFS('1월'!$AA$26:$AA$56,'1월'!$L$26:$L$56,'연간 현황'!$D72)+SUMIFS('2월'!$AA$26:$AA$56,'2월'!$L$26:$L$56,'연간 현황'!$D72)+SUMIFS('3월'!$AA$26:$AA$56,'3월'!$L$26:$L$56,'연간 현황'!$D72)+SUMIFS('4월'!$AA$26:$AA$56,'4월'!$L$26:$L$56,'연간 현황'!$D72)+SUMIFS('5월'!$AA$26:$AA$56,'5월'!$L$26:$L$56,'연간 현황'!$D72)+SUMIFS('6월'!$AA$26:$AA$56,'6월'!$L$26:$L$56,'연간 현황'!$D72)+SUMIFS('7월'!$AA$26:$AA$56,'7월'!$L$26:$L$56,'연간 현황'!$D72)+SUMIFS('8월'!$AA$26:$AA$56,'8월'!$L$26:$L$56,'연간 현황'!$D72)+SUMIFS('9월'!$AA$26:$AA$56,'9월'!$L$26:$L$56,'연간 현황'!$D72)+SUMIFS('10월'!$AA$26:$AA$56,'10월'!$L$26:$L$56,'연간 현황'!$D72)+SUMIFS('11월'!$AA$26:$AA$56,'11월'!$L$26:$L$56,'연간 현황'!$D72)+SUMIFS('12월'!$AA$26:$AA$56,'12월'!$L$26:$L$56,'연간 현황'!$D72)","v":0},{"$f":"SUMIFS('1월'!$AC$26:$AC$56,'1월'!$L$26:$L$56,'연간 현황'!$D72)+SUMIFS('2월'!$AC$26:$AC$56,'2월'!$L$26:$L$56,'연간 현황'!$D72)+SUMIFS('3월'!$AC$26:$AC$56,'3월'!$L$26:$L$56,'연간 현황'!$D72)+SUMIFS('4월'!$AC$26:$AC$56,'4월'!$L$26:$L$56,'연간 현황'!$D72)+SUMIFS('5월'!$AC$26:$AC$56,'5월'!$L$26:$L$56,'연간 현황'!$D72)+SUMIFS('6월'!$AC$26:$AC$56,'6월'!$L$26:$L$56,'연간 현황'!$D72)+SUMIFS('7월'!$AC$26:$AC$56,'7월'!$L$26:$L$56,'연간 현황'!$D72)+SUMIFS('8월'!$AC$26:$AC$56,'8월'!$L$26:$L$56,'연간 현황'!$D72)+SUMIFS('9월'!$AC$26:$AC$56,'9월'!$L$26:$L$56,'연간 현황'!$D72)+SUMIFS('10월'!$AC$26:$AC$56,'10월'!$L$26:$L$56,'연간 현황'!$D72)+SUMIFS('11월'!$AC$26:$AC$56,'11월'!$L$26:$L$56,'연간 현황'!$D72)+SUMIFS('12월'!$AC$26:$AC$56,'12월'!$L$26:$L$56,'연간 현황'!$D72)","v":0}]
[{"$nulls":3},{"v":36,"d":"36주차"},null,{"$f":"SUMIFS('1월'!$M$26:$M$56,'1월'!$L$26:$L$56,'연간 현황'!$D73)+SUMIFS('2월'!$M$26:$M$56,'2월'!$L$26:$L$56,'연간 현황'!$D73)+SUMIFS('3월'!$M$26:$M$56,'3월'!$L$26:$L$56,'연간 현황'!$D73)+SUMIFS('4월'!$M$26:$M$56,'4월'!$L$26:$L$56,'연간 현황'!$D73)+SUMIFS('5월'!$M$26:$M$56,'5월'!$L$26:$L$56,'연간 현황'!$D73)+SUMIFS('6월'!$M$26:$M$56,'6월'!$L$26:$L$56,'연간 현황'!$D73)+SUMIFS('7월'!$M$26:$M$56,'7월'!$L$26:$L$56,'연간 현황'!$D73)+SUMIFS('8월'!$M$26:$M$56,'8월'!$L$26:$L$56,'연간 현황'!$D73)+SUMIFS('9월'!$M$26:$M$56,'9월'!$L$26:$L$56,'연간 현황'!$D73)+SUMIFS('10월'!$M$26:$M$56,'10월'!$L$26:$L$56,'연간 현황'!$D73)+SUMIFS('11월'!$M$26:$M$56,'11월'!$L$26:$L$56,'연간 현황'!$D73)+SUMIFS('12월'!$M$26:$M$56,'12월'!$L$26:$L$56,'연간 현황'!$D73)","v":{"v":40,"d":"40 시간"}},null,"0 분",null,{"$f":"SUMIFS('1월'!$O$26:$O$56,'1월'!$L$26:$L$56,'연간 현황'!$D73)+SUMIFS('2월'!$O$26:$O$56,'2월'!$L$26:$L$56,'연간 현황'!$D73)+SUMIFS('3월'!$O$26:$O$56,'3월'!$L$26:$L$56,'연간 현황'!$D73)+SUMIFS('4월'!$O$26:$O$56,'4월'!$L$26:$L$56,'연간 현황'!$D73)+SUMIFS('5월'!$O$26:$O$56,'5월'!$L$26:$L$56,'연간 현황'!$D73)+SUMIFS('6월'!$O$26:$O$56,'6월'!$L$26:$L$56,'연간 현황'!$D73)+SUMIFS('7월'!$O$26:$O$56,'7월'!$L$26:$L$56,'연간 현황'!$D73)+SUMIFS('8월'!$O$26:$O$56,'8월'!$L$26:$L$56,'연간 현황'!$D73)+SUMIFS('9월'!$O$26:$O$56,'9월'!$L$26:$L$56,'연간 현황'!$D73)+SUMIFS('10월'!$O$26:$O$56,'10월'!$L$26:$L$56,'연간 현황'!$D73)+SUMIFS('11월'!$O$26:$O$56,'11월'!$L$26:$L$56,'연간 현황'!$D73)+SUMIFS('12월'!$O$26:$O$56,'12월'!$L$26:$L$56,'연간 현황'!$D73)","v":{"v":0,"d":"0 시간"}},null,"0 분",null,{"v":0,"d":"0 시간"},null,{"v":0,"d":"0 분"},null,{"v":0,"d":"0 시간"},null,{"v":0,"d":"0 분"},null,"",{"$nulls":4},{"$f":"SUMIFS('1월'!$AA$26:$AA$56,'1월'!$L$26:$L$56,'연간 현황'!$D73)+SUMIFS('2월'!$AA$26:$AA$56,'2월'!$L$26:$L$56,'연간 현황'!$D73)+SUMIFS('3월'!$AA$26:$AA$56,'3월'!$L$26:$L$56,'연간 현황'!$D73)+SUMIFS('4월'!$AA$26:$AA$56,'4월'!$L$26:$L$56,'연간 현황'!$D73)+SUMIFS('5월'!$AA$26:$AA$56,'5월'!$L$26:$L$56,'연간 현황'!$D73)+SUMIFS('6월'!$AA$26:$AA$56,'6월'!$L$26:$L$56,'연간 현황'!$D73)+SUMIFS('7월'!$AA$26:$AA$56,'7월'!$L$26:$L$56,'연간 현황'!$D73)+SUMIFS('8월'!$AA$26:$AA$56,'8월'!$L$26:$L$56,'연간 현황'!$D73)+SUMIFS('9월'!$AA$26:$AA$56,'9월'!$L$26:$L$56,'연간 현황'!$D73)+SUMIFS('10월'!$AA$26:$AA$56,'10월'!$L$26:$L$56,'연간 현황'!$D73)+SUMIFS('11월'!$AA$26:$AA$56,'11월'!$L$26:$L$56,'연간 현황'!$D73)+SUMIFS('12월'!$AA$26:$AA$56,'12월'!$L$26:$L$56,'연간 현황'!$D73)","v":0},{"$f":"SUMIFS('1월'!$AC$26:$AC$56,'1월'!$L$26:$L$56,'연간 현황'!$D73)+SUMIFS('2월'!$AC$26:$AC$56,'2월'!$L$26:$L$56,'연간 현황'!$D73)+SUMIFS('3월'!$AC$26:$AC$56,'3월'!$L$26:$L$56,'연간 현황'!$D73)+SUMIFS('4월'!$AC$26:$AC$56,'4월'!$L$26:$L$56,'연간 현황'!$D73)+SUMIFS('5월'!$AC$26:$AC$56,'5월'!$L$26:$L$56,'연간 현황'!$D73)+SUMIFS('6월'!$AC$26:$AC$56,'6월'!$L$26:$L$56,'연간 현황'!$D73)+SUMIFS('7월'!$AC$26:$AC$56,'7월'!$L$26:$L$56,'연간 현황'!$D73)+SUMIFS('8월'!$AC$26:$AC$56,'8월'!$L$26:$L$56,'연간 현황'!$D73)+SUMIFS('9월'!$AC$26:$AC$56,'9월'!$L$26:$L$56,'연간 현황'!$D73)+SUMIFS('10월'!$AC$26:$AC$56,'10월'!$L$26:$L$56,'연간 현황'!$D73)+SUMIFS('11월'!$AC$26:$AC$56,'11월'!$L$26:$L$56,'연간 현황'!$D73)+SUMIFS('12월'!$AC$26:$AC$56,'12월'!$L$26:$L$56,'연간 현황'!$D73)","v":0}]
[{"$nulls":3},{"v":37,"d":"37주차"},null,{"$f":"SUMIFS('1월'!$M$26:$M$56,'1월'!$L$26:$L$56,'연간 현황'!$D74)+SUMIFS('2월'!$M$26:$M$56,'2월'!$L$26:$L$56,'연간 현황'!$D74)+SUMIFS('3월'!$M$26:$M$56,'3월'!$L$26:$L$56,'연간 현황'!$D74)+SUMIFS('4월'!$M$26:$M$56,'4월'!$L$26:$L$56,'연간 현황'!$D74)+SUMIFS('5월'!$M$26:$M$56,'5월'!$L$26:$L$56,'연간 현황'!$D74)+SUMIFS('6월'!$M$26:$M$56,'6월'!$L$26:$L$56,'연간 현황'!$D74)+SUMIFS('7월'!$M$26:$M$56,'7월'!$L$26:$L$56,'연간 현황'!$D74)+SUMIFS('8월'!$M$26:$M$56,'8월'!$L$26:$L$56,'연간 현황'!$D74)+SUMIFS('9월'!$M$26:$M$56,'9월'!$L$26:$L$56,'연간 현황'!$D74)+SUMIFS('10월'!$M$26:$M$56,'10월'!$L$26:$L$56,'연간 현황'!$D74)+SUMIFS('11월'!$M$26:$M$56,'11월'!$L$26:$L$56,'연간 현황'!$D74)+SUMIFS('12월'!$M$26:$M$56,'12월'!$L$26:$L$56,'연간 현황'!$D74)","v":{"v":40,"d":"40 시간"}},null,"0 분",null,{"$f":"SUMIFS('1월'!$O$26:$O$56,'1월'!$L$26:$L$56,'연간 현황'!$D74)+SUMIFS('2월'!$O$26:$O$56,'2월'!$L$26:$L$56,'연간 현황'!$D74)+SUMIFS('3월'!$O$26:$O$56,'3월'!$L$26:$L$56,'연간 현황'!$D74)+SUMIFS('4월'!$O$26:$O$56,'4월'!$L$26:$L$56,'연간 현황'!$D74)+SUMIFS('5월'!$O$26:$O$56,'5월'!$L$26:$L$56,'연간 현황'!$D74)+SUMIFS('6월'!$O$26:$O$56,'6월'!$L$26:$L$56,'연간 현황'!$D74)+SUMIFS('7월'!$O$26:$O$56,'7월'!$L$26:$L$56,'연간 현황'!$D74)+SUMIFS('8월'!$O$26:$O$56,'8월'!$L$26:$L$56,'연간 현황'!$D74)+SUMIFS('9월'!$O$26:$O$56,'9월'!$L$26:$L$56,'연간 현황'!$D74)+SUMIFS('10월'!$O$26:$O$56,'10월'!$L$26:$L$56,'연간 현황'!$D74)+SUMIFS('11월'!$O$26:$O$56,'11월'!$L$26:$L$56,'연간 현황'!$D74)+SUMIFS('12월'!$O$26:$O$56,'12월'!$L$26:$L$56,'연간 현황'!$D74)","v":{"v":0,"d":"0 시간"}},null,"0 분",null,{"v":0,"d":"0 시간"},null,{"v":0,"d":"0 분"},null,{"v":0,"d":"0 시간"},null,{"v":0,"d":"0 분"},null,"",{"$nulls":4},{"$f":"SUMIFS('1월'!$AA$26:$AA$56,'1월'!$L$26:$L$56,'연간 현황'!$D74)+SUMIFS('2월'!$AA$26:$AA$56,'2월'!$L$26:$L$56,'연간 현황'!$D74)+SUMIFS('3월'!$AA$26:$AA$56,'3월'!$L$26:$L$56,'연간 현황'!$D74)+SUMIFS('4월'!$AA$26:$AA$56,'4월'!$L$26:$L$56,'연간 현황'!$D74)+SUMIFS('5월'!$AA$26:$AA$56,'5월'!$L$26:$L$56,'연간 현황'!$D74)+SUMIFS('6월'!$AA$26:$AA$56,'6월'!$L$26:$L$56,'연간 현황'!$D74)+SUMIFS('7월'!$AA$26:$AA$56,'7월'!$L$26:$L$56,'연간 현황'!$D74)+SUMIFS('8월'!$AA$26:$AA$56,'8월'!$L$26:$L$56,'연간 현황'!$D74)+SUMIFS('9월'!$AA$26:$AA$56,'9월'!$L$26:$L$56,'연간 현황'!$D74)+SUMIFS('10월'!$AA$26:$AA$56,'10월'!$L$26:$L$56,'연간 현황'!$D74)+SUMIFS('11월'!$AA$26:$AA$56,'11월'!$L$26:$L$56,'연간 현황'!$D74)+SUMIFS('12월'!$AA$26:$AA$56,'12월'!$L$26:$L$56,'연간 현황'!$D74)","v":0},{"$f":"SUMIFS('1월'!$AC$26:$AC$56,'1월'!$L$26:$L$56,'연간 현황'!$D74)+SUMIFS('2월'!$AC$26:$AC$56,'2월'!$L$26:$L$56,'연간 현황'!$D74)+SUMIFS('3월'!$AC$26:$AC$56,'3월'!$L$26:$L$56,'연간 현황'!$D74)+SUMIFS('4월'!$AC$26:$AC$56,'4월'!$L$26:$L$56,'연간 현황'!$D74)+SUMIFS('5월'!$AC$26:$AC$56,'5월'!$L$26:$L$56,'연간 현황'!$D74)+SUMIFS('6월'!$AC$26:$AC$56,'6월'!$L$26:$L$56,'연간 현황'!$D74)+SUMIFS('7월'!$AC$26:$AC$56,'7월'!$L$26:$L$56,'연간 현황'!$D74)+SUMIFS('8월'!$AC$26:$AC$56,'8월'!$L$26:$L$56,'연간 현황'!$D74)+SUMIFS('9월'!$AC$26:$AC$56,'9월'!$L$26:$L$56,'연간 현황'!$D74)+SUMIFS('10월'!$AC$26:$AC$56,'10월'!$L$26:$L$56,'연간 현황'!$D74)+SUMIFS('11월'!$AC$26:$AC$56,'11월'!$L$26:$L$56,'연간 현황'!$D74)+SUMIFS('12월'!$AC$26:$AC$56,'12월'!$L$26:$L$56,'연간 현황'!$D74)","v":0}]
[{"$nulls":3},{"v":38,"d":"38주차"},null,{"$f":"SUMIFS('1월'!$M$26:$M$56,'1월'!$L$26:$L$56,'연간 현황'!$D75)+SUMIFS('2월'!$M$26:$M$56,'2월'!$L$26:$L$56,'연간 현황'!$D75)+SUMIFS('3월'!$M$26:$M$56,'3월'!$L$26:$L$56,'연간 현황'!$D75)+SUMIFS('4월'!$M$26:$M$56,'4월'!$L$26:$L$56,'연간 현황'!$D75)+SUMIFS('5월'!$M$26:$M$56,'5월'!$L$26:$L$56,'연간 현황'!$D75)+SUMIFS('6월'!$M$26:$M$56,'6월'!$L$26:$L$56,'연간 현황'!$D75)+SUMIFS('7월'!$M$26:$M$56,'7월'!$L$26:$L$56,'연간 현황'!$D75)+SUMIFS('8월'!$M$26:$M$56,'8월'!$L$26:$L$56,'연간 현황'!$D75)+SUMIFS('9월'!$M$26:$M$56,'9월'!$L$26:$L$56,'연간 현황'!$D75)+SUMIFS('10월'!$M$26:$M$56,'10월'!$L$26:$L$56,'연간 현황'!$D75)+SUMIFS('11월'!$M$26:$M$56,'11월'!$L$26:$L$56,'연간 현황'!$D75)+SUMIFS('12월'!$M$26:$M$56,'12월'!$L$26:$L$56,'연간 현황'!$D75)","v":{"v":40,"d":"40 시간"}},null,"0 분",null,{"$f":"SUMIFS('1월'!$O$26:$O$56,'1월'!$L$26:$L$56,'연간 현황'!$D75)+SUMIFS('2월'!$O$26:$O$56,'2월'!$L$26:$L$56,'연간 현황'!$D75)+SUMIFS('3월'!$O$26:$O$56,'3월'!$L$26:$L$56,'연간 현황'!$D75)+SUMIFS('4월'!$O$26:$O$56,'4월'!$L$26:$L$56,'연간 현황'!$D75)+SUMIFS('5월'!$O$26:$O$56,'5월'!$L$26:$L$56,'연간 현황'!$D75)+SUMIFS('6월'!$O$26:$O$56,'6월'!$L$26:$L$56,'연간 현황'!$D75)+SUMIFS('7월'!$O$26:$O$56,'7월'!$L$26:$L$56,'연간 현황'!$D75)+SUMIFS('8월'!$O$26:$O$56,'8월'!$L$26:$L$56,'연간 현황'!$D75)+SUMIFS('9월'!$O$26:$O$56,'9월'!$L$26:$L$56,'연간 현황'!$D75)+SUMIFS('10월'!$O$26:$O$56,'10월'!$L$26:$L$56,'연간 현황'!$D75)+SUMIFS('11월'!$O$26:$O$56,'11월'!$L$26:$L$56,'연간 현황'!$D75)+SUMIFS('12월'!$O$26:$O$56,'12월'!$L$26:$L$56,'연간 현황'!$D75)","v":{"v":0,"d":"0 시간"}},null,"0 분",null,{"v":0,"d":"0 시간"},null,{"v":0,"d":"0 분"},null,{"v":0,"d":"0 시간"},null,{"v":0,"d":"0 분"},null,"",{"$nulls":4},{"$f":"SUMIFS('1월'!$AA$26:$AA$56,'1월'!$L$26:$L$56,'연간 현황'!$D75)+SUMIFS('2월'!$AA$26:$AA$56,'2월'!$L$26:$L$56,'연간 현황'!$D75)+SUMIFS('3월'!$AA$26:$AA$56,'3월'!$L$26:$L$56,'연간 현황'!$D75)+SUMIFS('4월'!$AA$26:$AA$56,'4월'!$L$26:$L$56,'연간 현황'!$D75)+SUMIFS('5월'!$AA$26:$AA$56,'5월'!$L$26:$L$56,'연간 현황'!$D75)+SUMIFS('6월'!$AA$26:$AA$56,'6월'!$L$26:$L$56,'연간 현황'!$D75)+SUMIFS('7월'!$AA$26:$AA$56,'7월'!$L$26:$L$56,'연간 현황'!$D75)+SUMIFS('8월'!$AA$26:$AA$56,'8월'!$L$26:$L$56,'연간 현황'!$D75)+SUMIFS('9월'!$AA$26:$AA$56,'9월'!$L$26:$L$56,'연간 현황'!$D75)+SUMIFS('10월'!$AA$26:$AA$56,'10월'!$L$26:$L$56,'연간 현황'!$D75)+SUMIFS('11월'!$AA$26:$AA$56,'11월'!$L$26:$L$56,'연간 현황'!$D75)+SUMIFS('12월'!$AA$26:$AA$56,'12월'!$L$26:$L$56,'연간 현황'!$D75)","v":0},{"$f":"SUMIFS('1월'!$AC$26:$AC$56,'1월'!$L$26:$L$56,'연간 현황'!$D75)+SUMIFS('2월'!$AC$26:$AC$56,'2월'!$L$26:$L$56,'연간 현황'!$D75)+SUMIFS('3월'!$AC$26:$AC$56,'3월'!$L$26:$L$56,'연간 현황'!$D75)+SUMIFS('4월'!$AC$26:$AC$56,'4월'!$L$26:$L$56,'연간 현황'!$D75)+SUMIFS('5월'!$AC$26:$AC$56,'5월'!$L$26:$L$56,'연간 현황'!$D75)+SUMIFS('6월'!$AC$26:$AC$56,'6월'!$L$26:$L$56,'연간 현황'!$D75)+SUMIFS('7월'!$AC$26:$AC$56,'7월'!$L$26:$L$56,'연간 현황'!$D75)+SUMIFS('8월'!$AC$26:$AC$56,'8월'!$L$26:$L$56,'연간 현황'!$D75)+SUMIFS('9월'!$AC$26:$AC$56,'9월'!$L$26:$L$56,'연간 현황'!$D75)+SUMIFS('10월'!$AC$26:$AC$56,'10월'!$L$26:$L$56,'연간 현황'!$D75)+SUMIFS('11월'!$AC$26:$AC$56,'11월'!$L$26:$L$56,'연간 현황'!$D75)+SUMIFS('12월'!$AC$26:$AC$56,'12월'!$L$26:$L$56,'연간 현황'!$D75)","v":0}]
[{"$nulls":3},{"v":39,"d":"39주차"},null,{"$f":"SUMIFS('1월'!$M$26:$M$56,'1월'!$L$26:$L$56,'연간 현황'!$D76)+SUMIFS('2월'!$M$26:$M$56,'2월'!$L$26:$L$56,'연간 현황'!$D76)+SUMIFS('3월'!$M$26:$M$56,'3월'!$L$26:$L$56,'연간 현황'!$D76)+SUMIFS('4월'!$M$26:$M$56,'4월'!$L$26:$L$56,'연간 현황'!$D76)+SUMIFS('5월'!$M$26:$M$56,'5월'!$L$26:$L$56,'연간 현황'!$D76)+SUMIFS('6월'!$M$26:$M$56,'6월'!$L$26:$L$56,'연간 현황'!$D76)+SUMIFS('7월'!$M$26:$M$56,'7월'!$L$26:$L$56,'연간 현황'!$D76)+SUMIFS('8월'!$M$26:$M$56,'8월'!$L$26:$L$56,'연간 현황'!$D76)+SUMIFS('9월'!$M$26:$M$56,'9월'!$L$26:$L$56,'연간 현황'!$D76)+SUMIFS('10월'!$M$26:$M$56,'10월'!$L$26:$L$56,'연간 현황'!$D76)+SUMIFS('11월'!$M$26:$M$56,'11월'!$L$26:$L$56,'연간 현황'!$D76)+SUMIFS('12월'!$M$26:$M$56,'12월'!$L$26:$L$56,'연간 현황'!$D76)","v":{"v":16,"d":"16 시간"}},null,"0 분",null,{"$f":"SUMIFS('1월'!$O$26:$O$56,'1월'!$L$26:$L$56,'연간 현황'!$D76)+SUMIFS('2월'!$O$26:$O$56,'2월'!$L$26:$L$56,'연간 현황'!$D76)+SUMIFS('3월'!$O$26:$O$56,'3월'!$L$26:$L$56,'연간 현황'!$D76)+SUMIFS('4월'!$O$26:$O$56,'4월'!$L$26:$L$56,'연간 현황'!$D76)+SUMIFS('5월'!$O$26:$O$56,'5월'!$L$26:$L$56,'연간 현황'!$D76)+SUMIFS('6월'!$O$26:$O$56,'6월'!$L$26:$L$56,'연간 현황'!$D76)+SUMIFS('7월'!$O$26:$O$56,'7월'!$L$26:$L$56,'연간 현황'!$D76)+SUMIFS('8월'!$O$26:$O$56,'8월'!$L$26:$L$56,'연간 현황'!$D76)+SUMIFS('9월'!$O$26:$O$56,'9월'!$L$26:$L$56,'연간 현황'!$D76)+SUMIFS('10월'!$O$26:$O$56,'10월'!$L$26:$L$56,'연간 현황'!$D76)+SUMIFS('11월'!$O$26:$O$56,'11월'!$L$26:$L$56,'연간 현황'!$D76)+SUMIFS('12월'!$O$26:$O$56,'12월'!$L$26:$L$56,'연간 현황'!$D76)","v":{"v":0,"d":"0 시간"}},null,"0 분",null,{"v":0,"d":"0 시간"},null,{"v":0,"d":"0 분"},null,{"v":0,"d":"0 시간"},null,{"v":0,"d":"0 분"},null,"",{"$nulls":4},{"$f":"SUMIFS('1월'!$AA$26:$AA$56,'1월'!$L$26:$L$56,'연간 현황'!$D76)+SUMIFS('2월'!$AA$26:$AA$56,'2월'!$L$26:$L$56,'연간 현황'!$D76)+SUMIFS('3월'!$AA$26:$AA$56,'3월'!$L$26:$L$56,'연간 현황'!$D76)+SUMIFS('4월'!$AA$26:$AA$56,'4월'!$L$26:$L$56,'연간 현황'!$D76)+SUMIFS('5월'!$AA$26:$AA$56,'5월'!$L$26:$L$56,'연간 현황'!$D76)+SUMIFS('6월'!$AA$26:$AA$56,'6월'!$L$26:$L$56,'연간 현황'!$D76)+SUMIFS('7월'!$AA$26:$AA$56,'7월'!$L$26:$L$56,'연간 현황'!$D76)+SUMIFS('8월'!$AA$26:$AA$56,'8월'!$L$26:$L$56,'연간 현황'!$D76)+SUMIFS('9월'!$AA$26:$AA$56,'9월'!$L$26:$L$56,'연간 현황'!$D76)+SUMIFS('10월'!$AA$26:$AA$56,'10월'!$L$26:$L$56,'연간 현황'!$D76)+SUMIFS('11월'!$AA$26:$AA$56,'11월'!$L$26:$L$56,'연간 현황'!$D76)+SUMIFS('12월'!$AA$26:$AA$56,'12월'!$L$26:$L$56,'연간 현황'!$D76)","v":0},{"$f":"SUMIFS('1월'!$AC$26:$AC$56,'1월'!$L$26:$L$56,'연간 현황'!$D76)+SUMIFS('2월'!$AC$26:$AC$56,'2월'!$L$26:$L$56,'연간 현황'!$D76)+SUMIFS('3월'!$AC$26:$AC$56,'3월'!$L$26:$L$56,'연간 현황'!$D76)+SUMIFS('4월'!$AC$26:$AC$56,'4월'!$L$26:$L$56,'연간 현황'!$D76)+SUMIFS('5월'!$AC$26:$AC$56,'5월'!$L$26:$L$56,'연간 현황'!$D76)+SUMIFS('6월'!$AC$26:$AC$56,'6월'!$L$26:$L$56,'연간 현황'!$D76)+SUMIFS('7월'!$AC$26:$AC$56,'7월'!$L$26:$L$56,'연간 현황'!$D76)+SUMIFS('8월'!$AC$26:$AC$56,'8월'!$L$26:$L$56,'연간 현황'!$D76)+SUMIFS('9월'!$AC$26:$AC$56,'9월'!$L$26:$L$56,'연간 현황'!$D76)+SUMIFS('10월'!$AC$26:$AC$56,'10월'!$L$26:$L$56,'연간 현황'!$D76)+SUMIFS('11월'!$AC$26:$AC$56,'11월'!$L$26:$L$56,'연간 현황'!$D76)+SUMIFS('12월'!$AC$26:$AC$56,'12월'!$L$26:$L$56,'연간 현황'!$D76)","v":0}]
[{"$nulls":3},{"v":40,"d":"40주차"},null,{"$f":"SUMIFS('1월'!$M$26:$M$56,'1월'!$L$26:$L$56,'연간 현황'!$D77)+SUMIFS('2월'!$M$26:$M$56,'2월'!$L$26:$L$56,'연간 현황'!$D77)+SUMIFS('3월'!$M$26:$M$56,'3월'!$L$26:$L$56,'연간 현황'!$D77)+SUMIFS('4월'!$M$26:$M$56,'4월'!$L$26:$L$56,'연간 현황'!$D77)+SUMIFS('5월'!$M$26:$M$56,'5월'!$L$26:$L$56,'연간 현황'!$D77)+SUMIFS('6월'!$M$26:$M$56,'6월'!$L$26:$L$56,'연간 현황'!$D77)+SUMIFS('7월'!$M$26:$M$56,'7월'!$L$26:$L$56,'연간 현황'!$D77)+SUMIFS('8월'!$M$26:$M$56,'8월'!$L$26:$L$56,'연간 현황'!$D77)+SUMIFS('9월'!$M$26:$M$56,'9월'!$L$26:$L$56,'연간 현황'!$D77)+SUMIFS('10월'!$M$26:$M$56,'10월'!$L$26:$L$56,'연간 현황'!$D77)+SUMIFS('11월'!$M$26:$M$56,'11월'!$L$26:$L$56,'연간 현황'!$D77)+SUMIFS('12월'!$M$26:$M$56,'12월'!$L$26:$L$56,'연간 현황'!$D77)","v":{"v":0,"d":"0 시간"}},null,"0 분",null,{"$f":"SUMIFS('1월'!$O$26:$O$56,'1월'!$L$26:$L$56,'연간 현황'!$D77)+SUMIFS('2월'!$O$26:$O$56,'2월'!$L$26:$L$56,'연간 현황'!$D77)+SUMIFS('3월'!$O$26:$O$56,'3월'!$L$26:$L$56,'연간 현황'!$D77)+SUMIFS('4월'!$O$26:$O$56,'4월'!$L$26:$L$56,'연간 현황'!$D77)+SUMIFS('5월'!$O$26:$O$56,'5월'!$L$26:$L$56,'연간 현황'!$D77)+SUMIFS('6월'!$O$26:$O$56,'6월'!$L$26:$L$56,'연간 현황'!$D77)+SUMIFS('7월'!$O$26:$O$56,'7월'!$L$26:$L$56,'연간 현황'!$D77)+SUMIFS('8월'!$O$26:$O$56,'8월'!$L$26:$L$56,'연간 현황'!$D77)+SUMIFS('9월'!$O$26:$O$56,'9월'!$L$26:$L$56,'연간 현황'!$D77)+SUMIFS('10월'!$O$26:$O$56,'10월'!$L$26:$L$56,'연간 현황'!$D77)+SUMIFS('11월'!$O$26:$O$56,'11월'!$L$26:$L$56,'연간 현황'!$D77)+SUMIFS('12월'!$O$26:$O$56,'12월'!$L$26:$L$56,'연간 현황'!$D77)","v":{"v":0,"d":"0 시간"}},null,"0 분",null,{"v":0,"d":"0 시간"},null,{"v":0,"d":"0 분"},null,{"v":0,"d":"0 시간"},null,{"v":0,"d":"0 분"},null,"",{"$nulls":4},{"$f":"SUMIFS('1월'!$AA$26:$AA$56,'1월'!$L$26:$L$56,'연간 현황'!$D77)+SUMIFS('2월'!$AA$26:$AA$56,'2월'!$L$26:$L$56,'연간 현황'!$D77)+SUMIFS('3월'!$AA$26:$AA$56,'3월'!$L$26:$L$56,'연간 현황'!$D77)+SUMIFS('4월'!$AA$26:$AA$56,'4월'!$L$26:$L$56,'연간 현황'!$D77)+SUMIFS('5월'!$AA$26:$AA$56,'5월'!$L$26:$L$56,'연간 현황'!$D77)+SUMIFS('6월'!$AA$26:$AA$56,'6월'!$L$26:$L$56,'연간 현황'!$D77)+SUMIFS('7월'!$AA$26:$AA$56,'7월'!$L$26:$L$56,'연간 현황'!$D77)+SUMIFS('8월'!$AA$26:$AA$56,'8월'!$L$26:$L$56,'연간 현황'!$D77)+SUMIFS('9월'!$AA$26:$AA$56,'9월'!$L$26:$L$56,'연간 현황'!$D77)+SUMIFS('10월'!$AA$26:$AA$56,'10월'!$L$26:$L$56,'연간 현황'!$D77)+SUMIFS('11월'!$AA$26:$AA$56,'11월'!$L$26:$L$56,'연간 현황'!$D77)+SUMIFS('12월'!$AA$26:$AA$56,'12월'!$L$26:$L$56,'연간 현황'!$D77)","v":0},{"$f":"SUMIFS('1월'!$AC$26:$AC$56,'1월'!$L$26:$L$56,'연간 현황'!$D77)+SUMIFS('2월'!$AC$26:$AC$56,'2월'!$L$26:$L$56,'연간 현황'!$D77)+SUMIFS('3월'!$AC$26:$AC$56,'3월'!$L$26:$L$56,'연간 현황'!$D77)+SUMIFS('4월'!$AC$26:$AC$56,'4월'!$L$26:$L$56,'연간 현황'!$D77)+SUMIFS('5월'!$AC$26:$AC$56,'5월'!$L$26:$L$56,'연간 현황'!$D77)+SUMIFS('6월'!$AC$26:$AC$56,'6월'!$L$26:$L$56,'연간 현황'!$D77)+SUMIFS('7월'!$AC$26:$AC$56,'7월'!$L$26:$L$56,'연간 현황'!$D77)+SUMIFS('8월'!$AC$26:$AC$56,'8월'!$L$26:$L$56,'연간 현황'!$D77)+SUMIFS('9월'!$AC$26:$AC$56,'9월'!$L$26:$L$56,'연간 현황'!$D77)+SUMIFS('10월'!$AC$26:$AC$56,'10월'!$L$26:$L$56,'연간 현황'!$D77)+SUMIFS('11월'!$AC$26:$AC$56,'11월'!$L$26:$L$56,'연간 현황'!$D77)+SUMIFS('12월'!$AC$26:$AC$56,'12월'!$L$26:$L$56,'연간 현황'!$D77)","v":0}]
[{"$nulls":3},{"v":41,"d":"41주차"},null,{"$f":"SUMIFS('1월'!$M$26:$M$56,'1월'!$L$26:$L$56,'연간 현황'!$D78)+SUMIFS('2월'!$M$26:$M$56,'2월'!$L$26:$L$56,'연간 현황'!$D78)+SUMIFS('3월'!$M$26:$M$56,'3월'!$L$26:$L$56,'연간 현황'!$D78)+SUMIFS('4월'!$M$26:$M$56,'4월'!$L$26:$L$56,'연간 현황'!$D78)+SUMIFS('5월'!$M$26:$M$56,'5월'!$L$26:$L$56,'연간 현황'!$D78)+SUMIFS('6월'!$M$26:$M$56,'6월'!$L$26:$L$56,'연간 현황'!$D78)+SUMIFS('7월'!$M$26:$M$56,'7월'!$L$26:$L$56,'연간 현황'!$D78)+SUMIFS('8월'!$M$26:$M$56,'8월'!$L$26:$L$56,'연간 현황'!$D78)+SUMIFS('9월'!$M$26:$M$56,'9월'!$L$26:$L$56,'연간 현황'!$D78)+SUMIFS('10월'!$M$26:$M$56,'10월'!$L$26:$L$56,'연간 현황'!$D78)+SUMIFS('11월'!$M$26:$M$56,'11월'!$L$26:$L$56,'연간 현황'!$D78)+SUMIFS('12월'!$M$26:$M$56,'12월'!$L$26:$L$56,'연간 현황'!$D78)","v":{"v":32,"d":"32 시간"}},null,"0 분",null,{"$f":"SUMIFS('1월'!$O$26:$O$56,'1월'!$L$26:$L$56,'연간 현황'!$D78)+SUMIFS('2월'!$O$26:$O$56,'2월'!$L$26:$L$56,'연간 현황'!$D78)+SUMIFS('3월'!$O$26:$O$56,'3월'!$L$26:$L$56,'연간 현황'!$D78)+SUMIFS('4월'!$O$26:$O$56,'4월'!$L$26:$L$56,'연간 현황'!$D78)+SUMIFS('5월'!$O$26:$O$56,'5월'!$L$26:$L$56,'연간 현황'!$D78)+SUMIFS('6월'!$O$26:$O$56,'6월'!$L$26:$L$56,'연간 현황'!$D78)+SUMIFS('7월'!$O$26:$O$56,'7월'!$L$26:$L$56,'연간 현황'!$D78)+SUMIFS('8월'!$O$26:$O$56,'8월'!$L$26:$L$56,'연간 현황'!$D78)+SUMIFS('9월'!$O$26:$O$56,'9월'!$L$26:$L$56,'연간 현황'!$D78)+SUMIFS('10월'!$O$26:$O$56,'10월'!$L$26:$L$56,'연간 현황'!$D78)+SUMIFS('11월'!$O$26:$O$56,'11월'!$L$26:$L$56,'연간 현황'!$D78)+SUMIFS('12월'!$O$26:$O$56,'12월'!$L$26:$L$56,'연간 현황'!$D78)","v":{"v":0,"d":"0 시간"}},null,"0 분",null,{"$f":"INT($AA78/60)","v":{"v":0,"d":"0 시간"}},null,{"$f":"ROUND(($AA78/60-INT($AA78/60))*60,0)","v":{"v":0,"d":"0 분"}},null,{"v":0,"d":"0 시간"},null,{"v":0,"d":"0 분"},null,{"$f":"IF($AA78>52*60,\"[정규] 주 52시간 초과\",IF($AB78>12*60,\"[연장] 주 12시간 초과\",\"\"))","v":""},{"$nulls":4},{"$f":"SUMIFS('1월'!$AA$26:$AA$56,'1월'!$L$26:$L$56,'연간 현황'!$D78)+SUMIFS('2월'!$AA$26:$AA$56,'2월'!$L$26:$L$56,'연간 현황'!$D78)+SUMIFS('3월'!$AA$26:$AA$56,'3월'!$L$26:$L$56,'연간 현황'!$D78)+SUMIFS('4월'!$AA$26:$AA$56,'4월'!$L$26:$L$56,'연간 현황'!$D78)+SUMIFS('5월'!$AA$26:$AA$56,'5월'!$L$26:$L$56,'연간 현황'!$D78)+SUMIFS('6월'!$AA$26:$AA$56,'6월'!$L$26:$L$56,'연간 현황'!$D78)+SUMIFS('7월'!$AA$26:$AA$56,'7월'!$L$26:$L$56,'연간 현황'!$D78)+SUMIFS('8월'!$AA$26:$AA$56,'8월'!$L$26:$L$56,'연간 현황'!$D78)+SUMIFS('9월'!$AA$26:$AA$56,'9월'!$L$26:$L$56,'연간 현황'!$D78)+SUMIFS('10월'!$AA$26:$AA$56,'10월'!$L$26:$L$56,'연간 현황'!$D78)+SUMIFS('11월'!$AA$26:$AA$56,'11월'!$L$26:$L$56,'연간 현황'!$D78)+SUMIFS('12월'!$AA$26:$AA$56,'12월'!$L$26:$L$56,'연간 현황'!$D78)","v":0},{"$f":"SUMIFS('1월'!$AC$26:$AC$56,'1월'!$L$26:$L$56,'연간 현황'!$D78)+SUMIFS('2월'!$AC$26:$AC$56,'2월'!$L$26:$L$56,'연간 현황'!$D78)+SUMIFS('3월'!$AC$26:$AC$56,'3월'!$L$26:$L$56,'연간 현황'!$D78)+SUMIFS('4월'!$AC$26:$AC$56,'4월'!$L$26:$L$56,'연간 현황'!$D78)+SUMIFS('5월'!$AC$26:$AC$56,'5월'!$L$26:$L$56,'연간 현황'!$D78)+SUMIFS('6월'!$AC$26:$AC$56,'6월'!$L$26:$L$56,'연간 현황'!$D78)+SUMIFS('7월'!$AC$26:$AC$56,'7월'!$L$26:$L$56,'연간 현황'!$D78)+SUMIFS('8월'!$AC$26:$AC$56,'8월'!$L$26:$L$56,'연간 현황'!$D78)+SUMIFS('9월'!$AC$26:$AC$56,'9월'!$L$26:$L$56,'연간 현황'!$D78)+SUMIFS('10월'!$AC$26:$AC$56,'10월'!$L$26:$L$56,'연간 현황'!$D78)+SUMIFS('11월'!$AC$26:$AC$56,'11월'!$L$26:$L$56,'연간 현황'!$D78)+SUMIFS('12월'!$AC$26:$AC$56,'12월'!$L$26:$L$56,'연간 현황'!$D78)","v":0}]
[{"$nulls":3},{"v":42,"d":"42주차"},null,{"$f":"SUMIFS('1월'!$M$26:$M$56,'1월'!$L$26:$L$56,'연간 현황'!$D79)+SUMIFS('2월'!$M$26:$M$56,'2월'!$L$26:$L$56,'연간 현황'!$D79)+SUMIFS('3월'!$M$26:$M$56,'3월'!$L$26:$L$56,'연간 현황'!$D79)+SUMIFS('4월'!$M$26:$M$56,'4월'!$L$26:$L$56,'연간 현황'!$D79)+SUMIFS('5월'!$M$26:$M$56,'5월'!$L$26:$L$56,'연간 현황'!$D79)+SUMIFS('6월'!$M$26:$M$56,'6월'!$L$26:$L$56,'연간 현황'!$D79)+SUMIFS('7월'!$M$26:$M$56,'7월'!$L$26:$L$56,'연간 현황'!$D79)+SUMIFS('8월'!$M$26:$M$56,'8월'!$L$26:$L$56,'연간 현황'!$D79)+SUMIFS('9월'!$M$26:$M$56,'9월'!$L$26:$L$56,'연간 현황'!$D79)+SUMIFS('10월'!$M$26:$M$56,'10월'!$L$26:$L$56,'연간 현황'!$D79)+SUMIFS('11월'!$M$26:$M$56,'11월'!$L$26:$L$56,'연간 현황'!$D79)+SUMIFS('12월'!$M$26:$M$56,'12월'!$L$26:$L$56,'연간 현황'!$D79)","v":{"v":40,"d":"40 시간"}},null,"0 분",null,{"$f":"SUMIFS('1월'!$O$26:$O$56,'1월'!$L$26:$L$56,'연간 현황'!$D79)+SUMIFS('2월'!$O$26:$O$56,'2월'!$L$26:$L$56,'연간 현황'!$D79)+SUMIFS('3월'!$O$26:$O$56,'3월'!$L$26:$L$56,'연간 현황'!$D79)+SUMIFS('4월'!$O$26:$O$56,'4월'!$L$26:$L$56,'연간 현황'!$D79)+SUMIFS('5월'!$O$26:$O$56,'5월'!$L$26:$L$56,'연간 현황'!$D79)+SUMIFS('6월'!$O$26:$O$56,'6월'!$L$26:$L$56,'연간 현황'!$D79)+SUMIFS('7월'!$O$26:$O$56,'7월'!$L$26:$L$56,'연간 현황'!$D79)+SUMIFS('8월'!$O$26:$O$56,'8월'!$L$26:$L$56,'연간 현황'!$D79)+SUMIFS('9월'!$O$26:$O$56,'9월'!$L$26:$L$56,'연간 현황'!$D79)+SUMIFS('10월'!$O$26:$O$56,'10월'!$L$26:$L$56,'연간 현황'!$D79)+SUMIFS('11월'!$O$26:$O$56,'11월'!$L$26:$L$56,'연간 현황'!$D79)+SUMIFS('12월'!$O$26:$O$56,'12월'!$L$26:$L$56,'연간 현황'!$D79)","v":{"v":0,"d":"0 시간"}},null,"0 분",null,{"v":0,"d":"0 시간"},null,{"v":0,"d":"0 분"},null,{"v":0,"d":"0 시간"},null,{"v":0,"d":"0 분"},null,"",{"$nulls":4},{"$f":"SUMIFS('1월'!$AA$26:$AA$56,'1월'!$L$26:$L$56,'연간 현황'!$D79)+SUMIFS('2월'!$AA$26:$AA$56,'2월'!$L$26:$L$56,'연간 현황'!$D79)+SUMIFS('3월'!$AA$26:$AA$56,'3월'!$L$26:$L$56,'연간 현황'!$D79)+SUMIFS('4월'!$AA$26:$AA$56,'4월'!$L$26:$L$56,'연간 현황'!$D79)+SUMIFS('5월'!$AA$26:$AA$56,'5월'!$L$26:$L$56,'연간 현황'!$D79)+SUMIFS('6월'!$AA$26:$AA$56,'6월'!$L$26:$L$56,'연간 현황'!$D79)+SUMIFS('7월'!$AA$26:$AA$56,'7월'!$L$26:$L$56,'연간 현황'!$D79)+SUMIFS('8월'!$AA$26:$AA$56,'8월'!$L$26:$L$56,'연간 현황'!$D79)+SUMIFS('9월'!$AA$26:$AA$56,'9월'!$L$26:$L$56,'연간 현황'!$D79)+SUMIFS('10월'!$AA$26:$AA$56,'10월'!$L$26:$L$56,'연간 현황'!$D79)+SUMIFS('11월'!$AA$26:$AA$56,'11월'!$L$26:$L$56,'연간 현황'!$D79)+SUMIFS('12월'!$AA$26:$AA$56,'12월'!$L$26:$L$56,'연간 현황'!$D79)","v":0},{"$f":"SUMIFS('1월'!$AC$26:$AC$56,'1월'!$L$26:$L$56,'연간 현황'!$D79)+SUMIFS('2월'!$AC$26:$AC$56,'2월'!$L$26:$L$56,'연간 현황'!$D79)+SUMIFS('3월'!$AC$26:$AC$56,'3월'!$L$26:$L$56,'연간 현황'!$D79)+SUMIFS('4월'!$AC$26:$AC$56,'4월'!$L$26:$L$56,'연간 현황'!$D79)+SUMIFS('5월'!$AC$26:$AC$56,'5월'!$L$26:$L$56,'연간 현황'!$D79)+SUMIFS('6월'!$AC$26:$AC$56,'6월'!$L$26:$L$56,'연간 현황'!$D79)+SUMIFS('7월'!$AC$26:$AC$56,'7월'!$L$26:$L$56,'연간 현황'!$D79)+SUMIFS('8월'!$AC$26:$AC$56,'8월'!$L$26:$L$56,'연간 현황'!$D79)+SUMIFS('9월'!$AC$26:$AC$56,'9월'!$L$26:$L$56,'연간 현황'!$D79)+SUMIFS('10월'!$AC$26:$AC$56,'10월'!$L$26:$L$56,'연간 현황'!$D79)+SUMIFS('11월'!$AC$26:$AC$56,'11월'!$L$26:$L$56,'연간 현황'!$D79)+SUMIFS('12월'!$AC$26:$AC$56,'12월'!$L$26:$L$56,'연간 현황'!$D79)","v":0}]
[{"$nulls":3},{"v":43,"d":"43주차"},null,{"$f":"SUMIFS('1월'!$M$26:$M$56,'1월'!$L$26:$L$56,'연간 현황'!$D80)+SUMIFS('2월'!$M$26:$M$56,'2월'!$L$26:$L$56,'연간 현황'!$D80)+SUMIFS('3월'!$M$26:$M$56,'3월'!$L$26:$L$56,'연간 현황'!$D80)+SUMIFS('4월'!$M$26:$M$56,'4월'!$L$26:$L$56,'연간 현황'!$D80)+SUMIFS('5월'!$M$26:$M$56,'5월'!$L$26:$L$56,'연간 현황'!$D80)+SUMIFS('6월'!$M$26:$M$56,'6월'!$L$26:$L$56,'연간 현황'!$D80)+SUMIFS('7월'!$M$26:$M$56,'7월'!$L$26:$L$56,'연간 현황'!$D80)+SUMIFS('8월'!$M$26:$M$56,'8월'!$L$26:$L$56,'연간 현황'!$D80)+SUMIFS('9월'!$M$26:$M$56,'9월'!$L$26:$L$56,'연간 현황'!$D80)+SUMIFS('10월'!$M$26:$M$56,'10월'!$L$26:$L$56,'연간 현황'!$D80)+SUMIFS('11월'!$M$26:$M$56,'11월'!$L$26:$L$56,'연간 현황'!$D80)+SUMIFS('12월'!$M$26:$M$56,'12월'!$L$26:$L$56,'연간 현황'!$D80)","v":{"v":40,"d":"40 시간"}},null,"0 분",null,{"$f":"SUMIFS('1월'!$O$26:$O$56,'1월'!$L$26:$L$56,'연간 현황'!$D80)+SUMIFS('2월'!$O$26:$O$56,'2월'!$L$26:$L$56,'연간 현황'!$D80)+SUMIFS('3월'!$O$26:$O$56,'3월'!$L$26:$L$56,'연간 현황'!$D80)+SUMIFS('4월'!$O$26:$O$56,'4월'!$L$26:$L$56,'연간 현황'!$D80)+SUMIFS('5월'!$O$26:$O$56,'5월'!$L$26:$L$56,'연간 현황'!$D80)+SUMIFS('6월'!$O$26:$O$56,'6월'!$L$26:$L$56,'연간 현황'!$D80)+SUMIFS('7월'!$O$26:$O$56,'7월'!$L$26:$L$56,'연간 현황'!$D80)+SUMIFS('8월'!$O$26:$O$56,'8월'!$L$26:$L$56,'연간 현황'!$D80)+SUMIFS('9월'!$O$26:$O$56,'9월'!$L$26:$L$56,'연간 현황'!$D80)+SUMIFS('10월'!$O$26:$O$56,'10월'!$L$26:$L$56,'연간 현황'!$D80)+SUMIFS('11월'!$O$26:$O$56,'11월'!$L$26:$L$56,'연간 현황'!$D80)+SUMIFS('12월'!$O$26:$O$56,'12월'!$L$26:$L$56,'연간 현황'!$D80)","v":{"v":0,"d":"0 시간"}},null,"0 분",null,{"v":0,"d":"0 시간"},null,{"v":0,"d":"0 분"},null,{"v":0,"d":"0 시간"},null,{"v":0,"d":"0 분"},null,"",{"$nulls":4},{"$f":"SUMIFS('1월'!$AA$26:$AA$56,'1월'!$L$26:$L$56,'연간 현황'!$D80)+SUMIFS('2월'!$AA$26:$AA$56,'2월'!$L$26:$L$56,'연간 현황'!$D80)+SUMIFS('3월'!$AA$26:$AA$56,'3월'!$L$26:$L$56,'연간 현황'!$D80)+SUMIFS('4월'!$AA$26:$AA$56,'4월'!$L$26:$L$56,'연간 현황'!$D80)+SUMIFS('5월'!$AA$26:$AA$56,'5월'!$L$26:$L$56,'연간 현황'!$D80)+SUMIFS('6월'!$AA$26:$AA$56,'6월'!$L$26:$L$56,'연간 현황'!$D80)+SUMIFS('7월'!$AA$26:$AA$56,'7월'!$L$26:$L$56,'연간 현황'!$D80)+SUMIFS('8월'!$AA$26:$AA$56,'8월'!$L$26:$L$56,'연간 현황'!$D80)+SUMIFS('9월'!$AA$26:$AA$56,'9월'!$L$26:$L$56,'연간 현황'!$D80)+SUMIFS('10월'!$AA$26:$AA$56,'10월'!$L$26:$L$56,'연간 현황'!$D80)+SUMIFS('11월'!$AA$26:$AA$56,'11월'!$L$26:$L$56,'연간 현황'!$D80)+SUMIFS('12월'!$AA$26:$AA$56,'12월'!$L$26:$L$56,'연간 현황'!$D80)","v":0},{"$f":"SUMIFS('1월'!$AC$26:$AC$56,'1월'!$L$26:$L$56,'연간 현황'!$D80)+SUMIFS('2월'!$AC$26:$AC$56,'2월'!$L$26:$L$56,'연간 현황'!$D80)+SUMIFS('3월'!$AC$26:$AC$56,'3월'!$L$26:$L$56,'연간 현황'!$D80)+SUMIFS('4월'!$AC$26:$AC$56,'4월'!$L$26:$L$56,'연간 현황'!$D80)+SUMIFS('5월'!$AC$26:$AC$56,'5월'!$L$26:$L$56,'연간 현황'!$D80)+SUMIFS('6월'!$AC$26:$AC$56,'6월'!$L$26:$L$56,'연간 현황'!$D80)+SUMIFS('7월'!$AC$26:$AC$56,'7월'!$L$26:$L$56,'연간 현황'!$D80)+SUMIFS('8월'!$AC$26:$AC$56,'8월'!$L$26:$L$56,'연간 현황'!$D80)+SUMIFS('9월'!$AC$26:$AC$56,'9월'!$L$26:$L$56,'연간 현황'!$D80)+SUMIFS('10월'!$AC$26:$AC$56,'10월'!$L$26:$L$56,'연간 현황'!$D80)+SUMIFS('11월'!$AC$26:$AC$56,'11월'!$L$26:$L$56,'연간 현황'!$D80)+SUMIFS('12월'!$AC$26:$AC$56,'12월'!$L$26:$L$56,'연간 현황'!$D80)","v":0}]
[{"$nulls":3},{"v":44,"d":"44주차"},null,{"$f":"SUMIFS('1월'!$M$26:$M$56,'1월'!$L$26:$L$56,'연간 현황'!$D81)+SUMIFS('2월'!$M$26:$M$56,'2월'!$L$26:$L$56,'연간 현황'!$D81)+SUMIFS('3월'!$M$26:$M$56,'3월'!$L$26:$L$56,'연간 현황'!$D81)+SUMIFS('4월'!$M$26:$M$56,'4월'!$L$26:$L$56,'연간 현황'!$D81)+SUMIFS('5월'!$M$26:$M$56,'5월'!$L$26:$L$56,'연간 현황'!$D81)+SUMIFS('6월'!$M$26:$M$56,'6월'!$L$26:$L$56,'연간 현황'!$D81)+SUMIFS('7월'!$M$26:$M$56,'7월'!$L$26:$L$56,'연간 현황'!$D81)+SUMIFS('8월'!$M$26:$M$56,'8월'!$L$26:$L$56,'연간 현황'!$D81)+SUMIFS('9월'!$M$26:$M$56,'9월'!$L$26:$L$56,'연간 현황'!$D81)+SUMIFS('10월'!$M$26:$M$56,'10월'!$L$26:$L$56,'연간 현황'!$D81)+SUMIFS('11월'!$M$26:$M$56,'11월'!$L$26:$L$56,'연간 현황'!$D81)+SUMIFS('12월'!$M$26:$M$56,'12월'!$L$26:$L$56,'연간 현황'!$D81)","v":{"v":40,"d":"40 시간"}},null,"0 분",null,{"$f":"SUMIFS('1월'!$O$26:$O$56,'1월'!$L$26:$L$56,'연간 현황'!$D81)+SUMIFS('2월'!$O$26:$O$56,'2월'!$L$26:$L$56,'연간 현황'!$D81)+SUMIFS('3월'!$O$26:$O$56,'3월'!$L$26:$L$56,'연간 현황'!$D81)+SUMIFS('4월'!$O$26:$O$56,'4월'!$L$26:$L$56,'연간 현황'!$D81)+SUMIFS('5월'!$O$26:$O$56,'5월'!$L$26:$L$56,'연간 현황'!$D81)+SUMIFS('6월'!$O$26:$O$56,'6월'!$L$26:$L$56,'연간 현황'!$D81)+SUMIFS('7월'!$O$26:$O$56,'7월'!$L$26:$L$56,'연간 현황'!$D81)+SUMIFS('8월'!$O$26:$O$56,'8월'!$L$26:$L$56,'연간 현황'!$D81)+SUMIFS('9월'!$O$26:$O$56,'9월'!$L$26:$L$56,'연간 현황'!$D81)+SUMIFS('10월'!$O$26:$O$56,'10월'!$L$26:$L$56,'연간 현황'!$D81)+SUMIFS('11월'!$O$26:$O$56,'11월'!$L$26:$L$56,'연간 현황'!$D81)+SUMIFS('12월'!$O$26:$O$56,'12월'!$L$26:$L$56,'연간 현황'!$D81)","v":{"v":0,"d":"0 시간"}},null,"0 분",null,{"v":0,"d":"0 시간"},null,{"v":0,"d":"0 분"},null,{"v":0,"d":"0 시간"},null,{"v":0,"d":"0 분"},null,"",{"$nulls":4},{"$f":"SUMIFS('1월'!$AA$26:$AA$56,'1월'!$L$26:$L$56,'연간 현황'!$D81)+SUMIFS('2월'!$AA$26:$AA$56,'2월'!$L$26:$L$56,'연간 현황'!$D81)+SUMIFS('3월'!$AA$26:$AA$56,'3월'!$L$26:$L$56,'연간 현황'!$D81)+SUMIFS('4월'!$AA$26:$AA$56,'4월'!$L$26:$L$56,'연간 현황'!$D81)+SUMIFS('5월'!$AA$26:$AA$56,'5월'!$L$26:$L$56,'연간 현황'!$D81)+SUMIFS('6월'!$AA$26:$AA$56,'6월'!$L$26:$L$56,'연간 현황'!$D81)+SUMIFS('7월'!$AA$26:$AA$56,'7월'!$L$26:$L$56,'연간 현황'!$D81)+SUMIFS('8월'!$AA$26:$AA$56,'8월'!$L$26:$L$56,'연간 현황'!$D81)+SUMIFS('9월'!$AA$26:$AA$56,'9월'!$L$26:$L$56,'연간 현황'!$D81)+SUMIFS('10월'!$AA$26:$AA$56,'10월'!$L$26:$L$56,'연간 현황'!$D81)+SUMIFS('11월'!$AA$26:$AA$56,'11월'!$L$26:$L$56,'연간 현황'!$D81)+SUMIFS('12월'!$AA$26:$AA$56,'12월'!$L$26:$L$56,'연간 현황'!$D81)","v":0},{"$f":"SUMIFS('1월'!$AC$26:$AC$56,'1월'!$L$26:$L$56,'연간 현황'!$D81)+SUMIFS('2월'!$AC$26:$AC$56,'2월'!$L$26:$L$56,'연간 현황'!$D81)+SUMIFS('3월'!$AC$26:$AC$56,'3월'!$L$26:$L$56,'연간 현황'!$D81)+SUMIFS('4월'!$AC$26:$AC$56,'4월'!$L$26:$L$56,'연간 현황'!$D81)+SUMIFS('5월'!$AC$26:$AC$56,'5월'!$L$26:$L$56,'연간 현황'!$D81)+SUMIFS('6월'!$AC$26:$AC$56,'6월'!$L$26:$L$56,'연간 현황'!$D81)+SUMIFS('7월'!$AC$26:$AC$56,'7월'!$L$26:$L$56,'연간 현황'!$D81)+SUMIFS('8월'!$AC$26:$AC$56,'8월'!$L$26:$L$56,'연간 현황'!$D81)+SUMIFS('9월'!$AC$26:$AC$56,'9월'!$L$26:$L$56,'연간 현황'!$D81)+SUMIFS('10월'!$AC$26:$AC$56,'10월'!$L$26:$L$56,'연간 현황'!$D81)+SUMIFS('11월'!$AC$26:$AC$56,'11월'!$L$26:$L$56,'연간 현황'!$D81)+SUMIFS('12월'!$AC$26:$AC$56,'12월'!$L$26:$L$56,'연간 현황'!$D81)","v":0}]
[{"$nulls":3},{"v":45,"d":"45주차"},null,{"$f":"SUMIFS('1월'!$M$26:$M$56,'1월'!$L$26:$L$56,'연간 현황'!$D82)+SUMIFS('2월'!$M$26:$M$56,'2월'!$L$26:$L$56,'연간 현황'!$D82)+SUMIFS('3월'!$M$26:$M$56,'3월'!$L$26:$L$56,'연간 현황'!$D82)+SUMIFS('4월'!$M$26:$M$56,'4월'!$L$26:$L$56,'연간 현황'!$D82)+SUMIFS('5월'!$M$26:$M$56,'5월'!$L$26:$L$56,'연간 현황'!$D82)+SUMIFS('6월'!$M$26:$M$56,'6월'!$L$26:$L$56,'연간 현황'!$D82)+SUMIFS('7월'!$M$26:$M$56,'7월'!$L$26:$L$56,'연간 현황'!$D82)+SUMIFS('8월'!$M$26:$M$56,'8월'!$L$26:$L$56,'연간 현황'!$D82)+SUMIFS('9월'!$M$26:$M$56,'9월'!$L$26:$L$56,'연간 현황'!$D82)+SUMIFS('10월'!$M$26:$M$56,'10월'!$L$26:$L$56,'연간 현황'!$D82)+SUMIFS('11월'!$M$26:$M$56,'11월'!$L$26:$L$56,'연간 현황'!$D82)+SUMIFS('12월'!$M$26:$M$56,'12월'!$L$26:$L$56,'연간 현황'!$D82)","v":{"v":40,"d":"40 시간"}},null,"0 분",null,{"$f":"SUMIFS('1월'!$O$26:$O$56,'1월'!$L$26:$L$56,'연간 현황'!$D82)+SUMIFS('2월'!$O$26:$O$56,'2월'!$L$26:$L$56,'연간 현황'!$D82)+SUMIFS('3월'!$O$26:$O$56,'3월'!$L$26:$L$56,'연간 현황'!$D82)+SUMIFS('4월'!$O$26:$O$56,'4월'!$L$26:$L$56,'연간 현황'!$D82)+SUMIFS('5월'!$O$26:$O$56,'5월'!$L$26:$L$56,'연간 현황'!$D82)+SUMIFS('6월'!$O$26:$O$56,'6월'!$L$26:$L$56,'연간 현황'!$D82)+SUMIFS('7월'!$O$26:$O$56,'7월'!$L$26:$L$56,'연간 현황'!$D82)+SUMIFS('8월'!$O$26:$O$56,'8월'!$L$26:$L$56,'연간 현황'!$D82)+SUMIFS('9월'!$O$26:$O$56,'9월'!$L$26:$L$56,'연간 현황'!$D82)+SUMIFS('10월'!$O$26:$O$56,'10월'!$L$26:$L$56,'연간 현황'!$D82)+SUMIFS('11월'!$O$26:$O$56,'11월'!$L$26:$L$56,'연간 현황'!$D82)+SUMIFS('12월'!$O$26:$O$56,'12월'!$L$26:$L$56,'연간 현황'!$D82)","v":{"v":0,"d":"0 시간"}},null,"0 분",null,{"v":0,"d":"0 시간"},null,{"v":0,"d":"0 분"},null,{"v":0,"d":"0 시간"},null,{"v":0,"d":"0 분"},null,"",{"$nulls":4},{"$f":"SUMIFS('1월'!$AA$26:$AA$56,'1월'!$L$26:$L$56,'연간 현황'!$D82)+SUMIFS('2월'!$AA$26:$AA$56,'2월'!$L$26:$L$56,'연간 현황'!$D82)+SUMIFS('3월'!$AA$26:$AA$56,'3월'!$L$26:$L$56,'연간 현황'!$D82)+SUMIFS('4월'!$AA$26:$AA$56,'4월'!$L$26:$L$56,'연간 현황'!$D82)+SUMIFS('5월'!$AA$26:$AA$56,'5월'!$L$26:$L$56,'연간 현황'!$D82)+SUMIFS('6월'!$AA$26:$AA$56,'6월'!$L$26:$L$56,'연간 현황'!$D82)+SUMIFS('7월'!$AA$26:$AA$56,'7월'!$L$26:$L$56,'연간 현황'!$D82)+SUMIFS('8월'!$AA$26:$AA$56,'8월'!$L$26:$L$56,'연간 현황'!$D82)+SUMIFS('9월'!$AA$26:$AA$56,'9월'!$L$26:$L$56,'연간 현황'!$D82)+SUMIFS('10월'!$AA$26:$AA$56,'10월'!$L$26:$L$56,'연간 현황'!$D82)+SUMIFS('11월'!$AA$26:$AA$56,'11월'!$L$26:$L$56,'연간 현황'!$D82)+SUMIFS('12월'!$AA$26:$AA$56,'12월'!$L$26:$L$56,'연간 현황'!$D82)","v":0},{"$f":"SUMIFS('1월'!$AC$26:$AC$56,'1월'!$L$26:$L$56,'연간 현황'!$D82)+SUMIFS('2월'!$AC$26:$AC$56,'2월'!$L$26:$L$56,'연간 현황'!$D82)+SUMIFS('3월'!$AC$26:$AC$56,'3월'!$L$26:$L$56,'연간 현황'!$D82)+SUMIFS('4월'!$AC$26:$AC$56,'4월'!$L$26:$L$56,'연간 현황'!$D82)+SUMIFS('5월'!$AC$26:$AC$56,'5월'!$L$26:$L$56,'연간 현황'!$D82)+SUMIFS('6월'!$AC$26:$AC$56,'6월'!$L$26:$L$56,'연간 현황'!$D82)+SUMIFS('7월'!$AC$26:$AC$56,'7월'!$L$26:$L$56,'연간 현황'!$D82)+SUMIFS('8월'!$AC$26:$AC$56,'8월'!$L$26:$L$56,'연간 현황'!$D82)+SUMIFS('9월'!$AC$26:$AC$56,'9월'!$L$26:$L$56,'연간 현황'!$D82)+SUMIFS('10월'!$AC$26:$AC$56,'10월'!$L$26:$L$56,'연간 현황'!$D82)+SUMIFS('11월'!$AC$26:$AC$56,'11월'!$L$26:$L$56,'연간 현황'!$D82)+SUMIFS('12월'!$AC$26:$AC$56,'12월'!$L$26:$L$56,'연간 현황'!$D82)","v":0}]
[{"$nulls":3},{"v":46,"d":"46주차"},null,{"$f":"SUMIFS('1월'!$M$26:$M$56,'1월'!$L$26:$L$56,'연간 현황'!$D83)+SUMIFS('2월'!$M$26:$M$56,'2월'!$L$26:$L$56,'연간 현황'!$D83)+SUMIFS('3월'!$M$26:$M$56,'3월'!$L$26:$L$56,'연간 현황'!$D83)+SUMIFS('4월'!$M$26:$M$56,'4월'!$L$26:$L$56,'연간 현황'!$D83)+SUMIFS('5월'!$M$26:$M$56,'5월'!$L$26:$L$56,'연간 현황'!$D83)+SUMIFS('6월'!$M$26:$M$56,'6월'!$L$26:$L$56,'연간 현황'!$D83)+SUMIFS('7월'!$M$26:$M$56,'7월'!$L$26:$L$56,'연간 현황'!$D83)+SUMIFS('8월'!$M$26:$M$56,'8월'!$L$26:$L$56,'연간 현황'!$D83)+SUMIFS('9월'!$M$26:$M$56,'9월'!$L$26:$L$56,'연간 현황'!$D83)+SUMIFS('10월'!$M$26:$M$56,'10월'!$L$26:$L$56,'연간 현황'!$D83)+SUMIFS('11월'!$M$26:$M$56,'11월'!$L$26:$L$56,'연간 현황'!$D83)+SUMIFS('12월'!$M$26:$M$56,'12월'!$L$26:$L$56,'연간 현황'!$D83)","v":{"v":40,"d":"40 시간"}},null,"0 분",null,{"$f":"SUMIFS('1월'!$O$26:$O$56,'1월'!$L$26:$L$56,'연간 현황'!$D83)+SUMIFS('2월'!$O$26:$O$56,'2월'!$L$26:$L$56,'연간 현황'!$D83)+SUMIFS('3월'!$O$26:$O$56,'3월'!$L$26:$L$56,'연간 현황'!$D83)+SUMIFS('4월'!$O$26:$O$56,'4월'!$L$26:$L$56,'연간 현황'!$D83)+SUMIFS('5월'!$O$26:$O$56,'5월'!$L$26:$L$56,'연간 현황'!$D83)+SUMIFS('6월'!$O$26:$O$56,'6월'!$L$26:$L$56,'연간 현황'!$D83)+SUMIFS('7월'!$O$26:$O$56,'7월'!$L$26:$L$56,'연간 현황'!$D83)+SUMIFS('8월'!$O$26:$O$56,'8월'!$L$26:$L$56,'연간 현황'!$D83)+SUMIFS('9월'!$O$26:$O$56,'9월'!$L$26:$L$56,'연간 현황'!$D83)+SUMIFS('10월'!$O$26:$O$56,'10월'!$L$26:$L$56,'연간 현황'!$D83)+SUMIFS('11월'!$O$26:$O$56,'11월'!$L$26:$L$56,'연간 현황'!$D83)+SUMIFS('12월'!$O$26:$O$56,'12월'!$L$26:$L$56,'연간 현황'!$D83)","v":{"v":0,"d":"0 시간"}},null,"0 분",null,{"v":0,"d":"0 시간"},null,{"v":0,"d":"0 분"},null,{"v":0,"d":"0 시간"},null,{"v":0,"d":"0 분"},null,"",{"$nulls":4},{"$f":"SUMIFS('1월'!$AA$26:$AA$56,'1월'!$L$26:$L$56,'연간 현황'!$D83)+SUMIFS('2월'!$AA$26:$AA$56,'2월'!$L$26:$L$56,'연간 현황'!$D83)+SUMIFS('3월'!$AA$26:$AA$56,'3월'!$L$26:$L$56,'연간 현황'!$D83)+SUMIFS('4월'!$AA$26:$AA$56,'4월'!$L$26:$L$56,'연간 현황'!$D83)+SUMIFS('5월'!$AA$26:$AA$56,'5월'!$L$26:$L$56,'연간 현황'!$D83)+SUMIFS('6월'!$AA$26:$AA$56,'6월'!$L$26:$L$56,'연간 현황'!$D83)+SUMIFS('7월'!$AA$26:$AA$56,'7월'!$L$26:$L$56,'연간 현황'!$D83)+SUMIFS('8월'!$AA$26:$AA$56,'8월'!$L$26:$L$56,'연간 현황'!$D83)+SUMIFS('9월'!$AA$26:$AA$56,'9월'!$L$26:$L$56,'연간 현황'!$D83)+SUMIFS('10월'!$AA$26:$AA$56,'10월'!$L$26:$L$56,'연간 현황'!$D83)+SUMIFS('11월'!$AA$26:$AA$56,'11월'!$L$26:$L$56,'연간 현황'!$D83)+SUMIFS('12월'!$AA$26:$AA$56,'12월'!$L$26:$L$56,'연간 현황'!$D83)","v":0},{"$f":"SUMIFS('1월'!$AC$26:$AC$56,'1월'!$L$26:$L$56,'연간 현황'!$D83)+SUMIFS('2월'!$AC$26:$AC$56,'2월'!$L$26:$L$56,'연간 현황'!$D83)+SUMIFS('3월'!$AC$26:$AC$56,'3월'!$L$26:$L$56,'연간 현황'!$D83)+SUMIFS('4월'!$AC$26:$AC$56,'4월'!$L$26:$L$56,'연간 현황'!$D83)+SUMIFS('5월'!$AC$26:$AC$56,'5월'!$L$26:$L$56,'연간 현황'!$D83)+SUMIFS('6월'!$AC$26:$AC$56,'6월'!$L$26:$L$56,'연간 현황'!$D83)+SUMIFS('7월'!$AC$26:$AC$56,'7월'!$L$26:$L$56,'연간 현황'!$D83)+SUMIFS('8월'!$AC$26:$AC$56,'8월'!$L$26:$L$56,'연간 현황'!$D83)+SUMIFS('9월'!$AC$26:$AC$56,'9월'!$L$26:$L$56,'연간 현황'!$D83)+SUMIFS('10월'!$AC$26:$AC$56,'10월'!$L$26:$L$56,'연간 현황'!$D83)+SUMIFS('11월'!$AC$26:$AC$56,'11월'!$L$26:$L$56,'연간 현황'!$D83)+SUMIFS('12월'!$AC$26:$AC$56,'12월'!$L$26:$L$56,'연간 현황'!$D83)","v":0}]
[{"$nulls":3},{"v":47,"d":"47주차"},null,{"$f":"SUMIFS('1월'!$M$26:$M$56,'1월'!$L$26:$L$56,'연간 현황'!$D84)+SUMIFS('2월'!$M$26:$M$56,'2월'!$L$26:$L$56,'연간 현황'!$D84)+SUMIFS('3월'!$M$26:$M$56,'3월'!$L$26:$L$56,'연간 현황'!$D84)+SUMIFS('4월'!$M$26:$M$56,'4월'!$L$26:$L$56,'연간 현황'!$D84)+SUMIFS('5월'!$M$26:$M$56,'5월'!$L$26:$L$56,'연간 현황'!$D84)+SUMIFS('6월'!$M$26:$M$56,'6월'!$L$26:$L$56,'연간 현황'!$D84)+SUMIFS('7월'!$M$26:$M$56,'7월'!$L$26:$L$56,'연간 현황'!$D84)+SUMIFS('8월'!$M$26:$M$56,'8월'!$L$26:$L$56,'연간 현황'!$D84)+SUMIFS('9월'!$M$26:$M$56,'9월'!$L$26:$L$56,'연간 현황'!$D84)+SUMIFS('10월'!$M$26:$M$56,'10월'!$L$26:$L$56,'연간 현황'!$D84)+SUMIFS('11월'!$M$26:$M$56,'11월'!$L$26:$L$56,'연간 현황'!$D84)+SUMIFS('12월'!$M$26:$M$56,'12월'!$L$26:$L$56,'연간 현황'!$D84)","v":{"v":40,"d":"40 시간"}},null,"0 분",null,{"$f":"SUMIFS('1월'!$O$26:$O$56,'1월'!$L$26:$L$56,'연간 현황'!$D84)+SUMIFS('2월'!$O$26:$O$56,'2월'!$L$26:$L$56,'연간 현황'!$D84)+SUMIFS('3월'!$O$26:$O$56,'3월'!$L$26:$L$56,'연간 현황'!$D84)+SUMIFS('4월'!$O$26:$O$56,'4월'!$L$26:$L$56,'연간 현황'!$D84)+SUMIFS('5월'!$O$26:$O$56,'5월'!$L$26:$L$56,'연간 현황'!$D84)+SUMIFS('6월'!$O$26:$O$56,'6월'!$L$26:$L$56,'연간 현황'!$D84)+SUMIFS('7월'!$O$26:$O$56,'7월'!$L$26:$L$56,'연간 현황'!$D84)+SUMIFS('8월'!$O$26:$O$56,'8월'!$L$26:$L$56,'연간 현황'!$D84)+SUMIFS('9월'!$O$26:$O$56,'9월'!$L$26:$L$56,'연간 현황'!$D84)+SUMIFS('10월'!$O$26:$O$56,'10월'!$L$26:$L$56,'연간 현황'!$D84)+SUMIFS('11월'!$O$26:$O$56,'11월'!$L$26:$L$56,'연간 현황'!$D84)+SUMIFS('12월'!$O$26:$O$56,'12월'!$L$26:$L$56,'연간 현황'!$D84)","v":{"v":0,"d":"0 시간"}},null,"0 분",null,{"v":0,"d":"0 시간"},null,{"v":0,"d":"0 분"},null,{"v":0,"d":"0 시간"},null,{"v":0,"d":"0 분"},null,"",{"$nulls":4},{"$f":"SUMIFS('1월'!$AA$26:$AA$56,'1월'!$L$26:$L$56,'연간 현황'!$D84)+SUMIFS('2월'!$AA$26:$AA$56,'2월'!$L$26:$L$56,'연간 현황'!$D84)+SUMIFS('3월'!$AA$26:$AA$56,'3월'!$L$26:$L$56,'연간 현황'!$D84)+SUMIFS('4월'!$AA$26:$AA$56,'4월'!$L$26:$L$56,'연간 현황'!$D84)+SUMIFS('5월'!$AA$26:$AA$56,'5월'!$L$26:$L$56,'연간 현황'!$D84)+SUMIFS('6월'!$AA$26:$AA$56,'6월'!$L$26:$L$56,'연간 현황'!$D84)+SUMIFS('7월'!$AA$26:$AA$56,'7월'!$L$26:$L$56,'연간 현황'!$D84)+SUMIFS('8월'!$AA$26:$AA$56,'8월'!$L$26:$L$56,'연간 현황'!$D84)+SUMIFS('9월'!$AA$26:$AA$56,'9월'!$L$26:$L$56,'연간 현황'!$D84)+SUMIFS('10월'!$AA$26:$AA$56,'10월'!$L$26:$L$56,'연간 현황'!$D84)+SUMIFS('11월'!$AA$26:$AA$56,'11월'!$L$26:$L$56,'연간 현황'!$D84)+SUMIFS('12월'!$AA$26:$AA$56,'12월'!$L$26:$L$56,'연간 현황'!$D84)","v":0},{"$f":"SUMIFS('1월'!$AC$26:$AC$56,'1월'!$L$26:$L$56,'연간 현황'!$D84)+SUMIFS('2월'!$AC$26:$AC$56,'2월'!$L$26:$L$56,'연간 현황'!$D84)+SUMIFS('3월'!$AC$26:$AC$56,'3월'!$L$26:$L$56,'연간 현황'!$D84)+SUMIFS('4월'!$AC$26:$AC$56,'4월'!$L$26:$L$56,'연간 현황'!$D84)+SUMIFS('5월'!$AC$26:$AC$56,'5월'!$L$26:$L$56,'연간 현황'!$D84)+SUMIFS('6월'!$AC$26:$AC$56,'6월'!$L$26:$L$56,'연간 현황'!$D84)+SUMIFS('7월'!$AC$26:$AC$56,'7월'!$L$26:$L$56,'연간 현황'!$D84)+SUMIFS('8월'!$AC$26:$AC$56,'8월'!$L$26:$L$56,'연간 현황'!$D84)+SUMIFS('9월'!$AC$26:$AC$56,'9월'!$L$26:$L$56,'연간 현황'!$D84)+SUMIFS('10월'!$AC$26:$AC$56,'10월'!$L$26:$L$56,'연간 현황'!$D84)+SUMIFS('11월'!$AC$26:$AC$56,'11월'!$L$26:$L$56,'연간 현황'!$D84)+SUMIFS('12월'!$AC$26:$AC$56,'12월'!$L$26:$L$56,'연간 현황'!$D84)","v":0}]
[{"$nulls":3},{"v":48,"d":"48주차"},null,{"$f":"SUMIFS('1월'!$M$26:$M$56,'1월'!$L$26:$L$56,'연간 현황'!$D85)+SUMIFS('2월'!$M$26:$M$56,'2월'!$L$26:$L$56,'연간 현황'!$D85)+SUMIFS('3월'!$M$26:$M$56,'3월'!$L$26:$L$56,'연간 현황'!$D85)+SUMIFS('4월'!$M$26:$M$56,'4월'!$L$26:$L$56,'연간 현황'!$D85)+SUMIFS('5월'!$M$26:$M$56,'5월'!$L$26:$L$56,'연간 현황'!$D85)+SUMIFS('6월'!$M$26:$M$56,'6월'!$L$26:$L$56,'연간 현황'!$D85)+SUMIFS('7월'!$M$26:$M$56,'7월'!$L$26:$L$56,'연간 현황'!$D85)+SUMIFS('8월'!$M$26:$M$56,'8월'!$L$26:$L$56,'연간 현황'!$D85)+SUMIFS('9월'!$M$26:$M$56,'9월'!$L$26:$L$56,'연간 현황'!$D85)+SUMIFS('10월'!$M$26:$M$56,'10월'!$L$26:$L$56,'연간 현황'!$D85)+SUMIFS('11월'!$M$26:$M$56,'11월'!$L$26:$L$56,'연간 현황'!$D85)+SUMIFS('12월'!$M$26:$M$56,'12월'!$L$26:$L$56,'연간 현황'!$D85)","v":{"v":40,"d":"40 시간"}},null,"0 분",null,{"$f":"SUMIFS('1월'!$O$26:$O$56,'1월'!$L$26:$L$56,'연간 현황'!$D85)+SUMIFS('2월'!$O$26:$O$56,'2월'!$L$26:$L$56,'연간 현황'!$D85)+SUMIFS('3월'!$O$26:$O$56,'3월'!$L$26:$L$56,'연간 현황'!$D85)+SUMIFS('4월'!$O$26:$O$56,'4월'!$L$26:$L$56,'연간 현황'!$D85)+SUMIFS('5월'!$O$26:$O$56,'5월'!$L$26:$L$56,'연간 현황'!$D85)+SUMIFS('6월'!$O$26:$O$56,'6월'!$L$26:$L$56,'연간 현황'!$D85)+SUMIFS('7월'!$O$26:$O$56,'7월'!$L$26:$L$56,'연간 현황'!$D85)+SUMIFS('8월'!$O$26:$O$56,'8월'!$L$26:$L$56,'연간 현황'!$D85)+SUMIFS('9월'!$O$26:$O$56,'9월'!$L$26:$L$56,'연간 현황'!$D85)+SUMIFS('10월'!$O$26:$O$56,'10월'!$L$26:$L$56,'연간 현황'!$D85)+SUMIFS('11월'!$O$26:$O$56,'11월'!$L$26:$L$56,'연간 현황'!$D85)+SUMIFS('12월'!$O$26:$O$56,'12월'!$L$26:$L$56,'연간 현황'!$D85)","v":{"v":0,"d":"0 시간"}},null,"0 분",null,{"v":0,"d":"0 시간"},null,{"v":0,"d":"0 분"},null,{"v":0,"d":"0 시간"},null,{"v":0,"d":"0 분"},null,"",{"$nulls":4},{"$f":"SUMIFS('1월'!$AA$26:$AA$56,'1월'!$L$26:$L$56,'연간 현황'!$D85)+SUMIFS('2월'!$AA$26:$AA$56,'2월'!$L$26:$L$56,'연간 현황'!$D85)+SUMIFS('3월'!$AA$26:$AA$56,'3월'!$L$26:$L$56,'연간 현황'!$D85)+SUMIFS('4월'!$AA$26:$AA$56,'4월'!$L$26:$L$56,'연간 현황'!$D85)+SUMIFS('5월'!$AA$26:$AA$56,'5월'!$L$26:$L$56,'연간 현황'!$D85)+SUMIFS('6월'!$AA$26:$AA$56,'6월'!$L$26:$L$56,'연간 현황'!$D85)+SUMIFS('7월'!$AA$26:$AA$56,'7월'!$L$26:$L$56,'연간 현황'!$D85)+SUMIFS('8월'!$AA$26:$AA$56,'8월'!$L$26:$L$56,'연간 현황'!$D85)+SUMIFS('9월'!$AA$26:$AA$56,'9월'!$L$26:$L$56,'연간 현황'!$D85)+SUMIFS('10월'!$AA$26:$AA$56,'10월'!$L$26:$L$56,'연간 현황'!$D85)+SUMIFS('11월'!$AA$26:$AA$56,'11월'!$L$26:$L$56,'연간 현황'!$D85)+SUMIFS('12월'!$AA$26:$AA$56,'12월'!$L$26:$L$56,'연간 현황'!$D85)","v":0},{"$f":"SUMIFS('1월'!$AC$26:$AC$56,'1월'!$L$26:$L$56,'연간 현황'!$D85)+SUMIFS('2월'!$AC$26:$AC$56,'2월'!$L$26:$L$56,'연간 현황'!$D85)+SUMIFS('3월'!$AC$26:$AC$56,'3월'!$L$26:$L$56,'연간 현황'!$D85)+SUMIFS('4월'!$AC$26:$AC$56,'4월'!$L$26:$L$56,'연간 현황'!$D85)+SUMIFS('5월'!$AC$26:$AC$56,'5월'!$L$26:$L$56,'연간 현황'!$D85)+SUMIFS('6월'!$AC$26:$AC$56,'6월'!$L$26:$L$56,'연간 현황'!$D85)+SUMIFS('7월'!$AC$26:$AC$56,'7월'!$L$26:$L$56,'연간 현황'!$D85)+SUMIFS('8월'!$AC$26:$AC$56,'8월'!$L$26:$L$56,'연간 현황'!$D85)+SUMIFS('9월'!$AC$26:$AC$56,'9월'!$L$26:$L$56,'연간 현황'!$D85)+SUMIFS('10월'!$AC$26:$AC$56,'10월'!$L$26:$L$56,'연간 현황'!$D85)+SUMIFS('11월'!$AC$26:$AC$56,'11월'!$L$26:$L$56,'연간 현황'!$D85)+SUMIFS('12월'!$AC$26:$AC$56,'12월'!$L$26:$L$56,'연간 현황'!$D85)","v":0}]
[{"$nulls":3},{"v":49,"d":"49주차"},null,{"$f":"SUMIFS('1월'!$M$26:$M$56,'1월'!$L$26:$L$56,'연간 현황'!$D86)+SUMIFS('2월'!$M$26:$M$56,'2월'!$L$26:$L$56,'연간 현황'!$D86)+SUMIFS('3월'!$M$26:$M$56,'3월'!$L$26:$L$56,'연간 현황'!$D86)+SUMIFS('4월'!$M$26:$M$56,'4월'!$L$26:$L$56,'연간 현황'!$D86)+SUMIFS('5월'!$M$26:$M$56,'5월'!$L$26:$L$56,'연간 현황'!$D86)+SUMIFS('6월'!$M$26:$M$56,'6월'!$L$26:$L$56,'연간 현황'!$D86)+SUMIFS('7월'!$M$26:$M$56,'7월'!$L$26:$L$56,'연간 현황'!$D86)+SUMIFS('8월'!$M$26:$M$56,'8월'!$L$26:$L$56,'연간 현황'!$D86)+SUMIFS('9월'!$M$26:$M$56,'9월'!$L$26:$L$56,'연간 현황'!$D86)+SUMIFS('10월'!$M$26:$M$56,'10월'!$L$26:$L$56,'연간 현황'!$D86)+SUMIFS('11월'!$M$26:$M$56,'11월'!$L$26:$L$56,'연간 현황'!$D86)+SUMIFS('12월'!$M$26:$M$56,'12월'!$L$26:$L$56,'연간 현황'!$D86)","v":{"v":40,"d":"40 시간"}},null,"0 분",null,{"$f":"SUMIFS('1월'!$O$26:$O$56,'1월'!$L$26:$L$56,'연간 현황'!$D86)+SUMIFS('2월'!$O$26:$O$56,'2월'!$L$26:$L$56,'연간 현황'!$D86)+SUMIFS('3월'!$O$26:$O$56,'3월'!$L$26:$L$56,'연간 현황'!$D86)+SUMIFS('4월'!$O$26:$O$56,'4월'!$L$26:$L$56,'연간 현황'!$D86)+SUMIFS('5월'!$O$26:$O$56,'5월'!$L$26:$L$56,'연간 현황'!$D86)+SUMIFS('6월'!$O$26:$O$56,'6월'!$L$26:$L$56,'연간 현황'!$D86)+SUMIFS('7월'!$O$26:$O$56,'7월'!$L$26:$L$56,'연간 현황'!$D86)+SUMIFS('8월'!$O$26:$O$56,'8월'!$L$26:$L$56,'연간 현황'!$D86)+SUMIFS('9월'!$O$26:$O$56,'9월'!$L$26:$L$56,'연간 현황'!$D86)+SUMIFS('10월'!$O$26:$O$56,'10월'!$L$26:$L$56,'연간 현황'!$D86)+SUMIFS('11월'!$O$26:$O$56,'11월'!$L$26:$L$56,'연간 현황'!$D86)+SUMIFS('12월'!$O$26:$O$56,'12월'!$L$26:$L$56,'연간 현황'!$D86)","v":{"v":0,"d":"0 시간"}},null,"0 분",null,{"v":0,"d":"0 시간"},null,{"v":0,"d":"0 분"},null,{"v":0,"d":"0 시간"},null,{"v":0,"d":"0 분"},null,"",{"$nulls":4},{"$f":"SUMIFS('1월'!$AA$26:$AA$56,'1월'!$L$26:$L$56,'연간 현황'!$D86)+SUMIFS('2월'!$AA$26:$AA$56,'2월'!$L$26:$L$56,'연간 현황'!$D86)+SUMIFS('3월'!$AA$26:$AA$56,'3월'!$L$26:$L$56,'연간 현황'!$D86)+SUMIFS('4월'!$AA$26:$AA$56,'4월'!$L$26:$L$56,'연간 현황'!$D86)+SUMIFS('5월'!$AA$26:$AA$56,'5월'!$L$26:$L$56,'연간 현황'!$D86)+SUMIFS('6월'!$AA$26:$AA$56,'6월'!$L$26:$L$56,'연간 현황'!$D86)+SUMIFS('7월'!$AA$26:$AA$56,'7월'!$L$26:$L$56,'연간 현황'!$D86)+SUMIFS('8월'!$AA$26:$AA$56,'8월'!$L$26:$L$56,'연간 현황'!$D86)+SUMIFS('9월'!$AA$26:$AA$56,'9월'!$L$26:$L$56,'연간 현황'!$D86)+SUMIFS('10월'!$AA$26:$AA$56,'10월'!$L$26:$L$56,'연간 현황'!$D86)+SUMIFS('11월'!$AA$26:$AA$56,'11월'!$L$26:$L$56,'연간 현황'!$D86)+SUMIFS('12월'!$AA$26:$AA$56,'12월'!$L$26:$L$56,'연간 현황'!$D86)","v":0},{"$f":"SUMIFS('1월'!$AC$26:$AC$56,'1월'!$L$26:$L$56,'연간 현황'!$D86)+SUMIFS('2월'!$AC$26:$AC$56,'2월'!$L$26:$L$56,'연간 현황'!$D86)+SUMIFS('3월'!$AC$26:$AC$56,'3월'!$L$26:$L$56,'연간 현황'!$D86)+SUMIFS('4월'!$AC$26:$AC$56,'4월'!$L$26:$L$56,'연간 현황'!$D86)+SUMIFS('5월'!$AC$26:$AC$56,'5월'!$L$26:$L$56,'연간 현황'!$D86)+SUMIFS('6월'!$AC$26:$AC$56,'6월'!$L$26:$L$56,'연간 현황'!$D86)+SUMIFS('7월'!$AC$26:$AC$56,'7월'!$L$26:$L$56,'연간 현황'!$D86)+SUMIFS('8월'!$AC$26:$AC$56,'8월'!$L$26:$L$56,'연간 현황'!$D86)+SUMIFS('9월'!$AC$26:$AC$56,'9월'!$L$26:$L$56,'연간 현황'!$D86)+SUMIFS('10월'!$AC$26:$AC$56,'10월'!$L$26:$L$56,'연간 현황'!$D86)+SUMIFS('11월'!$AC$26:$AC$56,'11월'!$L$26:$L$56,'연간 현황'!$D86)+SUMIFS('12월'!$AC$26:$AC$56,'12월'!$L$26:$L$56,'연간 현황'!$D86)","v":0}]
[{"$nulls":3},{"v":50,"d":"50주차"},null,{"$f":"SUMIFS('1월'!$M$26:$M$56,'1월'!$L$26:$L$56,'연간 현황'!$D87)+SUMIFS('2월'!$M$26:$M$56,'2월'!$L$26:$L$56,'연간 현황'!$D87)+SUMIFS('3월'!$M$26:$M$56,'3월'!$L$26:$L$56,'연간 현황'!$D87)+SUMIFS('4월'!$M$26:$M$56,'4월'!$L$26:$L$56,'연간 현황'!$D87)+SUMIFS('5월'!$M$26:$M$56,'5월'!$L$26:$L$56,'연간 현황'!$D87)+SUMIFS('6월'!$M$26:$M$56,'6월'!$L$26:$L$56,'연간 현황'!$D87)+SUMIFS('7월'!$M$26:$M$56,'7월'!$L$26:$L$56,'연간 현황'!$D87)+SUMIFS('8월'!$M$26:$M$56,'8월'!$L$26:$L$56,'연간 현황'!$D87)+SUMIFS('9월'!$M$26:$M$56,'9월'!$L$26:$L$56,'연간 현황'!$D87)+SUMIFS('10월'!$M$26:$M$56,'10월'!$L$26:$L$56,'연간 현황'!$D87)+SUMIFS('11월'!$M$26:$M$56,'11월'!$L$26:$L$56,'연간 현황'!$D87)+SUMIFS('12월'!$M$26:$M$56,'12월'!$L$26:$L$56,'연간 현황'!$D87)","v":{"v":40,"d":"40 시간"}},null,"0 분",null,{"$f":"SUMIFS('1월'!$O$26:$O$56,'1월'!$L$26:$L$56,'연간 현황'!$D87)+SUMIFS('2월'!$O$26:$O$56,'2월'!$L$26:$L$56,'연간 현황'!$D87)+SUMIFS('3월'!$O$26:$O$56,'3월'!$L$26:$L$56,'연간 현황'!$D87)+SUMIFS('4월'!$O$26:$O$56,'4월'!$L$26:$L$56,'연간 현황'!$D87)+SUMIFS('5월'!$O$26:$O$56,'5월'!$L$26:$L$56,'연간 현황'!$D87)+SUMIFS('6월'!$O$26:$O$56,'6월'!$L$26:$L$56,'연간 현황'!$D87)+SUMIFS('7월'!$O$26:$O$56,'7월'!$L$26:$L$56,'연간 현황'!$D87)+SUMIFS('8월'!$O$26:$O$56,'8월'!$L$26:$L$56,'연간 현황'!$D87)+SUMIFS('9월'!$O$26:$O$56,'9월'!$L$26:$L$56,'연간 현황'!$D87)+SUMIFS('10월'!$O$26:$O$56,'10월'!$L$26:$L$56,'연간 현황'!$D87)+SUMIFS('11월'!$O$26:$O$56,'11월'!$L$26:$L$56,'연간 현황'!$D87)+SUMIFS('12월'!$O$26:$O$56,'12월'!$L$26:$L$56,'연간 현황'!$D87)","v":{"v":0,"d":"0 시간"}},null,"0 분",null,{"v":0,"d":"0 시간"},null,{"v":0,"d":"0 분"},null,{"v":0,"d":"0 시간"},null,{"v":0,"d":"0 분"},null,"",{"$nulls":4},{"$f":"SUMIFS('1월'!$AA$26:$AA$56,'1월'!$L$26:$L$56,'연간 현황'!$D87)+SUMIFS('2월'!$AA$26:$AA$56,'2월'!$L$26:$L$56,'연간 현황'!$D87)+SUMIFS('3월'!$AA$26:$AA$56,'3월'!$L$26:$L$56,'연간 현황'!$D87)+SUMIFS('4월'!$AA$26:$AA$56,'4월'!$L$26:$L$56,'연간 현황'!$D87)+SUMIFS('5월'!$AA$26:$AA$56,'5월'!$L$26:$L$56,'연간 현황'!$D87)+SUMIFS('6월'!$AA$26:$AA$56,'6월'!$L$26:$L$56,'연간 현황'!$D87)+SUMIFS('7월'!$AA$26:$AA$56,'7월'!$L$26:$L$56,'연간 현황'!$D87)+SUMIFS('8월'!$AA$26:$AA$56,'8월'!$L$26:$L$56,'연간 현황'!$D87)+SUMIFS('9월'!$AA$26:$AA$56,'9월'!$L$26:$L$56,'연간 현황'!$D87)+SUMIFS('10월'!$AA$26:$AA$56,'10월'!$L$26:$L$56,'연간 현황'!$D87)+SUMIFS('11월'!$AA$26:$AA$56,'11월'!$L$26:$L$56,'연간 현황'!$D87)+SUMIFS('12월'!$AA$26:$AA$56,'12월'!$L$26:$L$56,'연간 현황'!$D87)","v":0},{"$f":"SUMIFS('1월'!$AC$26:$AC$56,'1월'!$L$26:$L$56,'연간 현황'!$D87)+SUMIFS('2월'!$AC$26:$AC$56,'2월'!$L$26:$L$56,'연간 현황'!$D87)+SUMIFS('3월'!$AC$26:$AC$56,'3월'!$L$26:$L$56,'연간 현황'!$D87)+SUMIFS('4월'!$AC$26:$AC$56,'4월'!$L$26:$L$56,'연간 현황'!$D87)+SUMIFS('5월'!$AC$26:$AC$56,'5월'!$L$26:$L$56,'연간 현황'!$D87)+SUMIFS('6월'!$AC$26:$AC$56,'6월'!$L$26:$L$56,'연간 현황'!$D87)+SUMIFS('7월'!$AC$26:$AC$56,'7월'!$L$26:$L$56,'연간 현황'!$D87)+SUMIFS('8월'!$AC$26:$AC$56,'8월'!$L$26:$L$56,'연간 현황'!$D87)+SUMIFS('9월'!$AC$26:$AC$56,'9월'!$L$26:$L$56,'연간 현황'!$D87)+SUMIFS('10월'!$AC$26:$AC$56,'10월'!$L$26:$L$56,'연간 현황'!$D87)+SUMIFS('11월'!$AC$26:$AC$56,'11월'!$L$26:$L$56,'연간 현황'!$D87)+SUMIFS('12월'!$AC$26:$AC$56,'12월'!$L$26:$L$56,'연간 현황'!$D87)","v":0}]
[{"$nulls":3},{"v":51,"d":"51주차"},null,{"$f":"SUMIFS('1월'!$M$26:$M$56,'1월'!$L$26:$L$56,'연간 현황'!$D88)+SUMIFS('2월'!$M$26:$M$56,'2월'!$L$26:$L$56,'연간 현황'!$D88)+SUMIFS('3월'!$M$26:$M$56,'3월'!$L$26:$L$56,'연간 현황'!$D88)+SUMIFS('4월'!$M$26:$M$56,'4월'!$L$26:$L$56,'연간 현황'!$D88)+SUMIFS('5월'!$M$26:$M$56,'5월'!$L$26:$L$56,'연간 현황'!$D88)+SUMIFS('6월'!$M$26:$M$56,'6월'!$L$26:$L$56,'연간 현황'!$D88)+SUMIFS('7월'!$M$26:$M$56,'7월'!$L$26:$L$56,'연간 현황'!$D88)+SUMIFS('8월'!$M$26:$M$56,'8월'!$L$26:$L$56,'연간 현황'!$D88)+SUMIFS('9월'!$M$26:$M$56,'9월'!$L$26:$L$56,'연간 현황'!$D88)+SUMIFS('10월'!$M$26:$M$56,'10월'!$L$26:$L$56,'연간 현황'!$D88)+SUMIFS('11월'!$M$26:$M$56,'11월'!$L$26:$L$56,'연간 현황'!$D88)+SUMIFS('12월'!$M$26:$M$56,'12월'!$L$26:$L$56,'연간 현황'!$D88)","v":{"v":40,"d":"40 시간"}},null,"0 분",null,{"$f":"SUMIFS('1월'!$O$26:$O$56,'1월'!$L$26:$L$56,'연간 현황'!$D88)+SUMIFS('2월'!$O$26:$O$56,'2월'!$L$26:$L$56,'연간 현황'!$D88)+SUMIFS('3월'!$O$26:$O$56,'3월'!$L$26:$L$56,'연간 현황'!$D88)+SUMIFS('4월'!$O$26:$O$56,'4월'!$L$26:$L$56,'연간 현황'!$D88)+SUMIFS('5월'!$O$26:$O$56,'5월'!$L$26:$L$56,'연간 현황'!$D88)+SUMIFS('6월'!$O$26:$O$56,'6월'!$L$26:$L$56,'연간 현황'!$D88)+SUMIFS('7월'!$O$26:$O$56,'7월'!$L$26:$L$56,'연간 현황'!$D88)+SUMIFS('8월'!$O$26:$O$56,'8월'!$L$26:$L$56,'연간 현황'!$D88)+SUMIFS('9월'!$O$26:$O$56,'9월'!$L$26:$L$56,'연간 현황'!$D88)+SUMIFS('10월'!$O$26:$O$56,'10월'!$L$26:$L$56,'연간 현황'!$D88)+SUMIFS('11월'!$O$26:$O$56,'11월'!$L$26:$L$56,'연간 현황'!$D88)+SUMIFS('12월'!$O$26:$O$56,'12월'!$L$26:$L$56,'연간 현황'!$D88)","v":{"v":0,"d":"0 시간"}},null,"0 분",null,{"v":0,"d":"0 시간"},null,{"v":0,"d":"0 분"},null,{"v":0,"d":"0 시간"},null,{"v":0,"d":"0 분"},null,"",{"$nulls":4},{"$f":"SUMIFS('1월'!$AA$26:$AA$56,'1월'!$L$26:$L$56,'연간 현황'!$D88)+SUMIFS('2월'!$AA$26:$AA$56,'2월'!$L$26:$L$56,'연간 현황'!$D88)+SUMIFS('3월'!$AA$26:$AA$56,'3월'!$L$26:$L$56,'연간 현황'!$D88)+SUMIFS('4월'!$AA$26:$AA$56,'4월'!$L$26:$L$56,'연간 현황'!$D88)+SUMIFS('5월'!$AA$26:$AA$56,'5월'!$L$26:$L$56,'연간 현황'!$D88)+SUMIFS('6월'!$AA$26:$AA$56,'6월'!$L$26:$L$56,'연간 현황'!$D88)+SUMIFS('7월'!$AA$26:$AA$56,'7월'!$L$26:$L$56,'연간 현황'!$D88)+SUMIFS('8월'!$AA$26:$AA$56,'8월'!$L$26:$L$56,'연간 현황'!$D88)+SUMIFS('9월'!$AA$26:$AA$56,'9월'!$L$26:$L$56,'연간 현황'!$D88)+SUMIFS('10월'!$AA$26:$AA$56,'10월'!$L$26:$L$56,'연간 현황'!$D88)+SUMIFS('11월'!$AA$26:$AA$56,'11월'!$L$26:$L$56,'연간 현황'!$D88)+SUMIFS('12월'!$AA$26:$AA$56,'12월'!$L$26:$L$56,'연간 현황'!$D88)","v":0},{"$f":"SUMIFS('1월'!$AC$26:$AC$56,'1월'!$L$26:$L$56,'연간 현황'!$D88)+SUMIFS('2월'!$AC$26:$AC$56,'2월'!$L$26:$L$56,'연간 현황'!$D88)+SUMIFS('3월'!$AC$26:$AC$56,'3월'!$L$26:$L$56,'연간 현황'!$D88)+SUMIFS('4월'!$AC$26:$AC$56,'4월'!$L$26:$L$56,'연간 현황'!$D88)+SUMIFS('5월'!$AC$26:$AC$56,'5월'!$L$26:$L$56,'연간 현황'!$D88)+SUMIFS('6월'!$AC$26:$AC$56,'6월'!$L$26:$L$56,'연간 현황'!$D88)+SUMIFS('7월'!$AC$26:$AC$56,'7월'!$L$26:$L$56,'연간 현황'!$D88)+SUMIFS('8월'!$AC$26:$AC$56,'8월'!$L$26:$L$56,'연간 현황'!$D88)+SUMIFS('9월'!$AC$26:$AC$56,'9월'!$L$26:$L$56,'연간 현황'!$D88)+SUMIFS('10월'!$AC$26:$AC$56,'10월'!$L$26:$L$56,'연간 현황'!$D88)+SUMIFS('11월'!$AC$26:$AC$56,'11월'!$L$26:$L$56,'연간 현황'!$D88)+SUMIFS('12월'!$AC$26:$AC$56,'12월'!$L$26:$L$56,'연간 현황'!$D88)","v":0}]
[{"$nulls":3},{"v":52,"d":"52주차"},null,{"$f":"SUMIFS('1월'!$M$26:$M$56,'1월'!$L$26:$L$56,'연간 현황'!$D89)+SUMIFS('2월'!$M$26:$M$56,'2월'!$L$26:$L$56,'연간 현황'!$D89)+SUMIFS('3월'!$M$26:$M$56,'3월'!$L$26:$L$56,'연간 현황'!$D89)+SUMIFS('4월'!$M$26:$M$56,'4월'!$L$26:$L$56,'연간 현황'!$D89)+SUMIFS('5월'!$M$26:$M$56,'5월'!$L$26:$L$56,'연간 현황'!$D89)+SUMIFS('6월'!$M$26:$M$56,'6월'!$L$26:$L$56,'연간 현황'!$D89)+SUMIFS('7월'!$M$26:$M$56,'7월'!$L$26:$L$56,'연간 현황'!$D89)+SUMIFS('8월'!$M$26:$M$56,'8월'!$L$26:$L$56,'연간 현황'!$D89)+SUMIFS('9월'!$M$26:$M$56,'9월'!$L$26:$L$56,'연간 현황'!$D89)+SUMIFS('10월'!$M$26:$M$56,'10월'!$L$26:$L$56,'연간 현황'!$D89)+SUMIFS('11월'!$M$26:$M$56,'11월'!$L$26:$L$56,'연간 현황'!$D89)+SUMIFS('12월'!$M$26:$M$56,'12월'!$L$26:$L$56,'연간 현황'!$D89)","v":{"v":32,"d":"32 시간"}},null,"0 분",null,{"$f":"SUMIFS('1월'!$O$26:$O$56,'1월'!$L$26:$L$56,'연간 현황'!$D89)+SUMIFS('2월'!$O$26:$O$56,'2월'!$L$26:$L$56,'연간 현황'!$D89)+SUMIFS('3월'!$O$26:$O$56,'3월'!$L$26:$L$56,'연간 현황'!$D89)+SUMIFS('4월'!$O$26:$O$56,'4월'!$L$26:$L$56,'연간 현황'!$D89)+SUMIFS('5월'!$O$26:$O$56,'5월'!$L$26:$L$56,'연간 현황'!$D89)+SUMIFS('6월'!$O$26:$O$56,'6월'!$L$26:$L$56,'연간 현황'!$D89)+SUMIFS('7월'!$O$26:$O$56,'7월'!$L$26:$L$56,'연간 현황'!$D89)+SUMIFS('8월'!$O$26:$O$56,'8월'!$L$26:$L$56,'연간 현황'!$D89)+SUMIFS('9월'!$O$26:$O$56,'9월'!$L$26:$L$56,'연간 현황'!$D89)+SUMIFS('10월'!$O$26:$O$56,'10월'!$L$26:$L$56,'연간 현황'!$D89)+SUMIFS('11월'!$O$26:$O$56,'11월'!$L$26:$L$56,'연간 현황'!$D89)+SUMIFS('12월'!$O$26:$O$56,'12월'!$L$26:$L$56,'연간 현황'!$D89)","v":{"v":0,"d":"0 시간"}},null,"0 분",null,{"v":0,"d":"0 시간"},null,{"v":0,"d":"0 분"},null,{"v":0,"d":"0 시간"},null,{"v":0,"d":"0 분"},null,"",{"$nulls":4},{"$f":"SUMIFS('1월'!$AA$26:$AA$56,'1월'!$L$26:$L$56,'연간 현황'!$D89)+SUMIFS('2월'!$AA$26:$AA$56,'2월'!$L$26:$L$56,'연간 현황'!$D89)+SUMIFS('3월'!$AA$26:$AA$56,'3월'!$L$26:$L$56,'연간 현황'!$D89)+SUMIFS('4월'!$AA$26:$AA$56,'4월'!$L$26:$L$56,'연간 현황'!$D89)+SUMIFS('5월'!$AA$26:$AA$56,'5월'!$L$26:$L$56,'연간 현황'!$D89)+SUMIFS('6월'!$AA$26:$AA$56,'6월'!$L$26:$L$56,'연간 현황'!$D89)+SUMIFS('7월'!$AA$26:$AA$56,'7월'!$L$26:$L$56,'연간 현황'!$D89)+SUMIFS('8월'!$AA$26:$AA$56,'8월'!$L$26:$L$56,'연간 현황'!$D89)+SUMIFS('9월'!$AA$26:$AA$56,'9월'!$L$26:$L$56,'연간 현황'!$D89)+SUMIFS('10월'!$AA$26:$AA$56,'10월'!$L$26:$L$56,'연간 현황'!$D89)+SUMIFS('11월'!$AA$26:$AA$56,'11월'!$L$26:$L$56,'연간 현황'!$D89)+SUMIFS('12월'!$AA$26:$AA$56,'12월'!$L$26:$L$56,'연간 현황'!$D89)","v":0},{"$f":"SUMIFS('1월'!$AC$26:$AC$56,'1월'!$L$26:$L$56,'연간 현황'!$D89)+SUMIFS('2월'!$AC$26:$AC$56,'2월'!$L$26:$L$56,'연간 현황'!$D89)+SUMIFS('3월'!$AC$26:$AC$56,'3월'!$L$26:$L$56,'연간 현황'!$D89)+SUMIFS('4월'!$AC$26:$AC$56,'4월'!$L$26:$L$56,'연간 현황'!$D89)+SUMIFS('5월'!$AC$26:$AC$56,'5월'!$L$26:$L$56,'연간 현황'!$D89)+SUMIFS('6월'!$AC$26:$AC$56,'6월'!$L$26:$L$56,'연간 현황'!$D89)+SUMIFS('7월'!$AC$26:$AC$56,'7월'!$L$26:$L$56,'연간 현황'!$D89)+SUMIFS('8월'!$AC$26:$AC$56,'8월'!$L$26:$L$56,'연간 현황'!$D89)+SUMIFS('9월'!$AC$26:$AC$56,'9월'!$L$26:$L$56,'연간 현황'!$D89)+SUMIFS('10월'!$AC$26:$AC$56,'10월'!$L$26:$L$56,'연간 현황'!$D89)+SUMIFS('11월'!$AC$26:$AC$56,'11월'!$L$26:$L$56,'연간 현황'!$D89)+SUMIFS('12월'!$AC$26:$AC$56,'12월'!$L$26:$L$56,'연간 현황'!$D89)","v":0}]
[{"$nulls":3},{"v":53,"d":"53주차"},null,{"$f":"SUMIFS('1월'!$M$26:$M$56,'1월'!$L$26:$L$56,'연간 현황'!$D90)+SUMIFS('2월'!$M$26:$M$56,'2월'!$L$26:$L$56,'연간 현황'!$D90)+SUMIFS('3월'!$M$26:$M$56,'3월'!$L$26:$L$56,'연간 현황'!$D90)+SUMIFS('4월'!$M$26:$M$56,'4월'!$L$26:$L$56,'연간 현황'!$D90)+SUMIFS('5월'!$M$26:$M$56,'5월'!$L$26:$L$56,'연간 현황'!$D90)+SUMIFS('6월'!$M$26:$M$56,'6월'!$L$26:$L$56,'연간 현황'!$D90)+SUMIFS('7월'!$M$26:$M$56,'7월'!$L$26:$L$56,'연간 현황'!$D90)+SUMIFS('8월'!$M$26:$M$56,'8월'!$L$26:$L$56,'연간 현황'!$D90)+SUMIFS('9월'!$M$26:$M$56,'9월'!$L$26:$L$56,'연간 현황'!$D90)+SUMIFS('10월'!$M$26:$M$56,'10월'!$L$26:$L$56,'연간 현황'!$D90)+SUMIFS('11월'!$M$26:$M$56,'11월'!$L$26:$L$56,'연간 현황'!$D90)+SUMIFS('12월'!$M$26:$M$56,'12월'!$L$26:$L$56,'연간 현황'!$D90)","v":{"v":8,"d":"8 시간"}},null,"0 분",null,{"$f":"SUMIFS('1월'!$O$26:$O$56,'1월'!$L$26:$L$56,'연간 현황'!$D90)+SUMIFS('2월'!$O$26:$O$56,'2월'!$L$26:$L$56,'연간 현황'!$D90)+SUMIFS('3월'!$O$26:$O$56,'3월'!$L$26:$L$56,'연간 현황'!$D90)+SUMIFS('4월'!$O$26:$O$56,'4월'!$L$26:$L$56,'연간 현황'!$D90)+SUMIFS('5월'!$O$26:$O$56,'5월'!$L$26:$L$56,'연간 현황'!$D90)+SUMIFS('6월'!$O$26:$O$56,'6월'!$L$26:$L$56,'연간 현황'!$D90)+SUMIFS('7월'!$O$26:$O$56,'7월'!$L$26:$L$56,'연간 현황'!$D90)+SUMIFS('8월'!$O$26:$O$56,'8월'!$L$26:$L$56,'연간 현황'!$D90)+SUMIFS('9월'!$O$26:$O$56,'9월'!$L$26:$L$56,'연간 현황'!$D90)+SUMIFS('10월'!$O$26:$O$56,'10월'!$L$26:$L$56,'연간 현황'!$D90)+SUMIFS('11월'!$O$26:$O$56,'11월'!$L$26:$L$56,'연간 현황'!$D90)+SUMIFS('12월'!$O$26:$O$56,'12월'!$L$26:$L$56,'연간 현황'!$D90)","v":{"v":0,"d":"0 시간"}},null,"0 분",null,{"v":0,"d":"0 시간"},null,{"v":0,"d":"0 분"},null,{"v":0,"d":"0 시간"},null,{"v":0,"d":"0 분"},null,"",{"$nulls":4},{"$f":"SUMIFS('1월'!$AA$26:$AA$56,'1월'!$L$26:$L$56,'연간 현황'!$D90)+SUMIFS('2월'!$AA$26:$AA$56,'2월'!$L$26:$L$56,'연간 현황'!$D90)+SUMIFS('3월'!$AA$26:$AA$56,'3월'!$L$26:$L$56,'연간 현황'!$D90)+SUMIFS('4월'!$AA$26:$AA$56,'4월'!$L$26:$L$56,'연간 현황'!$D90)+SUMIFS('5월'!$AA$26:$AA$56,'5월'!$L$26:$L$56,'연간 현황'!$D90)+SUMIFS('6월'!$AA$26:$AA$56,'6월'!$L$26:$L$56,'연간 현황'!$D90)+SUMIFS('7월'!$AA$26:$AA$56,'7월'!$L$26:$L$56,'연간 현황'!$D90)+SUMIFS('8월'!$AA$26:$AA$56,'8월'!$L$26:$L$56,'연간 현황'!$D90)+SUMIFS('9월'!$AA$26:$AA$56,'9월'!$L$26:$L$56,'연간 현황'!$D90)+SUMIFS('10월'!$AA$26:$AA$56,'10월'!$L$26:$L$56,'연간 현황'!$D90)+SUMIFS('11월'!$AA$26:$AA$56,'11월'!$L$26:$L$56,'연간 현황'!$D90)+SUMIFS('12월'!$AA$26:$AA$56,'12월'!$L$26:$L$56,'연간 현황'!$D90)","v":0},{"$f":"SUMIFS('1월'!$AC$26:$AC$56,'1월'!$L$26:$L$56,'연간 현황'!$D90)+SUMIFS('2월'!$AC$26:$AC$56,'2월'!$L$26:$L$56,'연간 현황'!$D90)+SUMIFS('3월'!$AC$26:$AC$56,'3월'!$L$26:$L$56,'연간 현황'!$D90)+SUMIFS('4월'!$AC$26:$AC$56,'4월'!$L$26:$L$56,'연간 현황'!$D90)+SUMIFS('5월'!$AC$26:$AC$56,'5월'!$L$26:$L$56,'연간 현황'!$D90)+SUMIFS('6월'!$AC$26:$AC$56,'6월'!$L$26:$L$56,'연간 현황'!$D90)+SUMIFS('7월'!$AC$26:$AC$56,'7월'!$L$26:$L$56,'연간 현황'!$D90)+SUMIFS('8월'!$AC$26:$AC$56,'8월'!$L$26:$L$56,'연간 현황'!$D90)+SUMIFS('9월'!$AC$26:$AC$56,'9월'!$L$26:$L$56,'연간 현황'!$D90)+SUMIFS('10월'!$AC$26:$AC$56,'10월'!$L$26:$L$56,'연간 현황'!$D90)+SUMIFS('11월'!$AC$26:$AC$56,'11월'!$L$26:$L$56,'연간 현황'!$D90)+SUMIFS('12월'!$AC$26:$AC$56,'12월'!$L$26:$L$56,'연간 현황'!$D90)","v":0}]